{"text_format":"1","workbook":"xlsx","n_sheets":19,"sheets":["Main","Temp","Logic","Static","SSIFSEP","B2209","B2401","B2403","B2410","B2414","B2415-1","B2424-1","B2431","B2511-1","B2512-1","B2601","B2602","B2609","B2611"],"not_rendered":{"charts":0,"images":3,"macros":1,"external_links":4,"defined_names":2,"comments":3,"pivot_tables":0},"unopened":[],"bounds":{"document_bytes":16777216,"sheet_cells":100000,"rows_first":2000,"rows_last":500,"rows_between":2000,"halvings":0,"cell_chars":16384,"cell_head_chars":4096},"cells_cut":0,"cells_raw":0,"read":"whole","date_system":"1900"}

{"sheet":"Main","index":0,"n_rows":22,"n_cols":4,"rows_kept":22,"cut":false,"hidden":false,"merged":[[17,1,17,2],[14,1,14,2],[13,1,13,2],[12,1,12,2],[11,1,11,2],[15,1,15,2],[16,1,16,2],[22,1,22,2],[23,1,23,2],[20,1,20,2],[19,1,19,2],[18,1,18,2],[21,1,21,2]]}
[]
[null,"Marco Name","GTRF_MONTHLY_RECON_TOOL.xlsm","<< If you change the name of this macro file, make sure to include the same extension when renaming it."]
[null,"Folder Path","C:\\Users\\12061293\\Desktop\\Automation\\A.GTRF_Automation\\","<< This is the folder path where the Output files downloaded from Z963 are stored."]
[null,"Output File Name","GTRF_HIE","<< This is the default Output file name generated from Z963."]
[null,"End of Previous Month Date","2024-03-29"]
[]
[]
[]
[]
[]
[]
[null,"Procedure"]
[null,"1. In the HUB Z963 menu, execute the query group."]
[null,"2. Once all queries in HUB Z963 are executed, download the files GTRF_HIE1 ~ GTRF_HIE9 from the GTRF drive."]
[null,"3. Click the [Reset] button to initialize the “Temp” sheet."]
[null,"    3-1. In the [Static] sheet, update the Industry Code table. (If there are no changes, you can skip this step.)"]
[null,"    3-2. In the [SSIFSEP] sheet, update the data received from Finance. This must be done before clicking [Start].",null," "]
[null,"4. When you click the [Start] button, data from nine files are consolidated and organized into the “Temp” sheet."]
[null,"5. After the macro finishes running, a pop-up will appear."]
[null,"    5-1. In the GTRF data, check \"Interest Prepaid Rate\" and \"Country Code\", and update them if necessary."]
[null,"    5-2. Review all other tables thoroughly."]
[null,"6. If there are no issues found in the “Temp” sheet table, click the [Gen_RPT] button (range B2209~B2611) to generate the report."]

{"sheet":"Temp","index":1,"n_rows":5864,"n_cols":29,"rows_kept":2250,"cut":true,"hidden":false,"merged":[],"bounds":{"rows_first":1000,"rows_last":250,"rows_between":1000,"halvings":1}}
["Original\nQuery\nName","Customer\nName","Product\nCode","Ref.\nNumber","Currency","Transaction Amount","OS Amount","LCY Amount","Deal\nDate","Due\nDate","Customer\nClass","Industry\nCode","Account\nNumber","Customer\nGrade","Facility\nLimit","Bank\nCBID","Branch\nCBID","Business Registration No.","Cental\nClassification","Size of\nTurnover","REF.","Month-End Date","Days to Maturity","충당금","Outstanding \nDate","Interest\nPrepaid\nRate","Industry Classification Code","Industry\nCode","Country Code"]
["IPOS1","ADINGARAMCO TRDING ","RFI","SOL308233D ","USD",-2902077724,0,0,"2023-09-27","2023-10-16","C11",7510,"002-055319-838",3,"IMC","HSBC","SEL ","tst20152idn","FIO",2,"RFISOL308233D ","2024-03-29",-165,"",null,null,"도매 및 상품중개업(46)","G"]
["IPOS1"," (LTRBOSCH KFT(LTRF","RFI","SDI307074D ","USD",-65488080,0,0,"2023-08-28","2023-10-20","MFI",4290,"002-108713-838",3,"IMC","HSBC","SEL ","tst12746idn","FIO",2,"RFISDI307074D ","2024-03-30",-162,"",null,null,"기타 기계 및 장비 제조업(29)","C"]
["IPOS1"," KONGFIH (HONGKONG)","RFI","SEM307969D ","USD",-159805440,-159805440,-2168080404,"2023-09-26","2023-11-16","C11",7510,"002-160466-838",4,"IMC","HSBC","SEL ","tst30030idn","FIO",2,"RFISEM307969D ","2024-03-31",-136,"",null,null,"도매 및 상품중개업(46)","G"]
["IPOS1","&T COSAMSUNG CT COR","RFI","HTP307510L ","USD",-273789767,-273789767,-3714505769,"2023-09-13","2023-10-31","C13",7510,"002-000933-838",3,"IMC","HSBC","SEL ","tst202-8idn","FIO",2,"RFIHTP307510L ","2024-04-01",-153,"",null,null,"도매 및 상품중개업(46)","G"]
["IPOS1"," (LTRBOSCH KFT(LTRF","RFI","SDI306625D ","USD",-73853868,0,0,"2023-07-31","2023-09-27","MFI",4290,"002-108713-838",3,"IMC","HSBC","SEL ","tst12746idn","FIO",2,"RFISDI306625D ","2024-04-02",-188,"",null,null,"기타 기계 및 장비 제조업(29)","C"]
["IPOS1"," KONGFIH (HONGKONG)","RFI","SEM307291D ","USD",-143093760,0,0,"2023-08-30","2023-10-19","C11",7510,"002-160466-838",4,"IMC","HSBC","SEL ","tst30030idn","FIO",2,"RFISEM307291D ","2024-04-03",-167,"",null,null,"도매 및 상품중개업(46)","G"]
["IPOS1","&T COSAMSUNG CT COR","RFI","HTP305818L ","USD",-236300000,0,0,"2023-06-30","2023-09-20","C13",7510,"002-000933-838",3,"IMC","HSBC","SEL ","tst202-8idn","FIO",2,"RFIHTP305818L ","2024-04-04",-197,"",null,null,"도매 및 상품중개업(46)","G"]
["IPOS1"," (LTRBOSCH KFT(LTRF","RFI","SDI307073D ","USD",-63916860,0,0,"2023-08-28","2023-10-20","MFI",4290,"002-108713-838",3,"IMC","HSBC","SEL ","tst12746idn","FIO",2,"RFISDI307073D ","2024-04-05",-168,"",null,null,"기타 기계 및 장비 제조업(29)","C"]
["IPOS1"," KONGFIH (HONGKONG)","RFI","SEM307296D ","USD",-339847680,-339847680,-4610713475,"2023-08-30","2023-10-26","C11",7510,"002-160466-838",4,"IMC","HSBC","SEL ","tst30030idn","FIO",2,"RFISEM307296D ","2024-04-06",-163,"",null,null,"도매 및 상품중개업(46)","G"]
["IPOS1","&T COSAMSUNG CT COR","RFI","HTP308237L ","USD",-300100000,-300100000,-4071456700,"2023-09-27","2023-12-13","C13",7510,"002-000933-838",3,"IMC","HSBC","SEL ","tst202-8idn","FIO",2,"RFIHTP308237L ","2024-04-07",-116,"",null,null,"도매 및 상품중개업(46)","G"]
["IPOS1"," (LTRBOSCH KFT(LTRF","RFI","SDI307071D ","USD",-61904850,0,0,"2023-08-28","2023-10-20","MFI",4290,"002-108713-838",3,"IMC","HSBC","SEL ","tst12746idn","FIO",2,"RFISDI307071D ","2024-04-08",-171,"",null,null,"기타 기계 및 장비 제조업(29)","C"]
["IPOS1"," KONGFIH (HONGKONG)","RFI","SEM307963D ","USD",-357734400,-357734400,-4853382605,"2023-09-26","2023-11-09","C11",7510,"002-160466-838",4,"IMC","HSBC","SEL ","tst30030idn","FIO",2,"RFISEM307963D ","2024-04-09",-152,"",null,null,"도매 및 상품중개업(46)","G"]
["IPOS1","F BUYKMCI (LTR BUYE","RFI","ALK308238L ","KRW",-10000000000,0,0,"2023-09-27","2023-10-04","C13",4240,"002-036912-839",3,"IMC","HSBC","SEL ","tst102-8idn","FIO",2,"RFIALK308238L ","2024-04-10",-189,"",null,null,"화학물질 및 화학제품 제조업(의약품 제외)(20)","C"]
["IPOS1"," (LTRBOSCH KFT(LTRF","RFI","SDI307083D ","USD",-63364560,0,0,"2023-08-28","2023-10-20","MFI",4290,"002-108713-838",3,"IMC","HSBC","SEL ","tst12746idn","FIO",2,"RFISDI307083D ","2024-04-11",-174,"",null,null,"기타 기계 및 장비 제조업(29)","C"]
["IPOS1"," (LTRBOSCH SDN(LTRF","RFI","SDI307091D ","USD",-60758040,0,0,"2023-08-28","2023-09-27","MFI",4290,"002-010216-838",3,"IMC","HSBC","SEL ","tst25149idn","FIO",2,"RFISDI307091D ","2024-04-12",-198,"",null,null,"기타 기계 및 장비 제조업(29)","C"]
["IPOS1"," (LTRBOSCH KFT(LTRF","RFI","SDI306622D ","USD",-72231297,0,0,"2023-07-31","2023-09-27","MFI",4290,"002-108713-838",3,"IMC","HSBC","SEL ","tst12746idn","FIO",2,"RFISDI306622D ","2024-04-13",-199,"",null,null,"기타 기계 및 장비 제조업(29)","C"]
["IPOS1"," KONGFIH (HONGKONG)","RFI","SEM306830D ","USD",-7177728,0,0,"2023-08-16","2023-09-21","C11",7510,"002-160466-838",4,"IMC","HSBC","SEL ","tst30030idn","FIO",2,"RFISEM306830D ","2024-04-14",-206,"",null,null,"도매 및 상품중개업(46)","G"]
["IPOS1","ADINGARAMCO TRDING ","RFI","SOL308232D ","USD",-2391494638,0,0,"2023-09-27","2023-10-11","C11",7510,"002-055319-838",3,"IMC","HSBC","SEL ","tst20152idn","FIO",2,"RFISOL308232D ","2024-04-15",-187,"",null,null,"도매 및 상품중개업(46)","G"]
["IPOS1"," (LTRBOSCH KFT(LTRF","RFI","SDI307072D ","USD",-63630000,0,0,"2023-08-28","2023-10-20","MFI",4290,"002-108713-838",3,"IMC","HSBC","SEL ","tst12746idn","FIO",2,"RFISDI307072D ","2024-04-16",-179,"",null,null,"기타 기계 및 장비 제조업(29)","C"]
["IPOS1"," KONGFIH (HONGKONG)","RFI","SEM306917D ","USD",-178867200,0,0,"2023-08-16","2023-10-04","C11",7510,"002-160466-838",4,"IMC","HSBC","SEL ","tst30030idn","FIO",2,"RFISEM306917D ","2024-04-17",-196,"",null,null,"도매 및 상품중개업(46)","G"]
["IPOS1","LTD. LG CHEM, TD.  ","RFI","ALK308239L ","KRW",-1662015847,0,0,"2023-09-27","2023-10-10","C13",4240,"002-001355-838",3,"IMC","HSBC","SEL ","tst107-8idn","FIO",2,"RFIALK308239L ","2024-04-18",-191,"",null,null,"화학물질 및 화학제품 제조업(의약품 제외)(20)","C"]
["IPOS1","REA CAZELIS KOEA CO","DPB","COR351316L ","USD",-5928000,-5928000,-80425176,"2023-08-30","2023-11-13","MFS",7000,"002-118084-831",3,"IMC","CITI","HKCT","tst213-8idn","FIO",2,"DPBCOR351316L ","2024-04-19",-158,"",null,null,"G_도매 및 소매업","G"]
["IPOS1","ADINGARAMCO TRDING ","RFI","SOL308234D ","USD",-9120808229,0,0,"2023-09-27","2023-10-16","C11",7510,"002-055319-838",3,"IMC","HSBC","SEL ","tst20152idn","FIO",2,"RFISOL308234D ","2024-04-20",-187,"",null,null,"도매 및 상품중개업(46)","G"]
["IPOS1","REA CAZELIS KOEA CO","DPB","COR351299L ","USD",-5928000,-5928000,-80425176,"2023-08-07","2023-10-23","MFS",7000,"002-118084-831",3,"IMC","CITI","HKCT","tst213-8idn","FIO",2,"DPBCOR351299L ","2024-04-21",-181,"",null,null,"G_도매 및 소매업","G"]
["IPOS1"," (LTRBOSCH SDN(LTRF","RFI","SDI307090D ","USD",-63454020,0,0,"2023-08-28","2023-09-27","MFI",4290,"002-010216-838",3,"IMC","HSBC","SEL ","tst25149idn","FIO",2,"RFISDI307090D ","2024-04-22",-208,"",null,null,"기타 기계 및 장비 제조업(29)","C"]
["IPOS1"," (LTRBOSCH KFT(LTRF","RFI","SDI306620D ","USD",-71409376,0,0,"2023-07-31","2023-09-27","MFI",4290,"002-108713-838",3,"IMC","HSBC","SEL ","tst12746idn","FIO",2,"RFISDI306620D ","2024-04-23",-209,"",null,null,"기타 기계 및 장비 제조업(29)","C"]
["IPOS1"," (LTRBOSCH KFT(LTRF","RFI","SDI307076D ","USD",-62958210,0,0,"2023-08-28","2023-10-20","MFI",4290,"002-108713-838",3,"IMC","HSBC","SEL ","tst12746idn","FIO",2,"RFISDI307076D ","2024-04-24",-187,"",null,null,"기타 기계 및 장비 제조업(29)","C"]
["IPOS1"," (LTRBOSCH KFT(LTRF","RFI","SDI307084D ","USD",-62352360,0,0,"2023-08-28","2023-10-20","MFI",4290,"002-108713-838",3,"IMC","HSBC","SEL ","tst12746idn","FIO",2,"RFISDI307084D ","2024-04-25",-188,"",null,null,"기타 기계 및 장비 제조업(29)","C"]
["IPOS1"," (LTRBOSCH KFT(LTRF","RFI","SDI307085D ","USD",-60357150,0,0,"2023-08-28","2023-10-20","MFI",4290,"002-108713-838",3,"IMC","HSBC","SEL ","tst12746idn","FIO",2,"RFISDI307085D ","2024-04-26",-189,"",null,null,"기타 기계 및 장비 제조업(29)","C"]
["IPOS1"," (LTRBOSCH KFT(LTRF","RFI","SDI307086D ","USD",-62405910,0,0,"2023-08-28","2023-10-20","MFI",4290,"002-108713-838",3,"IMC","HSBC","SEL ","tst12746idn","FIO",2,"RFISDI307086D ","2024-04-27",-190,"",null,null,"기타 기계 및 장비 제조업(29)","C"]
["IPOS1"," (LTRBOSCH KFT(LTRF","RFI","SDI307087D ","USD",-60192720,0,0,"2023-08-28","2023-10-20","MFI",4290,"002-108713-838",3,"IMC","HSBC","SEL ","tst12746idn","FIO",2,"RFISDI307087D ","2024-04-28",-191,"",null,null,"기타 기계 및 장비 제조업(29)","C"]
["IPOS1","REA CAZELIS KOEA CO","DPB","COR351263L ","USD",-7600000,0,0,"2023-07-13","2023-09-26","MFS",7000,"002-118084-831",3,"IMC","CITI","SGSS","tst213-8idn","FIO",2,"DPBCOR351263L ","2024-04-29",-216,"",null,null,"G_도매 및 소매업","G"]
["IPOS1","REA CAZELIS KOEA CO","DPB","COR351320L ","USD",-5928000,-5928000,-80425176,"2023-09-05","2023-11-20","MFS",7000,"002-118084-831",3,"IMC","CITI","HKSH","tst213-8idn","FIO",2,"DPBCOR351320L ","2024-04-30",-162,"",null,null,"G_도매 및 소매업","G"]
["IPOS1"," KONGFIH (HONGKONG)","RFI","SEM306829D ","USD",-178867200,0,0,"2023-08-16","2023-09-21","C11",7510,"002-160466-838",4,"IMC","HSBC","SEL ","tst30030idn","FIO",2,"RFISEM306829D ","2024-05-01",-223,"",null,null,"도매 및 상품중개업(46)","G"]
["IPOS1"," KONGFIH (HONGKONG)","RFI","SEM306832D ","USD",-268300800,0,0,"2023-08-16","2023-09-21","C11",7510,"002-160466-838",4,"IMC","HSBC","SEL ","tst30030idn","FIO",2,"RFISEM306832D ","2024-05-02",-224,"",null,null,"도매 및 상품중개업(46)","G"]
["IPOS1"," KONGFIH (HONGKONG)","RFI","SEM306833D ","USD",-7177728,0,0,"2023-08-16","2023-09-21","C11",7510,"002-160466-838",4,"IMC","HSBC","SEL ","tst30030idn","FIO",2,"RFISEM306833D ","2024-05-03",-225,"",null,null,"도매 및 상품중개업(46)","G"]
["IPOS1"," KONGFIH (HONGKONG)","RFI","SEM306923D ","USD",-892034948,0,0,"2023-08-16","2023-10-12","C11",7510,"002-160466-838",4,"IMC","HSBC","SEL ","tst30030idn","FIO",2,"RFISEM306923D ","2024-05-04",-205,"",null,null,"도매 및 상품중개업(46)","G"]
["IPOS1"," KONGFIH (HONGKONG)","RFI","SEM307290D ","USD",-17944320,0,0,"2023-08-30","2023-10-19","C11",7510,"002-160466-838",4,"IMC","HSBC","SEL ","tst30030idn","FIO",2,"RFISEM307290D ","2024-05-05",-199,"",null,null,"도매 및 상품중개업(46)","G"]
["IPOS1"," KONGFIH (HONGKONG)","RFI","SEM307293D ","USD",-411394560,-411394560,-5581389996,"2023-08-30","2023-10-26","C11",7510,"002-160466-838",4,"IMC","HSBC","SEL ","tst30030idn","FIO",2,"RFISEM307293D ","2024-05-06",-193,"",null,null,"도매 및 상품중개업(46)","G"]
["IPOS1"," KONGFIH (HONGKONG)","RFI","SEM307964D ","USD",-17944320,-17944320,-243450589,"2023-09-26","2023-11-09","C11",7510,"002-160466-838",4,"IMC","HSBC","SEL ","tst30030idn","FNI",2,"RFISEM307964D ","2024-05-07",-180,"",null,null,"도매 및 상품중개업(46)","G"]
["IPOS1"," KONGFIH (HONGKONG)","RFI","SEM307965D ","USD",-89433600,-89433600,-1213345651,"2023-09-26","2023-11-09","C11",7510,"002-160466-838",4,"IMC","HSBC","SEL ","tst30030idn","FNI",2,"RFISEM307965D ","2024-05-08",-181,"",null,null,"도매 및 상품중개업(46)","G"]
["IPOS1"," (LTRBOSCH KFT(LTRF","RFI","SDI306617D ","USD",-76880325,0,0,"2023-07-31","2023-09-27","MFI",4290,"002-108713-838",3,"IMC","HSBC","SEL ","tst12746idn","FNI",2,"RFISDI306617D ","2024-05-09",-225,"",null,null,"기타 기계 및 장비 제조업(29)","C"]
["IPOS1"," CO.,FRL KOREACO., ","IBC","COR351328L ","USD",-2020248,-2020248,-27408705,"2023-10-02","2023-12-01","C13",7520,"002-540352-831",3,"   ","HSBC","CHG ","tst104-8idn","FNI",2,"IBCCOR351328L ","2024-05-10",-161,"",null,null,"소매업(자동차 제외)(47)","G"]
["IPOS1","&T COSAMSUNG CT COR","RFI","HTP307511L ","USD",-296626828,-296626828,-4024336175,"2023-09-13","2023-11-21","C13",7510,"002-000933-838",3,"IMC","HSBC","SEL ","tst202-8idn","FNI",2,"RFIHTP307511L ","2024-05-11",-172,"",null,null,"도매 및 상품중개업(46)","G"]
["IPOS1"," (LTRBOSCH KFT(LTRF","RFI","SDI306619D ","USD",-74504426,0,0,"2023-07-31","2023-09-27","MFI",4290,"002-108713-838",3,"IMC","HSBC","SEL ","tst12746idn","FNI",2,"RFISDI306619D ","2024-05-12",-228,"",null,null,"기타 기계 및 장비 제조업(29)","C"]
["IPOS1","REA CAZELIS KOEA CO","DPB","COR351270L ","USD",-6240000,0,0,"2023-07-14","2023-09-27","MFS",7000,"002-118084-831",3,"IMC","CITI","SGSS","tst213-8idn","FNI",2,"DPBCOR351270L ","2024-05-13",-229,"",null,null,"G_도매 및 소매업","G"]
["IPOS1"," KONGFIH (HONGKONG)","RFI","SEM306831D ","USD",-89433600,0,0,"2023-08-16","2023-09-21","C11",7510,"002-160466-838",4,"IMC","HSBC","SEL ","tst30030idn","FNI",2,"RFISEM306831D ","2024-05-14",-236,"",null,null,"도매 및 상품중개업(46)","G"]
["IPOS1"," KONGFIH (HONGKONG)","RFI","SEM306834D ","USD",-89433600,0,0,"2023-08-16","2023-10-04","C11",7510,"002-160466-838",4,"IMC","HSBC","SEL ","tst30030idn","FNI",2,"RFISEM306834D ","2024-05-15",-224,"",null,null,"도매 및 상품중개업(46)","G"]
["IPOS1"," KONGFIH (HONGKONG)","RFI","SEM306922D ","USD",-232527360,0,0,"2023-08-16","2023-10-12","C11",7510,"002-160466-838",4,"IMC","HSBC","SEL ","tst30030idn","FNI",2,"RFISEM306922D ","2024-05-16",-217,"",null,null,"도매 및 상품중개업(46)","G"]
["IPOS1"," KONGFIH (HONGKONG)","RFI","SEM307297D ","USD",-205697280,-205697280,-2790694998,"2023-08-30","2023-10-26","C11",7510,"002-160466-838",4,"IMC","HSBC","SEL ","tst30030idn","FNI",2,"RFISEM307297D ","2024-05-17",-204,"",null,null,"도매 및 상품중개업(46)","G"]
["IPOS1"," KONGFIH (HONGKONG)","RFI","SEM307961D ","USD",-296621440,-296621440,-4024263076,"2023-09-26","2023-11-02","C11",7510,"002-160466-838",4,"IMC","HSBC","SEL ","tst30030idn","FNI",2,"RFISEM307961D ","2024-05-18",-198,"",null,null,"도매 및 상품중개업(46)","G"]
["IPOS1"," KONGFIH (HONGKONG)","RFI","SEM307968D ","USD",-88780800,-88780800,-1204489114,"2023-09-26","2023-11-16","C11",7510,"002-160466-838",4,"IMC","HSBC","SEL ","tst30030idn","FNI",2,"RFISEM307968D ","2024-05-19",-185,"",null,null,"도매 및 상품중개업(46)","G"]
["IPOS1","ED KOUPL LIMITD KOR","DPB","COR305275L ","USD",-9590000,-9590000,-130107530,"2023-06-19","2023-12-18","MFS",4240,"002-218668-831",3,"IMC","HSBC","TKY ","tst303-8idn","FNI",2,"DPBCOR305275L ","2024-05-20",-154,"",null,null,"화학물질 및 화학제품 제조업(의약품 제외)(20)","C"]
["IPOS1","NT COSK ECOPLAT CO.","IBC","COR301010L ","USD",-1868000000,-1868000000,-25343156000,"2023-01-06","2023-10-27","C13",6450,"002-239870-831",3,"   ","MMBI","MNYR","tst101-8idn","FNI",2,"IBCCOR301010L ","2024-05-21",-207,"",null,null,"종합건설업(41)","F"]
["IPOS1"," CO.,FRL KOREACO., ","IBC","COR351326L ","USD",-4553936,0,0,"2023-10-04","2023-10-11","C13",7520,"002-540352-831",3,"   ","HSBC","CHG ","tst104-8idn","FNI",2,"IBCCOR351326L ","2024-05-22",-224,"",null,null,"소매업(자동차 제외)(47)","G"]
["IPOS1"," (LTRBOSCH SDN(LTRF","RFI","SDI307088D ","USD",-65165730,0,0,"2023-08-28","2023-09-27","MFI",4290,"002-010216-838",3,"IMC","HSBC","SEL ","tst25149idn","FNI",2,"RFISDI307088D ","2024-05-23",-239,"",null,null,"기타 기계 및 장비 제조업(29)","C"]
["IPOS1"," (LTRBOSCH KFT(LTRF","RFI","SDI306626D ","USD",-71313776,0,0,"2023-07-31","2023-09-27","MFI",4290,"002-108713-838",3,"IMC","HSBC","SEL ","tst12746idn","FNI",2,"RFISDI306626D ","2024-05-24",-240,"",null,null,"기타 기계 및 장비 제조업(29)","C"]
["IPOS1"," (LTRBOSCH KFT(LTRF","RFI","SDI306627D ","USD",-72539368,0,0,"2023-07-31","2023-09-27","MFI",4290,"002-108713-838",3,"IMC","HSBC","SEL ","tst12746idn","FNI",2,"RFISDI306627D ","2024-05-25",-241,"",null,null,"기타 기계 및 장비 제조업(29)","C"]
["IPOS1"," (LTRBOSCH KFT(LTRF","RFI","SDI307067D ","USD",-65280180,0,0,"2023-08-28","2023-10-20","MFI",4290,"002-108713-838",3,"IMC","HSBC","SEL ","tst12746idn","FNI",2,"RFISDI307067D ","2024-05-26",-219,"",null,null,"기타 기계 및 장비 제조업(29)","C"]
["IPOS1"," (LTRBOSCH KFT(LTRF","RFI","SDI307069D ","USD",-62004390,0,0,"2023-08-28","2023-10-20","MFI",4290,"002-108713-838",3,"IMC","HSBC","SEL ","tst12746idn","FNI",2,"RFISDI307069D ","2024-05-27",-220,"",null,null,"기타 기계 및 장비 제조업(29)","C"]
["IPOS1"," (LTRBOSCH KFT(LTRF","RFI","SDI307070D ","USD",-63969360,0,0,"2023-08-28","2023-10-20","MFI",4290,"002-108713-838",3,"IMC","HSBC","SEL ","tst12746idn","FNI",2,"RFISDI307070D ","2024-05-28",-221,"",null,null,"기타 기계 및 장비 제조업(29)","C"]
["IPOS1"," (LTRBOSCH KFT(LTRF","RFI","SDI307075D ","USD",-62421450,0,0,"2023-08-28","2023-10-20","MFI",4290,"002-108713-838",3,"IMC","HSBC","SEL ","tst12746idn","FNI",2,"RFISDI307075D ","2024-05-29",-222,"",null,null,"기타 기계 및 장비 제조업(29)","C"]
["IPOS1","REA CAZELIS KOEA CO","DPB","COR351293L ","USD",-5928000,0,0,"2023-07-27","2023-10-10","MFS",7000,"002-118084-831",3,"IMC","CITI","HKCT","tst213-8idn","FNI",2,"DPBCOR351293L ","2024-05-30",-233,"",null,null,"G_도매 및 소매업","G"]
["IPOS1","REA CAZELIS KOEA CO","DPB","COR351321L ","USD",-5928000,-5928000,-80425176,"2023-09-05","2023-11-20","MFS",7000,"002-118084-831",3,"IMC","CITI","HKCT","tst213-8idn","FNI",2,"DPBCOR351321L ","2024-05-31",-193,"",null,null,"G_도매 및 소매업","G"]
["IPOS1"," KONGFIH (HONGKONG)","RFI","SEM306828D ","USD",-89433600,0,0,"2023-08-16","2023-09-21","C11",7510,"002-160466-838",4,"IMC","HSBC","SEL ","tst30030idn","FNI",2,"RFISEM306828D ","2024-06-01",-254,"",null,null,"도매 및 상품중개업(46)","G"]
["IPOS1"," KONGFIH (HONGKONG)","RFI","SEM306835D ","USD",-715468800,0,0,"2023-08-16","2023-10-04","C11",7510,"002-160466-838",4,"IMC","HSBC","SEL ","tst30030idn","FNI",2,"RFISEM306835D ","2024-06-02",-242,"",null,null,"도매 및 상품중개업(46)","G"]
["IPOS1"," KONGFIH (HONGKONG)","RFI","SEM306918D ","USD",-16149888,0,0,"2023-08-16","2023-10-04","C11",7510,"002-160466-838",4,"IMC","HSBC","SEL ","tst30030idn","FNI",2,"RFISEM306918D ","2024-06-03",-243,"",null,null,"도매 및 상품중개업(46)","G"]
["IPOS1"," KONGFIH (HONGKONG)","RFI","SEM306920D ","USD",-14355456,0,0,"2023-08-16","2023-10-04","C11",7510,"002-160466-838",4,"IMC","HSBC","SEL ","tst30030idn","FNI",2,"RFISEM306920D ","2024-06-04",-244,"",null,null,"도매 및 상품중개업(46)","G"]
["IPOS1"," KONGFIH (HONGKONG)","RFI","SEM306921D ","USD",-446376140,0,0,"2023-08-16","2023-10-12","C11",7510,"002-160466-838",4,"IMC","HSBC","SEL ","tst30030idn","FNI",2,"RFISEM306921D ","2024-06-05",-237,"",null,null,"도매 및 상품중개업(46)","G"]
["IPOS1"," KONGFIH (HONGKONG)","RFI","SEM307292D ","USD",-947996160,0,0,"2023-08-30","2023-10-19","C11",7510,"002-160466-838",4,"IMC","HSBC","SEL ","tst30030idn","FNI",2,"RFISEM307292D ","2024-06-06",-231,"",null,null,"도매 및 상품중개업(46)","G"]
["IPOS1"," KONGFIH (HONGKONG)","RFI","SEM307294D ","USD",-214640640,-214640640,-2912029563,"2023-08-30","2023-10-26","C11",7510,"002-160466-838",4,"IMC","HSBC","SEL ","tst30030idn","FNI",2,"RFISEM307294D ","2024-06-07",-225,"",null,null,"도매 및 상품중개업(46)","G"]
["IPOS1"," KONGFIH (HONGKONG)","RFI","SEM307960D ","USD",-375621120,-375621120,-5096051735,"2023-09-26","2023-11-02","C11",7510,"002-160466-838",4,"IMC","HSBC","SEL ","tst30030idn","FNI",2,"RFISEM307960D ","2024-06-08",-219,"",null,null,"도매 및 상품중개업(46)","G"]
["IPOS1"," CO.,FRL KOREACO., ","IBC","COR351317L ","USD",-7542780,0,0,"2023-09-25","2023-10-04","C13",7520,"002-540352-831",3,"   ","HSBC","CHG ","tst104-8idn","FNI",2,"IBCCOR351317L ","2024-06-09",-249,"",null,null,"소매업(자동차 제외)(47)","G"]
["IPOS1"," (LTRBOSCH KFT(LTRF","RFI","SDI306616D ","USD",-77286147,0,0,"2023-07-31","2023-09-27","MFI",4290,"002-108713-838",3,"IMC","HSBC","SEL ","tst12746idn","FNI",2,"RFISDI306616D ","2024-06-10",-257,"",null,null,"기타 기계 및 장비 제조업(29)","C"]
["IPOS1"," CO.,FRL KOREACO., ","IBC","COR351313L ","USD",-953336,-953336,-12933910,"2023-09-13","2023-12-12","C13",7520,"002-540352-831",3,"   ","HSBC","CHG ","tst104-8idn","FNI",2,"IBCCOR351313L ","2024-06-11",-182,"",null,null,"소매업(자동차 제외)(47)","G"]
["IPOS1","LTD. LG CHEM, TD.  ","RFI","RFN205582L ","KRW",-1950577834,0,0,"2022-06-30","2022-07-11","C13",4240,"002-001355-838",3,"IMC","HSBC","SEL ","tst107-8idn","FNI",2,"RFIRFN205582L ","2024-06-12",-702,"",null,null,"화학물질 및 화학제품 제조업(의약품 제외)(20)","C"]
["IPOS1"," KONGFIH (HONGKONG)","RFI","SEM306827D ","USD",-10766592,0,0,"2023-08-16","2023-09-21","C11",7510,"002-160466-838",4,"IMC","HSBC","SEL ","tst30030idn","FNI",2,"RFISEM306827D ","2024-06-13",-266,"",null,null,"도매 및 상품중개업(46)","G"]
["IPOS1"," CO.,FRL KOREACO., ","IBC","COR351260L ","USD",-1536528,0,0,"2023-07-30","2023-10-30","C13",7520,"002-540352-831",3,"   ","HSBC","CHG ","tst104-8idn","FNI",2,"IBCCOR351260L ","2024-06-14",-228,"",null,null,"소매업(자동차 제외)(47)","G"]
["IPOS1"," (LTRBOSCH KFT(LTRF","RFI","SDI306618D ","USD",-72808004,0,0,"2023-07-31","2023-09-27","MFI",4290,"002-108713-838",3,"IMC","HSBC","SEL ","tst12746idn","FNI",2,"RFISDI306618D ","2024-06-15",-262,"",null,null,"기타 기계 및 장비 제조업(29)","C"]
["IPOS1"," CO.,FRL KOREACO., ","IBC","COR351281L ","USD",-13182000,-13182000,-178840194,"2023-08-20","2023-11-20","C13",7520,"002-540352-831",3,"   ","HSBC","CHG ","tst104-8idn","FNI",2,"IBCCOR351281L ","2024-06-16",-209,"",null,null,"소매업(자동차 제외)(47)","G"]
["IPOS1","ADINGARAMCO TRDING ","RFI","SOL307464D ","USD",-3220288716,0,0,"2023-08-31","2023-09-18","C11",7510,"002-055319-838",3,"IMC","HSBC","SEL ","tst20152idn","FNI",2,"RFISOL307464D ","2024-06-17",-273,"",null,null,"도매 및 상품중개업(46)","G"]
["IPOS1"," (LTRBOSCH KFT(LTRF","RFI","SDI307068D ","USD",-64753920,0,0,"2023-08-28","2023-10-20","MFI",4290,"002-108713-838",3,"IMC","HSBC","SEL ","tst12746idn","FNI",2,"RFISDI307068D ","2024-06-18",-242,"",null,null,"기타 기계 및 장비 제조업(29)","C"]
["IPOS1"," CO.,FRL KOREACO., ","IBC","COR351338L ","USD",-8272740,-8272740,-112236264,"2023-10-16","2023-10-23","C13",7520,"002-540352-831",3,"   ","HSBC","CHG ","tst104-8idn","FNI",2,"IBCCOR351338L ","2024-06-19",-240,"",null,null,"소매업(자동차 제외)(47)","G"]
["IPOS1","&T COSAMSUNG CT COR","RFI","HTP307512L ","USD",-523500000,0,0,"2023-09-13","2023-10-05","C13",7510,"002-000933-838",3,"IMC","HSBC","SEL ","tst202-8idn","FNI",2,"RFIHTP307512L ","2024-06-20",-259,"",null,null,"도매 및 상품중개업(46)","G"]
["IPOS1"," (LTRBOSCH KFT(LTRF","RFI","SDI306623D ","USD",-73649284,0,0,"2023-07-31","2023-09-27","MFI",4290,"002-108713-838",3,"IMC","HSBC","SEL ","tst12746idn","FNI",2,"RFISDI306623D ","2024-06-21",-268,"",null,null,"기타 기계 및 장비 제조업(29)","C"]
["IPOS1","REA CAZELIS KOEA CO","DPB","COR351292L ","USD",-3420000,-3420000,-46399140,"2023-08-10","2023-10-24","MFS",7000,"002-118084-831",3,"IMC","CITI","HKSH","tst213-8idn","FNI",2,"DPBCOR351292L ","2024-06-22",-242,"",null,null,"G_도매 및 소매업","G"]
["IPOS1"," CO.,FRL KOREACO., ","IBC","COR351312L ","USD",-26704488,0,0,"2023-09-19","2023-09-26","C13",7520,"002-540352-831",3,"   ","HSBC","CHG ","tst104-8idn","FNI",2,"IBCCOR351312L ","2024-06-23",-271,"",null,null,"소매업(자동차 제외)(47)","G"]
["IPOS1"," (LTRBOSCH SDN(LTRF","RFI","SDI307089D ","USD",-62622210,0,0,"2023-08-28","2023-09-27","MFI",4290,"002-010216-838",3,"IMC","HSBC","SEL ","tst25149idn","FNI",2,"RFISDI307089D ","2024-06-24",-271,"",null,null,"기타 기계 및 장비 제조업(29)","C"]
["IPOS1"," (LTRBOSCH KFT(LTRF","RFI","SDI306624D ","USD",-73929153,0,0,"2023-07-31","2023-09-27","MFI",4290,"002-108713-838",3,"IMC","HSBC","SEL ","tst12746idn","FNI",2,"RFISDI306624D ","2024-06-25",-272,"",null,null,"기타 기계 및 장비 제조업(29)","C"]
["IPOS1"," KONGFIH (HONGKONG)","RFI","SEM306925D ","USD",-143093760,0,0,"2023-08-16","2023-10-04","C11",7510,"002-160466-838",4,"IMC","HSBC","SEL ","tst30030idn","FNI",2,"RFISEM306925D ","2024-06-26",-266,"",null,null,"도매 및 상품중개업(46)","G"]
["IPOS1"," KONGFIH (HONGKONG)","RFI","SEM307295D ","USD",-89433600,-89433600,-1213345651,"2023-08-30","2023-10-26","C11",7510,"002-160466-838",4,"IMC","HSBC","SEL ","tst30030idn","FNI",2,"RFISEM307295D ","2024-06-27",-245,"",null,null,"도매 및 상품중개업(46)","G"]
["IPOS1"," KONGFIH (HONGKONG)","RFI","SEM307962D ","USD",-35773440,-35773440,-485338260,"2023-09-26","2023-11-09","C11",7510,"002-160466-838",4,"IMC","HSBC","SEL ","tst30030idn","FNI",2,"RFISEM307962D ","2024-06-28",-232,"",null,null,"도매 및 상품중개업(46)","G"]
["IPOS1"," KONGFIH (HONGKONG)","RFI","SEM307967D ","USD",-386008460,-386008460,-5236976777,"2023-09-26","2023-11-16","C11",7510,"002-160466-838",4,"IMC","HSBC","SEL ","tst30030idn","FNI",2,"RFISEM307967D ","2024-06-29",-226,"",null,null,"도매 및 상품중개업(46)","G"]
["IPOS1"," CO.,FRL KOREACO., ","IBC","COR351289L ","USD",-10540400,-10540400,-143001607,"2023-08-24","2023-11-22","C13",7520,"002-540352-831",3,"   ","HSBC","CHG ","tst104-8idn","FNI",2,"IBCCOR351289L ","2024-06-30",-221,"",null,null,"소매업(자동차 제외)(47)","G"]
["IPOS1"," CO.,FRL KOREACO., ","IBC","COR351302L ","USD",-1910976,-1910976,-25926211,"2023-08-31","2023-11-29","C13",7520,"002-540352-831",3,"   ","HSBC","CHG ","tst104-8idn","FNI",2,"IBCCOR351302L ","2024-07-01",-215,"",null,null,"소매업(자동차 제외)(47)","G"]
["IPOS1"," CO.,FRL KOREACO., ","IBC","COR351311L ","USD",-275520,0,0,"2023-09-18","2023-09-25","C13",7520,"002-540352-831",3,"   ","UTBK","BDDK","tst104-8idn","FNI",2,"IBCCOR351311L ","2024-07-02",-281,"",null,null,"소매업(자동차 제외)(47)","G"]
["IPOS1"," CO.,FRL KOREACO., ","IBC","COR351327L ","USD",-15144180,0,0,"2023-10-05","2023-10-12","C13",7520,"002-540352-831",3,"   ","HSBC","CHG ","tst104-8idn","FNI",2,"IBCCOR351327L ","2024-07-03",-265,"",null,null,"소매업(자동차 제외)(47)","G"]
["IPOS1","ADINGARAMCO TRDING ","RFI","SOL308230D ","USD",-3697223734,0,0,"2023-09-27","2023-10-10","C11",7510,"002-055319-838",3,"IMC","HSBC","SEL ","tst20152idn","FNI",2,"RFISOL308230D ","2024-07-04",-268,"",null,null,"도매 및 상품중개업(46)","G"]
["IPOS1"," (LTRBOSCH KFT(LTRF","RFI","SDI306621D ","USD",-73894976,0,0,"2023-07-31","2023-09-27","MFI",4290,"002-108713-838",3,"IMC","HSBC","SEL ","tst12746idn","FNI",2,"RFISDI306621D ","2024-07-05",-282,"",null,null,"기타 기계 및 장비 제조업(29)","C"]
["IPOS1"," KONGFIH (HONGKONG)","RFI","SEM307966D ","USD",-661808640,-661808640,-8978757819,"2023-09-26","2023-11-09","C11",7510,"002-160466-838",4,"IMC","HSBC","SEL ","tst30030idn","FNI",2,"RFISEM307966D ","2024-07-06",-240,"",null,null,"도매 및 상품중개업(46)","G"]
["IPOS1"," KONGFIH (HONGKONG)","RFI","SEM307970D ","USD",-124293120,-124293120,-1686284759,"2023-09-26","2023-11-16","C11",7510,"002-160466-838",4,"IMC","HSBC","SEL ","tst30030idn","FNI",2,"RFISEM307970D ","2024-07-07",-234,"",null,null,"도매 및 상품중개업(46)","G"]
["IPOS1","ED KOUPL LIMITD KOR","DPB","TKY351266L ","USD",-4790000,-4790000,-64985930,"2023-08-02","2024-01-29","MFS",4240,"002-218668-831",3,"IMC","HSBC","TKXX","tst303-8idn","FNI",2,"DPBTKY351266L ","2024-07-08",-161,"",null,null,"화학물질 및 화학제품 제조업(의약품 제외)(20)","C"]
["IPOS1"," CO.,FRL KOREACO., ","IBC","COR351279L ","USD",-19826064,-19826064,-268980210,"2023-08-17","2023-11-15","C13",7520,"002-540352-831",3,"   ","HSBC","CHG ","tst104-8idn","FNI",2,"IBCCOR351279L ","2024-07-09",-237,"",null,null,"소매업(자동차 제외)(47)","G"]
["IPOS1"," CO.,FRL KOREACO., ","IBC","COR351309L ","USD",-5347500,0,0,"2023-09-14","2023-09-21","C13",7520,"002-540352-831",3,"   ","HSBC","CHG ","tst104-8idn","FNI",2,"IBCCOR351309L ","2024-07-10",-293,"",null,null,"소매업(자동차 제외)(47)","G"]
["IPOS1"," CO.,FRL KOREACO., ","IBC","COR351310L ","USD",-4579168,0,0,"2023-09-15","2023-09-22","C13",7520,"002-540352-831",3,"   ","HSBC","CHG ","tst104-8idn","FNI",2,"IBCCOR351310L ","2024-07-11",-293,"",null,null,"소매업(자동차 제외)(47)","G"]
["IPOS1"," CO.,FRL KOREACO., ","IBC","COR351329L ","USD",-1847163,0,0,"2023-10-05","2023-10-12","C13",7520,"002-540352-831",3,"   ","HSBC","CHG ","tst104-8idn","FNI",2,"IBCCOR351329L ","2024-07-12",-274,"",null,null,"소매업(자동차 제외)(47)","G"]
["IPOS2","BANK KEB HANA ANK  ","APG","41","USD",-357825390,-357825390,-4854617066,"2020-02-07","2039-12-31","BE1",10650,"002-060970-840",3,"   ","BBME","ALRG","tst202-81idn","BK4",null,"APGSEL000041","2024-07-13",5649,67562.752000000008,null,null,"금융업(64)","K"]
["IPOS2","Y (ALGE COMPAN (ALO","APG","147","EUR",-37261250,0,0,"2020-03-25","2021-08-10","C11",4320,"002-705913-840",3,"GTE","HSBC","SEL ","tst14-068idn","BK6",null,"APGSEL000147","2024-07-14",-1069,"",null,null,"전자부품, 컴퓨터, 영상, 음향 및 통신장비 제조업(26)","C"]
["IPOS2"," MALAHSBC BANKMALAY","APG","193","EUR",-313720,0,0,"2020-04-21","2021-08-31","GPO",10650,"002-706764-840",0,"   ","HSBC","SEL ","tst 12777idn","BK6",null,"APGSEL000193","2024-07-15",-1049,"",null,null,"금융업(64)","K"]
["IPOS2"," MALAHSBC BANKMALAY","APG","203","EUR",-1215300,0,0,"2020-04-21","2021-08-31","GPO",10650,"002-706764-840",0,"   ","HSBC","SEL ","tst 12777idn","BK6",null,"APGSEL000203","2024-07-16",-1050,"",null,null,"금융업(64)","K"]
["IPOS2","CAL EIMI CRITIAL EN","APG","204","USD",-38303360,0,0,"2020-04-22","2022-07-30","C13",4310,"002-097164-840",3,"GTE","HSBC","SEL ","tst136-81idn","BK6",null,"APGSEL000204","2024-07-17",-718,"",null,null,"전기장비 제조업(28)","C"]
["IPOS2","CAL EIMI CRITIAL EN","APG","290","USD",-10498500,0,0,"2020-06-19","2023-07-30","C13",4310,"002-097164-840",3,"GTE","HSBC","SEL ","tst136-81idn","BK6",null,"APGSEL000290","2024-07-18",-354,"",null,null,"전기장비 제조업(28)","C"]
["IPOS2","Y (ALGE COMPAN (ALO","APG","303","USD",-13724500,0,0,"2020-06-25","2021-02-28","C11",4320,"002-705913-840",3,"GTE","HSBC","SEL ","tst14-068idn","BK6",null,"APGSEL000303","2024-07-19",-1237,"",null,null,"전자부품, 컴퓨터, 영상, 음향 및 통신장비 제조업(26)","C"]
["IPOS2","INENTHSBC CONTNENTA","APG","341","EUR",-20460000,0,0,"2020-07-30","2021-12-17","FPO",10650,"002-125024-840",0,"   ","HSBC","SEL ","tstHRB969idn","BK6",null,"APGSEL000341","2024-07-20",-946,"",null,null,"금융업(64)","K"]
["IPOS2","CAL EIMI CRITIAL EN","APG","349","KRW",-293015686,0,0,"2020-08-13","2022-01-19","C13",4310,"002-097164-840",3,"GTE","HSBC","SEL ","tst136-81idn","BK6",null,"APGSEL000349","2024-07-21",-914,"",null,null,"전기장비 제조업(28)","C"]
["IPOS2"," MALAHSBC BANKMALAY","APG","387","EUR",-627440,0,0,"2020-08-27","2021-08-31","GPO",10650,"002-706764-840",0,"   ","HSBC","SEL ","tst 12777idn","BK6",null,"APGSEL000387","2024-07-22",-1056,"",null,null,"금융업(64)","K"]
["IPOS2"," MALAHSBC BANKMALAY","APG","395","EUR",-2430600,0,0,"2020-09-03","2021-08-31","GPO",10650,"002-706764-840",0,"   ","HSBC","SEL ","tst 12777idn","BK6",null,"APGSEL000395","2024-07-23",-1057,"",null,null,"금융업(64)","K"]
["IPOS2","Y (ALGE COMPAN (ALO","APG","396","USD",-26000000,0,0,"2020-09-07","2022-09-30","C11",4320,"002-705913-840",3,"GTE","HSBC","SEL ","tst14-068idn","BK6",null,"APGSEL000396","2024-07-24",-663,"",null,null,"전자부품, 컴퓨터, 영상, 음향 및 통신장비 제조업(26)","C"]
["IPOS2","Y (ALGE COMPAN (ALO","APG","413","USD",-26000000,0,0,"2020-09-07","2021-07-31","C11",4320,"002-705913-840",3,"GTE","HSBC","SEL ","tst14-068idn","BK6",null,"APGSEL000413","2024-07-25",-1090,"",null,null,"전자부품, 컴퓨터, 영상, 음향 및 통신장비 제조업(26)","C"]
["IPOS2","REA LNEXANS KOEA LT","APG","434","USD",-9500000,0,0,"2020-09-17","2021-01-27","C13",4310,"002-707538-840",4,"GTE","HBCN","BJG ","tst127-81idn","BK6",null,"APGSEL000434","2024-07-26",-1276,"",null,null,"전기장비 제조업(28)","C"]
["IPOS2","M KORPETRO-CHE KORE","APG","436","KRW",-4598000000,0,0,"2020-09-18","2021-12-31","MFS",4290,"002-242604-840",3,"GTE","HSBC","SEL ","tst107-81idn","BNK",7,"APGSEL000436","2024-07-27",-939,"",null,null,"기타 기계 및 장비 제조업(29)","C"]
["IPOS2","Y (ALGE COMPAN (ALO","APG","440","EUR",-4875600,0,0,"2020-09-21","2021-10-01","C11",4320,"002-705913-840",3,"GTE","HSBC","SEL ","tst14-068idn","BNK",7,"APGSEL000440","2024-07-28",-1031,"",null,null,"전자부품, 컴퓨터, 영상, 음향 및 통신장비 제조업(26)","C"]
["IPOS2"," & CHPOSCO ECO& CHA","APG","471","PHP",-96611311272,-96611311272,-23043700981,"2020-10-07","2024-07-15","C13",6450,"002-094821-840",3,"GTE","HSBC","MNL ","tst506-81idn","BNK",7,"APGSEL000471","2024-07-29",-14,304239.04960616137,null,null,"종합건설업(41)","F"]
["IPOS2"," & CHPOSCO ECO& CHA","APG","472","USD",-497107029,-497107029,-6744251062,"2020-10-07","2024-07-15","C13",6450,"002-094821-840",3,"GTE","HSBC","MNL ","tst506-81idn","BNK",7,"APGSEL000472","2024-07-30",-15,89429.2,null,null,"종합건설업(41)","F"]
["IPOS2","Y (ALGE COMPAN (ALO","APG","494","EUR",-4875600,0,0,"2020-10-13","2022-09-15","C11",4320,"002-705913-840",3,"GTE","HSBC","SEL ","tst14-068idn","BNK",7,"APGSEL000494","2024-07-31",-685,"",null,null,"전자부품, 컴퓨터, 영상, 음향 및 통신장비 제조업(26)","C"]
["IPOS2","CAL EIMI CRITIAL EN","APG","512","USD",-24040120,0,0,"2020-10-22","2021-06-22","C13",4310,"002-097164-840",3,"GTE","HSBC","SEL ","tst136-81idn","BNK",7,"APGSEL000512","2024-08-01",-1136,"",null,null,"전기장비 제조업(28)","C"]
["IPOS2","Y (ALGE COMPAN (ALO","APG","536","USD",-67040000,0,0,"2020-10-30","2021-03-15","C11",4320,"002-705913-840",3,"GTE","HSBC","SEL ","tst14-068idn","BNK",7,"APGSEL000536","2024-08-02",-1236,"",null,null,"전자부품, 컴퓨터, 영상, 음향 및 통신장비 제조업(26)","C"]
["IPOS2","Y (ALGE COMPAN (ALO","APG","554","GBP",-50072788,0,0,"2020-11-05","2021-12-08","C11",4320,"002-705913-840",3,"GTE","HSBC","SEL ","tst14-068idn","BNK",7,"APGSEL000554","2024-08-03",-969,"",null,null,"전자부품, 컴퓨터, 영상, 음향 및 통신장비 제조업(26)","C"]
["IPOS2","CAL EIMI CRITIAL EN","APG","558","KRW",-77536030,0,0,"2020-11-09","2022-05-30","C13",4310,"002-097164-840",3,"GTE","HSBC","SEL ","tst136-81idn","BNK",7,"APGSEL000558","2024-08-04",-797,"",null,null,"전기장비 제조업(28)","C"]
["IPOS2","CAL EIMI CRITIAL EN","APG","660","USD",-7699900,0,0,"2020-11-23","2021-07-14","C13",4310,"002-097164-840",3,"GTE","HSBC","SEL ","tst136-81idn","BNK",7,"APGSEL000660","2024-08-05",-1118,"",null,null,"전기장비 제조업(28)","C"]
["IPOS2","CAL EIMI CRITIAL EN","APG","664","KRW",-34451472,0,0,"2020-11-24","2022-03-01","C13",4310,"002-097164-840",3,"GTE","HSBC","SEL ","tst136-81idn","BNK",7,"APGSEL000664","2024-08-06",-889,"",null,null,"전기장비 제조업(28)","C"]
["IPOS2","CAL EIMI CRITIAL EN","APG","676","KRW",-40181350,0,0,"2020-11-30","2022-03-14","C13",4310,"002-097164-840",3,"GTE","HSBC","SEL ","tst136-81idn","BNK",7,"APGSEL000676","2024-08-07",-877,"",null,null,"전기장비 제조업(28)","C"]
["IPOS2","CAL EIMI CRITIAL EN","APG","699","KRW",-251610700,0,0,"2020-12-14","2022-03-16","C13",4310,"002-097164-840",3,"GTE","HSBC","SEL ","tst136-81idn","BNK",7,"APGSEL000699","2024-08-08",-876,"",null,null,"전기장비 제조업(28)","C"]
["IPOS2","INENTHSBC CONTNENTA","APG","720","EUR",-40656000,0,0,"2020-12-22","2022-03-20","FPO",10650,"002-125024-840",0,"   ","HSBC","SEL ","tstHRB969idn","BNK",7,"APGSEL000720","2024-08-09",-873,"",null,null,"금융업(64)","K"]
["IPOS2","ANY LBASF COMPNY LT","APG","98192","KRW",-66000000,0,0,"2016-06-29","2021-08-16","C13",4240,"002-001792-840",3,"GTE","HSBC","SEL ","tst417-81idn","BNK",7,"APGSEL098192","2024-08-10",-1090,"",null,null,"화학물질 및 화학제품 제조업(의약품 제외)(20)","C"]
["IPOS2"," CORPGS GLOBALCORP.","APG","100015","USD",-12315900,0,0,"2021-01-08","2022-01-13","C13",7510,"002-003928-840",3,"GTE","HSBC","SEL ","tst202-81idn","BNK",7,"APGSEL100015","2024-08-11",-941,"",null,null,"도매 및 상품중개업(46)","G"]
["IPOS2","Y (ALGE COMPAN (ALO","APG","100016","USD",-2850000,0,0,"2021-01-12","2021-04-30","C11",4320,"002-705913-840",3,"GTE","HSBC","SEL ","tst14-068idn","BNK",7,"APGSEL100016","2024-08-12",-1200,"",null,null,"전자부품, 컴퓨터, 영상, 음향 및 통신장비 제조업(26)","C"]
["IPOS2","., LTDL E&C CO, LTD","APG","100039","USD",-281451845,-281451845,-3818457181,"2021-01-29","2024-12-15","C13",6450,"002-091316-840",3,"GTE","HSBC","MNL ","tst676-87idn","BNK",7,"APGSEL100039","2024-08-13",124,130701.11199999999,null,null,"종합건설업(41)","F"]
["IPOS2","., LTDL E&C CO, LTD","APG","100041","EUR",-41402590,-41402590,-592153563,"2021-01-29","2024-12-15","C13",6450,"002-091316-840",3,"GTE","HSBC","MNL ","tst676-87idn","BNK",7,"APGSEL100041","2024-08-14",123,20330.632608,null,null,"종합건설업(41)","F"]
["IPOS2","., LTDL E&C CO, LTD","APG","100042","PHP",-118000282692,-118000282692,-28145392028,"2021-01-29","2024-12-15","C13",6450,"002-091316-840",3,"GTE","HSBC","MNL ","tst676-87idn","BNK",7,"APGSEL100042","2024-08-15",122,959119.45751794148,null,null,"종합건설업(41)","F"]
["IPOS2"," MALAHSBC BANKMALAY","APG","100052","USD",-21030000,0,0,"2021-02-05","2021-12-31","GPO",10650,"002-706764-840",0,"   ","HSBC","SEL ","tst 12777idn","BNK",7,"APGSEL100052","2024-08-16",-959,"",null,null,"금융업(64)","K"]
["IPOS2","Y (ALGE COMPAN (ALO","APG","100054","EUR",-8790625,0,0,"2021-02-05","2021-12-31","C11",4320,"002-705913-840",3,"GTE","HSBC","SEL ","tst14-068idn","BNK",7,"APGSEL100054","2024-08-17",-960,"",null,null,"전자부품, 컴퓨터, 영상, 음향 및 통신장비 제조업(26)","C"]
["IPOS2","CAL EIMI CRITIAL EN","APG","100063","KRW",-447442710,0,0,"2021-02-05","2022-02-17","C13",4310,"002-097164-840",3,"GTE","HSBC","SEL ","tst136-81idn","BNK",7,"APGSEL100063","2024-08-18",-913,"",null,null,"전기장비 제조업(28)","C"]
["IPOS2","CAL EIMI CRITIAL EN","APG","100068","KRW",-303536126,0,0,"2021-02-05","2021-12-15","C13",4310,"002-097164-840",3,"GTE","HSBC","SEL ","tst136-81idn","BRO",null,"APGSEL100068","2024-08-19",-978,"",null,null,"전기장비 제조업(28)","C"]
["IPOS2","A BR)HSBC(INDI BR) ","APG","100129","USD",-638700,0,0,"2021-03-03","2021-05-13","BRO",10650,"002-706707-840",0,"   ","HSBC","SEL ","tst F0094idn","BRO",null,"APGSEL100129","2024-08-20",-1195,"",null,null,"금융업(64)","K"]
["IPOS2","A BR)HSBC(INDI BR) ","APG","100130","USD",-5429200,0,0,"2021-03-05","2021-08-31","BRO",10650,"002-706707-840",0,"   ","HSBC","SEL ","tst F0094idn","BRO",null,"APGSEL100130","2024-08-21",-1086,"",null,null,"금융업(64)","K"]
["IPOS2","A BR)HSBC(INDI BR) ","APG","100147","USD",-17970000,0,0,"2021-03-24","2021-10-10","BRO",10650,"002-706707-840",0,"   ","KOAB","KRSL","tst F0094idn","BRO",null,"APGSEL100147","2024-08-22",-1047,"",null,null,"금융업(64)","K"]
["IPOS2","CAL EIMI CRITIAL EN","APG","100171","USD",-11996000,0,0,"2021-04-06","2021-07-31","C13",4310,"002-097164-840",3,"GTE","HSBC","SEL ","tst136-81idn","BRO",null,"APGSEL100171","2024-08-23",-1119,"",null,null,"전기장비 제조업(28)","C"]
["IPOS2","ONG ATHE HONGKNG AN","APG","100182","KRW",-6255000000,0,0,"2021-04-14","2022-07-01","BRO",10650,"002-703827-840",0,"   ","HSBC","SEL ","tstS16FC0idn","BRO",null,"APGSEL100182","2024-08-24",-785,"",null,null,"금융업(64)","K"]
["IPOS2","CAL EIMI CRITIAL EN","APG","100183","KRW",-251707170,-251707170,-251707170,"2021-04-14","2023-11-30","C13",4310,"002-097164-840",3,"GTE","HSBC","SEL ","tst136-81idn","BRO",null,"APGSEL100183","2024-08-25",-269,4918,null,null,"전기장비 제조업(28)","C"]
["IPOS2","REA LNEXANS KOEA LT","APG","100189","USD",-25474774,0,0,"2021-04-26","2021-10-14","C13",4310,"002-707538-840",4,"GTE","HBCN","SHH ","tst127-81idn","BRO",null,"APGSEL100189","2024-08-26",-1047,"",null,null,"전기장비 제조업(28)","C"]
["IPOS2","A BR)HSBC(INDI BR) ","APG","100191","USD",-64737672,0,0,"2021-04-16","2021-12-31","BRO",10650,"002-706707-840",0,"   ","HSBC","SEL ","tst F0094idn","BRO",null,"APGSEL100191","2024-08-27",-970,"",null,null,"금융업(64)","K"]
["IPOS2","CAL EIMI CRITIAL EN","APG","100229","USD",-3894900,0,0,"2021-05-13","2021-11-28","C13",4310,"002-097164-840",3,"GTE","HBVN","VNM ","tst136-81idn","BRO",null,"APGSEL100229","2024-08-28",-1004,"",null,null,"전기장비 제조업(28)","C"]
["IPOS2","ONG ATHE HONGKNG AN","APG","100249","KRW",-2021250000,0,0,"2021-05-20","2021-12-31","BRO",10650,"002-703827-840",0,"   ","HSBC","SEL ","tstS16FC0idn","BRO",null,"APGSEL100249","2024-08-29",-972,"",null,null,"금융업(64)","K"]
["IPOS2","ONG ATHE HONGKNG AN","APG","100255","KRW",-806624400,0,0,"2021-05-20","2022-03-31","BRO",10650,"002-703827-840",0,"   ","HSBC","SEL ","tstS16FC0idn","BRO",null,"APGSEL100255","2024-08-30",-883,"",null,null,"금융업(64)","K"]
["IPOS2","., LTDL E&C CO, LTD","APG","100257","PHP",-103250247355,-103250247355,-24627218024,"2021-05-20","2024-12-15","C13",6450,"002-091316-840",3,"GTE","HSBC","MNL ","tst676-87idn","BRO",null,"APGSEL100257","2024-08-31",106,839229.58417643968,null,null,"종합건설업(41)","F"]
["IPOS2","., LTDL E&C CO, LTD","APG","100258","EUR",-36227267,-36227267,-518134378,"2021-05-20","2024-12-15","C13",6450,"002-091316-840",3,"GTE","HSBC","MNL ","tst676-87idn","BRO",null,"APGSEL100258","2024-09-01",105,17785.749225599997,null,null,"종합건설업(41)","F"]
["IPOS2","., LTDL E&C CO, LTD","APG","100259","USD",-246270364,-246270364,-3341150028,"2021-05-20","2024-12-15","C13",6450,"002-091316-840",3,"GTE","HSBC","MNL ","tst676-87idn","BRO",null,"APGSEL100259","2024-09-02",104,114361.79199999999,null,null,"종합건설업(41)","F"]
["IPOS2","&T COSAMSUNG CT COR","APG","100265","USD",-1,0,0,"2021-05-21","2021-06-25","C13",7510,"002-000934-840",3,"GTE","HSBC","SEL ","tst202-81idn","BRO",null,"APGSEL100265","2024-09-03",-1166,"",null,null,"도매 및 상품중개업(46)","G"]
["IPOS2","ONG ATHE HONGKNG AN","APG","100269","KRW",-1316271000,0,0,"2021-05-24","2022-03-31","BRO",10650,"002-703827-840",0,"   ","HSBC","SEL ","tstS16FC0idn","BRO",null,"APGSEL100269","2024-09-04",-888,"",null,null,"금융업(64)","K"]
["IPOS2","CAL EIMI CRITIAL EN","APG","100285","USD",-25000000,0,0,"2021-05-26","2022-02-01","C13",4310,"002-097164-840",3,"GTE","HSBC","SEL ","tst136-81idn","BRO",null,"APGSEL100285","2024-09-05",-947,"",null,null,"전기장비 제조업(28)","C"]
["IPOS2","INENTHSBC CONTNENTA","APG","100286","USD",-23220969,0,0,"2021-05-28","2021-06-30","FPO",10650,"002-125024-840",0,"   ","HSBC","SEL ","tstHRB969idn","BRO",null,"APGSEL100286","2024-09-06",-1164,"",null,null,"금융업(64)","K"]
["IPOS2"," CORPGS GLOBALCORP.","APG","100312","USD",-25613040,0,0,"2021-06-15","2022-01-13","C13",7510,"002-003928-840",3,"GTE","HSBC","SEL ","tst202-81idn","BRO",null,"APGSEL100312","2024-09-07",-968,"",null,null,"도매 및 상품중개업(46)","G"]
["IPOS2","A BR)HSBC(INDI BR) ","APG","100315","EUR",-1356690,0,0,"2021-06-25","2023-02-02","BRO",10650,"002-706707-840",0,"   ","KOAB","KRSL","tst F0094idn","BRO",null,"APGSEL100315","2024-09-08",-584,"",null,null,"금융업(64)","K"]
["IPOS2","Y (ALGE COMPAN (ALO","APG","100321","USD",-26254005,-26254005,-356188086,"2021-06-21","2023-12-31","C11",4320,"002-705913-840",3,"GTE","HSBC","SEL ","tst14-068idn","BRO",null,"APGSEL100321","2024-09-09",-253,1815.48,null,null,"전자부품, 컴퓨터, 영상, 음향 및 통신장비 제조업(26)","C"]
["IPOS2","&T COSAMSUNG CT COR","APG","100331","USD",-2821110000,-2821110000,-38273999370,"2021-06-24","2024-03-31","C13",7510,"002-000934-840",3,"GTE","HSBC","SEL ","tst202-81idn","BRO",null,"APGSEL100331","2024-09-10",-163,146018.38399999999,null,null,"도매 및 상품중개업(46)","G"]
["IPOS2"," MALAHSBC BANKMALAY","APG","100332","USD",-100,0,0,"2021-06-28","2021-08-10","GPO",10650,"002-706764-840",0,"   ","KOAB","KRSL","tst 12777idn","BRO",null,"APGSEL100332","2024-09-11",-1128,"",null,null,"금융업(64)","K"]
["IPOS2"," CORPGS GLOBALCORP.","APG","100356","USD",-37928940,0,0,"2021-07-05","2022-01-13","C13",7510,"002-003928-840",3,"GTE","HSBC","SEL ","tst202-81idn","BRO",null,"APGSEL100356","2024-09-12",-973,"",null,null,"도매 및 상품중개업(46)","G"]
["IPOS2","Y (ALGE COMPAN (ALO","APG","100360","EUR",-42179075,0,0,"2021-07-06","2022-09-30","C11",4320,"002-705913-840",3,"GTE","HSBC","SEL ","tst14-068idn","BRO",null,"APGSEL100360","2024-09-13",-714,"",null,null,"전자부품, 컴퓨터, 영상, 음향 및 통신장비 제조업(26)","C"]
["IPOS2","INENTHSBC CONTNENTA","APG","100388","EUR",-20460000,0,0,"2021-07-27","2021-12-17","FPO",10650,"002-125024-840",0,"   ","HSBC","SEL ","tstHRB969idn","BRO",null,"APGSEL100388","2024-09-14",-1002,"",null,null,"금융업(64)","K"]
["IPOS2","REA LNEXANS KOEA LT","APG","100392","USD",-41539632,0,0,"2021-07-28","2022-03-25","C13",4310,"002-707538-840",4,"GTE","HBFR","ITA ","tst127-81idn","BRO",null,"APGSEL100392","2024-09-15",-905,"",null,null,"전기장비 제조업(28)","C"]
["IPOS2","ONG ATHE HONGKNG AN","APG","100402","KRW",-1630908022,0,0,"2021-08-09","2022-02-28","BRO",10650,"002-703827-840",0,"   ","HSBC","SEL ","tstS16FC0idn","BRO",null,"APGSEL100402","2024-09-16",-931,"",null,null,"금융업(64)","K"]
["IPOS2","ONG ATHE HONGKNG AN","APG","100406","KRW",-407727005,0,0,"2021-08-10","2022-02-28","BRO",10650,"002-703827-840",0,"   ","HSBC","SEL ","tstS16FC0idn","BRO",null,"APGSEL100406","2024-09-17",-932,"",null,null,"금융업(64)","K"]
["IPOS2","ONG ATHE HONGKNG AN","APG","100407","KRW",-235224000,0,0,"2021-08-10","2022-02-28","BRO",10650,"002-703827-840",0,"   ","HSBC","SEL ","tstS16FC0idn","BRO",null,"APGSEL100407","2024-09-18",-933,"",null,null,"금융업(64)","K"]
["IPOS2","CAL EIMI CRITIAL EN","APG","100423","USD",-840000,0,0,"2021-08-17","2023-01-06","C13",4310,"002-097164-840",3,"GTE","HSBC","SEL ","tst136-81idn","BRO",null,"APGSEL100423","2024-09-19",-622,"",null,null,"전기장비 제조업(28)","C"]
["IPOS2","&T COSAMSUNG CT COR","APG","100426","USD",-72509080,0,0,"2021-08-19","2021-12-15","C13",7510,"002-000934-840",3,"GTE","HBVN","VNM ","tst202-81idn","BRO",null,"APGSEL100426","2024-09-20",-1010,"",null,null,"도매 및 상품중개업(46)","G"]
["IPOS2","&T COSAMSUNG CT COR","APG","100427","VND",-540103527,0,0,"2021-08-19","2021-12-15","C13",7510,"002-000934-840",3,"GTE","HBVN","VNM ","tst202-81idn","BRO",null,"APGSEL100427","2024-09-21",-1011,"",null,null,"도매 및 상품중개업(46)","G"]
["IPOS2","INENTHSBC CONTNENTA","APG","100444","EUR",-12830400,0,0,"2021-08-20","2022-03-20","FPO",10650,"002-125024-840",0,"   ","HSBC","SEL ","tstHRB969idn","BRO",null,"APGSEL100444","2024-09-22",-917,"",null,null,"금융업(64)","K"]
["IPOS2","CAL EIMI CRITIAL EN","APG","100451","KRW",-313565660,0,0,"2021-08-25","2023-06-30","C13",4310,"002-097164-840",3,"GTE","HSBC","SEL ","tst136-81idn","BRO",null,"APGSEL100451","2024-09-23",-451,"",null,null,"전기장비 제조업(28)","C"]
["IPOS2","CAL EIMI CRITIAL EN","APG","100457","USD",-12917000,0,0,"2021-08-30","2023-04-08","C13",4310,"002-097164-840",3,"GTE","HSBC","SEL ","tst136-81idn","BRO",null,"APGSEL100457","2024-09-24",-535,"",null,null,"전기장비 제조업(28)","C"]
["IPOS2","CAL EIMI CRITIAL EN","APG","100458","USD",-11043000,0,0,"2021-08-30","2023-04-08","C13",4310,"002-097164-840",3,"GTE","HSBC","SEL ","tst136-81idn","BRO",null,"APGSEL100458","2024-09-25",-536,"",null,null,"전기장비 제조업(28)","C"]
["IPOS2","INENTHSBC CONTNENTA","APG","100471","USD",-23220969,0,0,"2021-09-15","2022-09-30","FPO",10650,"002-125024-840",0,"   ","HSBC","SEL ","tstHRB969idn","BRO",null,"APGSEL100471","2024-09-26",-727,"",null,null,"금융업(64)","K"]
["IPOS2","INENTHSBC CONTNENTA","APG","100501","EUR",-27825600,0,0,"2021-09-27","2022-03-20","FPO",10650,"002-125024-840",0,"   ","HSBC","SEL ","tstHRB969idn","BRO",null,"APGSEL100501","2024-09-27",-922,"",null,null,"금융업(64)","K"]
["IPOS2","M KORPETRO-CHE KORE","APG","100528","KRW",-803000000,0,0,"2021-10-20","2022-11-30","MFS",4290,"002-242604-840",3,"GTE","HSBC","SEL ","tst107-81idn","BRO",null,"APGSEL100528","2024-09-28",-668,"",null,null,"기타 기계 및 장비 제조업(29)","C"]
["IPOS2","CAL EIMI CRITIAL EN","APG","100566","USD",-1540000,0,0,"2021-11-09","2023-04-29","C13",4310,"002-097164-840",3,"GTE","HSBC","SEL ","tst136-81idn","BRO",null,"APGSEL100566","2024-09-29",-519,"",null,null,"전기장비 제조업(28)","C"]
["IPOS2","ONG ATHE HONGKNG AN","APG","100663","USD",-170952000,-170952000,-2319305784,"2021-11-19","2025-02-08","BRO",10650,"002-703827-840",0,"   ","HSBC","SEL ","tstS16FC0idn","BRO",null,"APGSEL100663","2024-09-30",131,"",null,null,"금융업(64)","K"]
["IPOS2","ONG ATHE HONGKNG AN","APG","100664","KRW",-86433590,-86433590,-86433590,"2021-11-19","2025-02-08","BRO",10650,"002-703827-840",0,"   ","HSBC","SEL ","tstS16FC0idn","BRO",null,"APGSEL100664","2024-10-01",130,"",null,null,"금융업(64)","K"]
["IPOS2","Y (ALGE COMPAN (ALO","APG","100725","EUR",-18700680,0,0,"2021-11-25","2022-12-31","C11",4320,"002-705913-840",3,"GTE","KOAB","KRSL","tst14-068idn","BRO",null,"APGSEL100725","2024-10-02",-641,"",null,null,"전자부품, 컴퓨터, 영상, 음향 및 통신장비 제조업(26)","C"]
["IPOS2","ONG ATHE HONGKNG AN","APG","100748","KRW",-791310000,0,0,"2021-12-02","2022-08-30","BRO",10650,"002-703827-840",0,"   ","HSBC","SEL ","tstS16FC0idn","BRO",null,"APGSEL100748","2024-10-03",-765,"",null,null,"금융업(64)","K"]
["IPOS2","ONG ATHE HONGKNG AN","APG","100749","KRW",-450600000,0,0,"2021-12-02","2022-11-30","BRO",10650,"002-703827-840",0,"   ","HSBC","SEL ","tstS16FC0idn","BRO",null,"APGSEL100749","2024-10-04",-674,"",null,null,"금융업(64)","K"]
["IPOS2","Y (ALGE COMPAN (ALO","APG","100754","USD",-21927390,0,0,"2021-12-06","2022-09-30","C11",4320,"002-705913-840",3,"GTE","HSBC","SEL ","tst14-068idn","BRO",null,"APGSEL100754","2024-10-05",-736,"",null,null,"전자부품, 컴퓨터, 영상, 음향 및 통신장비 제조업(26)","C"]
["IPOS2","Y (ALGE COMPAN (ALO","APG","100763","USD",-3082000,0,0,"2021-12-28","2022-06-30","C11",4320,"002-705913-840",3,"GTE","HSBC","SEL ","tst14-068idn","BRO",null,"APGSEL100763","2024-10-06",-829,"",null,null,"전자부품, 컴퓨터, 영상, 음향 및 통신장비 제조업(26)","C"]
["IPOS2"," MALAHSBC BANKMALAY","APG","100776","EUR",-9984000,0,0,"2021-12-29","2022-06-30","GPO",10650,"002-706764-840",0,"   ","HSBC","SEL ","tst 12777idn","BRO",null,"APGSEL100776","2024-10-07",-830,"",null,null,"금융업(64)","K"]
["IPOS2","ONG ATHE HONGKNG AN","APG","200133","KRW",-243600000,0,0,"2022-03-11","2022-07-31","BRO",10650,"002-703827-840",0,"   ","HSBC","SEL ","tstS16FC0idn","BRO",null,"APGSEL200133","2024-10-08",-800,"",null,null,"금융업(64)","K"]
["IPOS2"," MALAHSBC BANKMALAY","APG","200191","USD",-9840000,0,0,"2022-04-14","2022-11-15","GPO",10650,"002-706764-840",0,"   ","HSBC","SEL ","tst 12777idn","BRO",null,"APGSEL200191","2024-10-09",-694,"",null,null,"금융업(64)","K"]
["IPOS2","NGINESAMSUNG EGINEE","APG","200194","THB",-89218360000,-89218360000,-33216941143,"2022-04-15","2023-12-31","C13",6450,"002-016229-840",3,"GTE","HSBC","SEL ","tst120-81idn","BRO",null,"APGSEL200194","2024-10-10",-284,169495.78417582414,null,null,"종합건설업(41)","F"]
["IPOS2","ONG ATHE HONGKNG AN","APG","200209","KRW",-1301700000,0,0,"2022-04-29","2023-04-17","BRO",10650,"002-703827-840",0,"   ","HSBC","SEL ","tstS16FC0idn","BRO",null,"APGSEL200209","2024-10-11",-543,"",null,null,"금융업(64)","K"]
["IPOS2","CAL EIMI CRITIAL EN","APG","200295","KRW",-296861400,0,0,"2022-06-23","2023-09-18","C13",4310,"002-097164-840",3,"GTE","HSBC","SEL ","tst136-81idn","BRO",null,"APGSEL200295","2024-10-12",-390,1198,null,null,"전기장비 제조업(28)","C"]
["IPOS2","ONG ATHE HONGKNG AN","APG","200316","KRW",-874560000,0,0,"2022-07-04","2023-04-28","BRO",10650,"002-703827-840",0,"   ","HSBC","SEL ","tstS16FC0idn","BRO",null,"APGSEL200316","2024-10-13",-534,"",null,null,"금융업(64)","K"]
["IPOS2","M KORPETRO-CHE KORE","APG","200326","KRW",-1177000000,0,0,"2022-07-11","2023-07-31","MFS",4290,"002-242604-840",3,"GTE","HSBC","SEL ","tst107-81idn","BRO",null,"APGSEL200326","2024-10-14",-441,"",null,null,"기타 기계 및 장비 제조업(29)","C"]
["IPOS2"," MALAHSBC BANKMALAY","APG","200336","USD",-5000000,0,0,"2022-07-13","2022-12-15","GPO",10650,"002-706764-840",0,"   ","HSBC","SEL ","tst 12777idn","BRO",null,"APGSEL200336","2024-10-15",-670,"",null,null,"금융업(64)","K"]
["IPOS2","CAL EIMI CRITIAL EN","APG","200401","KRW",-5500000,-5500000,-5500000,"2022-08-23","2023-12-30","C13",4310,"002-097164-840",3,"GTE","HSBC","SEL ","tst136-81idn","BRO",null,"APGSEL200401","2024-10-16",-291,143,null,null,"전기장비 제조업(28)","C"]
["IPOS2","CAL EIMI CRITIAL EN","APG","200425","USD",-16140300,-16140300,-218975450,"2022-09-06","2025-09-01","C13",4310,"002-097164-840",3,"GTE","HSBC","SEL ","tst136-81idn","BRO",null,"APGSEL200425","2024-10-17",319,16823.448,null,null,"전기장비 제조업(28)","C"]
["IPOS2","ONG ATHE HONGKNG AN","APG","200465","KRW",-1643997497,-1643997497,-1643997497,"2022-10-14","2023-12-31","BRO",10650,"002-703827-840",0,"   ","HSBC","SEL ","tstS16FC0idn","BRO",null,"APGSEL200465","2024-10-18",-292,"",null,null,"금융업(64)","K"]
["IPOS2","Y (ALGE COMPAN (ALO","APG","200468","EUR",-12877400,-12877400,-184176842,"2022-10-24","2024-02-15","C11",4320,"002-705913-840",3,"GTE","HSBC","SEL ","tst14-068idn","FIO",2,"APGSEL200468","2024-10-19",-247,1293.7675296,null,null,"전자부품, 컴퓨터, 영상, 음향 및 통신장비 제조업(26)","C"]
["IPOS2","CAL EIMI CRITIAL EN","APG","200471","USD",-27220470,0,0,"2022-10-20","2022-11-06","C13",4310,"002-097164-840",3,"GTE","HBVN","VNM ","tst136-81idn","FIO",2,"APGSEL200471","2024-10-20",-714,"",null,null,"전기장비 제조업(28)","C"]
["IPOS2"," USA,HSBC BANKUSA, ","APG","200485","USD",-56422480,-56422480,-765483786,"2022-10-24","2024-03-19","FPO",10650,"002-551730-840",0,"   ","MMBI","MNY ","tst20-117idn","FIO",2,"APGSEL200485","2024-10-21",-216,"",null,null,"금융업(64)","K"]
["IPOS2","CAL EIMI CRITIAL EN","APG","200521","USD",-27220470,0,0,"2022-11-08","2023-04-15","C13",4310,"002-097164-840",3,"GTE","HBVN","VNM ","tst136-81idn","FIO",2,"APGSEL200521","2024-10-22",-556,"",null,null,"전기장비 제조업(28)","C"]
["IPOS2","M KORPETRO-CHE KORE","APG","200528","KRW",-691900000,0,0,"2022-11-07","2023-09-30","MFS",4290,"002-242604-840",3,"GTE","HSBC","SEL ","tst107-81idn","FIO",2,"APGSEL200528","2024-10-23",-389,448,null,null,"기타 기계 및 장비 제조업(29)","C"]
["IPOS2","ONG KGC-HSBC HNG KO","APG","200666","EUR",-211102270,-211102270,-3019254625,"2022-11-25","2024-07-03","BRO",10650,"002-500801-840",0,"   ","HSBC","SEL ","tst026387idn","FIO",2,"APGSEL200666","2024-10-24",-113,"",null,null,"금융업(64)","K"]
["IPOS2","Y (ALGE COMPAN (ALO","APG","200692","USD",-1650174,0,0,"2022-12-15","2023-02-28","C11",4320,"002-705913-840",3,"GTE","HSBC","SEL ","tst14-068idn","FIO",2,"APGSEL200692","2024-10-25",-605,"",null,null,"전자부품, 컴퓨터, 영상, 음향 및 통신장비 제조업(26)","C"]
["IPOS2","ONG ATHE HONGKNG AN","APG","200704","KRW",-6294270510,-6294270510,-6294270510,"2022-12-22","2023-12-31","BRO",10650,"002-703827-840",0,"   ","HSBC","SEL ","tstS16FC0idn","FIO",2,"APGSEL200704","2024-10-26",-300,"",null,null,"금융업(64)","K"]
["IPOS2","ONG KGC-HSBC HNG KO","APG","300018","EUR",-209996260,-209996260,-3003436103,"2023-01-11","2024-07-03","BRO",10650,"002-500801-840",0,"   ","HSBC","SEL ","tst026387idn","FIO",2,"APGSEL300018","2024-10-27",-116,"",null,null,"금융업(64)","K"]
["IPOS2","O., LMAXIMUS C., LT","APG","300032","KRW",-189816000,-189816000,-189816000,"2023-01-16","2024-03-01","MFS",11740,"002-087866-840",3,"GTE","HSBC","SEL ","tst220-87idn","FIO",2,"APGSEL300032","2024-10-28",-241,10914,null,null,"   사업지원서비스업(75)","M"]
["IPOS2","O., LMAXIMUS C., LT","APG","300033","KRW",-868725000,-868725000,-868725000,"2023-01-16","2024-03-01","MFS",11740,"002-087866-840",3,"GTE","HSBC","SEL ","tst220-87idn","FIO",2,"APGSEL300033","2024-10-29",-242,49950,null,null,"   사업지원서비스업(75)","M"]
["IPOS2","ONG ATHE HONGKNG AN","APG","300037","KRW",-546762104,-546762104,-546762104,"2023-01-25","2024-04-30","BRO",10650,"002-703827-840",0,"   ","HSBC","SEL ","tstS16FC0idn","FIO",2,"APGSEL300037","2024-10-30",-183,"",null,null,"금융업(64)","K"]
["IPOS2","ONG ATHE HONGKNG AN","APG","300040","KRW",-989588426,-989588426,-989588426,"2023-01-25","2024-03-30","BRO",10650,"002-703827-840",0,"   ","HSBC","SEL ","tstS16FC0idn","FIO",2,"APGSEL300040","2024-10-31",-215,"",null,null,"금융업(64)","K"]
["IPOS2","ONG ATHE HONGKNG AN","APG","300051","KRW",-2663433630,-2663433630,-2663433630,"2023-01-25","2024-02-02","BRO",10650,"002-703827-840",0,"   ","HSBC","SEL ","tstS16FC0idn","FIO",2,"APGSEL300051","2024-11-01",-273,"",null,null,"금융업(64)","K"]
["IPOS2","ONG ATHE HONGKNG AN","APG","300053","KRW",-6525247410,-6525247410,-6525247410,"2023-01-25","2024-08-31","BRO",10650,"002-703827-840",0,"   ","HSBC","SEL ","tstS16FC0idn","FIO",2,"APGSEL300053","2024-11-02",-63,"",null,null,"금융업(64)","K"]
["IPOS2","ONG ATHE HONGKNG AN","APG","300055","KRW",-7576942230,-7576942230,-7576942230,"2023-01-25","2024-08-30","BRO",10650,"002-703827-840",0,"   ","HSBC","SEL ","tstS16FC0idn","FIO",2,"APGSEL300055","2024-11-03",-65,"",null,null,"금융업(64)","K"]
["IPOS2"," MALAHSBC BANKMALAY","APG","300061","USD",-1500000,0,0,"2023-01-26","2023-02-20","GPO",10650,"002-706764-840",0,"   ","HSBC","SEL ","tst 12777idn","FIO",2,"APGSEL300061","2024-11-04",-623,"",null,null,"금융업(64)","K"]
["IPOS2","A BR)HSBC(INDI BR) ","APG","300081","USD",-89708131,-89708131,-1217070213,"2023-02-07","2023-12-31","BRO",10650,"002-706707-840",0,"   ","HSBC","SEL ","tst F0094idn","FIO",2,"APGSEL300081","2024-11-05",-310,"",null,null,"금융업(64)","K"]
["IPOS2"," MALAHSBC BANKMALAY","APG","300137","USD",-909300,0,0,"2023-03-06","2023-10-04","GPO",10650,"002-706764-840",0,"   ","HSBC","SEL ","tst 12777idn","FIO",2,"APGSEL300137","2024-11-06",-399,"",null,null,"금융업(64)","K"]
["IPOS2","ION ICONSTRUCTON IN","APG","300158","USD",-4440000000,-4440000000,-60237480000,"2023-03-13","2028-01-31","C08",10000,"002-020578-840",3,"GTE","HSBC","SEL ","tst120-81idn","FIO",2,"APGSEL300158","2024-11-07",1180,4111510.8319999999,null,null,"K_금융 및 보험업","K"]
["IPOS2","ONG ATHE HONGKNG AN","APG","300171","KRW",-456000000,-456000000,-456000000,"2023-03-23","2024-03-01","BRO",10650,"002-703827-840",0,"   ","HSBC","SEL ","tstS16FC0idn","FIO",2,"APGSEL300171","2024-11-08",-252,"",null,null,"금융업(64)","K"]
["IPOS2","CAL EIMI CRITIAL EN","APG","300177","KRW",-268512915,-268512915,-268512915,"2023-03-28","2024-12-30","C13",4310,"002-097164-840",3,"GTE","HSBC","SEL ","tst136-81idn","FIO",2,"APGSEL300177","2024-11-09",51,20815,null,null,"전기장비 제조업(28)","C"]
["IPOS2","CAL EIMI CRITIAL EN","APG","300178","KRW",-250960105,-250960105,-250960105,"2023-03-28","2027-06-30","C13",4310,"002-097164-840",3,"GTE","HSBC","SEL ","tst136-81idn","FIO",2,"APGSEL300178","2024-11-10",962,19454,null,null,"전기장비 제조업(28)","C"]
["IPOS2","ONG ATHE HONGKNG AN","APG","300181","KRW",-288095502,-288095502,-288095502,"2023-03-29","2024-03-14","BRO",10650,"002-703827-840",0,"   ","HSBC","SEL ","tstS16FC0idn","FIO",2,"APGSEL300181","2024-11-11",-242,"",null,null,"금융업(64)","K"]
["IPOS2","CAL EIMI CRITIAL EN","APG","300185","USD",-840000,-840000,-11396280,"2023-04-03","2023-11-30","C13",4310,"002-097164-840",3,"GTE","HSBC","SEL ","tst136-81idn","FIO",2,"APGSEL300185","2024-11-12",-348,40.343999999999994,null,null,"전기장비 제조업(28)","C"]
["IPOS2","Y (ALGE COMPAN (ALO","APG","300186","USD",-5000000,0,0,"2023-04-04","2023-06-30","C11",4320,"002-705913-840",3,"GTE","HSBC","SEL ","tst14-068idn","FIO",2,"APGSEL300186","2024-11-13",-502,"",null,null,"전자부품, 컴퓨터, 영상, 음향 및 통신장비 제조업(26)","C"]
["IPOS2","CAL EIMI CRITIAL EN","APG","300187","KRW",-253330000,-253330000,-253330000,"2023-04-05","2025-06-30","C13",4310,"002-097164-840",3,"GTE","HSBC","SEL ","tst136-81idn","FIO",2,"APGSEL300187","2024-11-14",228,19638,null,null,"전기장비 제조업(28)","C"]
["IPOS2","A BR)HSBC(INDI BR) ","APG","300206","USD",-22263600,0,0,"2023-04-20","2023-09-30","BRO",10650,"002-706707-840",0,"   ","HSBC","SEL ","tst F0094idn","FIO",2,"APGSEL300206","2024-11-15",-412,"",null,null,"금융업(64)","K"]
["IPOS2","O., LMAXIMUS C., LT","APG","300207","KRW",-581000000,-581000000,-581000000,"2023-04-20","2024-04-16","MFS",11740,"002-087866-840",3,"GTE","HSBC","SEL ","tst220-87idn","FIO",2,"APGSEL300207","2024-11-16",-214,20879,null,null,"   사업지원서비스업(75)","M"]
["IPOS2","CAL EIMI CRITIAL EN","APG","300218","USD",-1540000,-1540000,-20893180,"2023-04-28","2023-10-30","C13",4310,"002-097164-840",3,"GTE","HSBC","SEL ","tst136-81idn","FIO",2,"APGSEL300218","2024-11-17",-384,67.239999999999995,null,null,"전기장비 제조업(28)","C"]
["IPOS2","L KORALFA LAVA KORE","APG","300237","EUR",-151000000,-151000000,-2159652041,"2023-05-12","2024-06-25","C13",4310,"002-703175-840",3,"GTE","HSBC","SEL ","tst106-81idn","FIO",2,"APGSEL300237","2024-11-18",-146,5829.0624959999996,null,null,"전기장비 제조업(28)","C"]
["IPOS2"," USA,HSBC BANKUSA, ","APG","300243","USD",-9716955,-9716955,-131829928,"2023-05-22","2024-04-30","FPO",10650,"002-551730-840",0,"   ","HSBC","SEL ","tst20-117idn","FIO",2,"APGSEL300243","2024-11-19",-203,"",null,null,"금융업(64)","K"]
["IPOS2","O., LMAXIMUS C., LT","APG","300267","KRW",-46816000,-46816000,-46816000,"2023-05-25","2023-12-31","MFS",11740,"002-087866-840",3,"GTE","HSBC","SEL ","tst220-87idn","FIO",2,"APGSEL300267","2024-11-20",-325,900,null,null,"   사업지원서비스업(75)","M"]
["IPOS2","BANK KEB HANA ANK  ","APG","300283","USD",-6772000,-6772000,-91875724,"2023-06-08","2024-12-15","BE1",10650,"002-060970-840",3,"   ","HSBC","INM ","tst202-81idn","FIO",2,"APGSEL300283","2024-11-21",24,1277.56,null,null,"금융업(64)","K"]
["IPOS2","BANK KEB HANA ANK  ","APG","300286","USD",-5607000,-5607000,-76070169,"2023-06-08","2024-12-15","BE1",10650,"002-060970-840",3,"   ","HSBC","INM ","tst202-81idn","FIO",2,"APGSEL300286","2024-11-22",23,1062.3920000000001,null,null,"금융업(64)","K"]
["IPOS2","BANK KEB HANA ANK  ","APG","300287","USD",-8621000,-8621000,-116961107,"2023-06-08","2024-12-15","BE1",10650,"002-060970-840",3,"   ","HSBC","INM ","tst202-81idn","FIO",2,"APGSEL300287","2024-11-23",22,1627.2079999999999,null,null,"금융업(64)","K"]
["IPOS2","O., LMAXIMUS C., LT","APG","300314","KRW",-23408000,-23408000,-23408000,"2023-06-30","2023-12-31","MFS",11740,"002-087866-840",3,"GTE","HSBC","SEL ","tst220-87idn","FIO",2,"APGSEL300314","2024-11-24",-329,450,null,null,"   사업지원서비스업(75)","M"]
["IPOS2","CAL EIMI CRITIAL EN","APG","300319","USD",-11043000,0,0,"2023-07-05","2023-09-30","C13",4310,"002-097164-840",3,"GTE","HSBC","SEL ","tst136-81idn","FIO",2,"APGSEL300319","2024-11-25",-422,484.12799999999993,null,null,"전기장비 제조업(28)","C"]
["IPOS2","CAL EIMI CRITIAL EN","APG","300320","USD",-12917000,0,0,"2023-07-05","2023-09-30","C13",4310,"002-097164-840",3,"GTE","HSBC","SEL ","tst136-81idn","FIO",2,"APGSEL300320","2024-11-26",-423,578.26400000000001,null,null,"전기장비 제조업(28)","C"]
["IPOS2","&T COSAMSUNG CT COR","APG","300330","USD",-721325000,-721325000,-9786216275,"2023-07-12","2026-07-26","C13",7510,"002-000934-840",3,"GTE","HSBC","DAK ","tst202-81idn","FIO",2,"APGSEL300330","2024-11-27",606,63676.28,null,null,"도매 및 상품중개업(46)","G"]
["IPOS2","O., LMAXIMUS C., LT","APG","300385","KRW",-17556000,-17556000,-17556000,"2023-07-28","2023-12-31","MFS",11740,"002-087866-840",3,"GTE","HSBC","SEL ","tst220-87idn","FIO",2,"APGSEL300385","2024-11-28",-333,337,null,null,"   사업지원서비스업(75)","M"]
["IPOS2","CAL EIMI CRITIAL EN","APG","300400","KRW",-166679150,-166679150,-166679150,"2023-08-02","2024-04-23","C13",4310,"002-097164-840",3,"GTE","HSBC","SEL ","tst136-81idn","FIO",2,"APGSEL300400","2024-11-29",-220,4195,null,null,"전기장비 제조업(28)","C"]
["IPOS2","A BR)HSBC(INDI BR) ","APG","300410","EUR",-11840000,-11840000,-169339604,"2023-08-18","2024-02-28","BRO",10650,"002-706707-840",0,"   ","HSBC","SEL ","tst F0094idn","FIO",2,"APGSEL300410","2024-11-30",-276,"",null,null,"금융업(64)","K"]
["IPOS2","A INCDURR KORE INC.","APG","300418","KRW",-9494000000,-9494000000,-9494000000,"2023-08-14","2024-05-31","MFS",4290,"002-009044-840",3,"GTE","HSBC","SEL ","tst220-81idn","FIO",2,"APGSEL300418","2024-12-01",-184,123497,null,null,"기타 기계 및 장비 제조업(29)","C"]
["IPOS2","A INCDURR KORE INC.","APG","300421","KRW",-15584000000,-15584000000,-15584000000,"2023-08-14","2024-05-31","MFS",4290,"002-009044-840",3,"GTE","HSBC","SEL ","tst220-81idn","FIO",2,"APGSEL300421","2024-12-02",-185,202714,null,null,"기타 기계 및 장비 제조업(29)","C"]
["IPOS2","O., LMAXIMUS C., LT","APG","300478","KRW",-17556000,-17556000,-17556000,"2023-08-30","2023-12-31","MFS",11740,"002-087866-840",3,"GTE","HSBC","SEL ","tst220-87idn","FIO",2,"APGSEL300478","2024-12-03",-338,337,null,null,"   사업지원서비스업(75)","M"]
["IPOS2","A BR)HSBC(INDI BR) ","APG","300508","USD",-67582834,-67582834,-916896309,"2023-09-15","2024-03-31","BRO",10650,"002-706707-840",0,"   ","HSBC","SEL ","tst F0094idn","FIO",2,"APGSEL300508","2024-12-04",-248,"",null,null,"금융업(64)","K"]
["IPOS2","O., LMAXIMUS C., LT","APG","300522","KRW",-5852000,-5852000,-5852000,"2023-10-10","2023-12-31","MFS",11740,"002-087866-840",3,"GTE","HSBC","SEL ","tst220-87idn","FIO",2,"APGSEL300522","2024-12-05",-340,"",null,null,"   사업지원서비스업(75)","M"]
["IPOS2","., LTDL E&C CO, LTD","APG","300525","USD",-32000000,-32000000,-434144000,"2023-10-11","2024-03-31","C13",6450,"002-091316-840",3,"GTE","HSBC","SEL ","tst676-87idn","FIO",2,"APGSEL300525","2024-12-06",-250,"",null,null,"종합건설업(41)","F"]
["IPOS2","A INCDURR KORE INC.","APG","300527","KRW",-2857600000,-2857600000,-2857600000,"2023-10-12","2024-08-28","MFS",4290,"002-009044-840",3,"GTE","HSBC","SEL ","tst220-81idn","FIO",2,"APGSEL300527","2024-12-07",-101,"",null,null,"기타 기계 및 장비 제조업(29)","C"]
["IPOS2","M KORPETRO-CHE KORE","APG","300529","KRW",-2444200000,-2444200000,-2444200000,"2023-10-13","2025-06-30","MFS",4290,"002-242604-840",3,"GTE","HSBC","SEL ","tst107-81idn","FIO",2,"APGSEL300529","2024-12-08",204,"",null,null,"기타 기계 및 장비 제조업(29)","C"]
["IPOS2"," USA,HSBC BANKUSA, ","APG","900052","USD",-100,0,0,"2019-02-08","2021-05-29","FPO",10650,"002-551730-840",0,"   ","HSBC","SEL ","tst20-117idn","FIO",2,"APGSEL900052","2024-12-09",-1290,"",null,null,"금융업(64)","K"]
["IPOS2"," AUSTHSBC BANKAUSTR","APG","900315","KRW",-260700000,0,0,"2019-06-05","2021-03-31","GPO",10650,"002-191223-840",0,"   ","HSBC","SEL ","tst006 43idn","FIO",2,"APGSEL900315","2024-12-10",-1350,"",null,null,"금융업(64)","K"]
["IPOS2","CAL EIMI CRITIAL EN","APG","900353","KRW",-64746600,0,0,"2019-06-26","2021-12-19","C13",4310,"002-097164-840",3,"GTE","HSBC","SEL ","tst136-81idn","FIO",2,"APGSEL900353","2024-12-11",-1088,"",null,null,"전기장비 제조업(28)","C"]
["IPOS2","&T COSAMSUNG CT COR","APG","900382","VND",-2232021497,0,0,"2019-07-09","2022-02-15","C13",7510,"002-000934-840",3,"GTE","HBVN","VNM ","tst202-81idn","FIO",2,"APGSEL900382","2024-12-12",-1031,"",null,null,"도매 및 상품중개업(46)","G"]
["IPOS2","&T COSAMSUNG CT COR","APG","900383","USD",-31118020,0,0,"2019-07-09","2022-02-15","C13",7510,"002-000934-840",3,"GTE","HBVN","VNM ","tst202-81idn","FIO",2,"APGSEL900383","2024-12-13",-1032,"",null,null,"도매 및 상품중개업(46)","G"]
["IPOS2","Y (ALGE COMPAN (ALO","APG","900500","KRW",-1094290214,-1094290214,-1094290214,"2019-09-05","2024-06-30","C11",4320,"002-705913-840",3,"GTE","HSBC","SEL ","tst14-068idn","FIO",2,"APGSEL900500","2024-12-14",-167,13953,null,null,"전자부품, 컴퓨터, 영상, 음향 및 통신장비 제조업(26)","C"]
["IPOS2","CAL EIMI CRITIAL EN","APG","900513","EUR",-26168890,0,0,"2019-09-09","2021-09-15","C13",4310,"002-097164-840",3,"GTE","HSBC","SEL ","tst136-81idn","FIO",2,"APGSEL900513","2024-12-15",-1187,"",null,null,"전기장비 제조업(28)","C"]
["IPOS2","CAL EIMI CRITIAL EN","APG","900529","KRW",-313565660,0,0,"2019-09-20","2021-06-30","C13",4310,"002-097164-840",3,"GTE","HSBC","SEL ","tst136-81idn","FIO",2,"APGSEL900529","2024-12-16",-1265,"",null,null,"전기장비 제조업(28)","C"]
["IPOS2","CAL EIMI CRITIAL EN","APG","900569","USD",-29155500,0,0,"2019-10-15","2021-01-30","C13",4310,"002-097164-840",3,"GTE","HSBC","SEL ","tst136-81idn","FIO",2,"APGSEL900569","2024-12-17",-1417,"",null,null,"전기장비 제조업(28)","C"]
["IPOS2"," (CHIHSBC BANK(CHIN","APG","914059","EUR",-190882400,-190882400,-2730063343,"2019-11-19","2027-02-15","GPO",10650,"002-437748-840",3,"   ","HSBC","SEL ","tst913100idn","FIO",2,"APGSEL914059","2024-12-18",789,"",null,null,"금융업(64)","K"]
["IPOS2"," (CHIHSBC BANK(CHIN","APG","914060","EUR",-14205100,-14205100,-203166048,"2019-11-19","2027-01-31","GPO",10650,"002-437748-840",3,"   ","HSBC","SEL ","tst913100idn","FIO",2,"APGSEL914060","2024-12-19",773,"",null,null,"금융업(64)","K"]
["IPOS2","BENZ MERCEDES-ENZ K","CGA","310","KRW",-1,0,0,"2020-06-26","2021-06-26","C13",7500,"002-707992-840",3,"GTE","HSBC","SEL ","tst220-86idn","FIO",2,"CGASEL000310","2024-12-20",-1273,"",null,null,"자동차 및 부품 판매업(45)","G"]
["IPOS2","FAR EROTHMANS AR EA","CGA","100177","KRW",-500000000,0,0,"2021-04-12","2021-05-31","C13",4160,"002-144839-840",4,"GTE","HSBC","SEL ","tst101-84idn","FIO",2,"CGASEL100177","2024-12-21",-1300,"",null,null,"담배 제조업(12)","C"]
["IPOS2","BENZ MERCEDES-ENZ K","CGA","100333","KRW",-1,0,0,"2021-06-25","2022-02-05","C13",7500,"002-707992-840",3,"GTE","HSBC","SEL ","tst220-86idn","FIO",2,"CGASEL100333","2024-12-22",-1051,"",null,null,"자동차 및 부품 판매업(45)","G"]
["IPOS2","ONG ATHE HONGKNG AN","CGA","100336","KRW",-3500000000,-3500000000,-3500000000,"2021-06-28","2024-10-31","BRO",10650,"002-703827-840",0,"   ","HSBC","SEL ","tstS16FC0idn","FIO",2,"CGASEL100336","2024-12-23",-53,"",null,null,"금융업(64)","K"]
["IPOS2","DE KOAIR LIQUIE KOR","CGA","100394","KRW",-500000000,-500000000,-500000000,"2021-07-30","2026-07-29","C13",4240,"002-206359-840",3,"GTE","HSBC","SEL ","tst396-85idn","FIO",2,"CGASEL100394","2024-12-24",582,7630,null,null,"화학물질 및 화학제품 제조업(의약품 제외)(20)","C"]
["IPOS2","BENZ MERCEDES-ENZ K","CGA","100791","KRW",-1,0,0,"2021-12-30","2022-12-20","C13",7500,"002-707992-840",3,"GTE","HSBC","SEL ","tst220-86idn","FIO",2,"CGASEL100791","2024-12-25",-736,"",null,null,"자동차 및 부품 판매업(45)","G"]
["IPOS2"," KOREDECATHLONKOREA","CGA","200286","KRW",-160000000,0,0,"2022-06-15","2023-06-20","C13",7520,"002-866946-840",4,"GTE","HSBC","SEL ","tst220-81idn","FIO",2,"CGASEL200286","2024-12-26",-555,"",null,null,"소매업(자동차 제외)(47)","G"]
["IPOS2","BENZ MERCEDES-ENZ K","CGA","200687","KRW",-35000000000,-35000000000,-35000000000,"2022-12-13","2023-12-12","C13",7500,"002-707992-840",3,"GTE","HSBC","SEL ","tst220-86idn","FIO",2,"CGASEL200687","2024-12-27",-381,4916,null,null,"자동차 및 부품 판매업(45)","G"]
["IPOS2"," DIORCHRISTIANDIOR ","CGA","200705","KRW",-3000000000,-3000000000,-3000000000,"2022-12-23","2023-12-31","C13",7520,"002-670802-840",3,"GTE","HSBC","SEL ","tst120-81idn","FIO",2,"CGASEL200705","2024-12-28",-363,3344,null,null,"소매업(자동차 제외)(47)","G"]
["IPOS2","FAR EROTHMANS AR EA","CGA","200709","KRW",-100000000,0,0,"2022-12-27","2023-06-30","C13",4160,"002-144839-840",4,"GTE","HSBC","SEL ","tst101-84idn","FNB",2,"CGASEL200709","2024-12-29",-548,"",null,null,"담배 제조업(12)","C"]
["IPOS2","FAR EROTHMANS AR EA","CGA","200710","KRW",-2500000000,0,0,"2022-12-27","2023-03-31","C13",4160,"002-144839-840",4,"GTE","HSBC","SEL ","tst101-84idn","FNB",2,"CGASEL200710","2024-12-30",-640,"",null,null,"담배 제조업(12)","C"]
["IPOS2","RRIS PHILIP MORIS K","CGA","300010","KRW",-20000000000,0,0,"2023-01-06","2023-02-06","C13",4160,"002-063966-840",3,"GTE","HSBC","SEL ","tst110-81idn","FNI",2,"CGASEL300010","2024-12-31",-694,"",null,null,"담배 제조업(12)","C"]
["IPOS2","RRIS PHILIP MORIS K","CGA","300086","KRW",-8850000000,0,0,"2023-02-10","2023-02-28","C13",4160,"002-063966-840",3,"GTE","HSBC","SEL ","tst110-81idn","FNI",2,"CGASEL300086","2025-01-01",-673,"",null,null,"담배 제조업(12)","C"]
["IPOS2","     HSBC TKY      ","CGA","300126","KRW",-230000000,-230000000,-230000000,"2023-02-27","2039-12-31","BRO",10650,"002-017162-840",0,"   ","HSBC","SEL ","tst0100-0idn","FNI",2,"CGASEL300126","2025-01-02",5476,"",null,null,"금융업(64)","K"]
["IPOS2","     HSBC TKY      ","CGA","300127","KRW",-800000000,-800000000,-800000000,"2023-02-27","2039-12-31","BRO",10650,"002-017162-840",0,"   ","HSBC","SEL ","tst0100-0idn","FNI",2,"CGASEL300127","2025-01-03",5475,"",null,null,"금융업(64)","K"]
["IPOS2","     HSBC TKY      ","CGA","300128","KRW",-350000000,-350000000,-350000000,"2023-02-27","2039-12-31","BRO",10650,"002-017162-840",0,"   ","HSBC","SEL ","tst0100-0idn","FNI",2,"CGASEL300128","2025-01-04",5474,"",null,null,"금융업(64)","K"]
["IPOS2","RRIS PHILIP MORIS K","CGA","300192","KRW",-1425100000,0,0,"2023-04-07","2023-05-22","C13",4160,"002-063966-840",3,"GTE","HSBC","SEL ","tst110-81idn","FNI",2,"CGASEL300192","2025-01-05",-594,"",null,null,"담배 제조업(12)","C"]
["IPOS2"," LTD.DHL KOREALTD. ","CGA","300229","KRW",-4600000000,-4600000000,-4600000000,"2023-05-10","2024-05-29","C13",9630,"002-218875-840",3,"GTE","HSBC","SEL ","tst105-86idn","FNI",2,"CGASEL300229","2025-01-06",-222,22586,null,null,"창고 및 운송관련 서비스업(52)","H"]
["IPOS2","FAR EROTHMANS AR EA","CGA","300308","KRW",-700000000,-700000000,-700000000,"2023-06-27","2023-12-31","C13",4160,"002-144839-840",4,"GTE","HSBC","SEL ","tst101-84idn","FNI",2,"CGASEL300308","2025-01-07",-373,44768,null,null,"담배 제조업(12)","C"]
["IPOS2","H, INEXCEL TEC, INC","CGA","300492","KRW",-200000000,-200000000,-200000000,"2023-09-05","2024-09-03","C13",7510,"002-671364-840",3,"GTE","HSBC","SEL ","tst105-81idn","FNI",2,"CGASEL300492","2025-01-08",-127,"",null,null,"도매 및 상품중개업(46)","G"]
["IPOS2","CTRONARROW ELETRONI","CGA","300494","KRW",-800000000,-800000000,-800000000,"2023-09-04","2024-09-03","C13",7510,"002-701870-840",3,"GTE","HSBC","SEL ","tst116-81idn","FNI",2,"CGASEL300494","2025-01-09",-128,"",null,null,"도매 및 상품중개업(46)","G"]
["IPOS2"," PLC HSBC BANKPLC  ","CGA","800063","KRW",-700000000,-700000000,-700000000,"2018-03-07","2039-12-31","FPO",10650,"002-115288-840",0,"   ","HSBC","SEL ","tst14259-idn","FNI",2,"CGASEL800063","2025-01-10",5468,"",null,null,"금융업(64)","K"]
["IPOS2","AMHO HYUNDAI SMHO H","DC ","100505","USD",-6000000,0,0,"2021-09-29","2021-11-30","C13",4351,"008-028155-831",3,"IMP","HSBC","HKCJ","tst411-81idn","FNI",2,"DC 100505","2025-01-11",-1138,"",null,null,"기타 운송장비 제조업(31)","C"]
["IPOS2"," LTD.TETRA PAKLTD. ","DC ","300273","EUR",-41056000,-41056000,-587196518,"2023-06-08","2023-12-31","C13",7510,"002-149030-840",3,"IMP","COBA","DEFF","tst106-81idn","FNI",2,"DC 300273","2025-01-12",-378,"",null,null,"도매 및 상품중개업(46)","G"]
["IPOS2","ED KOUPL LIMITD KOR","DPC","100483","USD",-3970000,0,0,"2021-09-13","2021-12-31","MFS",4240,"002-218669-831",3,"IMP","BKEZ","JPTB","tst303-81idn","FNI",2,"DPCSEL100483","2025-01-13",-1109,"",null,null,"화학물질 및 화학제품 제조업(의약품 제외)(20)","C"]
["IPOS2","REA CAZELIS KOEA CO","DPC","300231","USD",-3740000,0,0,"2023-05-10","2023-09-07","MFS",7000,"002-118085-831",3,"IMP","CITI","SGSS","tst213-86idn","FNI",2,"DPCSEL300231","2025-01-14",-495,26.896000000000001,null,null,"G_도매 및 소매업","G"]
["IPOS2","REA CAZELIS KOEA CO","DPC","300232","USD",-6240000,0,0,"2023-05-10","2023-09-07","MFS",7000,"002-118085-831",3,"IMP","CITI","SGSS","tst213-86idn","FNI",2,"DPCSEL300232","2025-01-15",-496,40.343999999999994,null,null,"G_도매 및 소매업","G"]
["IPOS2","REA CAZELIS KOEA CO","DPC","300233","USD",-6240000,0,0,"2023-05-10","2023-09-07","MFS",7000,"002-118085-831",3,"IMP","CITI","SGSS","tst213-86idn","FNI",2,"DPCSEL300233","2025-01-16",-497,40.343999999999994,null,null,"G_도매 및 소매업","G"]
["IPOS2","ED KOUPL LIMITD KOR","DPC","300246","USD",-9590000,0,0,"2023-05-17","2023-07-15","MFS",4240,"002-218669-831",3,"IMP","BKEZ","JPAF","tst303-81idn","FNI",2,"DPCSEL300246","2025-01-17",-552,"",null,null,"화학물질 및 화학제품 제조업(의약품 제외)(20)","C"]
["IPOS2","REA CAZELIS KOEA CO","DPC","300264","USD",-7600000,-760000,-10310920,"2023-05-25","2023-09-21","MFS",7000,"002-118085-831",3,"IMP","CITI","SGSS","tst213-86idn","FNI",2,"DPCSEL300264","2025-01-18",-485,53.792000000000002,null,null,"G_도매 및 소매업","G"]
["IPOS2","REA CAZELIS KOEA CO","DPC","300292","USD",-6240000,-624000,-8465808,"2023-06-13","2023-10-10","MFS",7000,"002-118085-831",3,"IMP","CITI","SGSS","tst213-86idn","FNI",2,"DPCSEL300292","2025-01-19",-467,67.239999999999995,null,null,"G_도매 및 소매업","G"]
["IPOS2","REA CAZELIS KOEA CO","DPC","300293","USD",-6240000,-624000,-8465808,"2023-06-13","2023-10-10","MFS",7000,"002-118085-831",3,"IMP","CITI","SGSS","tst213-86idn","FNI",2,"DPCSEL300293","2025-01-20",-468,67.239999999999995,null,null,"G_도매 및 소매업","G"]
["IPOS2","REA CAZELIS KOEA CO","DPC","300294","USD",-6240000,-624000,-8465808,"2023-06-13","2023-10-10","MFS",7000,"002-118085-831",3,"IMP","CITI","SGSS","tst213-86idn","FNI",2,"DPCSEL300294","2025-01-21",-469,67.239999999999995,null,null,"G_도매 및 소매업","G"]
["IPOS2","REA CAZELIS KOEA CO","DPC","300295","USD",-6240000,-624000,-8465808,"2023-06-13","2023-10-10","MFS",7000,"002-118085-831",3,"IMP","CITI","SGSS","tst213-86idn","FNI",2,"DPCSEL300295","2025-01-22",-470,67.239999999999995,null,null,"G_도매 및 소매업","G"]
["IPOS2","REA CAZELIS KOEA CO","DPC","300309","USD",-7600000,-760000,-10310920,"2023-06-27","2023-10-25","MFS",7000,"002-118085-831",3,"IMP","CITI","SGSS","tst213-86idn","FNI",2,"DPCSEL300309","2025-01-23",-456,121.03199999999998,null,null,"G_도매 및 소매업","G"]
["IPOS2","ED KOUPL LIMITD KOR","DPC","300325","USD",-4790000,0,0,"2023-07-11","2023-09-07","MFS",4240,"002-218669-831",3,"IMP","BKEZ","JPTB","tst303-81idn","FNI",2,"DPCSEL300325","2025-01-24",-505,0,null,null,"화학물질 및 화학제품 제조업(의약품 제외)(20)","C"]
["IPOS2","REA CAZELIS KOEA CO","DPC","300339","USD",-5928000,-592800,-8042518,"2023-07-17","2023-11-14","MFS",7000,"002-118085-831",3,"IMP","CITI","HKCT","tst213-86idn","FNI",2,"DPCSEL300339","2025-01-25",-438,134.47999999999999,null,null,"G_도매 및 소매업","G"]
["IPOS2","REA CAZELIS KOEA CO","DPC","300341","USD",-5928000,-592800,-8042518,"2023-07-18","2023-11-15","MFS",7000,"002-118085-831",3,"IMP","CITI","HKAE","tst213-86idn","FNI",2,"DPCSEL300341","2025-01-26",-438,1438.9360000000001,null,null,"G_도매 및 소매업","G"]
["IPOS2","REA CAZELIS KOEA CO","DPC","300404","USD",-3420000,-342000,-4639914,"2023-08-03","2023-11-30","MFS",7000,"002-118085-831",3,"IMP","CITI","HKAE","tst213-86idn","FNI",2,"DPCSEL300404","2025-01-27",-424,94.13600000000001,null,null,"G_도매 및 소매업","G"]
["IPOS2","REA CAZELIS KOEA CO","DPC","300413","USD",-5928000,-592800,-8042518,"2023-08-11","2023-12-09","MFS",7000,"002-118085-831",3,"IMP","CITI","HKAE","tst213-86idn","FNI",2,"DPCSEL300413","2025-01-28",-416,1882.72,null,null,"G_도매 및 소매업","G"]
["IPOS2","REA CAZELIS KOEA CO","DPC","300414","USD",-5928000,-592800,-8042518,"2023-08-11","2023-12-09","MFS",7000,"002-118085-831",3,"IMP","CITI","HKAE","tst213-86idn","FNI",2,"DPCSEL300414","2025-01-29",-417,1882.72,null,null,"G_도매 및 소매업","G"]
["IPOS2","REA CAZELIS KOEA CO","DPC","300415","USD",-5928000,-592800,-8042518,"2023-08-11","2023-12-09","MFS",7000,"002-118085-831",3,"IMP","CITI","HKAE","tst213-86idn","FNI",2,"DPCSEL300415","2025-01-30",-418,1882.72,null,null,"G_도매 및 소매업","G"]
["IPOS2","REA CAZELIS KOEA CO","DPC","300496","USD",-6080000,-6688000,-90736096,"2023-09-06","2024-01-04","MFS",7000,"002-118085-831",3,"   ","CITI","HKAE","tst213-86idn","FNI",2,"DPCSEL300496","2025-01-31",-393,"",null,null,"G_도매 및 소매업","G"]
["IPOS2","REA CAZELIS KOEA CO","DPC","300497","USD",-5400000,-5940000,-80587980,"2023-09-06","2024-01-04","MFS",7000,"002-118085-831",3,"IMP","CITI","SGSG","tst213-86idn","FNI",2,"DPCSEL300497","2025-02-01",-394,"",null,null,"G_도매 및 소매업","G"]
["IPOS2","REA CAZELIS KOEA CO","DPC","300498","USD",-6080000,-6688000,-90736096,"2023-09-06","2024-01-04","MFS",7000,"002-118085-831",3,"IMP","CITI","HKAE","tst213-86idn","FNI",2,"DPCSEL300498","2025-02-02",-395,"",null,null,"G_도매 및 소매업","G"]
["IPOS2","REA CAZELIS KOEA CO","DPC","300499","USD",-5928000,-6520800,-88467694,"2023-09-06","2024-01-04","MFS",7000,"002-118085-831",3,"IMP","CITI","HKAE","tst213-86idn","FNI",2,"DPCSEL300499","2025-02-03",-396,"",null,null,"G_도매 및 소매업","G"]
["IPOS2","REA CAZELIS KOEA CO","DPC","300513","USD",-5928000,-6520800,-88467694,"2023-09-20","2024-01-18","MFS",7000,"002-118085-831",3,"IMP","CITI","HKAE","tst213-86idn","FNI",2,"DPCSEL300513","2025-02-04",-383,"",null,null,"G_도매 및 소매업","G"]
["IPOS2","REA CAZELIS KOEA CO","DPC","300535","USD",-5460000,-6006000,-81483402,"2023-10-19","2024-02-13","MFS",7000,"002-118085-831",3,"IMP","CITI","HKAE","tst213-86idn","FNI",2,"DPCSEL300535","2025-02-05",-358,"",null,null,"G_도매 및 소매업","G"]
["IPOS2","ONG KGC-HSBC HNG KO","FNG","178","KRW",-449000000,0,0,"2020-04-02","2021-03-30","BRO",10650,"002-500801-840",0,"   ","HSBC","SEL ","tst026387idn","FNI",2,"FNG178","2025-02-06",-1409,"",null,null,"금융업(64)","K"]
["IPOS2"," EGYPHSBC BANKEGYPT","FNG","70053","USD",-2500000000,-2500000000,-33917500000,"2015-10-26","2024-06-15","FPO",10650,"002-003402-840",0,"   ","HSBC","SEL ","tst218992idn","FNI",2,"FNG70053","2025-02-07",-237,"",null,null,"금융업(64)","K"]
["IPOS2"," SEA DSV AIR &SEA L","FNG","98183","KRW",-1,0,0,"2016-06-29","2017-06-29","C13",9630,"002-085787-840",3,"GTE","HSBC","SEL ","tst109-81idn","FNI",2,"FNG98183","2025-02-08",-2781,"",null,null,"창고 및 운송관련 서비스업(52)","H"]
["IPOS2","ONG ATHE HONGKNG AN","FNG","100017","KRW",-1,0,0,"2021-01-12","2021-02-16","BRO",10650,"002-703827-840",0,"   ","HSBC","SEL ","tstS16FC0idn","FNI",2,"FNG100017","2025-02-09",-1454,"",null,null,"금융업(64)","K"]
["IPOS2","ONG ATHE HONGKNG AN","FNG","100075","KRW",-1,0,0,"2021-02-15","2021-03-19","BRO",10650,"002-703827-840",0,"   ","HSBC","SEL ","tstS16FC0idn","FNI",2,"FNG100075","2025-02-10",-1424,"",null,null,"금융업(64)","K"]
["IPOS2","ONG ATHE HONGKNG AN","FNG","100076","KRW",-1,0,0,"2021-02-15","2021-03-19","BRO",10650,"002-703827-840",0,"   ","HSBC","SEL ","tstS16FC0idn","FNI",2,"FNG100076","2025-02-11",-1425,"",null,null,"금융업(64)","K"]
["IPOS2","ONG ATHE HONGKNG AN","FNG","100078","KRW",-1,0,0,"2021-02-15","2021-03-19","BRO",10650,"002-703827-840",0,"   ","HSBC","SEL ","tstS16FC0idn","FNI",2,"FNG100078","2025-02-12",-1426,"",null,null,"금융업(64)","K"]
["IPOS2","ONG ATHE HONGKNG AN","FNG","100079","KRW",-1,0,0,"2021-02-15","2021-03-19","BRO",10650,"002-703827-840",0,"   ","HSBC","SEL ","tstS16FC0idn","FNI",2,"FNG100079","2025-02-13",-1427,"",null,null,"금융업(64)","K"]
["IPOS2","ONG ATHE HONGKNG AN","FNG","100080","KRW",-1,0,0,"2021-02-15","2021-03-19","BRO",10650,"002-703827-840",0,"   ","HSBC","SEL ","tstS16FC0idn","FNI",2,"FNG100080","2025-02-14",-1428,"",null,null,"금융업(64)","K"]
["IPOS2","INENTHSBC CONTNENTA","FNG","100241","KRW",-36319944,-36319944,-36319944,"2021-05-14","2039-12-31","FPO",10650,"002-125024-840",0,"   ","HSBC","SEL ","tstHRB969idn","FNI",2,"FNG100241","2025-02-15",5432,"",null,null,"금융업(64)","K"]
["IPOS2","ONG ATHE HONGKNG AN","FNG","100383","KRW",-1200000,-1200000,-1200000,"2021-07-19","2025-07-31","BRO",10650,"002-703827-840",0,"   ","HSBC","SEL ","tstS16FC0idn","FNI",2,"FNG100383","2025-02-16",165,"",null,null,"금융업(64)","K"]
["IPOS2","ONG ATHE HONGKNG AN","FNG","100440","KRW",-11600000,0,0,"2021-08-20","2022-08-09","BRO",10650,"002-703827-840",0,"   ","HSBC","SEL ","tstS16FC0idn","FNI",2,"FNG100440","2025-02-17",-923,"",null,null,"금융업(64)","K"]
["IPOS2"," CANAHSBC BANKCANAD","FNG","150284","KRW",-20000000,0,0,"2016-07-05","2021-05-29","FPO",10650,"002-703522-840",0,"   ","HSBC","SEL ","tst89158 idn","FNI",2,"FNG150284","2025-02-18",-1361,"",null,null,"금융업(64)","K"]
["IPOS2","ONG ATHE HONGKNG AN","FNG","200042","KRW",-2458600000,-2458600000,-2458600000,"2022-02-11","2024-09-27","BRO",10650,"002-703827-840",0,"   ","HSBC","SEL ","tstS16FC0idn","FNI",2,"FNG200042","2025-02-19",-145,"",null,null,"금융업(64)","K"]
["IPOS2","INENTHSBC CONTNENTA","FNG","200236","KRW",-1000000000,0,0,"2022-05-23","2023-09-29","FPO",10650,"002-546202-840",0,"   ","HSBC","SEL ","tst775 67idn","FNI",2,"FNG200236","2025-02-20",-510,"",null,null,"금융업(64)","K"]
["IPOS2","REA CGEODIS KOEA CO","FNG","200675","KRW",-2084800000,-2084800000,-2084800000,"2022-11-30","2024-03-28","C13",9620,"002-468529-840",3,"GTE","HSBC","SEL ","tst211-84idn","FNI",2,"FNG200675","2025-02-21",-330,"",null,null,"항공운송업(51)","H"]
["IPOS2","VACANCLUB MED ACANC","FNG","300301","KRW",-500000000,-500000000,-500000000,"2023-06-26","2024-09-27","MFS",9630,"002-706277-840",3,"GTE","HSBC","SEL ","tst104-81idn","FNI",2,"FNG300301","2025-02-22",-148,"",null,null,"창고 및 운송관련 서비스업(52)","H"]
["IPOS2","OGISTBOLLORE LGISTI","FNG","300304","KRW",-2000000000,-2000000000,-2000000000,"2023-06-26","2024-09-27","C13",9630,"002-353078-840",3,"GTE","HSBC","SEL ","tst105-81idn","FNI",2,"FNG300304","2025-02-23",-149,"",null,null,"창고 및 운송관련 서비스업(52)","H"]
["IPOS2","RS COSQDA MOTOS CO.","FNG","300338","KRW",-840378525,-840378525,-840378525,"2023-07-17","2024-05-31","C13",7500,"002-390997-840",3,"GTE","HSBC","SEL ","tst233-87idn","FNI",2,"FNG300338","2025-02-24",-269,"",null,null,"자동차 및 부품 판매업(45)","G"]
["IPOS2"," USA,HSBC BANKUSA, ","FNG","700523","KRW",-6000000000,-6000000000,-6000000000,"2017-12-21","2024-03-23","FPO",10650,"002-551730-840",0,"   ","HSBC","SEL ","tst20-117idn","FNI",2,"FNG700523","2025-02-25",-339,"",null,null,"금융업(64)","K"]
["IPOS2","ONG KGC-HSBC HNG KO","FNG","800056","KRW",-10000000000,-10000000000,-10000000000,"2018-02-28","2024-06-27","BRO",10650,"002-500801-840",0,"   ","HSBC","SEL ","tst026387idn","FNI",2,"FNG800056","2025-02-26",-244,"",null,null,"금융업(64)","K"]
["IPOS2","DUSTRVEOLIA INUSTRI","PEB","31","KRW",-27020300,0,0,"2020-02-04","2021-01-31","C13",5410,"002-705155-840",3,"GTE","HSBC","SEL ","tst126-81idn","FNI",2,"PEBSEL000031","2025-02-27",-1488,"",null,null,"수도사업(36)","D"]
["IPOS2","K CO.BUSAN BAN CO.,","PEB","48","USD",-1434314,0,0,"2020-02-11","2021-03-13","BE1",10650,"002-060806-840",3,"   ","HBMB","BNM ","tst604-81idn","FNI",2,"PEBSEL000048","2025-02-28",-1448,"",null,null,"금융업(64)","K"]
["IPOS2","CAL EIMI CRITIAL EN","PEB","56","KRW",-141900000,0,0,"2020-02-18","2021-11-29","C13",4310,"002-097164-840",3,"GTE","HSBC","SEL ","tst136-81idn","FNI",2,"PEBSEL000056","2025-03-01",-1188,"",null,null,"전기장비 제조업(28)","C"]
["IPOS2"," USA,HSBC BANKUSA, ","PEB","64","USD",-11400000,0,0,"2020-02-20","2022-09-09","FPO",10650,"002-551730-840",0,"   ","HSBC","SEL ","tst20-117idn","FNI",2,"PEBSEL000064","2025-03-02",-905,"",null,null,"금융업(64)","K"]
["IPOS2"," PLC HSBC BANKPLC  ","PEB","70","USD",-6084570,0,0,"2020-02-20","2021-06-27","FPO",10650,"002-115288-840",0,"   ","HSBC","SEL ","tst14259-idn","FNI",2,"PEBSEL000070","2025-03-03",-1345,"",null,null,"금융업(64)","K"]
["IPOS2"," PLC HSBC BANKPLC  ","PEB","87","USD",-2239610,0,0,"2020-03-10","2021-08-21","FPO",10650,"002-115288-840",0,"   ","HSBC","SEL ","tst14259-idn","FNI",2,"PEBSEL000087","2025-03-04",-1291,"",null,null,"금융업(64)","K"]
["IPOS2","CA KOASTRAZENEA KOR","PEB","88","KRW",-16700853717,-16700853717,-16700853717,"2020-03-05","2024-11-30","C13",7510,"002-010464-840",3,"GTE","HSBC","SEL ","tst214-81idn","FNI",2,"PEBSEL000088","2025-03-05",-95,109636,null,null,"도매 및 상품중개업(46)","G"]
["IPOS2","NT COSK ECOPLAT CO.","PEB","97","KRW",-726207944,0,0,"2020-03-11","2022-03-01","C13",6450,"002-239871-840",3,"GTE","KOAB","KRSL","tst101-81idn","FNI",2,"PEBSEL000097","2025-03-06",-1101,"",null,null,"종합건설업(41)","F"]
["IPOS2","NT COSK ECOPLAT CO.","PEB","99","USD",-98845000,0,0,"2020-03-11","2022-03-01","C13",6450,"002-239871-840",3,"GTE","MERT","FIIL","tst101-81idn","FNI",2,"PEBSEL000099","2025-03-07",-1102,"",null,null,"종합건설업(41)","F"]
["IPOS2","NT COSK ECOPLAT CO.","PEB","100","EUR",-76765000,0,0,"2020-03-11","2022-03-01","C13",6450,"002-239871-840",3,"GTE","MERT","FIKF","tst101-81idn","FNI",2,"PEBSEL000100","2025-03-08",-1103,"",null,null,"종합건설업(41)","F"]
["IPOS2","ANK CSHINHAN BNK CO","PEB","102","USD",-1970400,0,0,"2020-03-11","2021-07-20","BE1",10650,"002-061061-840",3,"   ","HSBC","DAK ","tst202-81idn","FNI",2,"PEBSEL000102","2025-03-09",-1328,"",null,null,"금융업(64)","K"]
["IPOS2","DUSTRVEOLIA INUSTRI","PEB","104","KRW",-174625200,0,0,"2020-03-18","2021-02-28","C13",5410,"002-705155-840",3,"GTE","HSBC","SEL ","tst126-81idn","FNI",2,"PEBSEL000104","2025-03-10",-1471,"",null,null,"수도사업(36)","D"]
["IPOS2","DUSTRVEOLIA INUSTRI","PEB","128","KRW",-1769620500,0,0,"2020-03-17","2023-02-28","C13",5410,"002-705155-840",3,"GTE","HSBC","SEL ","tst126-81idn","FNI",2,"PEBSEL000128","2025-03-11",-742,"",null,null,"수도사업(36)","D"]
["IPOS2"," DEVETHE KOREADEVEL","PEB","129","USD",-1,0,0,"2020-03-19","2022-02-22","BK6",10650,"002-060962-840",3,"   ","HBEG","ALXT","tst101-82idn","FNI",2,"PEBSEL000129","2025-03-12",-1114,"",null,null,"금융업(64)","K"]
["IPOS2","DUSTRVEOLIA INUSTRI","PEB","130","KRW",-125659200,0,0,"2020-03-18","2021-02-28","C13",5410,"002-705155-840",3,"GTE","HSBC","SEL ","tst126-81idn","FNI",2,"PEBSEL000130","2025-03-13",-1474,"",null,null,"수도사업(36)","D"]
["IPOS2","DUSTRVEOLIA INUSTRI","PEB","133","KRW",-152964000,0,0,"2020-03-18","2021-02-28","C13",5410,"002-705155-840",3,"GTE","HSBC","SEL ","tst126-81idn","FNI",2,"PEBSEL000133","2025-03-14",-1475,"",null,null,"수도사업(36)","D"]
["IPOS2","DUSTRVEOLIA INUSTRI","PEB","135","KRW",-182234400,0,0,"2020-03-18","2021-02-28","C13",5410,"002-705155-840",3,"GTE","HSBC","SEL ","tst126-81idn","FNI",2,"PEBSEL000135","2025-03-15",-1476,"",null,null,"수도사업(36)","D"]
["IPOS2","REA CGEODIS KOEA CO","PEB","140","KRW",-130000000,0,0,"2020-03-24","2021-01-31","C13",9620,"002-468529-840",3,"GTE","HSBC","SEL ","tst211-84idn","FNI",2,"PEBSEL000140","2025-03-16",-1505,"",null,null,"항공운송업(51)","H"]
["IPOS2","REA LNEXANS KOEA LT","PEB","142","USD",-1642062,-1642062,-22277855,"2020-03-25","2025-03-10","C13",4310,"002-707538-840",4,"GTE","HSBC","SEL ","tst127-81idn","FNI",2,"PEBSEL000142","2025-03-17",-7,2514.7759999999998,null,null,"전기장비 제조업(28)","C"]
["IPOS2","Y (ALGE COMPAN (ALO","PEB","146","EUR",-14904500,0,0,"2020-03-25","2023-03-10","C11",4320,"002-705913-840",3,"GTE","HSBC","SEL ","tst14-068idn","FNI",2,"PEBSEL000146","2025-03-18",-739,"",null,null,"전자부품, 컴퓨터, 영상, 음향 및 통신장비 제조업(26)","C"]
["IPOS2","LECTRKUKDONG EECTRI","PEB","170","USD",-3584385,0,0,"2020-03-26","2023-04-19","C13",4310,"002-704840-840",3,"GTE","HSBC","SEL ","tst301-81idn","FNI",2,"PEBSEL000170","2025-03-19",-700,"",null,null,"전기장비 제조업(28)","C"]
["IPOS2","DUSTRVEOLIA INUSTRI","PEB","175","KRW",-20664648,0,0,"2020-03-31","2021-12-31","C13",5410,"002-705155-840",3,"GTE","HSBC","SEL ","tst126-81idn","FNI",2,"PEBSEL000175","2025-03-20",-1175,"",null,null,"수도사업(36)","D"]
["IPOS2","DUSTRVEOLIA INUSTRI","PEB","176","KRW",-40640800,0,0,"2020-03-31","2022-02-28","C13",5410,"002-705155-840",3,"GTE","HSBC","SEL ","tst126-81idn","FNI",2,"PEBSEL000176","2025-03-21",-1117,"",null,null,"수도사업(36)","D"]
["IPOS2","ONG ATHE HONGKNG AN","PEB","187","KRW",-403418880,-403418880,-403418880,"2020-04-14","2024-12-17","BRO",10650,"002-703827-840",0,"   ","HSBC","SEL ","tstS16FC0idn","FNI",2,"PEBSEL000187","2025-03-22",-95,"",null,null,"금융업(64)","K"]
["IPOS2","DUSTRVEOLIA INUSTRI","PEB","195","KRW",-274347745,0,0,"2020-04-17","2021-02-28","C13",5410,"002-705155-840",3,"GTE","HSBC","SEL ","tst126-81idn","FNI",2,"PEBSEL000195","2025-03-23",-1484,"",null,null,"수도사업(36)","D"]
["IPOS2","NGINESAMSUNG EGINEE","PEB","196","USD",-25000000,0,0,"2020-04-17","2023-03-28","C13",6450,"002-016229-840",3,"GTE","HBMB","MYAG","tst120-81idn","FNI",2,"PEBSEL000196","2025-03-24",-727,"",null,null,"종합건설업(41)","F"]
["IPOS2","DUSTRVEOLIA INUSTRI","PEB","197","KRW",-44256846,0,0,"2020-04-17","2021-02-28","C13",5410,"002-705155-840",3,"GTE","HSBC","SEL ","tst126-81idn","FNI",2,"PEBSEL000197","2025-03-25",-1486,"",null,null,"수도사업(36)","D"]
["IPOS2","L INCM2 DIGITA INC.","PEB","208","KRW",-250000000,0,0,"2020-04-23","2021-01-31","C13",11740,"002-074023-840",3,"GTE","HSBC","SEL ","tst102-81idn","FNI",2,"PEBSEL000208","2025-03-26",-1515,"",null,null,"   사업지원서비스업(75)","M"]
["IPOS2","REA LNEXANS KOEA LT","PEB","210","USD",-364500,-364500,-4945172,"2020-04-27","2025-04-26","C13",4310,"002-707538-840",4,"GTE","HSBC","SEL ","tst127-81idn","FNI",2,"PEBSEL000210","2025-03-27",30,564.81600000000003,null,null,"전기장비 제조업(28)","C"]
["IPOS2","LECTRKUKDONG EECTRI","PEB","212","USD",-5347187,0,0,"2020-04-29","2023-06-22","C13",4310,"002-704840-840",3,"GTE","HSBC","SEL ","tst301-81idn","FNI",2,"PEBSEL000212","2025-03-28",-645,"",null,null,"전기장비 제조업(28)","C"]
["IPOS2","LECTRKUKDONG EECTRI","PEB","214","USD",-10084051,0,0,"2020-04-29","2023-06-22","C13",4310,"002-704840-840",3,"GTE","HSBC","SEL ","tst301-81idn","FNI",2,"PEBSEL000214","2025-03-29",-646,"",null,null,"전기장비 제조업(28)","C"]
["IPOS2"," INC.IBM KOREAINC. ","PEB","217","KRW",-1650098467,-1650098467,-1650098467,"2020-05-04","2025-05-31","C23",11720,"002-015613-840",3,"GTE","HSBC","SEL ","tst116-81idn","FNI",2,"PEBSEL000217","2025-03-30",62,25179,null,null,"컴퓨터 프로그래밍, 시스템 통합 및 관리업(62)","J"]
["IPOS2"," KOREDECATHLONKOREA","PEB","220","KRW",-230000000,0,0,"2020-05-06","2021-05-05","C13",7520,"002-866946-840",4,"GTE","HSBC","SEL ","tst220-81idn","FNI",2,"PEBSEL000220","2025-03-31",-1426,"",null,null,"소매업(자동차 제외)(47)","G"]
["IPOS2"," USA,HSBC BANKUSA, ","PEB","221","USD",-9242200,0,0,"2020-05-06","2021-10-19","FPO",10650,"002-551730-840",0,"   ","HSBC","SEL ","tst20-117idn","FNI",2,"PEBSEL000221","2025-04-01",-1260,"",null,null,"금융업(64)","K"]
["IPOS2","INENTHSBC CONTNENTA","PEB","222","KRW",-510000000,0,0,"2020-05-06","2022-06-12","FPO",10650,"002-125024-840",0,"   ","HSBC","SEL ","tstHRB969idn","FNI",2,"PEBSEL000222","2025-04-02",-1025,"",null,null,"금융업(64)","K"]
["IPOS2","CAL EIMI CRITIAL EN","PEB","224","USD",-606700,-606700,-8231099,"2020-05-08","2024-04-03","C13",4310,"002-097164-840",3,"GTE","HSBC","SEL ","tst136-81idn","FNI",2,"PEBSEL000224","2025-04-03",-365,376.54400000000004,null,null,"전기장비 제조업(28)","C"]
["IPOS2"," USA,HSBC BANKUSA, ","PEB","230","USD",-1976000,0,0,"2020-05-18","2021-12-06","FPO",10650,"002-551730-840",0,"   ","HSBC","SEL ","tst20-117idn","FNI",2,"PEBSEL000230","2025-04-04",-1215,"",null,null,"금융업(64)","K"]
["IPOS2"," USA,HSBC BANKUSA, ","PEB","242","USD",-3487216,0,0,"2020-05-21","2021-10-20","FPO",10650,"002-551730-840",0,"   ","HSBC","SEL ","tst20-117idn","FNI",2,"PEBSEL000242","2025-04-05",-1263,"",null,null,"금융업(64)","K"]
["IPOS2"," KOREDECATHLONKOREA","PEB","253","KRW",-375000000,0,0,"2020-05-27","2021-05-26","C13",7520,"002-866946-840",4,"GTE","HSBC","SEL ","tst220-81idn","FNI",2,"PEBSEL000253","2025-04-06",-1411,"",null,null,"소매업(자동차 제외)(47)","G"]
["IPOS2","ONG ATHE HONGKNG AN","PEB","258","KRW",-1550345600,-1550345600,-1550345600,"2020-06-01","2024-05-30","BRO",10650,"002-703827-840",0,"   ","HSBC","SEL ","tstS16FC0idn","FNI",2,"PEBSEL000258","2025-04-07",-312,"",null,null,"금융업(64)","K"]
["IPOS2","DUSTRVEOLIA INUSTRI","PEB","259","KRW",-221929252,0,0,"2020-06-02","2022-07-31","C13",5410,"002-705155-840",3,"GTE","HSBC","SEL ","tst126-81idn","FNI",2,"PEBSEL000259","2025-04-08",-982,"",null,null,"수도사업(36)","D"]
["IPOS2"," MALAHSBC BANKMALAY","PEB","263","EUR",-1987070,0,0,"2020-06-04","2021-02-28","GPO",10650,"002-706764-840",0,"   ","HSBC","SEL ","tst 12777idn","FNI",2,"PEBSEL000263","2025-04-09",-1501,"",null,null,"금융업(64)","K"]
["IPOS2","ONG ATHE HONGKNG AN","PEB","275","KRW",-1,0,0,"2020-06-16","2021-05-19","BRO",10650,"002-703827-840",0,"   ","HSBC","SEL ","tstS16FC0idn","FNI",2,"PEBSEL000275","2025-04-10",-1422,"",null,null,"금융업(64)","K"]
["IPOS2","ONG ATHE HONGKNG AN","PEB","276","KRW",-772845000,-772845000,-772845000,"2020-06-16","2024-12-17","BRO",10650,"002-703827-840",0,"   ","HSBC","SEL ","tstS16FC0idn","FNI",2,"PEBSEL000276","2025-04-11",-115,"",null,null,"금융업(64)","K"]
["IPOS2","ONG ATHE HONGKNG AN","PEB","281","KRW",-155814600,-155814600,-155814600,"2020-06-17","2024-12-17","BRO",10650,"002-703827-840",0,"   ","HSBC","SEL ","tstS16FC0idn","FNI",2,"PEBSEL000281","2025-04-12",-116,"",null,null,"금융업(64)","K"]
["IPOS2","ONG ATHE HONGKNG AN","PEB","282","KRW",-1,0,0,"2020-06-17","2021-11-27","BRO",10650,"002-703827-840",0,"   ","HSBC","SEL ","tstS16FC0idn","FNI",2,"PEBSEL000282","2025-04-13",-1233,"",null,null,"금융업(64)","K"]
["IPOS2","Y (ALGE COMPAN (ALO","PEB","295","USD",-496739,0,0,"2020-06-24","2021-11-30","C11",4320,"002-705913-840",3,"GTE","HSBC","SEL ","tst14-068idn","FNI",2,"PEBSEL000295","2025-04-14",-1231,"",null,null,"전자부품, 컴퓨터, 영상, 음향 및 통신장비 제조업(26)","C"]
["IPOS2","Y (ALGE COMPAN (ALO","PEB","302","USD",-13724500,0,0,"2020-06-25","2021-02-28","C11",4320,"002-705913-840",3,"GTE","HSBC","SEL ","tst14-068idn","FNI",2,"PEBSEL000302","2025-04-15",-1507,"",null,null,"전자부품, 컴퓨터, 영상, 음향 및 통신장비 제조업(26)","C"]
["IPOS2","ONG ATHE HONGKNG AN","PEB","312","USD",-2850000,0,0,"2020-07-07","2021-02-15","BRO",10650,"002-703827-840",0,"   ","HSBC","SEL ","tstS16FC0idn","FNI",2,"PEBSEL000312","2025-04-16",-1521,"",null,null,"금융업(64)","K"]
["IPOS2"," USA,HSBC BANKUSA, ","PEB","313","USD",-6752104,0,0,"2020-07-08","2021-12-30","FPO",10650,"002-551730-840",0,"   ","HSBC","SEL ","tst20-117idn","FNI",2,"PEBSEL000313","2025-04-17",-1204,"",null,null,"금융업(64)","K"]
["IPOS2"," USA,HSBC BANKUSA, ","PEB","316","USD",-5985216,0,0,"2020-07-07","2021-12-18","FPO",10650,"002-551730-840",0,"   ","HSBC","SEL ","tst20-117idn","FNI",2,"PEBSEL000316","2025-04-18",-1217,"",null,null,"금융업(64)","K"]
["IPOS2"," USA,HSBC BANKUSA, ","PEB","317","USD",-566304,0,0,"2020-07-08","2021-12-14","FPO",10650,"002-551730-840",0,"   ","HSBC","SEL ","tst20-117idn","FNI",2,"PEBSEL000317","2025-04-19",-1222,"",null,null,"금융업(64)","K"]
["IPOS2","ANK CSHINHAN BNK CO","PEB","337","USD",-5320800,0,0,"2020-07-24","2021-07-26","BE1",10650,"002-061061-840",3,"   ","HSBC","DAK ","tst202-81idn","FNI",2,"PEBSEL000337","2025-04-20",-1364,"",null,null,"금융업(64)","K"]
["IPOS2","ILANDHSBC (THALAND ","PEB","346","USD",-163000,0,0,"2020-08-13","2023-10-12","BRO",10650,"002-004235-840",0,"   ","HSBC","SEL ","tst 11606idn","FNI",2,"PEBSEL000346","2025-04-21",-557,"",null,null,"금융업(64)","K"]
["IPOS2","CAL EIMI CRITIAL EN","PEB","348","KRW",-159594600,0,0,"2020-08-13","2022-01-19","C13",4310,"002-097164-840",3,"GTE","HSBC","SEL ","tst136-81idn","FNI",2,"PEBSEL000348","2025-04-22",-1189,"",null,null,"전기장비 제조업(28)","C"]
["IPOS2"," USA,HSBC BANKUSA, ","PEB","361","USD",-210870,0,0,"2020-08-18","2021-12-10","FPO",10650,"002-551730-840",0,"   ","HSBC","SEL ","tst20-117idn","FNI",2,"PEBSEL000361","2025-04-23",-1230,"",null,null,"금융업(64)","K"]
["IPOS2"," USA,HSBC BANKUSA, ","PEB","362","USD",-1560426,0,0,"2020-08-18","2022-03-16","FPO",10650,"002-551730-840",0,"   ","HSBC","SEL ","tst20-117idn","FNI",2,"PEBSEL000362","2025-04-24",-1135,"",null,null,"금융업(64)","K"]
["IPOS2"," USA,HSBC BANKUSA, ","PEB","363","USD",-5511730,0,0,"2020-08-18","2022-01-30","FPO",10650,"002-551730-840",0,"   ","HSBC","SEL ","tst20-117idn","FNI",2,"PEBSEL000363","2025-04-25",-1181,"",null,null,"금융업(64)","K"]
["IPOS2"," USA,HSBC BANKUSA, ","PEB","364","USD",-1813020,0,0,"2020-08-18","2022-04-05","FPO",10650,"002-551730-840",0,"   ","HSBC","SEL ","tst20-117idn","FNI",2,"PEBSEL000364","2025-04-26",-1117,"",null,null,"금융업(64)","K"]
["IPOS2","Y (ALGE COMPAN (ALO","PEB","366","EUR",-12496560,0,0,"2020-08-19","2023-06-25","C11",4320,"002-705913-840",3,"GTE","HSBC","SEL ","tst14-068idn","FNI",2,"PEBSEL000366","2025-04-27",-672,"",null,null,"전자부품, 컴퓨터, 영상, 음향 및 통신장비 제조업(26)","C"]
["IPOS2","NGINEHYUNDAI EGINEE","PEB","370","HKD",-2748000000,-2748000000,-4763574461,"2020-08-19","2039-12-31","C13",6450,"002-547340-840",3,"GTE","HSBC","HHO ","tst101-81idn","FNI",2,"PEBSEL000370","2025-04-28",5360,72101.748347419154,null,null,"종합건설업(41)","F"]
["IPOS2","Y (ALGE COMPAN (ALO","PEB","400","EUR",-7921575,0,0,"2020-09-03","2021-12-31","C11",4320,"002-705913-840",3,"GTE","HSBC","SEL ","tst14-068idn","FNI",2,"PEBSEL000400","2025-04-29",-1215,"",null,null,"전자부품, 컴퓨터, 영상, 음향 및 통신장비 제조업(26)","C"]
["IPOS2"," MALAHSBC BANKMALAY","PEB","403","USD",-3235000,0,0,"2020-09-03","2023-02-28","GPO",10650,"002-706764-840",0,"   ","HSBC","SEL ","tst 12777idn","FNI",2,"PEBSEL000403","2025-04-30",-792,"",null,null,"금융업(64)","K"]
["IPOS2"," & CHPOSCO ECO& CHA","PEB","406","USD",-589768500,-589768500,-8001389240,"2020-09-04","2026-07-14","C13",6450,"002-094821-840",3,"GTE","HSBC","SEL ","tst506-81idn","FNI",2,"PEBSEL000406","2025-05-01",439,121018.552,null,null,"종합건설업(41)","F"]
["IPOS2"," & CHPOSCO ECO& CHA","PEB","409","PHP",-134732742000,-134732742000,-32136413202,"2020-09-04","2026-07-14","C13",6450,"002-094821-840",3,"GTE","HSBC","MNL ","tst506-81idn","FNI",2,"PEBSEL000409","2025-05-02",438,483952.63224225445,null,null,"종합건설업(41)","F"]
["IPOS2","NT COSK ECOPLAT CO.","PEB","423","USD",-72000000,0,0,"2020-09-09","2021-12-31","C13",6450,"002-239871-840",3,"GTE","HSBC","SEL ","tst101-81idn","FNI",2,"PEBSEL000423","2025-05-03",-1219,"",null,null,"종합건설업(41)","F"]
["IPOS2","ANY LBASF COMPNY LT","PEB","425","KRW",-3209800,0,0,"2020-09-09","2021-03-09","C13",4240,"002-001792-840",3,"GTE","HSBC","SEL ","tst417-81idn","FNI",2,"PEBSEL000425","2025-05-04",-1517,"",null,null,"화학물질 및 화학제품 제조업(의약품 제외)(20)","C"]
["IPOS2","Y (ALGE COMPAN (ALO","PEB","430","GBP",-30775090,0,0,"2020-09-14","2023-02-28","C11",4320,"002-705913-840",3,"GTE","HSBC","SEL ","tst14-068idn","FNI",2,"PEBSEL000430","2025-05-05",-797,"",null,null,"전자부품, 컴퓨터, 영상, 음향 및 통신장비 제조업(26)","C"]
["IPOS2","REA LNEXANS KOEA LT","PEB","435","USD",-5975000,-5975000,-81062825,"2020-09-17","2024-02-15","C13",4310,"002-707538-840",4,"GTE","HBCN","BJG ","tst127-81idn","FNI",2,"PEBSEL000435","2025-05-06",-446,4249.5680000000002,null,null,"전기장비 제조업(28)","C"]
["IPOS2","Y (ALGE COMPAN (ALO","PEB","439","EUR",-4875600,-4875600,-69732447,"2020-09-21","2025-08-23","C11",4320,"002-705913-840",3,"GTE","HSBC","SEL ","tst14-068idn","FNI",2,"PEBSEL000439","2025-05-07",108,1052.0746944,null,null,"전자부품, 컴퓨터, 영상, 음향 및 통신장비 제조업(26)","C"]
["IPOS2"," (CHIHSBC BANK(CHIN","PEB","449","USD",-120000000,0,0,"2020-09-23","2022-09-27","GPO",10650,"002-437748-840",3,"   ","HSBC","SEL ","tst913100idn","FNI",2,"PEBSEL000449","2025-05-08",-954,"",null,null,"금융업(64)","K"]
["IPOS2","M KORPETRO-CHE KORE","PEB","451","KRW",-5157812550,0,0,"2020-09-24","2021-01-31","MFS",4290,"002-242604-840",3,"GTE","HSBC","SEL ","tst107-81idn","FNI",2,"PEBSEL000451","2025-05-09",-1559,"",null,null,"기타 기계 및 장비 제조업(29)","C"]
["IPOS2","Y (ALGE COMPAN (ALO","PEB","455","EUR",-2025750,-2025750,-28972948,"2020-09-28","2024-12-31","C11",4320,"002-705913-840",3,"GTE","KOEX","KRCK","tst14-068idn","FNI",2,"PEBSEL000455","2025-05-10",-130,440.73399359999996,null,null,"전자부품, 컴퓨터, 영상, 음향 및 통신장비 제조업(26)","C"]
["IPOS2","LECTRKUKDONG EECTRI","PEB","463","USD",-2000000,0,0,"2020-10-06","2023-09-15","C13",4310,"002-704840-840",3,"GTE","ICBC","TWKS","tst301-81idn","FNI",2,"PEBSEL000463","2025-05-11",-604,134.47999999999999,null,null,"전기장비 제조업(28)","C"]
["IPOS2"," USA,HSBC BANKUSA, ","PEB","473","USD",-2187504,0,0,"2020-10-08","2022-03-25","FPO",10650,"002-551730-840",0,"   ","HSBC","SEL ","tst20-117idn","FNI",2,"PEBSEL000473","2025-05-12",-1144,"",null,null,"금융업(64)","K"]
["IPOS2"," USA,HSBC BANKUSA, ","PEB","474","USD",-3267644,0,0,"2020-10-08","2022-03-25","FPO",10650,"002-551730-840",0,"   ","HSBC","SEL ","tst20-117idn","FNI",2,"PEBSEL000474","2025-05-13",-1145,"",null,null,"금융업(64)","K"]
["IPOS2"," USA,HSBC BANKUSA, ","PEB","478","USD",-2619314,0,0,"2020-10-08","2022-01-15","FPO",10650,"002-551730-840",0,"   ","HSBC","SEL ","tst20-117idn","FNI",2,"PEBSEL000478","2025-05-14",-1215,"",null,null,"금융업(64)","K"]
["IPOS2","Y (ALGE COMPAN (ALO","PEB","483","USD",-13220,0,0,"2020-10-13","2022-08-31","C11",4320,"002-705913-840",3,"GTE","HSBC","SEL ","tst14-068idn","FNI",2,"PEBSEL000483","2025-05-15",-988,"",null,null,"전자부품, 컴퓨터, 영상, 음향 및 통신장비 제조업(26)","C"]
["IPOS2","ONG ATHE HONGKNG AN","PEB","487","USD",-487350,0,0,"2020-10-12","2021-03-17","BRO",10650,"002-703827-840",0,"   ","NACF","KRSE","tstS16FC0idn","FNI",2,"PEBSEL000487","2025-05-16",-1521,"",null,null,"금융업(64)","K"]
["IPOS2","Y (ALGE COMPAN (ALO","PEB","488","USD",-3751058,0,0,"2020-10-13","2022-05-31","C11",4320,"002-705913-840",3,"GTE","HSBC","SEL ","tst14-068idn","FNI",2,"PEBSEL000488","2025-05-17",-1082,"",null,null,"전자부품, 컴퓨터, 영상, 음향 및 통신장비 제조업(26)","C"]
["IPOS2","Y (ALGE COMPAN (ALO","PEB","490","EUR",-4875600,0,0,"2020-10-13","2022-09-30","C11",4320,"002-705913-840",3,"GTE","HSBC","SEL ","tst14-068idn","FNI",2,"PEBSEL000490","2025-05-18",-961,"",null,null,"전자부품, 컴퓨터, 영상, 음향 및 통신장비 제조업(26)","C"]
["IPOS2","ONG ATHE HONGKNG AN","PEB","496","USD",-2598400,0,0,"2020-10-14","2021-03-17","BRO",10650,"002-703827-840",0,"   ","NACF","KRSO","tstS16FC0idn","FNI",2,"PEBSEL000496","2025-05-19",-1524,"",null,null,"금융업(64)","K"]
["IPOS2","ANY LBASF COMPNY LT","PEB","504","EUR",-498600,0,0,"2020-10-19","2021-03-05","C13",4240,"002-001792-840",3,"GTE","HSBC","SEL ","tst417-81idn","FNI",2,"PEBSEL000504","2025-05-20",-1537,"",null,null,"화학물질 및 화학제품 제조업(의약품 제외)(20)","C"]
["IPOS2","LECTRKUKDONG EECTRI","PEB","505","USD",-5222700,-5222700,-70856371,"2020-10-20","2023-12-07","C13",4310,"002-704840-840",3,"GTE","HSBC","SEL ","tst301-81idn","FNI",2,"PEBSEL000505","2025-05-21",-531,2178.576,null,null,"전기장비 제조업(28)","C"]
["IPOS2","Y (ALGE COMPAN (ALO","PEB","507","USD",-386536,0,0,"2020-10-21","2022-08-07","C11",4320,"002-705913-840",3,"GTE","HSBC","SEL ","tst14-068idn","FNI",2,"PEBSEL000507","2025-05-22",-1019,"",null,null,"전자부품, 컴퓨터, 영상, 음향 및 통신장비 제조업(26)","C"]
["IPOS2","Y (ALGE COMPAN (ALO","PEB","508","USD",-1521957,0,0,"2020-10-21","2022-08-22","C11",4320,"002-705913-840",3,"GTE","HSBC","SEL ","tst14-068idn","FNI",2,"PEBSEL000508","2025-05-23",-1005,"",null,null,"전자부품, 컴퓨터, 영상, 음향 및 통신장비 제조업(26)","C"]
["IPOS2"," DEVETHE KOREADEVEL","PEB","509","USD",-1,0,0,"2020-10-22","2022-02-22","BK6",10650,"002-060962-840",3,"   ","HBEG","CAO ","tst101-82idn","FNI",2,"PEBSEL000509","2025-05-24",-1187,"",null,null,"금융업(64)","K"]
["IPOS2","ONG ATHE HONGKNG AN","PEB","510","KRW",-1027156000,-1027156000,-1027156000,"2020-10-22","2024-10-06","BRO",10650,"002-703827-840",0,"   ","HSBC","SEL ","tstS16FC0idn","FNI",2,"PEBSEL000510","2025-05-25",-231,"",null,null,"금융업(64)","K"]
["IPOS2","A BR)HSBC(INDI BR) ","PEB","525","USD",-4558600,-4558600,-61846526,"2020-10-27","2024-10-30","BRO",10650,"002-706707-840",0,"   ","HSBC","SEL ","tst F0094idn","FNI",2,"PEBSEL000525","2025-05-26",-208,"",null,null,"금융업(64)","K"]
["IPOS2","INCORMCKINSEY NCORP","PEB","526","KRW",-713336592,0,0,"2020-10-28","2021-10-19","C13",11740,"002-251438-840",4,"GTE","HSBC","SEL ","tst102-84idn","FNI",2,"PEBSEL000526","2025-05-27",-1316,"",null,null,"   사업지원서비스업(75)","M"]
["IPOS2","CAL EIMI CRITIAL EN","PEB","527","KRW",-32491140,0,0,"2020-10-27","2021-05-28","C13",4310,"002-097164-840",3,"GTE","HSBC","SEL ","tst136-81idn","FNI",2,"PEBSEL000527","2025-05-28",-1461,"",null,null,"전기장비 제조업(28)","C"]
["IPOS2"," USA,HSBC BANKUSA, ","PEB","555","USD",-21659500,0,0,"2020-11-05","2021-11-30","FPO",10650,"002-551730-840",0,"   ","HSBC","SEL ","tst20-117idn","FNI",2,"PEBSEL000555","2025-05-29",-1276,"",null,null,"금융업(64)","K"]
["IPOS2","CAL EIMI CRITIAL EN","PEB","559","KRW",-42185000,0,0,"2020-11-09","2022-05-30","C13",4310,"002-097164-840",3,"GTE","HSBC","SEL ","tst136-81idn","FNI",2,"PEBSEL000559","2025-05-30",-1096,"",null,null,"전기장비 제조업(28)","C"]
["IPOS2","SA COKYUNGDONGA CO.","PEB","585","KRW",-1,0,0,"2020-11-13","2021-09-17","C13",4240,"002-267856-840",4,"GTE","HSBC","SEL ","tst502-81idn","FNI",2,"PEBSEL000585","2025-05-31",-1352,"",null,null,"화학물질 및 화학제품 제조업(의약품 제외)(20)","C"]
["IPOS2","ONG KGC-HSBC HNG KO","PEB","659","USD",-11887600,0,0,"2020-11-23","2021-07-30","BRO",10650,"002-500801-840",0,"   ","HSBC","SEL ","tst026387idn","FNI",2,"PEBSEL000659","2025-06-01",-1402,"",null,null,"금융업(64)","K"]
["IPOS2","CAL EIMI CRITIAL EN","PEB","662","USD",-7699900,0,0,"2020-11-23","2022-10-13","C13",4310,"002-097164-840",3,"GTE","HSBC","SEL ","tst136-81idn","FNI",2,"PEBSEL000662","2025-06-02",-963,"",null,null,"전기장비 제조업(28)","C"]
["IPOS2","CAL EIMI CRITIAL EN","PEB","663","KRW",-18744000,0,0,"2020-11-24","2022-03-01","C13",4310,"002-097164-840",3,"GTE","HSBC","SEL ","tst136-81idn","FNI",2,"PEBSEL000663","2025-06-03",-1190,"",null,null,"전기장비 제조업(28)","C"]
["IPOS2","LECTRKUKDONG EECTRI","PEB","673","USD",-1034214,-1034214,-14031181,"2020-11-26","2023-12-24","C13",4310,"002-704840-840",3,"GTE","HSBC","SEL ","tst301-81idn","FNI",2,"PEBSEL000673","2025-06-04",-528,497.57599999999996,null,null,"전기장비 제조업(28)","C"]
["IPOS2","CAL EIMI CRITIAL EN","PEB","675","USD",-10000000,0,0,"2020-11-27","2023-07-14","C13",4310,"002-097164-840",3,"GTE","HSBC","SEL ","tst136-81idn","FNI",2,"PEBSEL000675","2025-06-05",-692,"",null,null,"전기장비 제조업(28)","C"]
["IPOS2","CAL EIMI CRITIAL EN","PEB","677","KRW",-21861510,0,0,"2020-11-30","2022-03-14","C13",4310,"002-097164-840",3,"GTE","HSBC","SEL ","tst136-81idn","FNI",2,"PEBSEL000677","2025-06-06",-1180,"",null,null,"전기장비 제조업(28)","C"]
["IPOS2","Y (ALGE COMPAN (ALO","PEB","679","USD",-2477446,0,0,"2020-12-02","2022-05-31","C11",4320,"002-705913-840",3,"GTE","HSBC","SEL ","tst14-068idn","FNI",2,"PEBSEL000679","2025-06-07",-1103,"",null,null,"전자부품, 컴퓨터, 영상, 음향 및 통신장비 제조업(26)","C"]
["IPOS2","LECTRKUKDONG EECTRI","PEB","682","USD",-3662609,-3662609,-49690616,"2020-12-04","2024-04-29","C13",4310,"002-704840-840",3,"GTE","HSBC","SEL ","tst301-81idn","FNI",2,"PEBSEL000682","2025-06-08",-405,3738.5439999999999,null,null,"전기장비 제조업(28)","C"]
["IPOS2","Y (ALGE COMPAN (ALO","PEB","691","USD",-1527231,0,0,"2020-12-08","2022-12-28","C11",4320,"002-705913-840",3,"GTE","HSBC","SEL ","tst14-068idn","FNI",2,"PEBSEL000691","2025-06-09",-894,"",null,null,"전자부품, 컴퓨터, 영상, 음향 및 통신장비 제조업(26)","C"]
["IPOS2","Y (ALGE COMPAN (ALO","PEB","692","USD",-2024605,0,0,"2020-12-08","2022-12-01","C11",4320,"002-705913-840",3,"GTE","HSBC","SEL ","tst14-068idn","FNI",2,"PEBSEL000692","2025-06-10",-922,"",null,null,"전자부품, 컴퓨터, 영상, 음향 및 통신장비 제조업(26)","C"]
["IPOS2","CAL EIMI CRITIAL EN","PEB","693","EUR",-1302730,0,0,"2020-12-08","2021-07-14","C13",4310,"002-097164-840",3,"GTE","HSBC","SEL ","tst136-81idn","FNI",2,"PEBSEL000693","2025-06-11",-1428,"",null,null,"전기장비 제조업(28)","C"]
["IPOS2","ANY LBASF COMPNY LT","PEB","694","KRW",-9118340,0,0,"2020-12-09","2021-05-20","C13",4240,"002-001792-840",3,"GTE","HSBC","SEL ","tst417-81idn","FNI",2,"PEBSEL000694","2025-06-12",-1484,"",null,null,"화학물질 및 화학제품 제조업(의약품 제외)(20)","C"]
["IPOS2","CAL EIMI CRITIAL EN","PEB","700","KRW",-136894340,0,0,"2020-12-14","2022-03-16","C13",4310,"002-097164-840",3,"GTE","HSBC","SEL ","tst136-81idn","FNI",2,"PEBSEL000700","2025-06-13",-1185,"",null,null,"전기장비 제조업(28)","C"]
["IPOS2","CAL EIMI CRITIAL EN","PEB","707","USD",-1500000,0,0,"2020-12-17","2021-05-31","C13",4310,"002-097164-840",3,"GTE","HSBC","SEL ","tst136-81idn","FNI",2,"PEBSEL000707","2025-06-14",-1475,"",null,null,"전기장비 제조업(28)","C"]
["IPOS2","CAL EIMI CRITIAL EN","PEB","709","USD",-1000000,0,0,"2020-12-17","2021-04-30","C13",4310,"002-097164-840",3,"GTE","HSBC","SHH ","tst136-81idn","FNI",2,"PEBSEL000709","2025-06-15",-1507,"",null,null,"전기장비 제조업(28)","C"]
["IPOS2","CAL EIMI CRITIAL EN","PEB","710","USD",-2200000,0,0,"2020-12-17","2021-05-31","C13",4310,"002-097164-840",3,"GTE","HSBC","SEL ","tst136-81idn","FNI",2,"PEBSEL000710","2025-06-16",-1477,"",null,null,"전기장비 제조업(28)","C"]
["IPOS2","Y (ALGE COMPAN (ALO","PEB","714","USD",-792227,0,0,"2020-12-21","2022-12-10","C11",4320,"002-705913-840",3,"GTE","HSBC","SEL ","tst14-068idn","FNI",2,"PEBSEL000714","2025-06-17",-920,"",null,null,"전자부품, 컴퓨터, 영상, 음향 및 통신장비 제조업(26)","C"]
["IPOS2","Y (ALGE COMPAN (ALO","PEB","716","USD",-302089,0,0,"2020-12-21","2023-01-24","C11",4320,"002-705913-840",3,"GTE","HSBC","SEL ","tst14-068idn","FNI",2,"PEBSEL000716","2025-06-18",-876,"",null,null,"전자부품, 컴퓨터, 영상, 음향 및 통신장비 제조업(26)","C"]
["IPOS2","ON HUDHL INCHEN HUB","PEB","717","KRW",-948517700,-948517700,-948517700,"2020-12-21","2023-12-31","C13",11000,"002-317315-840",3,"GTE","HSBC","SEL ","tst121-81idn","FNI",2,"PEBSEL000717","2025-06-19",-536,1057,null,null,"L_부동산업 및 임대업","L"]
["IPOS2","ONG ATHE HONGKNG AN","PEB","724","USD",-1228880,0,0,"2020-12-24","2021-02-28","BRO",10650,"002-703827-840",0,"   ","NACF","KRSO","tstS16FC0idn","FNI",2,"PEBSEL000724","2025-06-20",-1573,"",null,null,"금융업(64)","K"]
["IPOS2","Y (ALGE COMPAN (ALO","PEB","726","USD",-121541,0,0,"2020-12-28","2022-11-09","C11",4320,"002-705913-840",3,"GTE","HSBC","SEL ","tst14-068idn","FNI",2,"PEBSEL000726","2025-06-21",-955,"",null,null,"전자부품, 컴퓨터, 영상, 음향 및 통신장비 제조업(26)","C"]
["IPOS2","Y (ALGE COMPAN (ALO","PEB","730","EUR",-3597000,0,0,"2020-12-28","2021-12-08","C11",4320,"002-705913-840",3,"GTE","HSBC","SEL ","tst14-068idn","FNI",2,"PEBSEL000730","2025-06-22",-1292,"",null,null,"전자부품, 컴퓨터, 영상, 음향 및 통신장비 제조업(26)","C"]
["IPOS2","L FORDHL GLOBA FORW","PEB","731","KRW",-272526320,-272526320,-272526320,"2020-12-30","2026-06-30","C13",9630,"002-618381-840",3,"GTE","HSBC","SEL ","tst109-81idn","FNI",2,"PEBSEL000731","2025-06-23",372,1789,null,null,"창고 및 운송관련 서비스업(52)","H"]
["IPOS2","L INCM2 DIGITA INC.","PEB","733","KRW",-3100000000,0,0,"2020-12-30","2021-10-31","C13",11740,"002-074023-840",3,"GTE","HSBC","SEL ","tst102-81idn","FNI",2,"PEBSEL000733","2025-06-24",-1332,"",null,null,"   사업지원서비스업(75)","M"]
["IPOS2","DUSTRVEOLIA INUSTRI","PEB","735","KRW",-234347400,0,0,"2020-12-30","2021-12-31","C13",5410,"002-705155-840",3,"GTE","HSBC","SEL ","tst126-81idn","FNI",2,"PEBSEL000735","2025-06-25",-1272,"",null,null,"수도사업(36)","D"]
["IPOS2","DUSTRVEOLIA INUSTRI","PEB","736","KRW",-163198800,0,0,"2020-12-30","2021-12-31","C13",5410,"002-705155-840",3,"GTE","HSBC","SEL ","tst126-81idn","FNI",2,"PEBSEL000736","2025-06-26",-1273,"",null,null,"수도사업(36)","D"]
["IPOS2","ANY LBASF COMPNY LT","PEB","98197","KRW",-154000000,0,0,"2016-06-29","2021-08-16","C13",4240,"002-001792-840",3,"GTE","HSBC","SEL ","tst417-81idn","FNI",2,"PEBSEL098197","2025-06-27",-1411,"",null,null,"화학물질 및 화학제품 제조업(의약품 제외)(20)","C"]
["IPOS2","BANK KEB HANA ANK  ","PEB","100007","USD",-141937405,-141937405,-1925664774,"2021-01-05","2025-07-05","BE1",10650,"002-060970-840",3,"   ","BBME","ALRG","tst202-81idn","FNI",2,"PEBSEL100007","2025-06-28",7,26801.863999999998,null,null,"금융업(64)","K"]
["IPOS2"," HEALCELLTRIONHEALT","PEB","100018","EUR",-1172000,-1172000,-16762332,"2021-01-13","2024-12-15","C13",3540,"002-067662-840",3,"GTE","BBRU","BEAK","tst123-81idn","FNI",2,"PEBSEL100018","2025-06-29",-196,255.9100608,null,null,"",""]
["IPOS2","Y (ALGE COMPAN (ALO","PEB","100022","USD",-1461116,0,0,"2021-01-20","2022-12-31","C11",4320,"002-705913-840",3,"GTE","HSBC","SEL ","tst14-068idn","FNI",2,"PEBSEL100022","2025-06-30",-912,"",null,null,"전자부품, 컴퓨터, 영상, 음향 및 통신장비 제조업(26)","C"]
["IPOS2","ONG KGC-HSBC HNG KO","PEB","100023","USD",-10816000,0,0,"2021-01-21","2021-10-25","BRO",10650,"002-500801-840",0,"   ","HSBC","SEL ","tst026387idn","FNI",2,"PEBSEL100023","2025-07-01",-1345,"",null,null,"금융업(64)","K"]
["IPOS2","DUSTRVEOLIA INUSTRI","PEB","100025","KRW",-100000000,0,0,"2021-01-22","2021-06-03","C13",5410,"002-705155-840",3,"GTE","HSBC","SEL ","tst126-81idn","FNI",2,"PEBSEL100025","2025-07-02",-1490,"",null,null,"수도사업(36)","D"]
["IPOS2","DUSTRVEOLIA INUSTRI","PEB","100026","KRW",-2622622,0,0,"2021-01-26","2021-12-31","C13",5410,"002-705155-840",3,"GTE","HSBC","SEL ","tst126-81idn","FNI",2,"PEBSEL100026","2025-07-03",-1280,"",null,null,"수도사업(36)","D"]
["IPOS2","ILANDHSBC (THALAND ","PEB","100027","USD",-273300,0,0,"2021-01-27","2023-10-12","BRO",10650,"002-004235-840",0,"   ","HSBC","SEL ","tst 11606idn","FNI",2,"PEBSEL100027","2025-07-04",-631,"",null,null,"금융업(64)","K"]
["IPOS2","CAL EIMI CRITIAL EN","PEB","100030","USD",-600000,0,0,"2021-01-28","2021-05-31","C13",4310,"002-097164-840",3,"GTE","HSBC","SEL ","tst136-81idn","FNI",2,"PEBSEL100030","2025-07-05",-1496,"",null,null,"전기장비 제조업(28)","C"]
["IPOS2","., LTDL E&C CO, LTD","PEB","100031","EUR",-100,0,0,"2021-01-27","2021-04-14","C13",6450,"002-091316-840",3,"GTE","AGBC","CNCH","tst676-87idn","FNI",2,"PEBSEL100031","2025-07-06",-1544,"",null,null,"종합건설업(41)","F"]
["IPOS2","., LTDL E&C CO, LTD","PEB","100036","USD",-351814806,-351814806,-4773071473,"2021-01-28","2028-05-12","C13",6450,"002-091316-840",3,"GTE","HSBC","MNL ","tst676-87idn","FNI",2,"PEBSEL100036","2025-07-07",1040,163366.304,null,null,"종합건설업(41)","F"]
["IPOS2","., LTDL E&C CO, LTD","PEB","100037","EUR",-51753238,-51753238,-740191961,"2021-01-28","2028-05-12","C13",6450,"002-091316-840",3,"GTE","HSBC","MNL ","tst676-87idn","FNI",2,"PEBSEL100037","2025-07-08",1039,25406.182147200001,null,null,"종합건설업(41)","F"]
["IPOS2","., LTDL E&C CO, LTD","PEB","100038","PHP",-147500353365,-147500353365,-35181740035,"2021-01-28","2028-05-12","C13",6450,"002-091316-840",3,"GTE","HSBC","MNL ","tst676-87idn","FNI",2,"PEBSEL100038","2025-07-09",1038,1198899.4395939084,null,null,"종합건설업(41)","F"]
["IPOS2","REA CGEODIS KOEA CO","PEB","100043","KRW",-13730000,0,0,"2021-02-01","2021-02-28","C13",9620,"002-468529-840",3,"GTE","HSBC","SEL ","tst211-84idn","FNI",2,"PEBSEL100043","2025-07-10",-1593,"",null,null,"항공운송업(51)","H"]
["IPOS2"," INC.IBM KOREAINC. ","PEB","100046","KRW",-319000000,-319000000,-319000000,"2021-02-01","2024-01-31","C23",11720,"002-015613-840",3,"GTE","HSBC","SEL ","tst116-81idn","FNI",2,"PEBSEL100046","2025-07-11",-527,2054,null,null,"컴퓨터 프로그래밍, 시스템 통합 및 관리업(62)","J"]
["IPOS2","LECTRKUKDONG EECTRI","PEB","100047","USD",-1356709,-1356709,-18406471,"2021-02-02","2024-02-06","C13",4310,"002-704840-840",3,"GTE","HSBC","SEL ","tst301-81idn","FNI",2,"PEBSEL100047","2025-07-12",-522,914.46399999999994,null,null,"전기장비 제조업(28)","C"]
["IPOS2"," MALAHSBC BANKMALAY","PEB","100053","USD",-42060000,-42060000,-570628020,"2021-02-04","2023-12-31","GPO",10650,"002-706764-840",0,"   ","HSBC","SEL ","tst 12777idn","FNI",2,"PEBSEL100053","2025-07-13",-560,"",null,null,"금융업(64)","K"]
["IPOS2","ONG ATHE HONGKNG AN","PEB","100057","USD",-6500000,-6500000,-88185500,"2021-02-08","2025-03-30","BRO",10650,"002-703827-840",0,"   ","HSBC","SEL ","tstS16FC0idn","FNI",2,"PEBSEL100057","2025-07-14",-106,"",null,null,"금융업(64)","K"]
["IPOS2","CAL EIMI CRITIAL EN","PEB","100058","USD",-19193740,0,0,"2021-02-05","2021-12-15","C13",4310,"002-097164-840",3,"GTE","HSBC","SEL ","tst136-81idn","FNI",2,"PEBSEL100058","2025-07-15",-1308,"",null,null,"전기장비 제조업(28)","C"]
["IPOS2","CAL EIMI CRITIAL EN","PEB","100061","KRW",-65994500,0,0,"2021-02-05","2022-02-17","C13",4310,"002-097164-840",3,"GTE","HSBC","SEL ","tst136-81idn","FNI",2,"PEBSEL100061","2025-07-16",-1245,"",null,null,"전기장비 제조업(28)","C"]
["IPOS2","CAL EIMI CRITIAL EN","PEB","100066","KRW",-44769340,0,0,"2021-02-05","2021-12-15","C13",4310,"002-097164-840",3,"GTE","HSBC","SEL ","tst136-81idn","FNI",2,"PEBSEL100066","2025-07-17",-1310,"",null,null,"전기장비 제조업(28)","C"]
["IPOS2","LECTRKUKDONG EECTRI","PEB","100073","USD",-1099285,-1099285,-14914000,"2021-02-10","2024-05-18","C13",4310,"002-704840-840",3,"GTE","HSBC","SEL ","tst301-81idn","FNI",2,"PEBSEL100073","2025-07-18",-426,1210.32,null,null,"전기장비 제조업(28)","C"]
["IPOS2","CAL EIMI CRITIAL EN","PEB","100074","KRW",-70400000,0,0,"2021-02-10","2021-09-30","C13",4310,"002-097164-840",3,"GTE","HSBC","SEL ","tst136-81idn","FNI",2,"PEBSEL100074","2025-07-19",-1388,"",null,null,"전기장비 제조업(28)","C"]
["IPOS2","ONG ATHE HONGKNG AN","PEB","100081","USD",-16696310,0,0,"2021-02-17","2022-10-19","BRO",10650,"002-703827-840",0,"   ","HSBC","SEL ","tstS16FC0idn","FNI",2,"PEBSEL100081","2025-07-20",-1005,"",null,null,"금융업(64)","K"]
["IPOS2","EMBLYALPHA ASSMBLY ","PEB","100082","KRW",-1500000000,0,0,"2021-02-16","2022-03-31","C13",4240,"002-087898-840",3,"GTE","HSBC","SEL ","tst133-81idn","FNI",2,"PEBSEL100082","2025-07-21",-1208,"",null,null,"화학물질 및 화학제품 제조업(의약품 제외)(20)","C"]
["IPOS2"," USA,HSBC BANKUSA, ","PEB","100083","USD",-3352128,0,0,"2021-02-16","2022-09-09","FPO",10650,"002-551730-840",0,"   ","HSBC","SEL ","tst20-117idn","FNI",2,"PEBSEL100083","2025-07-22",-1047,"",null,null,"금융업(64)","K"]
["IPOS2","Y (ALGE COMPAN (ALO","PEB","100085","USD",-207700,0,0,"2021-02-17","2021-05-30","C11",4320,"002-705913-840",3,"GTE","HSBC","SEL ","tst14-068idn","FNI",2,"PEBSEL100085","2025-07-23",-1515,"",null,null,"전자부품, 컴퓨터, 영상, 음향 및 통신장비 제조업(26)","C"]
["IPOS2","LECTRKUKDONG EECTRI","PEB","100086","USD",-2111869,-2111869,-28651727,"2021-02-23","2024-05-10","C13",4310,"002-704840-840",3,"GTE","HSBC","SEL ","tst301-81idn","FNI",2,"PEBSEL100086","2025-07-24",-440,2259.2640000000001,null,null,"전기장비 제조업(28)","C"]
["IPOS2"," USA,HSBC BANKUSA, ","PEB","100098","USD",-10563108,0,0,"2021-02-25","2022-08-30","FPO",10650,"002-551730-840",0,"   ","HSBC","SEL ","tst20-117idn","FNI",2,"PEBSEL100098","2025-07-25",-1060,"",null,null,"금융업(64)","K"]
["IPOS2","ANK PHSBC UK BNK PL","PEB","100100","KRW",-2056842000,-2056842000,-2056842000,"2021-02-25","2024-05-31","FPO",10650,"002-173789-840",3,"   ","HSBC","SEL ","tst099284idn","FNI",2,"PEBSEL100100","2025-07-26",-421,"",null,null,"금융업(64)","K"]
["IPOS2","L FORDHL GLOBA FORW","PEB","100102","KRW",-120000000,0,0,"2021-02-26","2022-04-29","C13",9630,"002-618381-840",3,"GTE","HSBC","SEL ","tst109-81idn","FNI",2,"PEBSEL100102","2025-07-27",-1185,"",null,null,"창고 및 운송관련 서비스업(52)","H"]
["IPOS2","L FORDHL GLOBA FORW","PEB","100105","KRW",-200000000,0,0,"2021-02-26","2022-04-29","C13",9630,"002-618381-840",3,"GTE","HSBC","SEL ","tst109-81idn","FNI",2,"PEBSEL100105","2025-07-28",-1186,"",null,null,"창고 및 운송관련 서비스업(52)","H"]
["IPOS2","L FORDHL GLOBA FORW","PEB","100116","KRW",-40000000,0,0,"2021-02-26","2022-04-29","C13",9630,"002-618381-840",3,"GTE","HSBC","SEL ","tst109-81idn","FNI",2,"PEBSEL100116","2025-07-29",-1187,"",null,null,"창고 및 운송관련 서비스업(52)","H"]
["IPOS2","L FORDHL GLOBA FORW","PEB","100119","KRW",-150000000,0,0,"2021-02-26","2022-04-29","C13",9630,"002-618381-840",3,"GTE","HSBC","SEL ","tst109-81idn","FNI",2,"PEBSEL100119","2025-07-30",-1188,"",null,null,"창고 및 운송관련 서비스업(52)","H"]
["IPOS2","L FORDHL GLOBA FORW","PEB","100126","KRW",-100000000,0,0,"2021-02-26","2022-04-29","C13",9630,"002-618381-840",3,"GTE","HSBC","SEL ","tst109-81idn","FNI",2,"PEBSEL100126","2025-07-31",-1189,"",null,null,"창고 및 운송관련 서비스업(52)","H"]
["IPOS2"," USA,HSBC BANKUSA, ","PEB","100143","USD",-2703788,0,0,"2021-03-18","2022-06-30","FPO",10650,"002-551730-840",0,"   ","HSBC","SEL ","tst20-117idn","FNI",2,"PEBSEL100143","2025-08-01",-1128,"",null,null,"금융업(64)","K"]
["IPOS2","ANK PHSBC UK BNK PL","PEB","100149","GBP",-15990000,0,0,"2021-03-19","2022-06-02","FPO",10650,"002-173789-840",3,"   ","HSBC","SEL ","tst099284idn","FNI",2,"PEBSEL100149","2025-08-02",-1157,"",null,null,"금융업(64)","K"]
["IPOS2","&T COSAMSUNG CT COR","PEB","100151","QAR",-1000000000,-1000000000,-3720809100,"2021-03-25","2024-01-15","C13",7510,"002-000934-840",3,"GTE","BBME","QAAA","tst202-81idn","FNI",2,"PEBSEL100151","2025-08-03",-566,3050.5790383191156,null,null,"도매 및 상품중개업(46)","G"]
["IPOS2","DUSTRVEOLIA INUSTRI","PEB","100152","KRW",-44674692,0,0,"2021-03-25","2022-02-28","C13",5410,"002-705155-840",3,"GTE","HSBC","SEL ","tst126-81idn","FNI",2,"PEBSEL100152","2025-08-04",-1253,"",null,null,"수도사업(36)","D"]
["IPOS2","DUSTRVEOLIA INUSTRI","PEB","100153","KRW",-291120165,0,0,"2021-03-25","2022-02-28","C13",5410,"002-705155-840",3,"GTE","HSBC","SEL ","tst126-81idn","FNI",2,"PEBSEL100153","2025-08-05",-1254,"",null,null,"수도사업(36)","D"]
["IPOS2","DUSTRVEOLIA INUSTRI","PEB","100154","KRW",-185295600,0,0,"2021-03-25","2022-02-28","C13",5410,"002-705155-840",3,"GTE","HSBC","SEL ","tst126-81idn","FNI",2,"PEBSEL100154","2025-08-06",-1255,"",null,null,"수도사업(36)","D"]
["IPOS2","DUSTRVEOLIA INUSTRI","PEB","100155","KRW",-127514400,0,0,"2021-03-25","2022-02-28","C13",5410,"002-705155-840",3,"GTE","HSBC","SEL ","tst126-81idn","FNI",2,"PEBSEL100155","2025-08-07",-1256,"",null,null,"수도사업(36)","D"]
["IPOS2","DUSTRVEOLIA INUSTRI","PEB","100156","KRW",-155632800,0,0,"2021-03-25","2022-02-28","C13",5410,"002-705155-840",3,"GTE","HSBC","SEL ","tst126-81idn","FNI",2,"PEBSEL100156","2025-08-08",-1257,"",null,null,"수도사업(36)","D"]
["IPOS2","DUSTRVEOLIA INUSTRI","PEB","100157","KRW",-177244560,0,0,"2021-03-25","2022-02-28","C13",5410,"002-705155-840",3,"GTE","HSBC","SEL ","tst126-81idn","FNI",2,"PEBSEL100157","2025-08-09",-1258,"",null,null,"수도사업(36)","D"]
["IPOS2","LECTRKUKDONG EECTRI","PEB","100158","USD",-6302337,0,0,"2021-03-25","2021-07-06","C13",4310,"002-704840-840",3,"GTE","HSBC","SEL ","tst301-81idn","FNI",2,"PEBSEL100158","2025-08-10",-1496,"",null,null,"전기장비 제조업(28)","C"]
["IPOS2","ONG KGC-HSBC HNG KO","PEB","100160","USD",-19748500,0,0,"2021-03-31","2021-11-12","BRO",10650,"002-500801-840",0,"   ","HSBC","SEL ","tst026387idn","FNI",2,"PEBSEL100160","2025-08-11",-1368,"",null,null,"금융업(64)","K"]
["IPOS2","THOMPWUNDERMANHOMPS","PEB","100162","KRW",-1,0,0,"2021-04-01","2021-11-10","C13",11740,"002-514489-840",3,"GTE","HSBC","SEL ","tst120-87idn","FNI",2,"PEBSEL100162","2025-08-12",-1371,"",null,null,"   사업지원서비스업(75)","M"]
["IPOS2","A BR)HSBC(INDI BR) ","PEB","100163","USD",-4492500,0,0,"2021-04-13","2021-10-10","BRO",10650,"002-706707-840",0,"   ","KOAB","KRSL","tst F0094idn","FNI",2,"PEBSEL100163","2025-08-13",-1403,"",null,null,"금융업(64)","K"]
["IPOS2"," USA,HSBC BANKUSA, ","PEB","100166","USD",-2384276,0,0,"2021-04-02","2022-03-29","FPO",10650,"002-551730-840",0,"   ","HSBC","SEL ","tst20-117idn","FNI",2,"PEBSEL100166","2025-08-14",-1234,"",null,null,"금융업(64)","K"]
["IPOS2","INENTHSBC CONTNENTA","PEB","100172","USD",-165000000,-165000000,-2238555000,"2021-04-13","2025-02-01","FPO",10650,"002-125024-840",0,"   ","HSBC","SEL ","tstHRB969idn","FNI",2,"PEBSEL100172","2025-08-15",-195,"",null,null,"금융업(64)","K"]
["IPOS2","Y (ALGE COMPAN (ALO","PEB","100173","USD",-43500000,-43500000,-590164500,"2021-04-09","2024-11-26","C11",4320,"002-705913-840",3,"GTE","HSBC","SEL ","tst14-068idn","FNI",2,"PEBSEL100173","2025-08-16",-263,8929.4719999999998,null,null,"전자부품, 컴퓨터, 영상, 음향 및 통신장비 제조업(26)","C"]
["IPOS2","Y (ALGE COMPAN (ALO","PEB","100174","EUR",-1209780,0,0,"2021-04-09","2023-07-15","C11",4320,"002-705913-840",3,"GTE","HSBC","SEL ","tst14-068idn","FNI",2,"PEBSEL100174","2025-08-17",-764,"",null,null,"전자부품, 컴퓨터, 영상, 음향 및 통신장비 제조업(26)","C"]
["IPOS2","., LTDL E&C CO, LTD","PEB","100180","EUR",-174680000,-174680000,-2498331249,"2021-04-13","2023-10-30","C13",6450,"002-091316-840",3,"GTE","AGBC","CNCH","tst676-87idn","FNI",2,"PEBSEL100180","2025-08-18",-658,14330.963404800001,null,null,"종합건설업(41)","F"]
["IPOS2","CAL EIMI CRITIAL EN","PEB","100184","KRW",-251707170,-251707170,-251707170,"2021-04-14","2025-11-30","C13",4310,"002-097164-840",3,"GTE","HSBC","SEL ","tst136-81idn","FNI",2,"PEBSEL100184","2025-08-19",103,19512,null,null,"전기장비 제조업(28)","C"]
["IPOS2","THOMPWUNDERMANHOMPS","PEB","100187","KRW",-50000000,0,0,"2021-04-15","2022-04-14","C13",11740,"002-514489-840",3,"GTE","HSBC","SEL ","tst120-87idn","FNI",2,"PEBSEL100187","2025-08-20",-1224,"",null,null,"   사업지원서비스업(75)","M"]
["IPOS2","LECTRKUKDONG EECTRI","PEB","100188","USD",-1000000,-1000000,-13567000,"2021-04-15","2024-04-01","C13",4310,"002-704840-840",3,"GTE","ICBC","TWKS","tst301-81idn","FNI",2,"PEBSEL100188","2025-08-21",-507,901.01599999999996,null,null,"전기장비 제조업(28)","C"]
["IPOS2","REA LNEXANS KOEA LT","PEB","100190","USD",-25474774,0,0,"2021-04-26","2021-10-14","C13",4310,"002-707538-840",4,"GTE","HBCN","SHH ","tst127-81idn","FNI",2,"PEBSEL100190","2025-08-22",-1408,"",null,null,"전기장비 제조업(28)","C"]
["IPOS2","THOMPWUNDERMANHOMPS","PEB","100192","KRW",-1,0,0,"2021-04-19","2021-11-03","C13",11740,"002-514489-840",3,"GTE","HSBC","SEL ","tst120-87idn","FNI",2,"PEBSEL100192","2025-08-23",-1389,"",null,null,"   사업지원서비스업(75)","M"]
["IPOS2","ONG KGC-HSBC HNG KO","PEB","100194","KRW",-20000000,0,0,"2021-04-21","2022-03-31","BRO",10650,"002-500801-840",0,"   ","HSBC","SEL ","tst026387idn","FNI",2,"PEBSEL100194","2025-08-24",-1242,"",null,null,"금융업(64)","K"]
["IPOS2","THOMPWUNDERMANHOMPS","PEB","100196","KRW",-50000000,0,0,"2021-04-26","2022-04-25","C13",11740,"002-514489-840",3,"GTE","HSBC","SEL ","tst120-87idn","FNI",2,"PEBSEL100196","2025-08-25",-1218,"",null,null,"   사업지원서비스업(75)","M"]
["IPOS2"," USA,HSBC BANKUSA, ","PEB","100202","USD",-14233060,0,0,"2021-04-28","2022-10-31","FPO",10650,"002-551730-840",0,"   ","HSBC","SEL ","tst20-117idn","FNI",2,"PEBSEL100202","2025-08-26",-1030,"",null,null,"금융업(64)","K"]
["IPOS2"," USA,HSBC BANKUSA, ","PEB","100203","USD",-182480,0,0,"2021-04-28","2022-08-30","FPO",10650,"002-551730-840",0,"   ","HSBC","SEL ","tst20-117idn","FNI",2,"PEBSEL100203","2025-08-27",-1093,"",null,null,"금융업(64)","K"]
["IPOS2"," USA,HSBC BANKUSA, ","PEB","100204","USD",-277210,0,0,"2021-04-29","2022-08-30","FPO",10650,"002-551730-840",0,"   ","HSBC","SEL ","tst20-117idn","FNI",2,"PEBSEL100204","2025-08-28",-1094,"",null,null,"금융업(64)","K"]
["IPOS2"," USA,HSBC BANKUSA, ","PEB","100206","USD",-3010500,0,0,"2021-04-29","2022-09-30","FPO",10650,"002-551730-840",0,"   ","HSBC","SEL ","tst20-117idn","FNI",2,"PEBSEL100206","2025-08-29",-1064,"",null,null,"금융업(64)","K"]
["IPOS2","Y (ALGE COMPAN (ALO","PEB","100210","EUR",-190584,0,0,"2021-05-06","2023-05-30","C11",4320,"002-705913-840",3,"GTE","HSBC","SEL ","tst14-068idn","FNI",2,"PEBSEL100210","2025-08-30",-823,"",null,null,"전자부품, 컴퓨터, 영상, 음향 및 통신장비 제조업(26)","C"]
["IPOS2","ONG ATHE HONGKNG AN","PEB","100228","USD",-1475000,0,0,"2021-05-11","2021-08-28","BRO",10650,"002-703827-840",0,"   ","NACF","KRSE","tstS16FC0idn","FNI",2,"PEBSEL100228","2025-08-31",-1464,"",null,null,"금융업(64)","K"]
["IPOS2","ONG ATHE HONGKNG AN","PEB","100230","USD",-3560940,0,0,"2021-05-11","2021-09-10","BRO",10650,"002-703827-840",0,"   ","NACF","KRSE","tstS16FC0idn","FNI",2,"PEBSEL100230","2025-09-01",-1452,"",null,null,"금융업(64)","K"]
["IPOS2","CAL EIMI CRITIAL EN","PEB","100232","USD",-3894900,-3894900,-52842108,"2021-05-13","2025-11-28","C13",4310,"002-097164-840",3,"GTE","HBVN","VNM ","tst136-81idn","FNI",2,"PEBSEL100232","2025-09-02",87,4061.2959999999998,null,null,"전기장비 제조업(28)","C"]
["IPOS2","ONG ATHE HONGKNG AN","PEB","100235","USD",-1019800,0,0,"2021-05-12","2021-10-25","BRO",10650,"002-703827-840",0,"   ","NACF","KRSE","tstS16FC0idn","FNI",2,"PEBSEL100235","2025-09-03",-1409,"",null,null,"금융업(64)","K"]
["IPOS2","ONG ATHE HONGKNG AN","PEB","100238","USD",-1050000,0,0,"2021-05-12","2021-09-16","BRO",10650,"002-703827-840",0,"   ","NACF","KRSE","tstS16FC0idn","FNI",2,"PEBSEL100238","2025-09-04",-1449,"",null,null,"금융업(64)","K"]
["IPOS2","THOMPWUNDERMANHOMPS","PEB","100242","KRW",-400000000,0,0,"2021-05-14","2021-09-30","C13",11740,"002-514489-840",3,"GTE","HSBC","SEL ","tst120-87idn","FNI",2,"PEBSEL100242","2025-09-05",-1436,"",null,null,"   사업지원서비스업(75)","M"]
["IPOS2"," USA,HSBC BANKUSA, ","PEB","100246","USD",-385864,0,0,"2021-05-24","2022-07-10","FPO",10650,"002-551730-840",0,"   ","HSBC","SEL ","tst20-117idn","FNI",2,"PEBSEL100246","2025-09-06",-1154,"",null,null,"금융업(64)","K"]
["IPOS2","ONG ATHE HONGKNG AN","PEB","100250","USD",-21240000,0,0,"2021-05-20","2021-10-12","BRO",10650,"002-703827-840",0,"   ","HSBC","SEL ","tstS16FC0idn","FNI",2,"PEBSEL100250","2025-09-07",-1426,"",null,null,"금융업(64)","K"]
["IPOS2","ONG ATHE HONGKNG AN","PEB","100256","KRW",-55000000,0,0,"2021-05-25","2021-12-31","BRO",10650,"002-703827-840",0,"   ","HSBC","SEL ","tstS16FC0idn","FNI",2,"PEBSEL100256","2025-09-08",-1347,"",null,null,"금융업(64)","K"]
["IPOS2"," LTD.DHL KOREALTD. ","PEB","100262","KRW",-100000000,0,0,"2021-05-21","2022-05-31","C13",9630,"002-218875-840",3,"GTE","HSBC","SEL ","tst105-86idn","FNI",2,"PEBSEL100262","2025-09-09",-1197,"",null,null,"창고 및 운송관련 서비스업(52)","H"]
["IPOS2","&T COSAMSUNG CT COR","PEB","100266","USD",-100,0,0,"2021-05-21","2021-05-28","C13",7510,"002-000934-840",3,"GTE","HSBC","SEL ","tst202-81idn","FNI",2,"PEBSEL100266","2025-09-10",-1566,"",null,null,"도매 및 상품중개업(46)","G"]
["IPOS2","&T COSAMSUNG CT COR","PEB","100267","USD",-100,0,0,"2021-05-21","2021-05-28","C13",7510,"002-000934-840",3,"GTE","HSBC","SEL ","tst202-81idn","FNI",2,"PEBSEL100267","2025-09-11",-1567,"",null,null,"도매 및 상품중개업(46)","G"]
["IPOS2","&T COSAMSUNG CT COR","PEB","100268","USD",-100,0,0,"2021-05-21","2021-05-28","C13",7510,"002-000934-840",3,"GTE","HSBC","SEL ","tst202-81idn","FNI",2,"PEBSEL100268","2025-09-12",-1568,"",null,null,"도매 및 상품중개업(46)","G"]
["IPOS2"," USA,HSBC BANKUSA, ","PEB","100270","USD",-1119860,0,0,"2021-05-24","2022-11-15","FPO",10650,"002-551730-840",0,"   ","HSBC","SEL ","tst20-117idn","FNI",2,"PEBSEL100270","2025-09-13",-1033,"",null,null,"금융업(64)","K"]
["IPOS2","ONG ATHE HONGKNG AN","PEB","100271","KRW",-438757000,0,0,"2021-05-24","2022-03-31","BRO",10650,"002-703827-840",0,"   ","HSBC","SEL ","tstS16FC0idn","FNI",2,"PEBSEL100271","2025-09-14",-1263,"",null,null,"금융업(64)","K"]
["IPOS2","ONG ATHE HONGKNG AN","PEB","100273","KRW",-673750000,0,0,"2021-05-25","2021-12-31","BRO",10650,"002-703827-840",0,"   ","HSBC","SEL ","tstS16FC0idn","FNI",2,"PEBSEL100273","2025-09-15",-1354,"",null,null,"금융업(64)","K"]
["IPOS2","ONG ATHE HONGKNG AN","PEB","100274","KRW",-236500000,0,0,"2021-05-25","2021-12-31","BRO",10650,"002-703827-840",0,"   ","HSBC","SEL ","tstS16FC0idn","FNI",2,"PEBSEL100274","2025-09-16",-1355,"",null,null,"금융업(64)","K"]
["IPOS2","ONG ATHE HONGKNG AN","PEB","100275","KRW",-74651500,0,0,"2021-05-25","2021-07-31","BRO",10650,"002-703827-840",0,"   ","HSBC","SEL ","tstS16FC0idn","FNI",2,"PEBSEL100275","2025-09-17",-1509,"",null,null,"금융업(64)","K"]
["IPOS2","ONG ATHE HONGKNG AN","PEB","100276","KRW",-25105630,0,0,"2021-05-25","2021-07-31","BRO",10650,"002-703827-840",0,"   ","HSBC","SEL ","tstS16FC0idn","FNI",2,"PEBSEL100276","2025-09-18",-1510,"",null,null,"금융업(64)","K"]
["IPOS2","Y (ALGE COMPAN (ALO","PEB","100280","GBP",-155500,0,0,"2021-05-26","2023-05-15","C11",4320,"002-705913-840",3,"GTE","HSBC","SEL ","tst14-068idn","FNI",2,"PEBSEL100280","2025-09-19",-858,"",null,null,"전자부품, 컴퓨터, 영상, 음향 및 통신장비 제조업(26)","C"]
["IPOS2","CAL EIMI CRITIAL EN","PEB","100281","USD",-12500000,0,0,"2021-05-26","2022-02-01","C13",4310,"002-097164-840",3,"GTE","HSBC","SEL ","tst136-81idn","FNI",2,"PEBSEL100281","2025-09-20",-1327,"",null,null,"전기장비 제조업(28)","C"]
["IPOS2","&T COSAMSUNG CT COR","PEB","100284","USD",-1,0,0,"2021-05-26","2021-06-25","C13",7510,"002-000934-840",3,"GTE","HSBC","SEL ","tst202-81idn","FNI",2,"PEBSEL100284","2025-09-21",-1549,"",null,null,"도매 및 상품중개업(46)","G"]
["IPOS2","INENTHSBC CONTNENTA","PEB","100287","USD",-23220969,0,0,"2021-05-27","2022-08-30","FPO",10650,"002-125024-840",0,"   ","HSBC","SEL ","tstHRB969idn","FNI",2,"PEBSEL100287","2025-09-22",-1119,"",null,null,"금융업(64)","K"]
["IPOS2","ANY LBASF COMPNY LT","PEB","100288","KRW",-9840600,0,0,"2021-05-31","2021-11-01","C13",4240,"002-001792-840",3,"GTE","HSBC","SEL ","tst417-81idn","FNI",2,"PEBSEL100288","2025-09-23",-1422,"",null,null,"화학물질 및 화학제품 제조업(의약품 제외)(20)","C"]
["IPOS2","REA CGEODIS KOEA CO","PEB","100294","KRW",-180000000,0,0,"2021-06-01","2022-01-31","C13",9620,"002-468529-840",3,"GTE","HSBC","SEL ","tst211-84idn","FNI",2,"PEBSEL100294","2025-09-24",-1332,"",null,null,"항공운송업(51)","H"]
["IPOS2","Y (ALGE COMPAN (ALO","PEB","100295","USD",-933852,0,0,"2021-06-02","2022-12-31","C11",4320,"002-705913-840",3,"GTE","HSBC","SEL ","tst14-068idn","FNI",2,"PEBSEL100295","2025-09-25",-999,"",null,null,"전자부품, 컴퓨터, 영상, 음향 및 통신장비 제조업(26)","C"]
["IPOS2","Y (ALGE COMPAN (ALO","PEB","100300","USD",-489117,0,0,"2021-06-07","2023-05-12","C11",4320,"002-705913-840",3,"GTE","HSBC","SEL ","tst14-068idn","FNI",2,"PEBSEL100300","2025-09-26",-868,"",null,null,"전자부품, 컴퓨터, 영상, 음향 및 통신장비 제조업(26)","C"]
["IPOS2","OREA JANSSEN KREA L","PEB","100302","KRW",-1,0,0,"2021-06-07","2023-03-01","C13",4240,"002-466995-840",3,"GTE","HSBC","SEL ","tst120-81idn","FNI",2,"PEBSEL100302","2025-09-27",-941,"",null,null,"화학물질 및 화학제품 제조업(의약품 제외)(20)","C"]
["IPOS2","S & MH&M HENNE & MA","PEB","100305","KRW",-500000000,0,0,"2021-06-07","2022-07-06","C13",7520,"002-473555-840",3,"GTE","HSBC","SEL ","tst220-87idn","FNI",2,"PEBSEL100305","2025-09-28",-1180,"",null,null,"소매업(자동차 제외)(47)","G"]
["IPOS2","ONG ATHE HONGKNG AN","PEB","100309","KRW",-807379485,0,0,"2021-06-09","2022-06-30","BRO",10650,"002-703827-840",0,"   ","HSBC","SEL ","tstS16FC0idn","FNI",2,"PEBSEL100309","2025-09-29",-1187,"",null,null,"금융업(64)","K"]
["IPOS2","CAL EIMI CRITIAL EN","PEB","100313","USD",-25000000,-25000000,-339175000,"2021-06-17","2025-05-14","C13",4310,"002-097164-840",3,"GTE","KOEX","KRKD","tst136-81idn","FNI",2,"PEBSEL100313","2025-09-30",-139,26062.223999999998,null,null,"전기장비 제조업(28)","C"]
["IPOS2"," USA,HSBC BANKUSA, ","PEB","100324","USD",-959012,0,0,"2021-06-28","2021-10-04","FPO",10650,"002-551730-840",0,"   ","HSBC","SEL ","tst20-117idn","FNI",2,"PEBSEL100324","2025-10-01",-1458,"",null,null,"금융업(64)","K"]
["IPOS2"," MALAHSBC BANKMALAY","PEB","100325","USD",-100,0,0,"2021-06-28","2021-08-10","GPO",10650,"002-706764-840",0,"   ","KOAB","KRSL","tst 12777idn","FNI",2,"PEBSEL100325","2025-10-02",-1514,"",null,null,"금융업(64)","K"]
["IPOS2","&T COSAMSUNG CT COR","PEB","100330","USD",-760370000,-760370000,-10315939790,"2021-06-24","2024-03-31","C13",7510,"002-000934-840",3,"GTE","HSBC","SEL ","tst202-81idn","FNI",2,"PEBSEL100330","2025-10-03",-551,39362.296000000002,null,null,"도매 및 상품중개업(46)","G"]
["IPOS2","DUSTRVEOLIA INUSTRI","PEB","100342","KRW",-100000000,0,0,"2021-07-01","2023-05-31","C13",5410,"002-705155-840",3,"GTE","HSBC","SEL ","tst126-81idn","FNI",2,"PEBSEL100342","2025-10-04",-857,"",null,null,"수도사업(36)","D"]
["IPOS2","Y (ALGE COMPAN (ALO","PEB","100349","USD",-471232,0,0,"2021-07-01","2022-11-30","C11",4320,"002-705913-840",3,"GTE","HSBC","SEL ","tst14-068idn","FNI",2,"PEBSEL100349","2025-10-05",-1040,"",null,null,"전자부품, 컴퓨터, 영상, 음향 및 통신장비 제조업(26)","C"]
["IPOS2","Y (ALGE COMPAN (ALO","PEB","100350","USD",-88707,0,0,"2021-07-05","2023-05-14","C11",4320,"002-705913-840",3,"GTE","HSBC","SEL ","tst14-068idn","FNI",2,"PEBSEL100350","2025-10-06",-876,"",null,null,"전자부품, 컴퓨터, 영상, 음향 및 통신장비 제조업(26)","C"]
["IPOS2","Y (ALGE COMPAN (ALO","PEB","100359","EUR",-16871630,-16871630,-241303644,"2021-07-06","2024-02-29","C11",4320,"002-705913-840",3,"GTE","HSBC","SEL ","tst14-068idn","FNI",2,"PEBSEL100359","2025-10-07",-586,1834.0221023999998,null,null,"전자부품, 컴퓨터, 영상, 음향 및 통신장비 제조업(26)","C"]
["IPOS2"," USA,HSBC BANKUSA, ","PEB","100381","USD",-2930225,0,0,"2021-07-14","2023-02-23","FPO",10650,"002-551730-840",0,"   ","HSBC","SEL ","tst20-117idn","FNI",2,"PEBSEL100381","2025-10-08",-958,"",null,null,"금융업(64)","K"]
["IPOS2"," USA,HSBC BANKUSA, ","PEB","100382","USD",-2196590,0,0,"2021-07-14","2022-11-30","FPO",10650,"002-551730-840",0,"   ","HSBC","SEL ","tst20-117idn","FNI",2,"PEBSEL100382","2025-10-09",-1044,"",null,null,"금융업(64)","K"]
["IPOS2","OREA SERVIER KREA L","PEB","100389","KRW",-5920623742,-5920623742,-5920623742,"2021-07-23","2024-07-31","C13",7510,"002-705228-840",3,"GTE","HSBC","SEL ","tst114-81idn","FNI",2,"PEBSEL100389","2025-10-10",-436,422497,null,null,"도매 및 상품중개업(46)","G"]
["IPOS2","Y (ALGE COMPAN (ALO","PEB","100391","USD",-170953,0,0,"2021-07-27","2023-08-12","C11",4320,"002-705913-840",3,"GTE","HSBC","SEL ","tst14-068idn","FNI",2,"PEBSEL100391","2025-10-11",-791,"",null,null,"전자부품, 컴퓨터, 영상, 음향 및 통신장비 제조업(26)","C"]
["IPOS2","REA LNEXANS KOEA LT","PEB","100393","USD",-41539632,0,0,"2021-07-28","2022-03-25","C13",4310,"002-707538-840",4,"GTE","HBFR","ITA ","tst127-81idn","FNI",2,"PEBSEL100393","2025-10-12",-1297,"",null,null,"전기장비 제조업(28)","C"]
["IPOS2","DUSTRVEOLIA INUSTRI","PEB","100399","KRW",-377584251,-377584251,-377584251,"2021-08-02","2023-12-31","C13",5410,"002-705155-840",3,"GTE","HSBC","SEL ","tst126-81idn","FNI",2,"PEBSEL100399","2025-10-13",-652,1942,null,null,"수도사업(36)","D"]
["IPOS2","ANK PHSBC UK BNK PL","PEB","100400","KRW",-6050200,0,0,"2021-08-03","2022-10-31","FPO",10650,"002-173789-840",3,"   ","HSBC","SEL ","tst099284idn","FNI",2,"PEBSEL100400","2025-10-14",-1079,"",null,null,"금융업(64)","K"]
["IPOS2","ONG ATHE HONGKNG AN","PEB","100404","KRW",-78408000,0,0,"2021-08-09","2022-02-28","BRO",10650,"002-703827-840",0,"   ","HSBC","SEL ","tstS16FC0idn","FNI",2,"PEBSEL100404","2025-10-15",-1325,"",null,null,"금융업(64)","K"]
["IPOS2","ONG ATHE HONGKNG AN","PEB","100405","KRW",-543636007,0,0,"2021-08-09","2022-02-28","BRO",10650,"002-703827-840",0,"   ","HSBC","SEL ","tstS16FC0idn","FNI",2,"PEBSEL100405","2025-10-16",-1326,"",null,null,"금융업(64)","K"]
["IPOS2","ANK PHSBC UK BNK PL","PEB","100409","KRW",-27500000,0,0,"2021-08-10","2021-11-30","FPO",10650,"002-173789-840",3,"   ","HSBC","SEL ","tst099284idn","FNI",2,"PEBSEL100409","2025-10-17",-1417,"",null,null,"금융업(64)","K"]
["IPOS2","ONG ATHE HONGKNG AN","PEB","100410","KRW",-135909002,0,0,"2021-08-11","2022-02-28","BRO",10650,"002-703827-840",0,"   ","HSBC","SEL ","tstS16FC0idn","FNI",2,"PEBSEL100410","2025-10-18",-1328,"",null,null,"금융업(64)","K"]
["IPOS2","CAL EIMI CRITIAL EN","PEB","100422","USD",-420000,-420000,-5698140,"2021-08-17","2023-11-30","C13",4310,"002-097164-840",3,"GTE","HSBC","SEL ","tst136-81idn","FNI",2,"PEBSEL100422","2025-10-19",-689,40.343999999999994,null,null,"전기장비 제조업(28)","C"]
["IPOS2","CAL EIMI CRITIAL EN","PEB","100424","KRW",-40667000,0,0,"2021-08-17","2022-04-15","C13",4310,"002-097164-840",3,"GTE","HSBC","SEL ","tst136-81idn","FNI",2,"PEBSEL100424","2025-10-20",-1284,"",null,null,"전기장비 제조업(28)","C"]
["IPOS2","&T COSAMSUNG CT COR","PEB","100441","USD",-18127270,0,0,"2021-08-19","2023-10-15","C13",7510,"002-000934-840",3,"GTE","HBVN","VNM ","tst202-81idn","FNI",2,"PEBSEL100441","2025-10-21",-737,201.72,null,null,"도매 및 상품중개업(46)","G"]
["IPOS2","&T COSAMSUNG CT COR","PEB","100443","VND",-135025882,0,0,"2021-08-19","2023-10-15","C13",7510,"002-000934-840",3,"GTE","HBVN","VNM ","tst202-81idn","FNI",2,"PEBSEL100443","2025-10-22",-738,616.06564691408653,null,null,"도매 및 상품중개업(46)","G"]
["IPOS2","ONG KGC-HSBC HNG KO","PEB","100447","USD",-22868400,0,0,"2021-08-24","2022-03-24","BRO",10650,"002-500801-840",0,"   ","HSBC","SEL ","tst026387idn","FNI",2,"PEBSEL100447","2025-10-23",-1309,"",null,null,"금융업(64)","K"]
["IPOS2","ONG ATHE HONGKNG AN","PEB","100452","KRW",-1473084250,-1473084250,-1473084250,"2021-08-27","2029-10-31","BRO",10650,"002-703827-840",0,"   ","HSBC","SEL ","tstS16FC0idn","FNI",2,"PEBSEL100452","2025-10-24",1468,"",null,null,"금융업(64)","K"]
["IPOS2","CAL EIMI CRITIAL EN","PEB","100455","USD",-6458500,-6458500,-87622470,"2021-08-30","2023-11-30","C13",4310,"002-097164-840",3,"GTE","HSBC","SEL ","tst136-81idn","FNI",2,"PEBSEL100455","2025-10-25",-695,578.26400000000001,null,null,"전기장비 제조업(28)","C"]
["IPOS2","CAL EIMI CRITIAL EN","PEB","100456","USD",-5521500,-5521500,-74910191,"2021-08-30","2023-11-30","C13",4310,"002-097164-840",3,"GTE","HSBC","SEL ","tst136-81idn","FNI",2,"PEBSEL100456","2025-10-26",-696,484.12799999999993,null,null,"전기장비 제조업(28)","C"]
["IPOS2","CAL EIMI CRITIAL EN","PEB","100467","USD",-1525100,0,0,"2021-09-07","2023-07-30","C13",4310,"002-097164-840",3,"GTE","HSBC","SEL ","tst136-81idn","FNI",2,"PEBSEL100467","2025-10-27",-820,"",null,null,"전기장비 제조업(28)","C"]
["IPOS2","CA KOASTRAZENEA KOR","PEB","100470","KRW",-5712989544,-5712989544,-5712989544,"2021-09-13","2027-05-31","C13",7510,"002-010464-840",3,"GTE","HSBC","SEL ","tst214-81idn","FNI",2,"PEBSEL100470","2025-10-28",580,37504,null,null,"도매 및 상품중개업(46)","G"]
["IPOS2","R LINKOREAN AI LINE","PEB","100476","INR",-98555400,-98555400,-16055877,"2021-09-10","2024-10-27","C13",9620,"002-705658-840",3,"GTE","HSBC","INM ","tst110-81idn","FNI",2,"PEBSEL100476","2025-10-29",-367,1814.7970899661452,null,null,"항공운송업(51)","H"]
["IPOS2","R LINKOREAN AI LINE","PEB","100478","INR",-161500000,-161500000,-26310320,"2021-09-10","2024-10-27","C13",9620,"002-705658-840",3,"GTE","HSBC","INM ","tst110-81idn","FNI",2,"PEBSEL100478","2025-10-30",-368,2973.8068140891728,null,null,"항공운송업(51)","H"]
["IPOS2","ERINGGS ENGINERING ","PEB","100495","USD",-10,0,0,"2021-09-16","2022-12-20","C13",6450,"002-709138-840",3,"GTE","HSBC","SEL ","tst104-81idn","FNI",2,"PEBSEL100495","2025-10-31",-1046,"",null,null,"종합건설업(41)","F"]
["IPOS2","CAL EIMI CRITIAL EN","PEB","100496","USD",-14000000,-14000000,-189938000,"2021-09-17","2025-12-31","C13",4310,"002-097164-840",3,"GTE","HSBC","SEL ","tst136-81idn","FNI",2,"PEBSEL100496","2025-11-01",60,14591.08,null,null,"전기장비 제조업(28)","C"]
["IPOS2","CAL EIMI CRITIAL EN","PEB","100500","USD",-3293400,-3293400,-44681558,"2021-09-24","2025-12-31","C13",4310,"002-097164-840",3,"GTE","HSBC","SEL ","tst136-81idn","FNI",2,"PEBSEL100500","2025-11-02",59,3429.24,null,null,"전기장비 제조업(28)","C"]
["IPOS2","R LINKOREAN AI LINE","PEB","100502","INR",-600000000,-600000000,-97747320,"2021-09-29","2039-12-31","C13",9620,"002-705658-840",3,"GTE","HSBC","INM ","tst110-81idn","FNI",2,"PEBSEL100502","2025-11-03",5171,11048.451103267784,null,null,"항공운송업(51)","H"]
["IPOS2","R LINKOREAN AI LINE","PEB","100503","INR",-270000000,-270000000,-43986294,"2021-09-29","2039-12-31","C13",9620,"002-705658-840",3,"GTE","HSBC","INM ","tst110-81idn","FNI",2,"PEBSEL100503","2025-11-04",5170,4971.8433575836143,null,null,"항공운송업(51)","H"]
["IPOS2","R LINKOREAN AI LINE","PEB","100504","INR",-1306139300,-1306139300,-212786027,"2021-09-29","2039-12-31","C13",9620,"002-705658-840",3,"GTE","HSBC","INM ","tst110-81idn","FNI",2,"PEBSEL100504","2025-11-05",5169,24051.348747869091,null,null,"항공운송업(51)","H"]
["IPOS2","ERINGGS ENGINERING ","PEB","100507","USD",-139327000,-139327000,-1890249409,"2021-09-30","2024-07-15","C13",6450,"002-709138-840",3,"GTE","BBME","DUB ","tst104-81idn","FNI",2,"PEBSEL100507","2025-11-06",-479,299110.41599999997,null,null,"종합건설업(41)","F"]
["IPOS2","CAL EIMI CRITIAL EN","PEB","100521","KRW",-8578460,0,0,"2021-10-07","2022-04-14","C13",4310,"002-097164-840",3,"GTE","HSBC","SEL ","tst136-81idn","FNI",2,"PEBSEL100521","2025-11-07",-1303,"",null,null,"전기장비 제조업(28)","C"]
["IPOS2","M KORPETRO-CHE KORE","PEB","100527","KRW",-803000000,0,0,"2021-10-20","2022-11-30","MFS",4290,"002-242604-840",3,"GTE","HSBC","SEL ","tst107-81idn","FNI",2,"PEBSEL100527","2025-11-08",-1074,"",null,null,"기타 기계 및 장비 제조업(29)","C"]
["IPOS2","ONG ATHE HONGKNG AN","PEB","100529","KRW",-1,0,0,"2021-10-20","2021-11-20","BRO",10650,"002-703827-840",0,"   ","HSBC","SEL ","tstS16FC0idn","FNI",2,"PEBSEL100529","2025-11-09",-1450,"",null,null,"금융업(64)","K"]
["IPOS2"," USA,HSBC BANKUSA, ","PEB","100537","USD",-939910,0,0,"2021-10-21","2023-05-22","FPO",10650,"002-551730-840",0,"   ","HSBC","SEL ","tst20-117idn","FNI",2,"PEBSEL100537","2025-11-10",-903,"",null,null,"금융업(64)","K"]
["IPOS2"," USA,HSBC BANKUSA, ","PEB","100538","USD",-583360,0,0,"2021-10-21","2023-04-16","FPO",10650,"002-551730-840",0,"   ","HSBC","SEL ","tst20-117idn","FNI",2,"PEBSEL100538","2025-11-11",-940,"",null,null,"금융업(64)","K"]
["IPOS2"," USA,HSBC BANKUSA, ","PEB","100543","USD",-3945715,0,0,"2021-10-25","2023-04-29","FPO",10650,"002-551730-840",0,"   ","HSBC","SEL ","tst20-117idn","FNI",2,"PEBSEL100543","2025-11-12",-928,"",null,null,"금융업(64)","K"]
["IPOS2","ONG ATHE HONGKNG AN","PEB","100545","USD",-555660,0,0,"2021-10-29","2022-01-16","BRO",10650,"002-703827-840",0,"   ","NACF","KRSE","tstS16FC0idn","FNI",2,"PEBSEL100545","2025-11-13",-1397,"",null,null,"금융업(64)","K"]
["IPOS2","ONG ATHE HONGKNG AN","PEB","100547","USD",-360970,0,0,"2021-10-29","2022-03-17","BRO",10650,"002-703827-840",0,"   ","NACF","KRSE","tstS16FC0idn","FNI",2,"PEBSEL100547","2025-11-14",-1338,"",null,null,"금융업(64)","K"]
["IPOS2","ONG ATHE HONGKNG AN","PEB","100556","USD",-773730,0,0,"2021-11-01","2022-02-20","BRO",10650,"002-703827-840",0,"   ","NACF","KRSE","tstS16FC0idn","FNI",2,"PEBSEL100556","2025-11-15",-1364,"",null,null,"금융업(64)","K"]
["IPOS2","CAL EIMI CRITIAL EN","PEB","100568","USD",-770000,-770000,-10446590,"2021-11-09","2023-10-30","C13",4310,"002-097164-840",3,"GTE","HSBC","SEL ","tst136-81idn","FNI",2,"PEBSEL100568","2025-11-16",-748,67.239999999999995,null,null,"전기장비 제조업(28)","C"]
["IPOS2","SA COKYUNGDONGA CO.","PEB","100643","KRW",-50000000,0,0,"2021-11-15","2023-01-13","C13",4240,"002-267856-840",4,"GTE","HSBC","SEL ","tst502-81idn","FNI",2,"PEBSEL100643","2025-11-17",-1039,"",null,null,"화학물질 및 화학제품 제조업(의약품 제외)(20)","C"]
["IPOS2","SA COKYUNGDONGA CO.","PEB","100674","KRW",-1,0,0,"2021-11-22","2022-03-03","C13",4240,"002-267856-840",4,"GTE","HSBC","SEL ","tst502-81idn","FNI",2,"PEBSEL100674","2025-11-18",-1356,"",null,null,"화학물질 및 화학제품 제조업(의약품 제외)(20)","C"]
["IPOS2","Y (ALGE COMPAN (ALO","PEB","100724","EUR",-37401360,-37401360,-534926646,"2021-11-25","2026-07-23","C11",4320,"002-705913-840",3,"GTE","KOAB","KRSL","tst14-068idn","FNI",2,"PEBSEL100724","2025-11-19",246,8118.0358176,null,null,"전자부품, 컴퓨터, 영상, 음향 및 통신장비 제조업(26)","C"]
["IPOS2","ONG ATHE HONGKNG AN","PEB","100743","USD",-122200000,0,0,"2021-11-30","2022-12-24","BRO",10650,"002-703827-840",0,"   ","HSBC","SEL ","tstS16FC0idn","FNI",2,"PEBSEL100743","2025-11-20",-1062,"",null,null,"금융업(64)","K"]
["IPOS2"," MALAHSBC BANKMALAY","PEB","100751","USD",-2370000,0,0,"2021-12-03","2022-05-31","GPO",10650,"002-706764-840",0,"   ","HSBC","SEL ","tst 12777idn","FNI",2,"PEBSEL100751","2025-11-21",-1270,"",null,null,"금융업(64)","K"]
["IPOS2","Y (ALGE COMPAN (ALO","PEB","100755","USD",-218738,0,0,"2021-12-07","2023-10-09","C11",4320,"002-705913-840",3,"GTE","HSBC","SEL ","tst14-068idn","FNI",2,"PEBSEL100755","2025-11-22",-775,0,null,null,"전자부품, 컴퓨터, 영상, 음향 및 통신장비 제조업(26)","C"]
["IPOS2","Y (ALGE COMPAN (ALO","PEB","100756","USD",-146914,-146914,-1993182,"2021-12-07","2023-12-16","C11",4320,"002-705913-840",3,"GTE","HSBC","SEL ","tst14-068idn","FNI",2,"PEBSEL100756","2025-11-23",-708,13.448,null,null,"전자부품, 컴퓨터, 영상, 음향 및 통신장비 제조업(26)","C"]
["IPOS2","R LINKOREAN AI LINE","PEB","100761","INR",-100,0,0,"2021-12-13","2022-12-24","C13",9620,"002-705658-840",3,"GTE","HSBC","SEL ","tst110-81idn","FNI",2,"PEBSEL100761","2025-11-24",-1066,"",null,null,"항공운송업(51)","H"]
["IPOS2","CAL EIMI CRITIAL EN","PEB","100762","KRW",-7373410,0,0,"2021-12-15","2022-03-08","C13",4310,"002-097164-840",3,"GTE","HSBC","SEL ","tst136-81idn","FNI",2,"PEBSEL100762","2025-11-25",-1358,"",null,null,"전기장비 제조업(28)","C"]
["IPOS2"," MALAHSBC BANKMALAY","PEB","100772","EUR",-3328000,0,0,"2021-12-29","2022-07-31","GPO",10650,"002-706764-840",0,"   ","HSBC","SEL ","tst 12777idn","FNI",2,"PEBSEL100772","2025-11-26",-1214,"",null,null,"금융업(64)","K"]
["IPOS2"," (CHIHSBC BANK(CHIN","PEB","100773","USD",-2723900,0,0,"2021-12-21","2022-10-30","GPO",10650,"002-437748-840",3,"   ","KOAB","KRSL","tst913100idn","FNI",2,"PEBSEL100773","2025-11-27",-1124,"",null,null,"금융업(64)","K"]
["IPOS2"," (CHIHSBC BANK(CHIN","PEB","100774","USD",-14370470,0,0,"2021-12-21","2022-07-30","GPO",10650,"002-437748-840",3,"   ","KOAB","KRSL","tst913100idn","FNI",2,"PEBSEL100774","2025-11-28",-1217,"",null,null,"금융업(64)","K"]
["IPOS2"," (CHIHSBC BANK(CHIN","PEB","100775","USD",-18629530,0,0,"2021-12-21","2022-07-30","GPO",10650,"002-437748-840",3,"   ","KOAB","KRSL","tst913100idn","FNI",2,"PEBSEL100775","2025-11-29",-1218,"",null,null,"금융업(64)","K"]
["IPOS2","R LINKOREAN AI LINE","PEB","100781","INR",-100,0,0,"2021-12-27","2022-12-24","C13",9620,"002-705658-840",3,"GTE","HSBC","SEL ","tst110-81idn","FNI",2,"PEBSEL100781","2025-11-30",-1072,"",null,null,"항공운송업(51)","H"]
["IPOS2","&T COSAMSUNG CT COR","PEB","130017","INR",-8659800000,0,0,"2013-02-20","2021-03-04","C13",7510,"002-000934-840",3,"GTE","HSBC","INM ","tst202-81idn","FNI",2,"PEBSEL130017","2025-12-01",-1733,"",null,null,"도매 및 상품중개업(46)","G"]
["IPOS2","&T COSAMSUNG CT COR","PEB","130156","TRY",-1655063800,0,0,"2014-06-18","2022-10-27","C13",7510,"002-000934-840",3,"GTE","MDBA","TRHO","tst202-81idn","FNI",2,"PEBSEL130156","2025-12-02",-1132,"",null,null,"도매 및 상품중개업(46)","G"]
["IPOS2","DS COSAMSUNG SS CO.","PEB","150285","KWD",-1050672832,0,0,"2016-07-14","2019-09-04","C13",11740,"002-717472-840",3,"GTE","BBME","SFT ","tst110-81idn","FNI",2,"PEBSEL150285","2025-12-03",-2282,"",null,null,"   사업지원서비스업(75)","M"]
["IPOS2","DUSTRVEOLIA INUSTRI","PEB","200002","KRW",-594966953,-594966953,-594966953,"2022-01-05","2024-12-31","C13",5410,"002-705155-840",3,"GTE","HSBC","SEL ","tst126-81idn","FNI",2,"PEBSEL200002","2025-12-04",-338,9079,null,null,"수도사업(36)","D"]
["IPOS2","CAL EIMI CRITIAL EN","PEB","200009","KRW",-8580000,0,0,"2022-01-13","2022-05-16","C13",4310,"002-097164-840",3,"GTE","HSBC","SEL ","tst136-81idn","FNI",2,"PEBSEL200009","2025-12-05",-1299,"",null,null,"전기장비 제조업(28)","C"]
["IPOS2","INCORMCKINSEY NCORP","PEB","200017","KRW",-713336592,0,0,"2022-01-18","2022-10-19","C13",11740,"002-251438-840",4,"GTE","HSBC","SEL ","tst102-84idn","FNI",2,"PEBSEL200017","2025-12-06",-1144,"",null,null,"   사업지원서비스업(75)","M"]
["IPOS2"," & CHPOSCO ECO& CHA","PEB","200023","MYR",-189385000,-189385000,-538937875,"2022-01-19","2024-02-27","C13",6450,"002-094821-840",3,"GTE","HBMB","KLH ","tst506-81idn","FNI",2,"PEBSEL200023","2025-12-07",-649,4108.9518123667376,null,null,"종합건설업(41)","F"]
["IPOS2","CAL EIMI CRITIAL EN","PEB","200038","KRW",-5841990,0,0,"2022-01-28","2022-04-22","C13",4310,"002-097164-840",3,"GTE","HSBC","SEL ","tst136-81idn","FNI",2,"PEBSEL200038","2025-12-08",-1326,"",null,null,"전기장비 제조업(28)","C"]
["IPOS2","CAL EIMI CRITIAL EN","PEB","200039","KRW",-2695000,0,0,"2022-01-28","2022-06-20","C13",4310,"002-097164-840",3,"GTE","HSBC","SEL ","tst136-81idn","FNI",2,"PEBSEL200039","2025-12-09",-1268,"",null,null,"전기장비 제조업(28)","C"]
["IPOS2"," HEALCELLTRIONHEALT","PEB","200057","EUR",-2268000,-2268000,-32437688,"2022-02-16","2026-01-18","C13",3540,"002-067662-840",3,"GTE","KDBK","BEBF","tst123-81idn","FNI",2,"PEBSEL200057","2025-12-10",39,497.60289599999999,null,null,"",""]
["IPOS2","CA KOASTRAZENEA KOR","PEB","200062","KRW",-43273972602,-43273972602,-43273972602,"2022-02-16","2027-07-30","C13",7510,"002-010464-840",3,"GTE","HSBC","SEL ","tst214-81idn","FNI",2,"PEBSEL200062","2025-12-11",596,284080,null,null,"도매 및 상품중개업(46)","G"]
["IPOS2","ONG ATHE HONGKNG AN","PEB","200063","KRW",-233000000,0,0,"2022-02-18","2022-09-24","BRO",10650,"002-703827-840",0,"   ","HSBC","SEL ","tstS16FC0idn","FNI",2,"PEBSEL200063","2025-12-12",-1175,"",null,null,"금융업(64)","K"]
["IPOS2","DUSTRVEOLIA INUSTRI","PEB","200111","KRW",-166000000,0,0,"2022-02-28","2023-02-28","C13",5410,"002-705155-840",3,"GTE","HSBC","SEL ","tst126-81idn","FNI",2,"PEBSEL200111","2025-12-13",-1019,"",null,null,"수도사업(36)","D"]
["IPOS2","DUSTRVEOLIA INUSTRI","PEB","200112","KRW",-871470,0,0,"2022-02-28","2022-03-10","C13",5410,"002-705155-840",3,"GTE","HSBC","SEL ","tst126-81idn","FNI",2,"PEBSEL200112","2025-12-14",-1375,"",null,null,"수도사업(36)","D"]
["IPOS2","DUSTRVEOLIA INUSTRI","PEB","200114","KRW",-194556000,0,0,"2022-02-28","2023-02-28","C13",5410,"002-705155-840",3,"GTE","HSBC","SEL ","tst126-81idn","FNI",2,"PEBSEL200114","2025-12-15",-1021,"",null,null,"수도사업(36)","D"]
["IPOS2","DUSTRVEOLIA INUSTRI","PEB","200115","KRW",-235080000,0,0,"2022-02-28","2023-02-28","C13",5410,"002-705155-840",3,"GTE","HSBC","SEL ","tst126-81idn","FNI",2,"PEBSEL200115","2025-12-16",-1022,"",null,null,"수도사업(36)","D"]
["IPOS2","DUSTRVEOLIA INUSTRI","PEB","200116","KRW",-161856000,0,0,"2022-02-28","2023-02-28","C13",5410,"002-705155-840",3,"GTE","HSBC","SEL ","tst126-81idn","FNI",2,"PEBSEL200116","2025-12-17",-1023,"",null,null,"수도사업(36)","D"]
["IPOS2","DUSTRVEOLIA INUSTRI","PEB","200117","KRW",-142560000,0,0,"2022-02-28","2023-02-28","C13",5410,"002-705155-840",3,"GTE","HSBC","SEL ","tst126-81idn","FNI",2,"PEBSEL200117","2025-12-18",-1024,"",null,null,"수도사업(36)","D"]
["IPOS2","DUSTRVEOLIA INUSTRI","PEB","200119","KRW",-614726955,-614726955,-614726955,"2022-03-02","2025-02-28","C13",5410,"002-705155-840",3,"GTE","HSBC","SEL ","tst126-81idn","FNI",2,"PEBSEL200119","2025-12-19",-294,9380,null,null,"수도사업(36)","D"]
["IPOS2"," PLC HSBC BANKPLC  ","PEB","200127","USD",-930000,0,0,"2022-03-07","2022-12-16","FPO",10650,"002-115288-840",0,"   ","HSBC","SEL ","tst14259-idn","FNI",2,"PEBSEL200127","2025-12-20",-1100,"",null,null,"금융업(64)","K"]
["IPOS2","THOMPWUNDERMANHOMPS","PEB","200132","KRW",-50000000,0,0,"2022-03-10","2022-08-31","C13",11740,"002-514489-840",3,"GTE","HSBC","SEL ","tst120-87idn","FNI",2,"PEBSEL200132","2025-12-21",-1208,"",null,null,"   사업지원서비스업(75)","M"]
["IPOS2","THOMPWUNDERMANHOMPS","PEB","200134","KRW",-200000000,0,0,"2022-03-10","2022-08-31","C13",11740,"002-514489-840",3,"GTE","HSBC","SEL ","tst120-87idn","FNI",2,"PEBSEL200134","2025-12-22",-1209,"",null,null,"   사업지원서비스업(75)","M"]
["IPOS2"," USA,HSBC BANKUSA, ","PEB","200141","USD",-1637735,0,0,"2022-03-15","2023-06-30","FPO",10650,"002-551730-840",0,"   ","HSBC","SEL ","tst20-117idn","FNI",2,"PEBSEL200141","2025-12-23",-907,"",null,null,"금융업(64)","K"]
["IPOS2"," USA,HSBC BANKUSA, ","PEB","200142","USD",-3150045,0,0,"2022-03-15","2023-06-10","FPO",10650,"002-551730-840",0,"   ","HSBC","SEL ","tst20-117idn","FNI",2,"PEBSEL200142","2025-12-24",-928,"",null,null,"금융업(64)","K"]
["IPOS2"," USA,HSBC BANKUSA, ","PEB","200143","USD",-4142345,0,0,"2022-03-15","2023-06-16","FPO",10650,"002-551730-840",0,"   ","HSBC","SEL ","tst20-117idn","FNI",2,"PEBSEL200143","2025-12-25",-923,"",null,null,"금융업(64)","K"]
["IPOS2"," USA,HSBC BANKUSA, ","PEB","200144","USD",-2717950,0,0,"2022-03-15","2023-06-30","FPO",10650,"002-551730-840",0,"   ","HSBC","SEL ","tst20-117idn","FNI",2,"PEBSEL200144","2025-12-26",-910,"",null,null,"금융업(64)","K"]
["IPOS2","Y (ALGE COMPAN (ALO","PEB","200155","GBP",-1067640,0,0,"2022-03-23","2022-07-12","C11",4320,"002-705913-840",3,"GTE","HSBC","SEL ","tst14-068idn","FNI",2,"PEBSEL200155","2025-12-27",-1264,"",null,null,"전자부품, 컴퓨터, 영상, 음향 및 통신장비 제조업(26)","C"]
["IPOS2","DUSTRVEOLIA INUSTRI","PEB","200160","KRW",-461400000,-461400000,-461400000,"2022-03-25","2024-11-30","C13",5410,"002-705155-840",3,"GTE","HSBC","SEL ","tst126-81idn","FNI",2,"PEBSEL200160","2025-12-28",-393,7041,null,null,"수도사업(36)","D"]
["IPOS2","CAL EIMI CRITIAL EN","PEB","200164","KRW",-206470000,-206470000,-206470000,"2022-03-28","2024-06-30","C13",4310,"002-097164-840",3,"GTE","HSBC","SEL ","tst136-81idn","FNI",2,"PEBSEL200164","2025-12-29",-547,13374,null,null,"전기장비 제조업(28)","C"]
["IPOS2","CAL EIMI CRITIAL EN","PEB","200166","KRW",-5938240,0,0,"2022-03-28","2022-12-15","C13",4310,"002-097164-840",3,"GTE","HSBC","SEL ","tst136-81idn","FNI",2,"PEBSEL200166","2025-12-30",-1111,"",null,null,"전기장비 제조업(28)","C"]
["IPOS2","CAL EIMI CRITIAL EN","PEB","200185","EUR",-27948620,-27948620,-399730425,"2022-04-11","2024-02-21","C13",4310,"002-097164-840",3,"GTE","HSBC","SEL ","tst136-81idn","FNI",2,"PEBSEL200185","2025-12-31",-679,14771.6973984,null,null,"전기장비 제조업(28)","C"]
["IPOS2"," USA,HSBC BANKUSA, ","PEB","200187","USD",-3595625,-3595625,-48781844,"2022-04-11","2023-11-29","FPO",10650,"002-551730-840",0,"   ","HSBC","SEL ","tst20-117idn","FNI",2,"PEBSEL200187","2026-01-01",-764,"",null,null,"금융업(64)","K"]
["IPOS2"," MALAHSBC BANKMALAY","PEB","200190","USD",-11140000,-11140000,-151136380,"2022-04-14","2024-11-02","GPO",10650,"002-706764-840",0,"   ","HSBC","SEL ","tst 12777idn","FNI",2,"PEBSEL200190","2026-01-02",-426,"",null,null,"금융업(64)","K"]
["IPOS2","Y (ALGE COMPAN (ALO","PEB","200196","USD",-170000000,-170000000,-2306390000,"2022-04-28","2029-08-28","C11",4320,"002-705913-840",3,"GTE","HSBC","SEL ","tst14-068idn","FNI",2,"PEBSEL200196","2026-01-03",1333,34884.111999999994,null,null,"전자부품, 컴퓨터, 영상, 음향 및 통신장비 제조업(26)","C"]
["IPOS2"," USA,HSBC BANKUSA, ","PEB","200226","USD",-11985000,-11985000,-162600495,"2022-05-10","2024-05-07","FPO",10650,"002-551730-840",0,"   ","HSBC","SEL ","tst20-117idn","FNI",2,"PEBSEL200226","2026-01-04",-607,"",null,null,"금융업(64)","K"]
["IPOS2","DUSTRVEOLIA INUSTRI","PEB","200228","KRW",-45895914,0,0,"2022-05-12","2023-02-28","C13",5410,"002-705155-840",3,"GTE","HSBC","SEL ","tst126-81idn","FNI",2,"PEBSEL200228","2026-01-05",-1042,"",null,null,"수도사업(36)","D"]
["IPOS2","DUSTRVEOLIA INUSTRI","PEB","200229","KRW",-299698458,0,0,"2022-05-12","2023-02-28","C13",5410,"002-705155-840",3,"GTE","HSBC","SEL ","tst126-81idn","FNI",2,"PEBSEL200229","2026-01-06",-1043,"",null,null,"수도사업(36)","D"]
["IPOS2"," USA,HSBC BANKUSA, ","PEB","200233","USD",-5029750,-5029750,-68238618,"2022-05-17","2024-04-25","FPO",10650,"002-551730-840",0,"   ","HSBC","SEL ","tst20-117idn","FNI",2,"PEBSEL200233","2026-01-07",-622,"",null,null,"금융업(64)","K"]
["IPOS2","A BR)HSBC(INDI BR) ","PEB","200246","EUR",-25575000,-25575000,-365782126,"2022-05-24","2027-06-01","BRO",10650,"002-706707-840",0,"   ","HSBC","SEL ","tst F0094idn","FNI",2,"PEBSEL200246","2026-01-08",509,"",null,null,"금융업(64)","K"]
["IPOS2"," LTD.SKF KOREALTD. ","PEB","200255","USD",-5440500,0,0,"2022-05-25","2023-06-24","C13",4280,"002-595834-840",3,"GTE","BKAW","ILTY","tst618-81idn","FNI",2,"PEBSEL200255","2026-01-09",-930,"",null,null,"금속가공제품 제조업(기계 및 가구 제외)(25)","C"]
["IPOS2","ERINGGS ENGINERING ","PEB","200257","USD",-100000000,0,0,"2022-05-25","2022-12-01","C13",6450,"002-709138-840",3,"GTE","BBME","DUB ","tst104-81idn","FNI",2,"PEBSEL200257","2026-01-10",-1136,"",null,null,"종합건설업(41)","F"]
["IPOS2","A BR)HSBC(INDI BR) ","PEB","200272","USD",-3596900,-3596900,-48799142,"2022-06-09","2026-12-24","BRO",10650,"002-706707-840",0,"   ","HSBC","SEL ","tst F0094idn","FNI",2,"PEBSEL200272","2026-01-11",347,"",null,null,"금융업(64)","K"]
["IPOS2","CAL EIMI CRITIAL EN","PEB","200278","USD",-19447830,-19447830,-263848710,"2022-06-16","2026-06-09","C13",4310,"002-097164-840",3,"GTE","HSBC","SEL ","tst136-81idn","FNI",2,"PEBSEL200278","2026-01-12",148,20279.583999999999,null,null,"전기장비 제조업(28)","C"]
["IPOS2"," MALAHSBC BANKMALAY","PEB","200281","EUR",-2990000,0,0,"2022-06-15","2022-10-30","GPO",10650,"002-706764-840",0,"   ","HSBC","SEL ","tst 12777idn","FNI",2,"PEBSEL200281","2026-01-13",-1171,"",null,null,"금융업(64)","K"]
["IPOS2"," MALAHSBC BANKMALAY","PEB","200294","EUR",-13870000,0,0,"2022-06-27","2023-09-30","GPO",10650,"002-706764-840",0,"   ","HSBC","SEL ","tst 12777idn","FNI",2,"PEBSEL200294","2026-01-14",-837,"",null,null,"금융업(64)","K"]
["IPOS2","CAL EIMI CRITIAL EN","PEB","200299","KRW",-148430700,0,0,"2022-06-23","2023-09-18","C13",4310,"002-097164-840",3,"GTE","HSBC","SEL ","tst136-81idn","FNI",2,"PEBSEL200299","2026-01-15",-850,599,null,null,"전기장비 제조업(28)","C"]
["IPOS2"," USA,HSBC BANKUSA, ","PEB","200307","USD",-159390000,0,0,"2022-06-29","2023-04-08","FPO",10650,"002-551730-840",0,"   ","HSBC","SEL ","tst20-117idn","FNI",2,"PEBSEL200307","2026-01-16",-1014,"",null,null,"금융업(64)","K"]
["IPOS2","L FORDHL GLOBA FORW","PEB","200312","KRW",-150000000,0,0,"2022-07-01","2023-03-01","C13",9630,"002-618381-840",3,"GTE","HSBC","SEL ","tst109-81idn","FNI",2,"PEBSEL200312","2026-01-17",-1053,"",null,null,"창고 및 운송관련 서비스업(52)","H"]
["IPOS2","L FORDHL GLOBA FORW","PEB","200314","KRW",-100000000,0,0,"2022-07-01","2023-08-30","C13",9630,"002-618381-840",3,"GTE","HSBC","SEL ","tst109-81idn","FNI",2,"PEBSEL200314","2026-01-18",-872,495,null,null,"창고 및 운송관련 서비스업(52)","H"]
["IPOS2","ONG ATHE HONGKNG AN","PEB","200315","KRW",-868071050,-868071050,-868071050,"2022-07-01","2024-06-30","BRO",10650,"002-703827-840",0,"   ","HSBC","SEL ","tstS16FC0idn","FNI",2,"PEBSEL200315","2026-01-19",-568,"",null,null,"금융업(64)","K"]
["IPOS2"," SEA DSV AIR &SEA L","PEB","200318","KRW",-100000000,0,0,"2022-07-07","2023-06-30","C13",9630,"002-085787-840",3,"GTE","HSBC","SEL ","tst109-81idn","FNI",2,"PEBSEL200318","2026-01-20",-935,"",null,null,"창고 및 운송관련 서비스업(52)","H"]
["IPOS2","CAL EIMI CRITIAL EN","PEB","200320","USD",-15840352,-15840352,-214906056,"2022-07-07","2026-03-15","C13",4310,"002-097164-840",3,"GTE","HSBC","SEL ","tst136-81idn","FNI",2,"PEBSEL200320","2026-01-21",53,16514.144,null,null,"전기장비 제조업(28)","C"]
["IPOS2","M KORPETRO-CHE KORE","PEB","200325","KRW",-1177000000,0,0,"2022-07-11","2023-07-31","MFS",4290,"002-242604-840",3,"GTE","HSBC","SEL ","tst107-81idn","FNI",2,"PEBSEL200325","2026-01-22",-906,"",null,null,"기타 기계 및 장비 제조업(29)","C"]
["IPOS2","ONG ATHE HONGKNG AN","PEB","200335","KRW",-1679349246,-1679349246,-1679349246,"2022-07-13","2024-12-01","BRO",10650,"002-703827-840",0,"   ","HSBC","SEL ","tstS16FC0idn","FNI",2,"PEBSEL200335","2026-01-23",-418,"",null,null,"금융업(64)","K"]
["IPOS2","., LTDL E&C CO, LTD","PEB","200337","USD",-60000000,0,0,"2022-07-14","2023-04-15","C13",6450,"002-091316-840",3,"GTE","HBMB","KLH ","tst676-87idn","FNI",2,"PEBSEL200337","2026-01-24",-1015,"",null,null,"종합건설업(41)","F"]
["IPOS2","ANK PHSBC UK BNK PL","PEB","200340","USD",-2150000,-2150000,-29169050,"2022-07-19","2024-12-15","FPO",10650,"002-173789-840",3,"   ","HSBC","SEL ","tst099284idn","FNI",2,"PEBSEL200340","2026-01-25",-406,"",null,null,"금융업(64)","K"]
["IPOS2","     HSBC TKY      ","PEB","200341","KRW",-200000000,-200000000,-200000000,"2022-07-20","2024-09-30","BRO",10650,"002-017162-840",0,"   ","HSBC","SEL ","tst0100-0idn","FNI",2,"PEBSEL200341","2026-01-26",-483,"",null,null,"금융업(64)","K"]
["IPOS2","     HSBC TKY      ","PEB","200342","KRW",-300000000,-300000000,-300000000,"2022-07-21","2024-09-30","BRO",10650,"002-017162-840",0,"   ","HSBC","SEL ","tst0100-0idn","FNI",2,"PEBSEL200342","2026-01-27",-484,"",null,null,"금융업(64)","K"]
["IPOS2","     HSBC TKY      ","PEB","200343","KRW",-300000000,-300000000,-300000000,"2022-07-21","2024-09-30","BRO",10650,"002-017162-840",0,"   ","HSBC","SEL ","tst0100-0idn","FNI",2,"PEBSEL200343","2026-01-28",-485,"",null,null,"금융업(64)","K"]
["IPOS2","ONG KGC-HSBC HNG KO","PEB","200360","KRW",-780000000,-780000000,-780000000,"2022-08-02","2031-02-14","BRO",10650,"002-500801-840",0,"   ","HSBC","SEL ","tst026387idn","FNI",2,"PEBSEL200360","2026-01-29",1842,"",null,null,"금융업(64)","K"]
["IPOS2","Y (ALGE COMPAN (ALO","PEB","200380","EUR",-11251890,-11251890,-160928260,"2022-08-11","2023-12-31","C11",4320,"002-705913-840",3,"GTE","KOEX","KRCK","tst14-068idn","FNI",2,"PEBSEL200380","2026-01-30",-761,824.59908480000001,null,null,"전자부품, 컴퓨터, 영상, 음향 및 통신장비 제조업(26)","C"]
["IPOS2","ONG ATHE HONGKNG AN","PEB","200382","KRW",-5200000,-5200000,-5200000,"2022-08-05","2027-08-09","BRO",10650,"002-703827-840",0,"   ","HSBC","SEL ","tstS16FC0idn","FNI",2,"PEBSEL200382","2026-01-31",555,"",null,null,"금융업(64)","K"]
["IPOS2"," LTD.DHL KOREALTD. ","PEB","200384","KRW",-130000000,0,0,"2022-08-12","2023-08-31","C13",9630,"002-218875-840",3,"GTE","HSBC","SEL ","tst105-86idn","FNI",2,"PEBSEL200384","2026-02-01",-885,5,null,null,"창고 및 운송관련 서비스업(52)","H"]
["IPOS2","CAL EIMI CRITIAL EN","PEB","200400","KRW",-5500000,-5500000,-5500000,"2022-08-23","2023-12-30","C13",4310,"002-097164-840",3,"GTE","HSBC","SEL ","tst136-81idn","FNI",2,"PEBSEL200400","2026-02-02",-765,143,null,null,"전기장비 제조업(28)","C"]
["IPOS2","ON HUDHL INCHEN HUB","PEB","200406","KRW",-1286002009,-1286002009,-1286002009,"2022-08-25","2025-08-03","C13",11000,"002-317315-840",3,"GTE","HSBC","SEL ","tst121-81idn","FNI",2,"PEBSEL200406","2026-02-03",-184,4253,null,null,"L_부동산업 및 임대업","L"]
["IPOS2","O., LPPG SSC C., LT","PEB","200407","KRW",-118997388,0,0,"2022-08-26","2023-04-30","C13",4240,"002-704939-840",3,"GTE","HSBC","SEL ","tst610-81idn","FNI",2,"PEBSEL200407","2026-02-04",-1011,"",null,null,"화학물질 및 화학제품 제조업(의약품 제외)(20)","C"]
["IPOS2","O., LPPG SSC C., LT","PEB","200408","KRW",-118997388,0,0,"2022-08-26","2023-07-17","C13",4240,"002-704939-840",3,"GTE","HSBC","SEL ","tst610-81idn","FNI",2,"PEBSEL200408","2026-02-05",-934,"",null,null,"화학물질 및 화학제품 제조업(의약품 제외)(20)","C"]
["IPOS2","O., LPPG SSC C., LT","PEB","200409","KRW",-118997388,0,0,"2022-08-26","2023-09-17","C13",4240,"002-704939-840",3,"GTE","HSBC","SEL ","tst610-81idn","FNI",2,"PEBSEL200409","2026-02-06",-873,455,null,null,"화학물질 및 화학제품 제조업(의약품 제외)(20)","C"]
["IPOS2","O., LPPG SSC C., LT","PEB","200410","KRW",-118997388,-118997388,-118997388,"2022-08-26","2023-10-30","C13",4240,"002-704939-840",3,"GTE","HSBC","SEL ","tst610-81idn","FNI",2,"PEBSEL200410","2026-02-07",-831,1542,null,null,"화학물질 및 화학제품 제조업(의약품 제외)(20)","C"]
["IPOS2","CAL EIMI CRITIAL EN","PEB","200415","USD",-19353124,-19353124,-262563833,"2022-09-01","2026-04-01","C13",4310,"002-097164-840",3,"GTE","HSBC","SEL ","tst136-81idn","FNI",2,"PEBSEL200415","2026-02-08",52,20172,null,null,"전기장비 제조업(28)","C"]
["IPOS2","ANY LBASF COMPNY LT","PEB","200422","KRW",-27250000,0,0,"2022-09-05","2023-03-01","C13",4240,"002-001792-840",3,"GTE","HSBC","SEL ","tst417-81idn","FNI",2,"PEBSEL200422","2026-02-09",-1076,"",null,null,"화학물질 및 화학제품 제조업(의약품 제외)(20)","C"]
["IPOS2","CAL EIMI CRITIAL EN","PEB","200424","USD",-16140300,-16140300,-218975450,"2022-09-06","2025-09-01","C13",4310,"002-097164-840",3,"GTE","HSBC","SEL ","tst136-81idn","FNI",2,"PEBSEL200424","2026-02-10",-162,16823.448,null,null,"전기장비 제조업(28)","C"]
["IPOS2"," USA,HSBC BANKUSA, ","PEB","200432","USD",-823155,-823155,-11167744,"2022-09-20","2024-03-30","FPO",10650,"002-551730-840",0,"   ","HSBC","SEL ","tst20-117idn","FNI",2,"PEBSEL200432","2026-02-11",-683,"",null,null,"금융업(64)","K"]
["IPOS2"," USA,HSBC BANKUSA, ","PEB","200434","USD",-717795,-717795,-9738325,"2022-09-20","2024-04-30","FPO",10650,"002-551730-840",0,"   ","HSBC","SEL ","tst20-117idn","FNI",2,"PEBSEL200434","2026-02-12",-653,"",null,null,"금융업(64)","K"]
["IPOS2","REA CAZELIS KOEA CO","PEB","200436","KRW",-500000000,0,0,"2022-09-20","2023-08-31","MFS",7000,"002-118085-840",3,"GTE","HSBC","SEL ","tst213-86idn","FNI",2,"PEBSEL200436","2026-02-13",-897,106,null,null,"G_도매 및 소매업","G"]
["IPOS2"," USA,HSBC BANKUSA, ","PEB","200437","USD",-524570,-524570,-7116841,"2022-09-21","2024-03-30","FPO",10650,"002-551730-840",0,"   ","HSBC","SEL ","tst20-117idn","FNI",2,"PEBSEL200437","2026-02-14",-686,"",null,null,"금융업(64)","K"]
["IPOS2"," KOREDECATHLONKOREA","PEB","200443","KRW",-200000000,0,0,"2022-09-26","2023-08-31","C13",7520,"002-866946-840",4,"GTE","HSBC","SEL ","tst220-81idn","FNI",2,"PEBSEL200443","2026-02-15",-899,2,null,null,"소매업(자동차 제외)(47)","G"]
["IPOS2","ANY LBASF COMPNY LT","PEB","200447","KRW",-38060000,0,0,"2022-09-30","2022-12-31","C13",4240,"002-001792-840",3,"GTE","HSBC","SEL ","tst417-81idn","FNI",2,"PEBSEL200447","2026-02-16",-1143,"",null,null,"화학물질 및 화학제품 제조업(의약품 제외)(20)","C"]
["IPOS2"," USA,HSBC BANKUSA, ","PEB","200453","USD",-1159290,-1159290,-15728087,"2022-10-06","2024-05-17","FPO",10650,"002-551730-840",0,"   ","HSBC","SEL ","tst20-117idn","FNI",2,"PEBSEL200453","2026-02-17",-641,"",null,null,"금융업(64)","K"]
["IPOS2","NGINEHYUNDAI EGINEE","PEB","200457","PHP",-194581413994,-194581413994,-46411500491,"2022-10-11","2029-04-23","C13",6450,"002-547340-840",3,"GTE","HSBC","MNL ","tst101-81idn","FNI",2,"PEBSEL200457","2026-02-18",1160,698925.96226150868,null,null,"종합건설업(41)","F"]
["IPOS2","NGINEHYUNDAI EGINEE","PEB","200458","USD",-1117693692,-1117693692,-15163750319,"2022-10-11","2029-04-23","C13",6450,"002-547340-840",3,"GTE","HSBC","MNL ","tst101-81idn","FNI",2,"PEBSEL200458","2026-02-19",1159,229355.64,null,null,"종합건설업(41)","F"]
["IPOS2"," DEVETHE KOREADEVEL","PEB","200460","USD",-124188188,-124188188,-1684861147,"2022-10-11","2029-04-23","BK6",10650,"002-060962-840",3,"   ","HSBC","SEL ","tst101-82idn","FNI",2,"PEBSEL200460","2026-02-20",1158,23453.311999999998,null,null,"금융업(64)","K"]
["IPOS2"," DEVETHE KOREADEVEL","PEB","200461","PHP",-21620157111,-21620157111,-5156833388,"2022-10-11","2029-04-23","BK6",10650,"002-060962-840",3,"   ","HSBC","SEL ","tst101-82idn","FNI",2,"PEBSEL200461","2026-02-21",1157,71456.123367757726,null,null,"금융업(64)","K"]
["IPOS2","CAL EIMI CRITIAL EN","PEB","200462","USD",-7699900,-7699900,-104464543,"2022-10-13","2024-12-31","C13",4310,"002-097164-840",3,"GTE","HSBC","SEL ","tst136-81idn","FNI",2,"PEBSEL200462","2026-02-22",-418,8028.4560000000001,null,null,"전기장비 제조업(28)","C"]
["IPOS2","ONG ATHE HONGKNG AN","PEB","200463","KRW",-547999166,-547999166,-547999166,"2022-10-14","2023-12-31","BRO",10650,"002-703827-840",0,"   ","HSBC","SEL ","tstS16FC0idn","FNI",2,"PEBSEL200463","2026-02-23",-785,"",null,null,"금융업(64)","K"]
["IPOS2","CAL EIMI CRITIAL EN","PEB","200469","USD",-18146980,-18146980,-246200078,"2022-10-20","2025-11-06","C13",4310,"002-097164-840",3,"GTE","HBVN","VNM ","tst136-81idn","FNI",2,"PEBSEL200469","2026-02-24",-110,18921.335999999999,null,null,"전기장비 제조업(28)","C"]
["IPOS2","Y (ALGE COMPAN (ALO","PEB","200479","EUR",-12877400,-12877400,-184176842,"2022-10-24","2025-06-08","C11",4320,"002-705913-840",3,"GTE","HSBC","SEL ","tst14-068idn","FNI",2,"PEBSEL200479","2026-02-25",-262,2800.7934431999997,null,null,"전자부품, 컴퓨터, 영상, 음향 및 통신장비 제조업(26)","C"]
["IPOS2","CA KOASTRAZENEA KOR","PEB","200487","KRW",-263931521,0,0,"2022-10-25","2023-09-29","C13",7510,"002-010464-840",3,"GTE","HSBC","SEL ","tst214-81idn","FNI",2,"PEBSEL200487","2026-02-26",-881,71,null,null,"도매 및 상품중개업(46)","G"]
["IPOS2","IER KROGER VIVER KO","PEB","200489","KRW",-100000000,-100000000,-100000000,"2022-10-25","2023-10-24","C13",4190,"002-171126-840",3,"GTE","HSBC","SEL ","tst261-81idn","FNI",2,"PEBSEL200489","2026-02-27",-857,1583,null,null,"가죽,가방 및 신발 제조업(15)","C"]
["IPOS2","CAL EIMI CRITIAL EN","PEB","200491","KRW",-35200000,0,0,"2022-10-25","2023-02-28","C13",4310,"002-097164-840",3,"GTE","HSBC","SEL ","tst136-81idn","FNI",2,"PEBSEL200491","2026-02-28",-1096,"",null,null,"전기장비 제조업(28)","C"]
["IPOS2","EA INTOD'S KORA INC","PEB","200492","KRW",-100000000,-100000000,-100000000,"2022-10-25","2023-10-24","C13",7520,"002-186916-840",3,"GTE","HSBC","SEL ","tst101-86idn","FNI",2,"PEBSEL200492","2026-03-01",-859,1583,null,null,"소매업(자동차 제외)(47)","G"]
["IPOS2","CA KOASTRAZENEA KOR","PEB","200500","KRW",-481345507,-481345507,-481345507,"2022-10-27","2023-12-25","C13",7510,"002-010464-840",3,"GTE","HSBC","SEL ","tst214-81idn","FNI",2,"PEBSEL200500","2026-03-02",-798,1013,null,null,"도매 및 상품중개업(46)","G"]
["IPOS2"," USA,HSBC BANKUSA, ","PEB","200504","USD",-1938420,0,0,"2022-10-31","2023-02-15","FPO",10650,"002-551730-840",0,"   ","HSBC","SEL ","tst20-117idn","FNI",2,"PEBSEL200504","2026-03-03",-1112,"",null,null,"금융업(64)","K"]
["IPOS2"," USA,HSBC BANKUSA, ","PEB","200505","USD",-1982520,-1982520,-26896849,"2022-10-31","2024-11-30","FPO",10650,"002-551730-840",0,"   ","HSBC","SEL ","tst20-117idn","FNI",2,"PEBSEL200505","2026-03-04",-459,"",null,null,"금융업(64)","K"]
["IPOS2","A BR)HSBC(INDI BR) ","PEB","200522","USD",-23643600,-23643600,-320772721,"2022-11-03","2024-07-31","BRO",10650,"002-706707-840",0,"   ","HSBC","SEL ","tst F0094idn","FNI",2,"PEBSEL200522","2026-03-05",-582,"",null,null,"금융업(64)","K"]
["IPOS2"," USA,HSBC BANKUSA, ","PEB","200523","USD",-1835930,-1835930,-24908062,"2022-11-04","2024-07-20","FPO",10650,"002-551730-840",0,"   ","HSBC","SEL ","tst20-117idn","FNI",2,"PEBSEL200523","2026-03-06",-594,"",null,null,"금융업(64)","K"]
["IPOS2","M KORPETRO-CHE KORE","PEB","200526","KRW",-691900000,0,0,"2022-11-07","2023-09-30","MFS",4290,"002-242604-840",3,"GTE","HSBC","SEL ","tst107-81idn","FNI",2,"PEBSEL200526","2026-03-07",-889,448,null,null,"기타 기계 및 장비 제조업(29)","C"]
["IPOS2"," USA,HSBC BANKUSA, ","PEB","200529","USD",-28211240,-28211240,-382741893,"2022-11-08","2027-12-15","FPO",10650,"002-551730-840",0,"   ","HSBC","SEL ","tst20-117idn","FNI",2,"PEBSEL200529","2026-03-08",647,"",null,null,"금융업(64)","K"]
["IPOS2"," SEA DSV AIR &SEA L","PEB","200537","KRW",-100000000,-100000000,-100000000,"2022-11-11","2023-11-10","C13",9630,"002-085787-840",3,"GTE","HSBC","SEL ","tst109-81idn","FNI",2,"PEBSEL200537","2026-03-09",-850,14,null,null,"창고 및 운송관련 서비스업(52)","H"]
["IPOS2","SA COKYUNGDONGA CO.","PEB","200576","KRW",-550000000,-550000000,-550000000,"2022-11-14","2024-01-13","C13",4240,"002-267856-840",4,"GTE","HSBC","SEL ","tst502-81idn","FNI",2,"PEBSEL200576","2026-03-10",-787,3127,null,null,"화학물질 및 화학제품 제조업(의약품 제외)(20)","C"]
["IPOS2","SA COKYUNGDONGA CO.","PEB","200577","KRW",-150000000,-150000000,-150000000,"2022-11-14","2024-01-13","C13",4240,"002-267856-840",4,"GTE","HSBC","SEL ","tst502-81idn","FNI",2,"PEBSEL200577","2026-03-11",-788,853,null,null,"화학물질 및 화학제품 제조업(의약품 제외)(20)","C"]
["IPOS2","SA COKYUNGDONGA CO.","PEB","200578","KRW",-30000000,-30000000,-30000000,"2022-11-14","2024-01-13","C13",4240,"002-267856-840",4,"GTE","HSBC","SEL ","tst502-81idn","FNI",2,"PEBSEL200578","2026-03-12",-789,171,null,null,"화학물질 및 화학제품 제조업(의약품 제외)(20)","C"]
["IPOS2","SA COKYUNGDONGA CO.","PEB","200579","KRW",-280000000,-280000000,-280000000,"2022-11-14","2024-01-13","C13",4240,"002-267856-840",4,"GTE","HSBC","SEL ","tst502-81idn","FNI",2,"PEBSEL200579","2026-03-13",-790,1592,null,null,"화학물질 및 화학제품 제조업(의약품 제외)(20)","C"]
["IPOS2","SA COKYUNGDONGA CO.","PEB","200580","KRW",-300000000,-300000000,-300000000,"2022-11-14","2024-01-13","C13",4240,"002-267856-840",4,"GTE","HSBC","SEL ","tst502-81idn","FNI",2,"PEBSEL200580","2026-03-14",-791,1706,null,null,"화학물질 및 화학제품 제조업(의약품 제외)(20)","C"]
["IPOS2","SA COKYUNGDONGA CO.","PEB","200581","KRW",-50000000,-50000000,-50000000,"2022-11-14","2024-01-13","C13",4240,"002-267856-840",4,"GTE","HSBC","SEL ","tst502-81idn","FNI",2,"PEBSEL200581","2026-03-15",-792,284,null,null,"화학물질 및 화학제품 제조업(의약품 제외)(20)","C"]
["IPOS2","SA COKYUNGDONGA CO.","PEB","200582","KRW",-200000000,-200000000,-200000000,"2022-11-14","2024-01-13","C13",4240,"002-267856-840",4,"GTE","HSBC","SEL ","tst502-81idn","FNI",2,"PEBSEL200582","2026-03-16",-793,1137,null,null,"화학물질 및 화학제품 제조업(의약품 제외)(20)","C"]
["IPOS2","SA COKYUNGDONGA CO.","PEB","200583","KRW",-210000000,-210000000,-210000000,"2022-11-14","2024-01-13","C13",4240,"002-267856-840",4,"GTE","HSBC","SEL ","tst502-81idn","FNI",2,"PEBSEL200583","2026-03-17",-794,1194,null,null,"화학물질 및 화학제품 제조업(의약품 제외)(20)","C"]
["IPOS2","SA COKYUNGDONGA CO.","PEB","200584","KRW",-80000000,-80000000,-80000000,"2022-11-14","2024-01-13","C13",4240,"002-267856-840",4,"GTE","HSBC","SEL ","tst502-81idn","FNI",2,"PEBSEL200584","2026-03-18",-795,455,null,null,"화학물질 및 화학제품 제조업(의약품 제외)(20)","C"]
["IPOS2","SA COKYUNGDONGA CO.","PEB","200585","KRW",-300000000,-300000000,-300000000,"2022-11-14","2024-01-13","C13",4240,"002-267856-840",4,"GTE","HSBC","SEL ","tst502-81idn","FNI",2,"PEBSEL200585","2026-03-19",-796,1706,null,null,"화학물질 및 화학제품 제조업(의약품 제외)(20)","C"]
["IPOS2","SA COKYUNGDONGA CO.","PEB","200586","KRW",-160000000,-160000000,-160000000,"2022-11-14","2024-01-13","C13",4240,"002-267856-840",4,"GTE","HSBC","SEL ","tst502-81idn","FNI",2,"PEBSEL200586","2026-03-20",-797,910,null,null,"화학물질 및 화학제품 제조업(의약품 제외)(20)","C"]
["IPOS2","SA COKYUNGDONGA CO.","PEB","200587","KRW",-50000000,-50000000,-50000000,"2022-11-14","2024-01-13","C13",4240,"002-267856-840",4,"GTE","HSBC","SEL ","tst502-81idn","FNI",2,"PEBSEL200587","2026-03-21",-798,284,null,null,"화학물질 및 화학제품 제조업(의약품 제외)(20)","C"]
["IPOS2","SA COKYUNGDONGA CO.","PEB","200588","KRW",-60000000,-60000000,-60000000,"2022-11-14","2024-01-13","C13",4240,"002-267856-840",4,"GTE","HSBC","SEL ","tst502-81idn","FNI",2,"PEBSEL200588","2026-03-22",-799,341,null,null,"화학물질 및 화학제품 제조업(의약품 제외)(20)","C"]
["IPOS2","SA COKYUNGDONGA CO.","PEB","200589","KRW",-300000000,-300000000,-300000000,"2022-11-14","2024-01-13","C13",4240,"002-267856-840",4,"GTE","HSBC","SEL ","tst502-81idn","FNI",2,"PEBSEL200589","2026-03-23",-800,1706,null,null,"화학물질 및 화학제품 제조업(의약품 제외)(20)","C"]
["IPOS2","SA COKYUNGDONGA CO.","PEB","200590","KRW",-250000000,-250000000,-250000000,"2022-11-14","2024-01-13","C13",4240,"002-267856-840",4,"GTE","HSBC","SEL ","tst502-81idn","FNI",2,"PEBSEL200590","2026-03-24",-801,1421,null,null,"화학물질 및 화학제품 제조업(의약품 제외)(20)","C"]
["IPOS2","SA COKYUNGDONGA CO.","PEB","200591","KRW",-60000000,-60000000,-60000000,"2022-11-14","2024-01-13","C13",4240,"002-267856-840",4,"GTE","HSBC","SEL ","tst502-81idn","FNI",2,"PEBSEL200591","2026-03-25",-802,341,null,null,"화학물질 및 화학제품 제조업(의약품 제외)(20)","C"]
["IPOS2","SA COKYUNGDONGA CO.","PEB","200592","KRW",-120000000,-120000000,-120000000,"2022-11-14","2024-01-13","C13",4240,"002-267856-840",4,"GTE","HSBC","SEL ","tst502-81idn","FNI",2,"PEBSEL200592","2026-03-26",-803,682,null,null,"화학물질 및 화학제품 제조업(의약품 제외)(20)","C"]
["IPOS2","SA COKYUNGDONGA CO.","PEB","200593","KRW",-400000000,-400000000,-400000000,"2022-11-14","2024-01-13","C13",4240,"002-267856-840",4,"GTE","HSBC","SEL ","tst502-81idn","FNI",2,"PEBSEL200593","2026-03-27",-804,2274,null,null,"화학물질 및 화학제품 제조업(의약품 제외)(20)","C"]
["IPOS2","SA COKYUNGDONGA CO.","PEB","200594","KRW",-300000000,-300000000,-300000000,"2022-11-14","2024-01-13","C13",4240,"002-267856-840",4,"GTE","HSBC","SEL ","tst502-81idn","FNI",2,"PEBSEL200594","2026-03-28",-805,1706,null,null,"화학물질 및 화학제품 제조업(의약품 제외)(20)","C"]
["IPOS2","SA COKYUNGDONGA CO.","PEB","200595","KRW",-150000000,-150000000,-150000000,"2022-11-14","2024-01-13","C13",4240,"002-267856-840",4,"GTE","HSBC","SEL ","tst502-81idn","FNI",2,"PEBSEL200595","2026-03-29",-806,853,null,null,"화학물질 및 화학제품 제조업(의약품 제외)(20)","C"]
["IPOS2","SA COKYUNGDONGA CO.","PEB","200596","KRW",-200000000,-200000000,-200000000,"2022-11-14","2024-01-13","C13",4240,"002-267856-840",4,"GTE","HSBC","SEL ","tst502-81idn","FNI",2,"PEBSEL200596","2026-03-30",-807,1137,null,null,"화학물질 및 화학제품 제조업(의약품 제외)(20)","C"]
["IPOS2","SA COKYUNGDONGA CO.","PEB","200597","KRW",-20000000,-20000000,-20000000,"2022-11-14","2024-01-13","C13",4240,"002-267856-840",4,"GTE","HSBC","SEL ","tst502-81idn","FNI",2,"PEBSEL200597","2026-03-31",-808,114,null,null,"화학물질 및 화학제품 제조업(의약품 제외)(20)","C"]
["IPOS2","SA COKYUNGDONGA CO.","PEB","200598","KRW",-230000000,-230000000,-230000000,"2022-11-14","2024-01-13","C13",4240,"002-267856-840",4,"GTE","HSBC","SEL ","tst502-81idn","FNI",2,"PEBSEL200598","2026-04-01",-809,1308,null,null,"화학물질 및 화학제품 제조업(의약품 제외)(20)","C"]
["IPOS2","SA COKYUNGDONGA CO.","PEB","200599","KRW",-70000000,-70000000,-70000000,"2022-11-14","2024-01-13","C13",4240,"002-267856-840",4,"GTE","HSBC","SEL ","tst502-81idn","FNI",2,"PEBSEL200599","2026-04-02",-810,398,null,null,"화학물질 및 화학제품 제조업(의약품 제외)(20)","C"]
["IPOS2","SA COKYUNGDONGA CO.","PEB","200600","KRW",-60000000,-60000000,-60000000,"2022-11-14","2024-01-13","C13",4240,"002-267856-840",4,"GTE","HSBC","SEL ","tst502-81idn","FNI",2,"PEBSEL200600","2026-04-03",-811,341,null,null,"화학물질 및 화학제품 제조업(의약품 제외)(20)","C"]
["IPOS2","SA COKYUNGDONGA CO.","PEB","200601","KRW",-160000000,-160000000,-160000000,"2022-11-14","2024-01-13","C13",4240,"002-267856-840",4,"GTE","HSBC","SEL ","tst502-81idn","FNI",2,"PEBSEL200601","2026-04-04",-812,910,null,null,"화학물질 및 화학제품 제조업(의약품 제외)(20)","C"]
["IPOS2","SA COKYUNGDONGA CO.","PEB","200602","KRW",-250000000,-250000000,-250000000,"2022-11-14","2024-01-13","C13",4240,"002-267856-840",4,"GTE","HSBC","SEL ","tst502-81idn","FNI",2,"PEBSEL200602","2026-04-05",-813,1421,null,null,"화학물질 및 화학제품 제조업(의약품 제외)(20)","C"]
["IPOS2","SA COKYUNGDONGA CO.","PEB","200603","KRW",-170000000,-170000000,-170000000,"2022-11-14","2024-01-13","C13",4240,"002-267856-840",4,"GTE","HSBC","SEL ","tst502-81idn","FNI",2,"PEBSEL200603","2026-04-06",-814,967,null,null,"화학물질 및 화학제품 제조업(의약품 제외)(20)","C"]
["IPOS2","SA COKYUNGDONGA CO.","PEB","200604","KRW",-40000000,-40000000,-40000000,"2022-11-14","2024-01-13","C13",4240,"002-267856-840",4,"GTE","HSBC","SEL ","tst502-81idn","FNI",2,"PEBSEL200604","2026-04-07",-815,227,null,null,"화학물질 및 화학제품 제조업(의약품 제외)(20)","C"]
["IPOS2","SA COKYUNGDONGA CO.","PEB","200605","KRW",-220000000,-220000000,-220000000,"2022-11-14","2024-01-13","C13",4240,"002-267856-840",4,"GTE","HSBC","SEL ","tst502-81idn","FNI",2,"PEBSEL200605","2026-04-08",-816,1251,null,null,"화학물질 및 화학제품 제조업(의약품 제외)(20)","C"]
["IPOS2","SA COKYUNGDONGA CO.","PEB","200606","KRW",-60000000,-60000000,-60000000,"2022-11-14","2024-01-13","C13",4240,"002-267856-840",4,"GTE","HSBC","SEL ","tst502-81idn","FNI",2,"PEBSEL200606","2026-04-09",-817,341,null,null,"화학물질 및 화학제품 제조업(의약품 제외)(20)","C"]
["IPOS2","SA COKYUNGDONGA CO.","PEB","200607","KRW",-600000000,-600000000,-600000000,"2022-11-14","2024-01-13","C13",4240,"002-267856-840",4,"GTE","HSBC","SEL ","tst502-81idn","FNI",2,"PEBSEL200607","2026-04-10",-818,3411,null,null,"화학물질 및 화학제품 제조업(의약품 제외)(20)","C"]
["IPOS2","SA COKYUNGDONGA CO.","PEB","200608","KRW",-100000000,-100000000,-100000000,"2022-11-14","2024-01-13","C13",4240,"002-267856-840",4,"GTE","HSBC","SEL ","tst502-81idn","FNI",2,"PEBSEL200608","2026-04-11",-819,569,null,null,"화학물질 및 화학제품 제조업(의약품 제외)(20)","C"]
["IPOS2","SA COKYUNGDONGA CO.","PEB","200609","KRW",-550000000,-550000000,-550000000,"2022-11-14","2024-01-13","C13",4240,"002-267856-840",4,"GTE","HSBC","SEL ","tst502-81idn","FNI",2,"PEBSEL200609","2026-04-12",-820,3127,null,null,"화학물질 및 화학제품 제조업(의약품 제외)(20)","C"]
["IPOS2","SA COKYUNGDONGA CO.","PEB","200610","KRW",-1600000000,-1600000000,-1600000000,"2022-11-14","2024-01-13","C13",4240,"002-267856-840",4,"GTE","HSBC","SEL ","tst502-81idn","FNI",2,"PEBSEL200610","2026-04-13",-821,9097,null,null,"화학물질 및 화학제품 제조업(의약품 제외)(20)","C"]
["IPOS2","SA COKYUNGDONGA CO.","PEB","200611","KRW",-150000000,-150000000,-150000000,"2022-11-14","2024-01-13","C13",4240,"002-267856-840",4,"GTE","HSBC","SEL ","tst502-81idn","FNI",2,"PEBSEL200611","2026-04-14",-822,853,null,null,"화학물질 및 화학제품 제조업(의약품 제외)(20)","C"]
["IPOS2"," LTD.DHL KOREALTD. ","PEB","200615","KRW",-76000000,-76000000,-76000000,"2022-11-16","2024-01-22","C13",9630,"002-218875-840",3,"GTE","HSBC","SEL ","tst105-86idn","FNI",2,"PEBSEL200615","2026-04-15",-814,198,null,null,"창고 및 운송관련 서비스업(52)","H"]
["IPOS2","DUSTRVEOLIA INUSTRI","PEB","200616","KRW",-216386700,-216386700,-216386700,"2022-11-16","2024-07-31","C13",5410,"002-705155-840",3,"GTE","HSBC","SEL ","tst126-81idn","FNI",2,"PEBSEL200616","2026-04-16",-624,3040,null,null,"수도사업(36)","D"]
["IPOS2","SA COKYUNGDONGA CO.","PEB","200617","KRW",-250000000,-250000000,-250000000,"2022-11-21","2024-01-20","C13",4240,"002-267856-840",4,"GTE","HSBC","SEL ","tst502-81idn","FNI",2,"PEBSEL200617","2026-04-17",-818,1495,null,null,"화학물질 및 화학제품 제조업(의약품 제외)(20)","C"]
["IPOS2","SA COKYUNGDONGA CO.","PEB","200618","KRW",-200000000,-200000000,-200000000,"2022-11-21","2024-01-20","C13",4240,"002-267856-840",4,"GTE","HSBC","SEL ","tst502-81idn","FNI",2,"PEBSEL200618","2026-04-18",-819,1196,null,null,"화학물질 및 화학제품 제조업(의약품 제외)(20)","C"]
["IPOS2","SA COKYUNGDONGA CO.","PEB","200619","KRW",-150000000,-150000000,-150000000,"2022-11-21","2024-01-20","C13",4240,"002-267856-840",4,"GTE","HSBC","SEL ","tst502-81idn","FNI",2,"PEBSEL200619","2026-04-19",-820,897,null,null,"화학물질 및 화학제품 제조업(의약품 제외)(20)","C"]
["IPOS2","SA COKYUNGDONGA CO.","PEB","200620","KRW",-50000000,-50000000,-50000000,"2022-11-21","2024-01-20","C13",4240,"002-267856-840",4,"GTE","HSBC","SEL ","tst502-81idn","FNI",2,"PEBSEL200620","2026-04-20",-821,299,null,null,"화학물질 및 화학제품 제조업(의약품 제외)(20)","C"]
["IPOS2","SA COKYUNGDONGA CO.","PEB","200621","KRW",-10000000,-10000000,-10000000,"2022-11-21","2024-01-20","C13",4240,"002-267856-840",4,"GTE","HSBC","SEL ","tst502-81idn","FNI",2,"PEBSEL200621","2026-04-21",-822,60,null,null,"화학물질 및 화학제품 제조업(의약품 제외)(20)","C"]
["IPOS2","SA COKYUNGDONGA CO.","PEB","200622","KRW",-130000000,-130000000,-130000000,"2022-11-21","2024-01-20","C13",4240,"002-267856-840",4,"GTE","HSBC","SEL ","tst502-81idn","FNI",2,"PEBSEL200622","2026-04-22",-823,777,null,null,"화학물질 및 화학제품 제조업(의약품 제외)(20)","C"]
["IPOS2","SA COKYUNGDONGA CO.","PEB","200623","KRW",-50000000,-50000000,-50000000,"2022-11-21","2024-01-20","C13",4240,"002-267856-840",4,"GTE","HSBC","SEL ","tst502-81idn","FNI",2,"PEBSEL200623","2026-04-23",-824,299,null,null,"화학물질 및 화학제품 제조업(의약품 제외)(20)","C"]
["IPOS2","SA COKYUNGDONGA CO.","PEB","200624","KRW",-80000000,-80000000,-80000000,"2022-11-21","2024-01-20","C13",4240,"002-267856-840",4,"GTE","HSBC","SEL ","tst502-81idn","FNI",2,"PEBSEL200624","2026-04-24",-825,478,null,null,"화학물질 및 화학제품 제조업(의약품 제외)(20)","C"]
["IPOS2","SA COKYUNGDONGA CO.","PEB","200625","KRW",-200000000,-200000000,-200000000,"2022-11-21","2024-01-20","C13",4240,"002-267856-840",4,"GTE","HSBC","SEL ","tst502-81idn","FNI",2,"PEBSEL200625","2026-04-25",-826,1196,null,null,"화학물질 및 화학제품 제조업(의약품 제외)(20)","C"]
["IPOS2","SA COKYUNGDONGA CO.","PEB","200626","KRW",-220000000,-220000000,-220000000,"2022-11-21","2024-01-20","C13",4240,"002-267856-840",4,"GTE","HSBC","SEL ","tst502-81idn","FNI",2,"PEBSEL200626","2026-04-26",-827,1315,null,null,"화학물질 및 화학제품 제조업(의약품 제외)(20)","C"]
["IPOS2","SA COKYUNGDONGA CO.","PEB","200627","KRW",-180000000,-180000000,-180000000,"2022-11-21","2024-01-20","C13",4240,"002-267856-840",4,"GTE","HSBC","SEL ","tst502-81idn","FNI",2,"PEBSEL200627","2026-04-27",-828,1076,null,null,"화학물질 및 화학제품 제조업(의약품 제외)(20)","C"]
["IPOS2","SA COKYUNGDONGA CO.","PEB","200628","KRW",-60000000,-60000000,-60000000,"2022-11-21","2024-01-20","C13",4240,"002-267856-840",4,"GTE","HSBC","SEL ","tst502-81idn","FNI",2,"PEBSEL200628","2026-04-28",-829,359,null,null,"화학물질 및 화학제품 제조업(의약품 제외)(20)","C"]
["IPOS2","SA COKYUNGDONGA CO.","PEB","200629","KRW",-15000000,-15000000,-15000000,"2022-11-21","2024-01-20","C13",4240,"002-267856-840",4,"GTE","HSBC","SEL ","tst502-81idn","FNI",2,"PEBSEL200629","2026-04-29",-830,90,null,null,"화학물질 및 화학제품 제조업(의약품 제외)(20)","C"]
["IPOS2","SA COKYUNGDONGA CO.","PEB","200630","KRW",-80000000,-80000000,-80000000,"2022-11-21","2024-01-20","C13",4240,"002-267856-840",4,"GTE","HSBC","SEL ","tst502-81idn","FNI",2,"PEBSEL200630","2026-04-30",-831,478,null,null,"화학물질 및 화학제품 제조업(의약품 제외)(20)","C"]
["IPOS2","SA COKYUNGDONGA CO.","PEB","200631","KRW",-50000000,-50000000,-50000000,"2022-11-21","2024-01-20","C13",4240,"002-267856-840",4,"GTE","HSBC","SEL ","tst502-81idn","FNI",2,"PEBSEL200631","2026-05-01",-832,299,null,null,"화학물질 및 화학제품 제조업(의약품 제외)(20)","C"]
["IPOS2","SA COKYUNGDONGA CO.","PEB","200632","KRW",-60000000,-60000000,-60000000,"2022-11-21","2024-01-20","C13",4240,"002-267856-840",4,"GTE","HSBC","SEL ","tst502-81idn","FNI",2,"PEBSEL200632","2026-05-02",-833,359,null,null,"화학물질 및 화학제품 제조업(의약품 제외)(20)","C"]
["IPOS2","SA COKYUNGDONGA CO.","PEB","200633","KRW",-100000000,-100000000,-100000000,"2022-11-21","2024-01-20","C13",4240,"002-267856-840",4,"GTE","HSBC","SEL ","tst502-81idn","FNI",2,"PEBSEL200633","2026-05-03",-834,598,null,null,"화학물질 및 화학제품 제조업(의약품 제외)(20)","C"]
["IPOS2","SA COKYUNGDONGA CO.","PEB","200634","KRW",-1400000000,-1400000000,-1400000000,"2022-11-21","2024-01-20","C13",4240,"002-267856-840",4,"GTE","HSBC","SEL ","tst502-81idn","FNI",2,"PEBSEL200634","2026-05-04",-835,8370,null,null,"화학물질 및 화학제품 제조업(의약품 제외)(20)","C"]
["IPOS2","SA COKYUNGDONGA CO.","PEB","200635","KRW",-200000000,-200000000,-200000000,"2022-11-21","2024-01-20","C13",4240,"002-267856-840",4,"GTE","HSBC","SEL ","tst502-81idn","FNI",2,"PEBSEL200635","2026-05-05",-836,1196,null,null,"화학물질 및 화학제품 제조업(의약품 제외)(20)","C"]
["IPOS2","SA COKYUNGDONGA CO.","PEB","200636","KRW",-180000000,-180000000,-180000000,"2022-11-21","2024-01-20","C13",4240,"002-267856-840",4,"GTE","HSBC","SEL ","tst502-81idn","FNI",2,"PEBSEL200636","2026-05-06",-837,1076,null,null,"화학물질 및 화학제품 제조업(의약품 제외)(20)","C"]
["IPOS2","SA COKYUNGDONGA CO.","PEB","200637","KRW",-380000000,-380000000,-380000000,"2022-11-21","2024-01-20","C13",4240,"002-267856-840",4,"GTE","HSBC","SEL ","tst502-81idn","FNI",2,"PEBSEL200637","2026-05-07",-838,2272,null,null,"화학물질 및 화학제품 제조업(의약품 제외)(20)","C"]
["IPOS2","SA COKYUNGDONGA CO.","PEB","200638","KRW",-130000000,-130000000,-130000000,"2022-11-21","2024-01-20","C13",4240,"002-267856-840",4,"GTE","HSBC","SEL ","tst502-81idn","FNI",2,"PEBSEL200638","2026-05-08",-839,777,null,null,"화학물질 및 화학제품 제조업(의약품 제외)(20)","C"]
["IPOS2","SA COKYUNGDONGA CO.","PEB","200639","KRW",-20000000,-20000000,-20000000,"2022-11-21","2024-01-20","C13",4240,"002-267856-840",4,"GTE","HSBC","SEL ","tst502-81idn","FNI",2,"PEBSEL200639","2026-05-09",-840,120,null,null,"화학물질 및 화학제품 제조업(의약품 제외)(20)","C"]
["IPOS2","SA COKYUNGDONGA CO.","PEB","200640","KRW",-350000000,-350000000,-350000000,"2022-11-21","2024-01-20","C13",4240,"002-267856-840",4,"GTE","HSBC","SEL ","tst502-81idn","FNI",2,"PEBSEL200640","2026-05-10",-841,2092,null,null,"화학물질 및 화학제품 제조업(의약품 제외)(20)","C"]
["IPOS2","SA COKYUNGDONGA CO.","PEB","200641","KRW",-100000000,-100000000,-100000000,"2022-11-21","2024-01-20","C13",4240,"002-267856-840",4,"GTE","HSBC","SEL ","tst502-81idn","FNI",2,"PEBSEL200641","2026-05-11",-842,598,null,null,"화학물질 및 화학제품 제조업(의약품 제외)(20)","C"]
["IPOS2","SA COKYUNGDONGA CO.","PEB","200642","KRW",-300000000,-300000000,-300000000,"2022-11-21","2024-01-20","C13",4240,"002-267856-840",4,"GTE","HSBC","SEL ","tst502-81idn","FNI",2,"PEBSEL200642","2026-05-12",-843,1793,null,null,"화학물질 및 화학제품 제조업(의약품 제외)(20)","C"]
["IPOS2","SA COKYUNGDONGA CO.","PEB","200643","KRW",-80000000,-80000000,-80000000,"2022-11-21","2024-01-20","C13",4240,"002-267856-840",4,"GTE","HSBC","SEL ","tst502-81idn","FNI",2,"PEBSEL200643","2026-05-13",-844,478,null,null,"화학물질 및 화학제품 제조업(의약품 제외)(20)","C"]
["IPOS2","SA COKYUNGDONGA CO.","PEB","200644","KRW",-200000000,-200000000,-200000000,"2022-11-21","2024-01-20","C13",4240,"002-267856-840",4,"GTE","HSBC","SEL ","tst502-81idn","FNI",2,"PEBSEL200644","2026-05-14",-845,1196,null,null,"화학물질 및 화학제품 제조업(의약품 제외)(20)","C"]
["IPOS2","SA COKYUNGDONGA CO.","PEB","200645","KRW",-80000000,-80000000,-80000000,"2022-11-21","2024-01-20","C13",4240,"002-267856-840",4,"GTE","HSBC","SEL ","tst502-81idn","FNI",2,"PEBSEL200645","2026-05-15",-846,478,null,null,"화학물질 및 화학제품 제조업(의약품 제외)(20)","C"]
["IPOS2","SA COKYUNGDONGA CO.","PEB","200646","KRW",-400000000,-400000000,-400000000,"2022-11-21","2024-01-20","C13",4240,"002-267856-840",4,"GTE","HSBC","SEL ","tst502-81idn","FNI",2,"PEBSEL200646","2026-05-16",-847,2391,null,null,"화학물질 및 화학제품 제조업(의약품 제외)(20)","C"]
["IPOS2","SA COKYUNGDONGA CO.","PEB","200647","KRW",-105000000,-105000000,-105000000,"2022-11-21","2024-01-20","C13",4240,"002-267856-840",4,"GTE","HSBC","SEL ","tst502-81idn","FNI",2,"PEBSEL200647","2026-05-17",-848,628,null,null,"화학물질 및 화학제품 제조업(의약품 제외)(20)","C"]
["IPOS2","SA COKYUNGDONGA CO.","PEB","200648","KRW",-100000000,-100000000,-100000000,"2022-11-21","2024-01-20","C13",4240,"002-267856-840",4,"GTE","HSBC","SEL ","tst502-81idn","FNI",2,"PEBSEL200648","2026-05-18",-849,598,null,null,"화학물질 및 화학제품 제조업(의약품 제외)(20)","C"]
["IPOS2","SA COKYUNGDONGA CO.","PEB","200649","KRW",-5000000,-5000000,-5000000,"2022-11-21","2024-01-20","C13",4240,"002-267856-840",4,"GTE","HSBC","SEL ","tst502-81idn","FNI",2,"PEBSEL200649","2026-05-19",-850,30,null,null,"화학물질 및 화학제품 제조업(의약품 제외)(20)","C"]
["IPOS2","SA COKYUNGDONGA CO.","PEB","200650","KRW",-50000000,-50000000,-50000000,"2022-11-21","2024-01-20","C13",4240,"002-267856-840",4,"GTE","HSBC","SEL ","tst502-81idn","FNI",2,"PEBSEL200650","2026-05-20",-851,299,null,null,"화학물질 및 화학제품 제조업(의약품 제외)(20)","C"]
["IPOS2","SA COKYUNGDONGA CO.","PEB","200651","KRW",-200000000,-200000000,-200000000,"2022-11-21","2024-01-20","C13",4240,"002-267856-840",4,"GTE","HSBC","SEL ","tst502-81idn","FNI",2,"PEBSEL200651","2026-05-21",-852,1196,null,null,"화학물질 및 화학제품 제조업(의약품 제외)(20)","C"]
["IPOS2","SA COKYUNGDONGA CO.","PEB","200652","KRW",-120000000,-120000000,-120000000,"2022-11-21","2024-01-20","C13",4240,"002-267856-840",4,"GTE","HSBC","SEL ","tst502-81idn","FNI",2,"PEBSEL200652","2026-05-22",-853,717,null,null,"화학물질 및 화학제품 제조업(의약품 제외)(20)","C"]
["IPOS2","SA COKYUNGDONGA CO.","PEB","200653","KRW",-200000000,-200000000,-200000000,"2022-11-21","2024-01-20","C13",4240,"002-267856-840",4,"GTE","HSBC","SEL ","tst502-81idn","FNI",2,"PEBSEL200653","2026-05-23",-854,1196,null,null,"화학물질 및 화학제품 제조업(의약품 제외)(20)","C"]
["IPOS2","SA COKYUNGDONGA CO.","PEB","200654","KRW",-940000000,-940000000,-940000000,"2022-11-21","2024-01-20","C13",4240,"002-267856-840",4,"GTE","HSBC","SEL ","tst502-81idn","FNI",2,"PEBSEL200654","2026-05-24",-855,5620,null,null,"화학물질 및 화학제품 제조업(의약품 제외)(20)","C"]
["IPOS2","SA COKYUNGDONGA CO.","PEB","200655","KRW",-50000000,-50000000,-50000000,"2022-11-21","2024-01-20","C13",4240,"002-267856-840",4,"GTE","HSBC","SEL ","tst502-81idn","FNI",2,"PEBSEL200655","2026-05-25",-856,299,null,null,"화학물질 및 화학제품 제조업(의약품 제외)(20)","C"]
["IPOS2","SA COKYUNGDONGA CO.","PEB","200656","KRW",-20000000,-20000000,-20000000,"2022-11-21","2024-01-20","C13",4240,"002-267856-840",4,"GTE","HSBC","SEL ","tst502-81idn","FNI",2,"PEBSEL200656","2026-05-26",-857,120,null,null,"화학물질 및 화학제품 제조업(의약품 제외)(20)","C"]
["IPOS2","SA COKYUNGDONGA CO.","PEB","200657","KRW",-140000000,-140000000,-140000000,"2022-11-21","2024-01-20","C13",4240,"002-267856-840",4,"GTE","HSBC","SEL ","tst502-81idn","FNI",2,"PEBSEL200657","2026-05-27",-858,837,null,null,"화학물질 및 화학제품 제조업(의약품 제외)(20)","C"]
["IPOS2","SA COKYUNGDONGA CO.","PEB","200658","KRW",-40000000,-40000000,-40000000,"2022-11-21","2024-01-20","C13",4240,"002-267856-840",4,"GTE","HSBC","SEL ","tst502-81idn","FNI",2,"PEBSEL200658","2026-05-28",-859,239,null,null,"화학물질 및 화학제품 제조업(의약품 제외)(20)","C"]
["IPOS2","SA COKYUNGDONGA CO.","PEB","200659","KRW",-180000000,-180000000,-180000000,"2022-11-21","2024-01-20","C13",4240,"002-267856-840",4,"GTE","HSBC","SEL ","tst502-81idn","FNI",2,"PEBSEL200659","2026-05-29",-860,1076,null,null,"화학물질 및 화학제품 제조업(의약품 제외)(20)","C"]
["IPOS2","SA COKYUNGDONGA CO.","PEB","200660","KRW",-200000000,-200000000,-200000000,"2022-11-21","2024-01-20","C13",4240,"002-267856-840",4,"GTE","HSBC","SEL ","tst502-81idn","FNI",2,"PEBSEL200660","2026-05-30",-861,1196,null,null,"화학물질 및 화학제품 제조업(의약품 제외)(20)","C"]
["IPOS2","CAL EIMI CRITIAL EN","PEB","200688","KRW",-6259000,0,0,"2022-12-12","2023-08-12","C13",4310,"002-097164-840",3,"GTE","HSBC","SEL ","tst136-81idn","FNI",2,"PEBSEL200688","2026-05-31",-1023,"",null,null,"전기장비 제조업(28)","C"]
["IPOS2","     HSBC TKY      ","PEB","200690","KRW",-659000000,-659000000,-659000000,"2022-12-15","2025-02-15","BRO",10650,"002-017162-840",0,"   ","HSBC","SEL ","tst0100-0idn","FNI",2,"PEBSEL200690","2026-06-01",-471,"",null,null,"금융업(64)","K"]
["IPOS2","INCORMCKINSEY NCORP","PEB","200691","KRW",-713336592,-713336592,-713336592,"2022-12-15","2023-10-19","C13",11740,"002-251438-840",4,"GTE","HSBC","SEL ","tst102-84idn","FNI",2,"PEBSEL200691","2026-06-02",-957,321,null,null,"   사업지원서비스업(75)","M"]
["IPOS2","EMBLYALPHA ASSMBLY ","PEB","200693","KRW",-45600000,0,0,"2022-12-16","2023-05-17","C13",4240,"002-087898-840",3,"GTE","HSBC","SEL ","tst133-81idn","FNI",2,"PEBSEL200693","2026-06-03",-1113,"",null,null,"화학물질 및 화학제품 제조업(의약품 제외)(20)","C"]
["IPOS2","HARMAZUELLIG PARMA ","PEB","200701","KRW",-10000000000,-10000000000,-10000000000,"2022-12-20","2023-12-31","C13",7510,"002-704652-840",3,"GTE","HSBC","SEL ","tst229-81idn","FNI",2,"PEBSEL200701","2026-06-04",-886,51422,null,null,"도매 및 상품중개업(46)","G"]
["IPOS2","CAL EIMI CRITIAL EN","PEB","200703","KRW",-18135700,0,0,"2022-12-21","2023-09-22","C13",4310,"002-097164-840",3,"GTE","HSBC","SEL ","tst136-81idn","FNI",2,"PEBSEL200703","2026-06-05",-987,44,null,null,"전기장비 제조업(28)","C"]
["IPOS2","L INCM2 DIGITA INC.","PEB","200706","KRW",-4900000000,-4900000000,-4900000000,"2022-12-23","2024-04-30","C13",11740,"002-074023-840",3,"GTE","HSBC","SEL ","tst102-81idn","FNI",2,"PEBSEL200706","2026-06-06",-767,253924,null,null,"   사업지원서비스업(75)","M"]
["IPOS2","Y (ALGE COMPAN (ALO","PEB","200707","KRW",-6930000,-6930000,-6930000,"2022-12-23","2023-11-29","C11",4320,"002-705913-840",3,"GTE","HSBC","SEL ","tst14-068idn","FNI",2,"PEBSEL200707","2026-06-07",-921,13,null,null,"전자부품, 컴퓨터, 영상, 음향 및 통신장비 제조업(26)","C"]
["IPOS2","L INCM2 DIGITA INC.","PEB","200711","KRW",-8796480000,-8796480000,-8796480000,"2022-12-30","2023-12-31","C13",11740,"002-074023-840",3,"GTE","HSBC","SEL ","tst102-81idn","FNI",2,"PEBSEL200711","2026-06-08",-890,229790,null,null,"   사업지원서비스업(75)","M"]
["IPOS2","O., LMAXIMUS C., LT","PEB","300005","KRW",-15818000,-15818000,-15818000,"2023-01-06","2023-12-31","MFS",11740,"002-087866-840",3,"GTE","HSBC","SEL ","tst220-87idn","FNI",2,"PEBSEL300005","2026-06-09",-891,304,null,null,"   사업지원서비스업(75)","M"]
["IPOS2","O., LMAXIMUS C., LT","PEB","300006","KRW",-72393750,-72393750,-72393750,"2023-01-06","2023-12-31","MFS",11740,"002-087866-840",3,"GTE","HSBC","SEL ","tst220-87idn","FNI",2,"PEBSEL300006","2026-06-10",-892,1391,null,null,"   사업지원서비스업(75)","M"]
["IPOS2","ONG KGC-HSBC HNG KO","PEB","300009","KRW",-100000000,-100000000,-100000000,"2023-01-09","2023-12-31","BRO",10650,"002-500801-840",0,"   ","HSBC","SEL ","tst026387idn","FNI",2,"PEBSEL300009","2026-06-11",-893,"",null,null,"금융업(64)","K"]
["IPOS2","CAL EIMI CRITIAL EN","PEB","300022","KRW",-20876130,0,0,"2023-01-12","2023-06-30","C13",4310,"002-097164-840",3,"GTE","HSBC","SEL ","tst136-81idn","FNI",2,"PEBSEL300022","2026-06-12",-1078,"",null,null,"전기장비 제조업(28)","C"]
["IPOS2"," MALAHSBC BANKMALAY","PEB","300026","EUR",-2990000,0,0,"2023-01-13","2023-01-31","GPO",10650,"002-706764-840",0,"   ","HSBC","SEL ","tst 12777idn","FNI",2,"PEBSEL300026","2026-06-13",-1229,"",null,null,"금융업(64)","K"]
["IPOS2","O., LMAXIMUS C., LT","PEB","300039","KRW",-140000000,-140000000,-140000000,"2023-01-20","2025-06-30","MFS",11740,"002-087866-840",3,"GTE","HSBC","SEL ","tst220-87idn","FNI",2,"PEBSEL300039","2026-06-14",-349,15968,null,null,"   사업지원서비스업(75)","M"]
["IPOS2","ONG ATHE HONGKNG AN","PEB","300077","KRW",-732964155,-732964155,-732964155,"2023-02-03","2026-06-30","BRO",10650,"002-703827-840",0,"   ","HSBC","SEL ","tstS16FC0idn","FNI",2,"PEBSEL300077","2026-06-15",15,"",null,null,"금융업(64)","K"]
["IPOS2","OREA JANSSEN KREA L","PEB","300089","KRW",-14952964286,-14952964286,-14952964286,"2023-02-15","2026-02-07","C13",4240,"002-466995-840",3,"GTE","HSBC","SEL ","tst120-81idn","FNI",2,"PEBSEL300089","2026-06-16",-129,49457,null,null,"화학물질 및 화학제품 제조업(의약품 제외)(20)","C"]
["IPOS2"," MALAHSBC BANKMALAY","PEB","300091","USD",-909300,-909300,-12336473,"2023-02-20","2023-12-04","GPO",10650,"002-706764-840",0,"   ","HSBC","SEL ","tst 12777idn","FNI",2,"PEBSEL300091","2026-06-17",-926,"",null,null,"금융업(64)","K"]
["IPOS2","CAL EIMI CRITIAL EN","PEB","300094","KRW",-19201930,-19201930,-19201930,"2023-02-21","2023-10-29","C13",4310,"002-097164-840",3,"GTE","HSBC","SEL ","tst136-81idn","FNI",2,"PEBSEL300094","2026-06-18",-963,122,null,null,"전기장비 제조업(28)","C"]
["IPOS2","L FORDHL GLOBA FORW","PEB","300098","KRW",-100000000,-100000000,-100000000,"2023-02-23","2024-04-29","C13",9630,"002-618381-840",3,"GTE","HSBC","SEL ","tst109-81idn","FNI",2,"PEBSEL300098","2026-06-19",-781,437,null,null,"창고 및 운송관련 서비스업(52)","H"]
["IPOS2","L FORDHL GLOBA FORW","PEB","300100","KRW",-800000000,-800000000,-800000000,"2023-02-23","2024-04-29","C13",9630,"002-618381-840",3,"GTE","HSBC","SEL ","tst109-81idn","FNI",2,"PEBSEL300100","2026-06-20",-782,3496,null,null,"창고 및 운송관련 서비스업(52)","H"]
["IPOS2","L FORDHL GLOBA FORW","PEB","300101","KRW",-10000000,-10000000,-10000000,"2023-02-23","2024-04-29","C13",9630,"002-618381-840",3,"GTE","HSBC","SEL ","tst109-81idn","FNI",2,"PEBSEL300101","2026-06-21",-783,44,null,null,"창고 및 운송관련 서비스업(52)","H"]
["IPOS2","L FORDHL GLOBA FORW","PEB","300102","KRW",-200000000,-200000000,-200000000,"2023-02-23","2024-04-29","C13",9630,"002-618381-840",3,"GTE","HSBC","SEL ","tst109-81idn","FNI",2,"PEBSEL300102","2026-06-22",-784,874,null,null,"창고 및 운송관련 서비스업(52)","H"]
["IPOS2","L FORDHL GLOBA FORW","PEB","300103","KRW",-100000000,-100000000,-100000000,"2023-02-23","2024-04-29","C13",9630,"002-618381-840",3,"GTE","HSBC","SEL ","tst109-81idn","FNI",2,"PEBSEL300103","2026-06-23",-785,437,null,null,"창고 및 운송관련 서비스업(52)","H"]
["IPOS2","L FORDHL GLOBA FORW","PEB","300104","KRW",-50000000,-50000000,-50000000,"2023-02-23","2024-04-29","C13",9630,"002-618381-840",3,"GTE","HSBC","SEL ","tst109-81idn","FNI",2,"PEBSEL300104","2026-06-24",-786,219,null,null,"창고 및 운송관련 서비스업(52)","H"]
["IPOS2","L FORDHL GLOBA FORW","PEB","300105","KRW",-600000000,-600000000,-600000000,"2023-02-23","2024-04-29","C13",9630,"002-618381-840",3,"GTE","HSBC","SEL ","tst109-81idn","FNI",2,"PEBSEL300105","2026-06-25",-787,2622,null,null,"창고 및 운송관련 서비스업(52)","H"]
["IPOS2","L FORDHL GLOBA FORW","PEB","300106","KRW",-250000000,-250000000,-250000000,"2023-02-23","2024-04-29","C13",9630,"002-618381-840",3,"GTE","HSBC","SEL ","tst109-81idn","FNI",2,"PEBSEL300106","2026-06-26",-788,1093,null,null,"창고 및 운송관련 서비스업(52)","H"]
["IPOS2","L FORDHL GLOBA FORW","PEB","300107","KRW",-100000000,-100000000,-100000000,"2023-02-23","2024-04-29","C13",9630,"002-618381-840",3,"GTE","HSBC","SEL ","tst109-81idn","FNI",2,"PEBSEL300107","2026-06-27",-789,437,null,null,"창고 및 운송관련 서비스업(52)","H"]
["IPOS2","L FORDHL GLOBA FORW","PEB","300108","KRW",-200000000,-200000000,-200000000,"2023-02-23","2024-04-29","C13",9630,"002-618381-840",3,"GTE","HSBC","SEL ","tst109-81idn","FNI",2,"PEBSEL300108","2026-06-28",-790,874,null,null,"창고 및 운송관련 서비스업(52)","H"]
["IPOS2","L FORDHL GLOBA FORW","PEB","300109","KRW",-30000000,-30000000,-30000000,"2023-02-23","2024-04-29","C13",9630,"002-618381-840",3,"GTE","HSBC","SEL ","tst109-81idn","FNI",2,"PEBSEL300109","2026-06-29",-791,131,null,null,"창고 및 운송관련 서비스업(52)","H"]
["IPOS2","L FORDHL GLOBA FORW","PEB","300110","KRW",-70000000,-70000000,-70000000,"2023-02-23","2024-04-29","C13",9630,"002-618381-840",3,"GTE","HSBC","SEL ","tst109-81idn","FNI",2,"PEBSEL300110","2026-06-30",-792,306,null,null,"창고 및 운송관련 서비스업(52)","H"]
["IPOS2","L FORDHL GLOBA FORW","PEB","300111","KRW",-500000000,-500000000,-500000000,"2023-02-23","2024-04-29","C13",9630,"002-618381-840",3,"GTE","HSBC","SEL ","tst109-81idn","FNI",2,"PEBSEL300111","2026-07-01",-793,2185,null,null,"창고 및 운송관련 서비스업(52)","H"]
["IPOS2","L FORDHL GLOBA FORW","PEB","300112","KRW",-50000000,-50000000,-50000000,"2023-02-23","2024-04-29","C13",9630,"002-618381-840",3,"GTE","HSBC","SEL ","tst109-81idn","FNI",2,"PEBSEL300112","2026-07-02",-794,219,null,null,"창고 및 운송관련 서비스업(52)","H"]
["IPOS2","L FORDHL GLOBA FORW","PEB","300113","KRW",-50000000,-50000000,-50000000,"2023-02-23","2024-04-29","C13",9630,"002-618381-840",3,"GTE","HSBC","SEL ","tst109-81idn","FNI",2,"PEBSEL300113","2026-07-03",-795,219,null,null,"창고 및 운송관련 서비스업(52)","H"]
["IPOS2","L FORDHL GLOBA FORW","PEB","300114","KRW",-50000000,-50000000,-50000000,"2023-02-23","2024-04-29","C13",9630,"002-618381-840",3,"GTE","HSBC","SEL ","tst109-81idn","FNI",2,"PEBSEL300114","2026-07-04",-796,219,null,null,"창고 및 운송관련 서비스업(52)","H"]
["IPOS2","L FORDHL GLOBA FORW","PEB","300115","KRW",-500000000,-500000000,-500000000,"2023-02-23","2024-04-29","C13",9630,"002-618381-840",3,"GTE","HSBC","SEL ","tst109-81idn","FNI",2,"PEBSEL300115","2026-07-05",-797,2185,null,null,"창고 및 운송관련 서비스업(52)","H"]
["IPOS2","INENTHSBC CONTNENTA","PEB","300121","EUR",-57945800,-57945800,-828760035,"2023-02-27","2025-06-30","FPO",10650,"002-546202-840",0,"   ","HSBC","SEL ","tst775 67idn","FNI",2,"PEBSEL300121","2026-07-06",-371,"",null,null,"금융업(64)","K"]
["IPOS2","O., LMAXIMUS C., LT","PEB","300138","KRW",-295000000,-295000000,-295000000,"2023-03-02","2024-06-30","MFS",11740,"002-087866-840",3,"GTE","HSBC","SEL ","tst220-87idn","FNI",2,"PEBSEL300138","2026-07-07",-737,28116,null,null,"   사업지원서비스업(75)","M"]
["IPOS2","DUSTRVEOLIA INUSTRI","PEB","300141","KRW",-48405616,-48405616,-48405616,"2023-03-07","2024-02-29","C13",5410,"002-705155-840",3,"GTE","HSBC","SEL ","tst126-81idn","FNI",2,"PEBSEL300141","2026-07-08",-860,185,null,null,"수도사업(36)","D"]
["IPOS2","OREA JANSSEN KREA L","PEB","300148","KRW",-10513779332,-10513779332,-10513779332,"2023-03-08","2026-03-31","C13",4240,"002-466995-840",3,"GTE","HSBC","SEL ","tst120-81idn","FNI",2,"PEBSEL300148","2026-07-09",-100,34774,null,null,"화학물질 및 화학제품 제조업(의약품 제외)(20)","C"]
["IPOS2","O., LMAXIMUS C., LT","PEB","300149","KRW",-10450000,-10450000,-10450000,"2023-03-09","2023-12-31","MFS",11740,"002-087866-840",3,"GTE","HSBC","SEL ","tst220-87idn","FNI",2,"PEBSEL300149","2026-07-10",-922,201,null,null,"   사업지원서비스업(75)","M"]
["IPOS2","DUSTRVEOLIA INUSTRI","PEB","300162","KRW",-149640000,-149640000,-149640000,"2023-03-16","2024-02-29","C13",5410,"002-705155-840",3,"GTE","HSBC","SEL ","tst126-81idn","FNI",2,"PEBSEL300162","2026-07-11",-863,572,null,null,"수도사업(36)","D"]
["IPOS2","DUSTRVEOLIA INUSTRI","PEB","300163","KRW",-245400000,-245400000,-245400000,"2023-03-16","2024-02-29","C13",5410,"002-705155-840",3,"GTE","HSBC","SEL ","tst126-81idn","FNI",2,"PEBSEL300163","2026-07-12",-864,939,null,null,"수도사업(36)","D"]
["IPOS2","DUSTRVEOLIA INUSTRI","PEB","300164","KRW",-169080000,-169080000,-169080000,"2023-03-16","2024-02-29","C13",5410,"002-705155-840",3,"GTE","HSBC","SEL ","tst126-81idn","FNI",2,"PEBSEL300164","2026-07-13",-865,647,null,null,"수도사업(36)","D"]
["IPOS2","DUSTRVEOLIA INUSTRI","PEB","300165","KRW",-203040000,-203040000,-203040000,"2023-03-16","2024-02-29","C13",5410,"002-705155-840",3,"GTE","HSBC","SEL ","tst126-81idn","FNI",2,"PEBSEL300165","2026-07-14",-866,777,null,null,"수도사업(36)","D"]
["IPOS2"," LTD.DHL KOREALTD. ","PEB","300166","KRW",-358176000,-358176000,-358176000,"2023-03-16","2024-03-31","C13",9630,"002-218875-840",3,"GTE","HSBC","SEL ","tst105-86idn","FNI",2,"PEBSEL300166","2026-07-15",-836,1379,null,null,"창고 및 운송관련 서비스업(52)","H"]
["IPOS2"," LTD.DHL KOREALTD. ","PEB","300168","KRW",-20000000,-20000000,-20000000,"2023-03-21","2024-03-31","C13",9630,"002-218875-840",3,"GTE","HSBC","SEL ","tst105-86idn","FNI",2,"PEBSEL300168","2026-07-16",-837,77,null,null,"창고 및 운송관련 서비스업(52)","H"]
["IPOS2","     HSBC TKY      ","PEB","300169","KRW",-200000000,-200000000,-200000000,"2023-03-20","2024-06-01","BRO",10650,"002-017162-840",0,"   ","HSBC","SEL ","tst0100-0idn","FNI",2,"PEBSEL300169","2026-07-17",-776,"",null,null,"금융업(64)","K"]
["IPOS2","CAL EIMI CRITIAL EN","PEB","300179","KRW",-250960105,-250960105,-250960105,"2023-03-28","2029-02-28","C13",4310,"002-097164-840",3,"GTE","HSBC","SEL ","tst136-81idn","FNI",2,"PEBSEL300179","2026-07-18",956,19454,null,null,"전기장비 제조업(28)","C"]
["IPOS2","CAL EIMI CRITIAL EN","PEB","300180","KRW",-268512915,-268512915,-268512915,"2023-03-28","2026-08-30","C13",4310,"002-097164-840",3,"GTE","HSBC","SEL ","tst136-81idn","FNI",2,"PEBSEL300180","2026-07-19",42,20815,null,null,"전기장비 제조업(28)","C"]
["IPOS2"," SEA DSV AIR &SEA L","PEB","300182","KRW",-30000000,-30000000,-30000000,"2023-03-29","2024-03-31","C13",9630,"002-085787-840",3,"GTE","HSBC","SEL ","tst109-81idn","FNI",2,"PEBSEL300182","2026-07-20",-841,24,null,null,"창고 및 운송관련 서비스업(52)","H"]
["IPOS2","CAL EIMI CRITIAL EN","PEB","300188","KRW",-131615000,-131615000,-131615000,"2023-04-05","2025-06-30","C13",4310,"002-097164-840",3,"GTE","HSBC","SEL ","tst136-81idn","FNI",2,"PEBSEL300188","2026-07-21",-386,10203,null,null,"전기장비 제조업(28)","C"]
["IPOS2","Y (ALGE COMPAN (ALO","PEB","300193","KRW",-6930000,-6930000,-6930000,"2023-04-10","2024-03-30","C11",4320,"002-705913-840",3,"GTE","HSBC","SEL ","tst14-068idn","FNI",2,"PEBSEL300193","2026-07-22",-844,31,null,null,"전자부품, 컴퓨터, 영상, 음향 및 통신장비 제조업(26)","C"]
["IPOS2","OREA CLARINS KREA L","PEB","300198","KRW",-100000000,-100000000,-100000000,"2023-04-17","2024-05-09","MFS",3550,"002-075351-840",3,"GTE","HSBC","SEL ","tst102-81idn","FNI",2,"PEBSEL300198","2026-07-23",-805,2393,null,null,"",""]
["IPOS2","DUSTRVEOLIA INUSTRI","PEB","300199","KRW",-178289133,-178289133,-178289133,"2023-04-17","2024-02-29","C13",5410,"002-705155-840",3,"GTE","HSBC","SEL ","tst126-81idn","FNI",2,"PEBSEL300199","2026-07-24",-876,682,null,null,"수도사업(36)","D"]
["IPOS2","O., LMAXIMUS C., LT","PEB","300203","KRW",-136950000,-136950000,-136950000,"2023-04-18","2024-02-16","MFS",11740,"002-087866-840",3,"GTE","HSBC","SEL ","tst220-87idn","FNI",2,"PEBSEL300203","2026-07-25",-890,3638,null,null,"   사업지원서비스업(75)","M"]
["IPOS2","ONG KGC-HSBC HNG KO","PEB","300204","KRW",-675000000,-675000000,-675000000,"2023-04-18","2028-12-31","BRO",10650,"002-500801-840",0,"   ","HSBC","SEL ","tst026387idn","FNI",2,"PEBSEL300204","2026-07-26",889,"",null,null,"금융업(64)","K"]
["IPOS2"," LTD.DHL KOREALTD. ","PEB","300205","KRW",-15000000,-15000000,-15000000,"2023-04-19","2024-04-30","C13",9630,"002-218875-840",3,"GTE","HSBC","SEL ","tst105-86idn","FNI",2,"PEBSEL300205","2026-07-27",-818,66,null,null,"창고 및 운송관련 서비스업(52)","H"]
["IPOS2","LECTRSAMSUNG EECTRO","PEB","300208","USD",-1000000,-1000000,-13567000,"2023-04-21","2039-12-31","C13",4320,"002-002404-840",3,"GTE","HSBC","INM ","tst124-81idn","FNI",2,"PEBSEL300208","2026-07-28",4904,726.19200000000001,null,null,"전자부품, 컴퓨터, 영상, 음향 및 통신장비 제조업(26)","C"]
["IPOS2","CAL EIMI CRITIAL EN","PEB","300210","KRW",-43284230,-43284230,-43284230,"2023-04-25","2024-01-15","C13",4310,"002-097164-840",3,"GTE","HSBC","SEL ","tst136-81idn","FNI",2,"PEBSEL300210","2026-07-29",-926,634,null,null,"전기장비 제조업(28)","C"]
["IPOS2","CA KOASTRAZENEA KOR","PEB","300211","KRW",-2400000000,-2400000000,-2400000000,"2023-04-26","2025-03-31","C13",7510,"002-010464-840",3,"GTE","HSBC","SEL ","tst214-81idn","FNI",2,"PEBSEL300211","2026-07-30",-486,15755,null,null,"도매 및 상품중개업(46)","G"]
["IPOS2","LECTRSAMSUNG EECTRO","PEB","300212","USD",-1000000,-1000000,-13567000,"2023-04-27","2039-12-31","C13",4320,"002-002404-840",3,"GTE","HSBC","INM ","tst124-81idn","FNI",2,"PEBSEL300212","2026-07-31",4901,726.19200000000001,null,null,"전자부품, 컴퓨터, 영상, 음향 및 통신장비 제조업(26)","C"]
["IPOS2","Y (ALGE COMPAN (ALO","PEB","300215","KRW",-13444200,-13444200,-13444200,"2023-04-27","2023-12-28","C11",4320,"002-705913-840",3,"GTE","HSBC","SEL ","tst14-068idn","FNI",2,"PEBSEL300215","2026-08-01",-947,34,null,null,"전자부품, 컴퓨터, 영상, 음향 및 통신장비 제조업(26)","C"]
["IPOS2","Y (ALGE COMPAN (ALO","PEB","300216","KRW",-30657044,-30657044,-30657044,"2023-04-27","2024-04-27","C11",4320,"002-705913-840",3,"GTE","HSBC","SEL ","tst14-068idn","FNI",2,"PEBSEL300216","2026-08-02",-827,309,null,null,"전자부품, 컴퓨터, 영상, 음향 및 통신장비 제조업(26)","C"]
["IPOS2","CAL EIMI CRITIAL EN","PEB","300217","USD",-1800000,-1800000,-24420600,"2023-04-28","2023-12-31","C13",4310,"002-097164-840",3,"GTE","HSBC","SEL ","tst136-81idn","FNI",2,"PEBSEL300217","2026-08-03",-946,215.16800000000001,null,null,"전기장비 제조업(28)","C"]
["IPOS2","Y (ALGE COMPAN (ALO","PEB","300230","USD",-50000000,-50000000,-678350000,"2023-05-10","2024-01-30","C11",4320,"002-705913-840",3,"GTE","HSBC","SEL ","tst14-068idn","FNI",2,"PEBSEL300230","2026-08-04",-917,2151.6799999999998,null,null,"전자부품, 컴퓨터, 영상, 음향 및 통신장비 제조업(26)","C"]
["IPOS2"," SEA DSV AIR &SEA L","PEB","300234","KRW",-100000000,-100000000,-100000000,"2023-05-11","2024-05-10","C13",9630,"002-085787-840",3,"GTE","HSBC","SEL ","tst109-81idn","FNI",2,"PEBSEL300234","2026-08-05",-817,48,null,null,"창고 및 운송관련 서비스업(52)","H"]
["IPOS2"," SEA DSV AIR &SEA L","PEB","300235","KRW",-150000000,-150000000,-150000000,"2023-05-11","2024-05-10","C13",9630,"002-085787-840",3,"GTE","HSBC","SEL ","tst109-81idn","FNI",2,"PEBSEL300235","2026-08-06",-818,72,null,null,"창고 및 운송관련 서비스업(52)","H"]
["IPOS2"," SEA DSV AIR &SEA L","PEB","300236","KRW",-30000000,-30000000,-30000000,"2023-05-11","2024-05-10","C13",9630,"002-085787-840",3,"GTE","HSBC","SEL ","tst109-81idn","FNI",2,"PEBSEL300236","2026-08-07",-819,14,null,null,"창고 및 운송관련 서비스업(52)","H"]
["IPOS2"," USA,HSBC BANKUSA, ","PEB","300241","USD",-6477970,-6477970,-87886619,"2023-05-17","2024-04-30","FPO",10650,"002-551730-840",0,"   ","HSBC","SEL ","tst20-117idn","FNI",2,"PEBSEL300241","2026-08-08",-830,"",null,null,"금융업(64)","K"]
["IPOS2"," SEA DSV AIR &SEA L","PEB","300249","KRW",-150000000,-150000000,-150000000,"2023-05-22","2024-05-20","C13",9630,"002-085787-840",3,"GTE","HSBC","SEL ","tst109-81idn","FNI",2,"PEBSEL300249","2026-08-09",-811,75,null,null,"창고 및 운송관련 서비스업(52)","H"]
["IPOS2"," SEA DSV AIR &SEA L","PEB","300250","KRW",-30000000,-30000000,-30000000,"2023-05-22","2024-05-20","C13",9630,"002-085787-840",3,"GTE","HSBC","SEL ","tst109-81idn","FNI",2,"PEBSEL300250","2026-08-10",-812,15,null,null,"창고 및 운송관련 서비스업(52)","H"]
["IPOS2"," MIDDHSBC BANKMIDDL","PEB","300252","AUD",-269675420,-269675420,-2306253000,"2023-05-24","2024-04-06","FPO",10650,"002-153446-840",0,"   ","HSBC","SEL ","tst208172idn","FNI",2,"PEBSEL300252","2026-08-11",-857,"",null,null,"금융업(64)","K"]
["IPOS2","     HSBC TKY      ","PEB","300255","KRW",-200000000,-200000000,-200000000,"2023-05-23","2024-07-31","BRO",10650,"002-017162-840",0,"   ","HSBC","SEL ","tst0100-0idn","FNI",2,"PEBSEL300255","2026-08-12",-742,"",null,null,"금융업(64)","K"]
["IPOS2","     HSBC TKY      ","PEB","300257","KRW",-700000000,-700000000,-700000000,"2023-05-23","2024-07-31","BRO",10650,"002-017162-840",0,"   ","HSBC","SEL ","tst0100-0idn","FNI",2,"PEBSEL300257","2026-08-13",-743,"",null,null,"금융업(64)","K"]
["IPOS2","     HSBC TKY      ","PEB","300258","KRW",-518280000,-518280000,-518280000,"2023-05-23","2024-07-31","BRO",10650,"002-017162-840",0,"   ","HSBC","SEL ","tst0100-0idn","FNI",2,"PEBSEL300258","2026-08-14",-744,"",null,null,"금융업(64)","K"]
["IPOS2","     HSBC TKY      ","PEB","300259","KRW",-1000000000,-1000000000,-1000000000,"2023-05-23","2024-07-31","BRO",10650,"002-017162-840",0,"   ","HSBC","SEL ","tst0100-0idn","FNI",2,"PEBSEL300259","2026-08-15",-745,"",null,null,"금융업(64)","K"]
["IPOS2","     HSBC TKY      ","PEB","300260","KRW",-3500000000,-3500000000,-3500000000,"2023-05-23","2024-07-31","BRO",10650,"002-017162-840",0,"   ","HSBC","SEL ","tst0100-0idn","FNI",2,"PEBSEL300260","2026-08-16",-746,"",null,null,"금융업(64)","K"]
["IPOS2"," USA,HSBC BANKUSA, ","PEB","300262","USD",-998195,-998195,-13542512,"2023-05-24","2024-12-13","FPO",10650,"002-551730-840",0,"   ","HSBC","SEL ","tst20-117idn","FNI",2,"PEBSEL300262","2026-08-17",-612,"",null,null,"금융업(64)","K"]
["IPOS2"," LTD.DHL KOREALTD. ","PEB","300263","KRW",-300000000,-300000000,-300000000,"2023-05-25","2024-05-31","C13",9630,"002-218875-840",3,"GTE","HSBC","SEL ","tst105-86idn","FNI",2,"PEBSEL300263","2026-08-18",-809,1484,null,null,"창고 및 운송관련 서비스업(52)","H"]
["IPOS2"," USA,HSBC BANKUSA, ","PEB","300265","USD",-871310,-871310,-11821063,"2023-05-25","2024-11-22","FPO",10650,"002-551730-840",0,"   ","HSBC","SEL ","tst20-117idn","FNI",2,"PEBSEL300265","2026-08-19",-635,"",null,null,"금융업(64)","K"]
["IPOS2"," USA,HSBC BANKUSA, ","PEB","300266","USD",-316715,-316715,-4296872,"2023-05-25","2024-09-13","FPO",10650,"002-551730-840",0,"   ","HSBC","SEL ","tst20-117idn","FNI",2,"PEBSEL300266","2026-08-20",-706,"",null,null,"금융업(64)","K"]
["IPOS2","LECTRSAMSUNG EECTRO","PEB","300268","USD",-1000000,-1000000,-13567000,"2023-05-25","2039-12-31","C13",4320,"002-002404-840",3,"GTE","HSBC","INM ","tst124-81idn","FNI",2,"PEBSEL300268","2026-08-21",4880,726.19200000000001,null,null,"전자부품, 컴퓨터, 영상, 음향 및 통신장비 제조업(26)","C"]
["IPOS2"," SEA DSV AIR &SEA L","PEB","300269","KRW",-500000000,-500000000,-500000000,"2023-06-01","2024-05-31","C13",9630,"002-085787-840",3,"GTE","HSBC","SEL ","tst109-81idn","FNI",2,"PEBSEL300269","2026-08-22",-813,260,null,null,"창고 및 운송관련 서비스업(52)","H"]
["IPOS2"," SEA DSV AIR &SEA L","PEB","300270","KRW",-70000000,-70000000,-70000000,"2023-06-01","2024-05-31","C13",9630,"002-085787-840",3,"GTE","HSBC","SEL ","tst109-81idn","FNI",2,"PEBSEL300270","2026-08-23",-814,36,null,null,"창고 및 운송관련 서비스업(52)","H"]
["IPOS2"," USA,HSBC BANKUSA, ","PEB","300277","USD",-43707340,-43707340,-592977482,"2023-06-02","2024-07-24","FPO",10650,"002-551730-840",0,"   ","HSBC","SEL ","tst20-117idn","FNI",2,"PEBSEL300277","2026-08-24",-761,"",null,null,"금융업(64)","K"]
["IPOS2"," SEA DSV AIR &SEA L","PEB","300278","KRW",-400000000,-400000000,-400000000,"2023-06-05","2024-06-03","C13",9630,"002-085787-840",3,"GTE","HSBC","SEL ","tst109-81idn","FNI",2,"PEBSEL300278","2026-08-25",-813,211,null,null,"창고 및 운송관련 서비스업(52)","H"]
["IPOS2","BANK KEB HANA ANK  ","PEB","300280","USD",-6772000,-6772000,-91875724,"2023-06-08","2024-12-15","BE1",10650,"002-060970-840",3,"   ","HSBC","INM ","tst202-81idn","FNI",2,"PEBSEL300280","2026-08-26",-619,1277.56,null,null,"금융업(64)","K"]
["IPOS2","BANK KEB HANA ANK  ","PEB","300284","USD",-5607000,-5607000,-76070169,"2023-06-08","2024-12-15","BE1",10650,"002-060970-840",3,"   ","HSBC","INM ","tst202-81idn","FNI",2,"PEBSEL300284","2026-08-27",-620,1062.3920000000001,null,null,"금융업(64)","K"]
["IPOS2","BANK KEB HANA ANK  ","PEB","300285","USD",-8621000,-8621000,-116961107,"2023-06-08","2024-12-15","BE1",10650,"002-060970-840",3,"   ","HSBC","INM ","tst202-81idn","FNI",2,"PEBSEL300285","2026-08-28",-621,1627.2079999999999,null,null,"금융업(64)","K"]
["IPOS2","INENTHSBC CONTNENTA","PEB","300296","EUR",-46514750,-46514750,-665269369,"2023-06-14","2024-02-15","FPO",10650,"002-546202-840",0,"   ","HSBC","SEL ","tst775 67idn","FNI",2,"PEBSEL300296","2026-08-29",-926,"",null,null,"금융업(64)","K"]
["IPOS2"," (CHIHSBC BANK(CHIN","PEB","300297","USD",-1882319038,-1882319038,-25537422389,"2023-06-22","2024-12-31","GPO",10650,"002-437748-840",3,"   ","HSBC","SEL ","tst913100idn","FNI",2,"PEBSEL300297","2026-08-30",-607,"",null,null,"금융업(64)","K"]
["IPOS2"," LTD.DHL KOREALTD. ","PEB","300302","KRW",-55000000,-55000000,-55000000,"2023-06-23","2024-06-30","C13",9630,"002-218875-840",3,"GTE","HSBC","SEL ","tst105-86idn","FNI",2,"PEBSEL300302","2026-08-31",-792,302,null,null,"창고 및 운송관련 서비스업(52)","H"]
["IPOS2","L FORDHL GLOBA FORW","PEB","300315","KRW",-40000000,-40000000,-40000000,"2023-07-03","2024-08-29","C13",9630,"002-618381-840",3,"GTE","HSBC","SEL ","tst109-81idn","FNI",2,"PEBSEL300315","2026-09-01",-733,263,null,null,"창고 및 운송관련 서비스업(52)","H"]
["IPOS2","L INCM2 DIGITA INC.","PEB","300316","KRW",-448800000,-448800000,-448800000,"2023-07-03","2023-12-31","C13",11740,"002-074023-840",3,"GTE","HSBC","SEL ","tst102-81idn","FNI",2,"PEBSEL300316","2026-09-02",-976,5862,null,null,"   사업지원서비스업(75)","M"]
["IPOS2","INENTHSBC CONTNENTA","PEB","300317","USD",-60028400,-60028400,-814405303,"2023-07-04","2025-06-30","FPO",10650,"002-546202-840",0,"   ","HSBC","SEL ","tst775 67idn","FNI",2,"PEBSEL300317","2026-09-03",-430,"",null,null,"금융업(64)","K"]
["IPOS2","Y (ALGE COMPAN (ALO","PEB","300328","KRW",-5985643980,-5985643980,-5985643980,"2023-07-12","2024-04-15","C11",4320,"002-705913-840",3,"GTE","HSBC","SEL ","tst14-068idn","FNI",2,"PEBSEL300328","2026-09-04",-872,7699,null,null,"전자부품, 컴퓨터, 영상, 음향 및 통신장비 제조업(26)","C"]
["IPOS2","&T COSAMSUNG CT COR","PEB","300329","USD",-288530000,-288530000,-3914486510,"2023-07-12","2028-07-26","C13",7510,"002-000934-840",3,"GTE","HSBC","DAK ","tst202-81idn","FNI",2,"PEBSEL300329","2026-09-05",690,25470.511999999999,null,null,"도매 및 상품중개업(46)","G"]
["IPOS2"," USA,HSBC BANKUSA, ","PEB","300335","USD",-3218300,-3218300,-43662676,"2023-07-14","2024-07-17","FPO",10650,"002-551730-840",0,"   ","HSBC","SEL ","tst20-117idn","FNI",2,"PEBSEL300335","2026-09-06",-781,"",null,null,"금융업(64)","K"]
["IPOS2"," USA,HSBC BANKUSA, ","PEB","300336","USD",-1071450,-1071450,-14536362,"2023-07-14","2024-10-02","FPO",10650,"002-551730-840",0,"   ","HSBC","SEL ","tst20-117idn","FNI",2,"PEBSEL300336","2026-09-07",-705,"",null,null,"금융업(64)","K"]
["IPOS2"," USA,HSBC BANKUSA, ","PEB","300337","USD",-3156455,-3156455,-42823625,"2023-07-14","2024-07-10","FPO",10650,"002-551730-840",0,"   ","HSBC","SEL ","tst20-117idn","FNI",2,"PEBSEL300337","2026-09-08",-790,"",null,null,"금융업(64)","K"]
["IPOS2","L INCM2 DIGITA INC.","PEB","300383","KRW",-4712400000,-4712400000,-4712400000,"2023-07-28","2024-04-30","C13",11740,"002-074023-840",3,"GTE","HSBC","SEL ","tst102-81idn","FNI",2,"PEBSEL300383","2026-09-09",-862,122101,null,null,"   사업지원서비스업(75)","M"]
["IPOS2","L FORDHL GLOBA FORW","PEB","300397","KRW",-50000000,-50000000,-50000000,"2023-08-02","2024-02-29","C13",9630,"002-618381-840",3,"GTE","HSBC","SEL ","tst109-81idn","FNI",2,"PEBSEL300397","2026-09-10",-924,82,null,null,"창고 및 운송관련 서비스업(52)","H"]
["IPOS2","CAL EIMI CRITIAL EN","PEB","300399","KRW",-83339575,-83339575,-83339575,"2023-08-02","2024-04-23","C13",4310,"002-097164-840",3,"GTE","HSBC","SEL ","tst136-81idn","FNI",2,"PEBSEL300399","2026-09-11",-871,2097,null,null,"전기장비 제조업(28)","C"]
["IPOS2"," (CHIHSBC BANK(CHIN","PEB","300406","USD",-8011400,-8011400,-108690664,"2023-08-07","2024-03-25","GPO",10650,"002-437748-840",3,"   ","KOAB","KRSL","tst913100idn","FNI",2,"PEBSEL300406","2026-09-12",-901,"",null,null,"금융업(64)","K"]
["IPOS2"," (CHIHSBC BANK(CHIN","PEB","300407","USD",-18260250,-18260250,-247736812,"2023-08-08","2024-03-25","GPO",10650,"002-437748-840",3,"   ","KOAB","KRSL","tst913100idn","FNI",2,"PEBSEL300407","2026-09-13",-902,"",null,null,"금융업(64)","K"]
["IPOS2"," (CHIHSBC BANK(CHIN","PEB","300408","USD",-3855910,-3855910,-52313131,"2023-08-09","2024-05-25","GPO",10650,"002-437748-840",3,"   ","KOAB","KRSL","tst913100idn","FNI",2,"PEBSEL300408","2026-09-14",-842,"",null,null,"금융업(64)","K"]
["IPOS2"," (CHIHSBC BANK(CHIN","PEB","300411","USD",-22097440,-22097440,-299795968,"2023-08-10","2024-05-25","GPO",10650,"002-437748-840",3,"   ","KOAB","KRSL","tst913100idn","FNI",2,"PEBSEL300411","2026-09-15",-843,"",null,null,"금융업(64)","K"]
["IPOS2","O., LMAXIMUS C., LT","PEB","300412","KRW",-9300000,-9300000,-9300000,"2023-08-10","2023-12-31","MFS",11740,"002-087866-840",3,"GTE","HSBC","SEL ","tst220-87idn","FNI",2,"PEBSEL300412","2026-09-16",-990,179,null,null,"   사업지원서비스업(75)","M"]
["IPOS2","A INCDURR KORE INC.","PEB","300417","KRW",-4747000000,-4747000000,-4747000000,"2023-08-14","2025-09-15","MFS",4290,"002-009044-840",3,"GTE","HSBC","SEL ","tst220-81idn","FNI",2,"PEBSEL300417","2026-09-17",-367,163914,null,null,"기타 기계 및 장비 제조업(29)","C"]
["IPOS2","A INCDURR KORE INC.","PEB","300419","KRW",-7792000000,-7792000000,-7792000000,"2023-08-14","2025-09-15","MFS",4290,"002-009044-840",3,"GTE","HSBC","SEL ","tst220-81idn","FNI",2,"PEBSEL300419","2026-09-18",-368,269057,null,null,"기타 기계 및 장비 제조업(29)","C"]
["IPOS2","O., LMAXIMUS C., LT","PEB","300422","KRW",-819000,0,0,"2023-08-14","2023-08-28","MFS",11740,"002-087866-840",3,"GTE","HSBC","SEL ","tst220-87idn","FNI",2,"PEBSEL300422","2026-09-19",-1118,"",null,null,"   사업지원서비스업(75)","M"]
["IPOS2","SA COKYUNGDONGA CO.","PEB","300429","KRW",-550000000,-550000000,-550000000,"2023-08-18","2024-01-20","C13",4240,"002-267856-840",4,"GTE","HSBC","SEL ","tst502-81idn","FNI",2,"PEBSEL300429","2026-09-20",-974,1644,null,null,"화학물질 및 화학제품 제조업(의약품 제외)(20)","C"]
["IPOS2","SA COKYUNGDONGA CO.","PEB","300440","KRW",-400000000,-400000000,-400000000,"2023-08-18","2024-10-17","C13",4240,"002-267856-840",4,"GTE","HSBC","SEL ","tst502-81idn","FNI",2,"PEBSEL300440","2026-09-21",-704,6104,null,null,"화학물질 및 화학제품 제조업(의약품 제외)(20)","C"]
["IPOS2","SA COKYUNGDONGA CO.","PEB","300449","KRW",-1150000000,-1150000000,-1150000000,"2023-08-18","2024-10-17","C13",4240,"002-267856-840",4,"GTE","HSBC","SEL ","tst502-81idn","FNI",2,"PEBSEL300449","2026-09-22",-705,17548,null,null,"화학물질 및 화학제품 제조업(의약품 제외)(20)","C"]
["IPOS2","SA COKYUNGDONGA CO.","PEB","300457","KRW",-800000000,-800000000,-800000000,"2023-08-18","2024-10-17","C13",4240,"002-267856-840",4,"GTE","HSBC","SEL ","tst502-81idn","FNI",2,"PEBSEL300457","2026-09-23",-706,12207,null,null,"화학물질 및 화학제품 제조업(의약품 제외)(20)","C"]
["IPOS2","SA COKYUNGDONGA CO.","PEB","300465","KRW",-600000000,-600000000,-600000000,"2023-08-18","2024-10-17","C13",4240,"002-267856-840",4,"GTE","HSBC","SEL ","tst502-81idn","FNI",2,"PEBSEL300465","2026-09-24",-707,9156,null,null,"화학물질 및 화학제품 제조업(의약품 제외)(20)","C"]
["IPOS2","SA COKYUNGDONGA CO.","PEB","300466","KRW",-550000000,-550000000,-550000000,"2023-08-18","2024-10-17","C13",4240,"002-267856-840",4,"GTE","HSBC","SEL ","tst502-81idn","FNI",2,"PEBSEL300466","2026-09-25",-708,8393,null,null,"화학물질 및 화학제품 제조업(의약품 제외)(20)","C"]
["IPOS2","SA COKYUNGDONGA CO.","PEB","300467","KRW",-20000000,-20000000,-20000000,"2023-08-18","2024-10-17","C13",4240,"002-267856-840",4,"GTE","HSBC","SEL ","tst502-81idn","FNI",2,"PEBSEL300467","2026-09-26",-709,305,null,null,"화학물질 및 화학제품 제조업(의약품 제외)(20)","C"]
["IPOS2","SA COKYUNGDONGA CO.","PEB","300468","KRW",-1400000000,-1400000000,-1400000000,"2023-08-18","2024-10-17","C13",4240,"002-267856-840",4,"GTE","HSBC","SEL ","tst502-81idn","FNI",2,"PEBSEL300468","2026-09-27",-710,21363,null,null,"화학물질 및 화학제품 제조업(의약품 제외)(20)","C"]
["IPOS2","SA COKYUNGDONGA CO.","PEB","300469","KRW",-2010000000,-2010000000,-2010000000,"2023-08-18","2024-10-17","C13",4240,"002-267856-840",4,"GTE","HSBC","SEL ","tst502-81idn","FNI",2,"PEBSEL300469","2026-09-28",-711,30671,null,null,"화학물질 및 화학제품 제조업(의약품 제외)(20)","C"]
["IPOS2","SA COKYUNGDONGA CO.","PEB","300470","KRW",-2500000000,-2500000000,-2500000000,"2023-08-18","2024-10-17","C13",4240,"002-267856-840",4,"GTE","HSBC","SEL ","tst502-81idn","FNI",2,"PEBSEL300470","2026-09-29",-712,38148,null,null,"화학물질 및 화학제품 제조업(의약품 제외)(20)","C"]
["IPOS2","ONG KGC-HSBC HNG KO","PEB","300473","USD",-100000000,-100000000,-1356700000,"2023-08-24","2027-12-31","BRO",10650,"002-500801-840",0,"   ","HSBC","SEL ","tst026387idn","FNI",2,"PEBSEL300473","2026-09-30",457,"",null,null,"금융업(64)","K"]
["IPOS2","EA LLPRADA KORA LLC","PEB","300474","KRW",-250000000,-250000000,-250000000,"2023-08-25","2024-10-24","C13",7520,"002-177206-840",3,"GTE","HSBC","SEL ","tst213-86idn","FNI",2,"PEBSEL300474","2026-10-01",-707,8632,null,null,"소매업(자동차 제외)(47)","G"]
["IPOS2","EA LLPRADA KORA LLC","PEB","300475","KRW",-100000000,-100000000,-100000000,"2023-08-25","2024-10-24","C13",7520,"002-177206-840",3,"GTE","HSBC","SEL ","tst213-86idn","FNI",2,"PEBSEL300475","2026-10-02",-708,3453,null,null,"소매업(자동차 제외)(47)","G"]
["IPOS2"," LTD.DHL KOREALTD. ","PEB","300476","KRW",-130000000,-130000000,-130000000,"2023-08-28","2024-08-31","C13",9630,"002-218875-840",3,"GTE","HSBC","SEL ","tst105-86idn","FNI",2,"PEBSEL300476","2026-10-03",-763,863,null,null,"창고 및 운송관련 서비스업(52)","H"]
["IPOS2","O., LMAXIMUS C., LT","PEB","300477","KRW",-34580000,-34580000,-34580000,"2023-08-31","2023-12-31","MFS",11740,"002-087866-840",3,"GTE","HSBC","SEL ","tst220-87idn","FNI",2,"PEBSEL300477","2026-10-04",-1008,665,null,null,"   사업지원서비스업(75)","M"]
["IPOS2","CAL EIMI CRITIAL EN","PEB","300480","KRW",-61791400,-61791400,-61791400,"2023-08-30","2024-06-30","C13",4310,"002-097164-840",3,"GTE","HSBC","SEL ","tst136-81idn","FNI",2,"PEBSEL300480","2026-10-05",-827,2001,null,null,"전기장비 제조업(28)","C"]
["IPOS2","LECTRSAMSUNG EECTRO","PEB","300482","USD",-1000000,-1000000,-13567000,"2023-08-31","2039-12-31","C13",4320,"002-002404-840",3,"GTE","HSBC","INM ","tst124-81idn","FNI",2,"PEBSEL300482","2026-10-06",4834,726.19200000000001,null,null,"전자부품, 컴퓨터, 영상, 음향 및 통신장비 제조업(26)","C"]
["IPOS2","REA IGROUPM KOEA IN","PEB","300483","KRW",-500000000,-500000000,-500000000,"2023-09-01","2024-08-31","C13",11740,"002-778391-840",3,"GTE","HSBC","SEL ","tst107-86idn","FNI",2,"PEBSEL300483","2026-10-07",-767,"",null,null,"   사업지원서비스업(75)","M"]
["IPOS2","REA IGROUPM KOEA IN","PEB","300484","KRW",-50000000,-50000000,-50000000,"2023-09-01","2024-08-31","C13",11740,"002-778391-840",3,"GTE","HSBC","SEL ","tst107-86idn","FNI",2,"PEBSEL300484","2026-10-08",-768,"",null,null,"   사업지원서비스업(75)","M"]
["IPOS2","REA IGROUPM KOEA IN","PEB","300489","KRW",-100000000,-100000000,-100000000,"2023-09-01","2024-08-31","C13",11740,"002-778391-840",3,"GTE","HSBC","SEL ","tst107-86idn","FNI",2,"PEBSEL300489","2026-10-09",-769,"",null,null,"   사업지원서비스업(75)","M"]
["IPOS2","REA IGROUPM KOEA IN","PEB","300490","KRW",-300000000,-300000000,-300000000,"2023-09-01","2024-08-31","C13",11740,"002-778391-840",3,"GTE","HSBC","SEL ","tst107-86idn","FNI",2,"PEBSEL300490","2026-10-10",-770,"",null,null,"   사업지원서비스업(75)","M"]
["IPOS2","O., LMAXIMUS C., LT","PEB","300501","KRW",-70000000,-70000000,-70000000,"2023-09-08","2025-06-30","MFS",11740,"002-087866-840",3,"GTE","HSBC","SEL ","tst220-87idn","FNI",2,"PEBSEL300501","2026-10-11",-468,"",null,null,"   사업지원서비스업(75)","M"]
["IPOS2","O., LMAXIMUS C., LT","PEB","300507","KRW",-1071000,0,0,"2023-09-14","2023-10-13","MFS",11740,"002-087866-840",3,"GTE","HSBC","SEL ","tst220-87idn","FNI",2,"PEBSEL300507","2026-10-12",-1095,"",null,null,"   사업지원서비스업(75)","M"]
["IPOS2","ROLUTINEOS STYOLUTI","PEB","300509","USD",-1000000,-1000000,-13567000,"2023-09-18","2025-08-16","C13",4240,"002-052868-840",3,"GTE","HSBC","INM ","tst610-81idn","FNI",2,"PEBSEL300509","2026-10-13",-423,"",null,null,"화학물질 및 화학제품 제조업(의약품 제외)(20)","C"]
["IPOS2"," USA,HSBC BANKUSA, ","PEB","300511","USD",-393655,-393655,-5340717,"2023-09-19","2025-05-26","FPO",10650,"002-551730-840",0,"   ","HSBC","SEL ","tst20-117idn","FNI",2,"PEBSEL300511","2026-10-14",-506,"",null,null,"금융업(64)","K"]
["IPOS2","CAL EIMI CRITIAL EN","PEB","300512","USD",-696820,-696820,-9453757,"2023-09-19","2026-07-06","C13",4310,"002-097164-840",3,"GTE","HBMB","KLH ","tst136-81idn","FNI",2,"PEBSEL300512","2026-10-15",-101,"",null,null,"전기장비 제조업(28)","C"]
["IPOS2"," CANAHSBC BANKCANAD","PEB","300516","KRW",-500000000,-500000000,-500000000,"2023-09-22","2028-09-29","FPO",10650,"002-703522-840",0,"   ","HSBC","SEL ","tst89158 idn","FNI",2,"PEBSEL300516","2026-10-16",714,"",null,null,"금융업(64)","K"]
["IPOS2","INENTHSBC CONTNENTA","PEB","300518","USD",-196103100,-196103100,-2660530758,"2023-09-25","2025-12-31","FPO",10650,"002-546202-840",0,"   ","HSBC","SEL ","tst775 67idn","FNI",2,"PEBSEL300518","2026-10-17",-290,"",null,null,"금융업(64)","K"]
["IPOS2","RRIS PHILIP MORIS K","PEB","300520","KRW",-398000000,-398000000,-398000000,"2023-09-27","2024-09-24","C13",4160,"002-063966-840",3,"GTE","HSBC","SEL ","tst110-81idn","FNI",2,"PEBSEL300520","2026-10-18",-754,"",null,null,"담배 제조업(12)","C"]
["IPOS2","A INCDURR KORE INC.","PEB","300526","KRW",-1428800000,-1428800000,-1428800000,"2023-10-12","2024-12-31","MFS",4290,"002-009044-840",3,"GTE","HSBC","SEL ","tst220-81idn","FNI",2,"PEBSEL300526","2026-10-19",-657,"",null,null,"기타 기계 및 장비 제조업(29)","C"]
["IPOS2","M KORPETRO-CHE KORE","PEB","300528","KRW",-2444200000,-2444200000,-2444200000,"2023-10-13","2025-08-30","MFS",4290,"002-242604-840",3,"GTE","HSBC","SEL ","tst107-81idn","FNI",2,"PEBSEL300528","2026-10-20",-416,"",null,null,"기타 기계 및 장비 제조업(29)","C"]
["IPOS2"," USA,HSBC BANKUSA, ","PEB","300530","USD",-1030995,-1030995,-13987509,"2023-10-17","2025-01-10","FPO",10650,"002-551730-840",0,"   ","HSBC","SEL ","tst20-117idn","FNI",2,"PEBSEL300530","2026-10-21",-649,"",null,null,"금융업(64)","K"]
["IPOS2","HKLINGLAXOSMITKLINE","PEB","300532","KRW",-5835053340,-5835053340,-5835053340,"2023-10-18","2029-08-29","C13",7510,"002-003319-840",3,"GTE","HSBC","SEL ","tst106-81idn","FNI",2,"PEBSEL300532","2026-10-22",1042,"",null,null,"도매 및 상품중개업(46)","G"]
["IPOS2"," USA,HSBC BANKUSA, ","PEB","300533","USD",-5197730,-5197730,-70517603,"2023-10-18","2025-03-08","FPO",10650,"002-551730-840",0,"   ","HSBC","SEL ","tst20-117idn","FNI",2,"PEBSEL300533","2026-10-23",-594,"",null,null,"금융업(64)","K"]
["IPOS2","CAL EIMI CRITIAL EN","PEB","600174","KRW",-43400000,0,0,"2016-11-01","2021-03-09","C13",4310,"002-097164-840",3,"GTE","HSBC","SEL ","tst136-81idn","FNI",2,"PEBSEL600174","2026-10-24",-2055,"",null,null,"전기장비 제조업(28)","C"]
["IPOS2"," PLC HSBC BANKPLC  ","PEB","600305","KRW",-335880000,0,0,"2016-11-25","2021-01-31","FPO",10650,"002-115288-840",0,"   ","HSBC","SEL ","tst14259-idn","FNI",2,"PEBSEL600305","2026-10-25",-2093,"",null,null,"금융업(64)","K"]
["IPOS2","CAL EIMI CRITIAL EN","PEB","600314","USD",-3293400,0,0,"2016-11-28","2021-09-21","C13",4310,"002-097164-840",3,"GTE","HSBC","SEL ","tst136-81idn","FNI",2,"PEBSEL600314","2026-10-26",-1861,"",null,null,"전기장비 제조업(28)","C"]
["IPOS2","CAL EIMI CRITIAL EN","PEB","600316","USD",-14000000,0,0,"2016-11-28","2021-09-21","C13",4310,"002-097164-840",3,"GTE","HSBC","SEL ","tst136-81idn","FNI",2,"PEBSEL600316","2026-10-27",-1862,"",null,null,"전기장비 제조업(28)","C"]
["IPOS2"," & CHPOSCO ECO& CHA","PEB","700049","MYR",-189385000,0,0,"2017-02-07","2022-02-06","C13",6450,"002-094821-840",3,"GTE","HBMB","KLH ","tst506-81idn","FNI",2,"PEBSEL700049","2026-10-28",-1725,"",null,null,"종합건설업(41)","F"]
["IPOS2","ONG ATHE HONGKNG AN","PEB","700186","USD",-4275230,0,0,"2017-04-13","2021-05-03","BRO",10650,"002-703827-840",0,"   ","HSBC","SEL ","tstS16FC0idn","FNI",2,"PEBSEL700186","2026-10-29",-2005,"",null,null,"금융업(64)","K"]
["IPOS2","INENTHSBC CONTNENTA","PEB","700246","KRW",-10000000,-10000000,-10000000,"2017-06-26","2024-02-15","FPO",10650,"002-546202-840",0,"   ","HSBC","SEL ","tst775 67idn","FNI",2,"PEBSEL700246","2026-10-30",-988,"",null,null,"금융업(64)","K"]
["IPOS2","CAL EIMI CRITIAL EN","PEB","700265","KRW",-45737800,0,0,"2017-06-30","2021-02-23","C13",4310,"002-097164-840",3,"GTE","HSBC","SEL ","tst136-81idn","FNI",2,"PEBSEL700265","2026-10-31",-2076,"",null,null,"전기장비 제조업(28)","C"]
["IPOS2"," AUSTHSBC BANKAUSTR","PEB","700289","USD",-73000000,0,0,"2017-07-17","2021-08-17","GPO",10650,"002-191223-840",0,"   ","HSBC","SEL ","tst006 43idn","FNI",2,"PEBSEL700289","2026-11-01",-1902,"",null,null,"금융업(64)","K"]
["IPOS2","REA LNEXANS KOEA LT","PEB","700337","USD",-4806092,0,0,"2017-09-04","2021-05-28","C13",4310,"002-707538-840",4,"GTE","BBME","JEAC","tst127-81idn","FNI",2,"PEBSEL700337","2026-11-02",-1984,"",null,null,"전기장비 제조업(28)","C"]
["IPOS2"," PLC HSBC BANKPLC  ","PEB","700503","EUR",-14613690,0,0,"2017-12-05","2021-02-13","FPO",10650,"002-115288-840",0,"   ","HSBC","SEL ","tst14259-idn","FNI",2,"PEBSEL700503","2026-11-03",-2089,"",null,null,"금융업(64)","K"]
["IPOS2","ONG ATHE HONGKNG AN","PEB","700525","EUR",-7123575,0,0,"2017-12-22","2021-12-31","BRO",10650,"002-703827-840",0,"   ","HSBC","SEL ","tstS16FC0idn","FNI",2,"PEBSEL700525","2026-11-04",-1769,"",null,null,"금융업(64)","K"]
["IPOS2","ERINGGS ENGINERING ","PEB","708360","USD",-1,0,0,"2016-01-08","2021-06-04","C13",6450,"002-709138-840",3,"GTE","HSBC","SEL ","tst104-81idn","FNI",2,"PEBSEL708360","2026-11-05",-1980,"",null,null,"종합건설업(41)","F"]
["IPOS2","REA LNEXANS KOEA LT","PEB","800013","USD",-4150380,0,0,"2018-01-16","2021-03-14","C13",4310,"002-707538-840",4,"GTE","MDBK","MLM ","tst127-81idn","FNI",2,"PEBSEL800013","2026-11-06",-2063,"",null,null,"전기장비 제조업(28)","C"]
["IPOS2","REA LNEXANS KOEA LT","PEB","800119","USD",-32453260,0,0,"2018-04-12","2021-04-17","C13",4310,"002-707538-840",4,"GTE","HSBC","SEL ","tst127-81idn","FNI",2,"PEBSEL800119","2026-11-07",-2030,"",null,null,"전기장비 제조업(28)","C"]
["IPOS2","A BR)HSBC(INDI BR) ","PEB","800150","USD",-14923900,0,0,"2018-05-10","2021-02-28","BRO",10650,"002-706707-840",0,"   ","MDDY","KRSL","tst F0094idn","FNI",2,"PEBSEL800150","2026-11-08",-2079,"",null,null,"금융업(64)","K"]
["IPOS2","ILANDHSBC (THALAND ","PEB","800163","USD",-618478,0,0,"2018-05-23","2021-06-02","BRO",10650,"002-004235-840",0,"   ","HSBC","SEL ","tst 11606idn","FNI",2,"PEBSEL800163","2026-11-09",-1986,"",null,null,"금융업(64)","K"]
["IPOS2","&T COSAMSUNG CT COR","PEB","800169","SAR",-7500000000,-7500000000,-27126404250,"2018-05-25","2023-12-26","C13",7510,"002-000934-840",3,"GTE","SABB","AJD ","tst202-81idn","FNI",2,"PEBSEL800169","2026-11-10",-1050,57060.703222882737,null,null,"도매 및 상품중개업(46)","G"]
["IPOS2","REA LNEXANS KOEA LT","PEB","800172","USD",-27037301,0,0,"2018-05-29","2021-06-19","C13",4310,"002-707538-840",4,"GTE","HSBC","SEL ","tst127-81idn","FNI",2,"PEBSEL800172","2026-11-11",-1971,"",null,null,"전기장비 제조업(28)","C"]
["IPOS2","REA LNEXANS KOEA LT","PEB","800259","USD",-907170,0,0,"2018-07-13","2021-08-15","C13",4310,"002-707538-840",4,"GTE","HSBC","SEL ","tst127-81idn","FNI",2,"PEBSEL800259","2026-11-12",-1915,"",null,null,"전기장비 제조업(28)","C"]
["IPOS2"," PLC HSBC BANKPLC  ","PEB","800260","EUR",-3779250,0,0,"2018-07-16","2023-07-11","FPO",10650,"002-115288-840",0,"   ","HSBC","SEL ","tst14259-idn","FNI",2,"PEBSEL800260","2026-11-13",-1221,"",null,null,"금융업(64)","K"]
["IPOS2"," PLC HSBC BANKPLC  ","PEB","800264","EUR",-1920750,0,0,"2018-07-17","2023-05-23","FPO",10650,"002-115288-840",0,"   ","HSBC","SEL ","tst14259-idn","FNI",2,"PEBSEL800264","2026-11-14",-1271,"",null,null,"금융업(64)","K"]
["IPOS2","A BR)HSBC(INDI BR) ","PEB","800281","USD",-5264110,0,0,"2018-08-10","2021-09-29","BRO",10650,"002-706707-840",0,"   ","HSBC","SEL ","tst F0094idn","FNI",2,"PEBSEL800281","2026-11-15",-1873,"",null,null,"금융업(64)","K"]
["IPOS2","A BR)HSBC(INDI BR) ","PEB","800282","USD",-10531070,0,0,"2018-08-10","2021-09-29","BRO",10650,"002-706707-840",0,"   ","HSBC","SEL ","tst F0094idn","FNI",2,"PEBSEL800282","2026-11-16",-1874,"",null,null,"금융업(64)","K"]
["IPOS2","REA LNEXANS KOEA LT","PEB","800327","USD",-768479,0,0,"2018-09-10","2023-08-31","C13",4310,"002-707538-840",4,"GTE","HSBC","SEL ","tst127-81idn","FNI",2,"PEBSEL800327","2026-11-17",-1174,0,null,null,"전기장비 제조업(28)","C"]
["IPOS2","ILANDHSBC (THALAND ","PEB","800369","USD",-882480,0,0,"2018-10-16","2021-09-28","BRO",10650,"002-004235-840",0,"   ","HSBC","SEL ","tst 11606idn","FNI",2,"PEBSEL800369","2026-11-18",-1877,"",null,null,"금융업(64)","K"]
["IPOS2"," USA,HSBC BANKUSA, ","PEB","800380","USD",-610000000,0,0,"2018-10-29","2022-06-14","FPO",10650,"002-551730-840",0,"   ","HSBC","SEL ","tst20-117idn","FNI",2,"PEBSEL800380","2026-11-19",-1619,"",null,null,"금융업(64)","K"]
["IPOS2","REA LNEXANS KOEA LT","PEB","800387","USD",-332866,-332866,-4515993,"2018-11-01","2023-11-15","C13",4310,"002-707538-840",4,"GTE","HSBC","SEL ","tst127-81idn","FNI",2,"PEBSEL800387","2026-11-20",-1101,107.584,null,null,"전기장비 제조업(28)","C"]
["IPOS2"," USA,HSBC BANKUSA, ","PEB","800388","USD",-7522740,0,0,"2018-11-01","2022-04-30","FPO",10650,"002-551730-840",0,"   ","HSBC","SEL ","tst20-117idn","FNI",2,"PEBSEL800388","2026-11-21",-1666,"",null,null,"금융업(64)","K"]
["IPOS2"," USA,HSBC BANKUSA, ","PEB","800389","USD",-7522740,0,0,"2018-11-01","2022-08-31","FPO",10650,"002-551730-840",0,"   ","HSBC","SEL ","tst20-117idn","FNI",2,"PEBSEL800389","2026-11-22",-1544,"",null,null,"금융업(64)","K"]
["IPOS2","REA LNEXANS KOEA LT","PEB","800494","USD",-467810,0,0,"2018-11-16","2021-12-18","C13",4310,"002-707538-840",4,"GTE","HSBC","TKYB","tst127-81idn","FNI",2,"PEBSEL800494","2026-11-23",-1801,"",null,null,"전기장비 제조업(28)","C"]
["IPOS2","A BR)HSBC(INDI BR) ","PEB","800538","USD",-974700,0,0,"2018-12-12","2021-06-02","BRO",10650,"002-706707-840",0,"   ","HSBC","SEL ","tst F0094idn","FNI",2,"PEBSEL800538","2026-11-24",-2001,"",null,null,"금융업(64)","K"]
["IPOS2"," PLC HSBC BANKPLC  ","PEB","800549","EUR",-3400000,0,0,"2018-12-20","2021-01-31","FPO",10650,"002-115288-840",0,"   ","HSBC","SEL ","tst14259-idn","FNI",2,"PEBSEL800549","2026-11-25",-2124,"",null,null,"금융업(64)","K"]
["IPOS2"," PLC HSBC BANKPLC  ","PEB","900001","USD",-705779,0,0,"2019-01-02","2021-06-30","FPO",10650,"002-115288-840",0,"   ","HSBC","SEL ","tst14259-idn","FNI",2,"PEBSEL900001","2026-11-26",-1975,"",null,null,"금융업(64)","K"]
["IPOS2","REA LNEXANS KOEA LT","PEB","900011","USD",-12725510,0,0,"2019-01-09","2021-06-12","C13",4310,"002-707538-840",4,"GTE","BBME","JEAC","tst127-81idn","FNI",2,"PEBSEL900011","2026-11-27",-1994,"",null,null,"전기장비 제조업(28)","C"]
["IPOS2","REA LNEXANS KOEA LT","PEB","900014","USD",-1227284,-1227284,-16650562,"2019-01-11","2024-01-15","C13",4310,"002-707538-840",4,"GTE","HSBC","SEL ","tst127-81idn","FNI",2,"PEBSEL900014","2026-11-28",-1048,712.74399999999991,null,null,"전기장비 제조업(28)","C"]
["IPOS2","ILANDHSBC (THALAND ","PEB","900019","USD",-3500000,0,0,"2019-01-15","2021-09-30","BRO",10650,"002-004235-840",0,"   ","HSBC","SEL ","tst 11606idn","FNI",2,"PEBSEL900019","2026-11-29",-1886,"",null,null,"금융업(64)","K"]
["IPOS2","L BANINDUSTRIA BANK","PEB","900026","USD",-1,0,0,"2019-01-23","2022-04-13","BK4",10650,"002-060921-840"," ","   ","HSBC","SGH ","tst202-81idn","FNI",2,"PEBSEL900026","2026-11-30",-1692,"",null,null,"금융업(64)","K"]
["IPOS2"," USA,HSBC BANKUSA, ","PEB","900051","USD",-100,0,0,"2019-02-08","2021-05-28","FPO",10650,"002-551730-840",0,"   ","HSBC","SEL ","tst20-117idn","FNI",2,"PEBSEL900051","2026-12-01",-2013,"",null,null,"금융업(64)","K"]
["IPOS2","A BR)HSBC(INDI BR) ","PEB","900057","USD",-1408800,0,0,"2019-02-12","2022-05-31","BRO",10650,"002-706707-840",0,"   ","HSBC","SEL ","tst F0094idn","FNI",2,"PEBSEL900057","2026-12-02",-1646,"",null,null,"금융업(64)","K"]
["IPOS2","ILANDHSBC (THALAND ","PEB","900087","USD",-842000,0,0,"2019-03-07","2022-03-30","BRO",10650,"002-004235-840",0,"   ","HSBC","SEL ","tst 11606idn","FNI",2,"PEBSEL900087","2026-12-03",-1709,"",null,null,"금융업(64)","K"]
["IPOS2","CAL EIMI CRITIAL EN","PEB","900113","USD",-4771400,0,0,"2019-03-14","2023-06-07","C13",4310,"002-097164-840",3,"GTE","HBVN","VNMC","tst136-81idn","FNI",2,"PEBSEL900113","2026-12-04",-1276,"",null,null,"전기장비 제조업(28)","C"]
["IPOS2","A BR)HSBC(INDI BR) ","PEB","900184","USD",-5182400,0,0,"2019-04-03","2022-01-31","BRO",10650,"002-706707-840",0,"   ","HSBC","SEL ","tst F0094idn","FNI",2,"PEBSEL900184","2026-12-05",-1769,"",null,null,"금융업(64)","K"]
["IPOS2","ONG KGC-HSBC HNG KO","PEB","900192","KRW",-42491911,0,0,"2019-04-18","2022-01-28","BRO",10650,"002-500801-840",0,"   ","HSBC","SEL ","tst026387idn","FNI",2,"PEBSEL900192","2026-12-06",-1773,"",null,null,"금융업(64)","K"]
["IPOS2","Y (ALGE COMPAN (ALO","PEB","900205","USD",-12756200,0,0,"2019-04-15","2022-07-31","C11",4320,"002-705913-840",3,"GTE","HSBC","SEL ","tst14-068idn","FNI",2,"PEBSEL900205","2026-12-07",-1590,"",null,null,"전자부품, 컴퓨터, 영상, 음향 및 통신장비 제조업(26)","C"]
["IPOS2"," USA,HSBC BANKUSA, ","PEB","900233","USD",-10586890,0,0,"2019-05-02","2021-07-07","FPO",10650,"002-551730-840",0,"   ","HSBC","SEL ","tst20-117idn","FNI",2,"PEBSEL900233","2026-12-08",-1980,"",null,null,"금융업(64)","K"]
["IPOS2"," USA,HSBC BANKUSA, ","PEB","900234","USD",-12936990,0,0,"2019-05-02","2021-08-31","FPO",10650,"002-551730-840",0,"   ","HSBC","SEL ","tst20-117idn","FNI",2,"PEBSEL900234","2026-12-09",-1926,"",null,null,"금융업(64)","K"]
["IPOS2","LECTRKUKDONG EECTRI","PEB","900256","USD",-784297,0,0,"2019-05-14","2021-12-01","C13",4310,"002-704840-840",3,"GTE","HSBC","SEL ","tst301-81idn","FNI",2,"PEBSEL900256","2026-12-10",-1835,"",null,null,"전기장비 제조업(28)","C"]
["IPOS2"," & CHPOSCO ECO& CHA","PEB","900260","USD",-814280000,0,0,"2019-05-15","2021-07-31","C13",6450,"002-094821-840",3,"GTE","HSBC","SEL ","tst506-81idn","FNI",2,"PEBSEL900260","2026-12-11",-1959,"",null,null,"종합건설업(41)","F"]
["IPOS2","LECTRKUKDONG EECTRI","PEB","900265","USD",-2000000,0,0,"2019-05-17","2021-09-30","C13",4310,"002-704840-840",3,"GTE","ICBC","TWKS","tst301-81idn","FNI",2,"PEBSEL900265","2026-12-12",-1899,"",null,null,"전기장비 제조업(28)","C"]
["IPOS2","OR KOTK ELEVATR KOR","PEB","900266","KRW",-1269070000,0,0,"2019-05-15","2021-05-24","C13",4310,"002-705278-840",3,"GTE","HSBC","SEL ","tst133-81idn","FNI",2,"PEBSEL900266","2026-12-13",-2029,"",null,null,"전기장비 제조업(28)","C"]
["IPOS2","A BR)HSBC(INDI BR) ","PEB","900275","USD",-2020200,0,0,"2019-05-27","2021-11-30","BRO",10650,"002-706707-840",0,"   ","HSBC","SEL ","tst F0094idn","FNI",2,"PEBSEL900275","2026-12-14",-1840,"",null,null,"금융업(64)","K"]
["IPOS2","NGINESAMSUNG EGINEE","PEB","900283","THB",-155285106200,-155285106200,-57814291060,"2019-05-24","2026-03-15","C13",6450,"002-016229-840",3,"GTE","BBME","DUB ","tst120-81idn","FNI",2,"PEBSEL900283","2026-12-15",-275,875432.28835164825,null,null,"종합건설업(41)","F"]
["IPOS2","REA LNEXANS KOEA LT","PEB","900310","USD",-1835167,-1835167,-24897711,"2019-05-30","2024-05-27","C13",4310,"002-707538-840",4,"GTE","HSBC","SEL ","tst127-81idn","FNI",2,"PEBSEL900310","2026-12-16",-933,2084.44,null,null,"전기장비 제조업(28)","C"]
["IPOS2"," AUSTHSBC BANKAUSTR","PEB","900314","KRW",-86900000,0,0,"2019-06-04","2021-03-31","GPO",10650,"002-191223-840",0,"   ","HSBC","SEL ","tst006 43idn","FNI",2,"PEBSEL900314","2026-12-17",-2087,"",null,null,"금융업(64)","K"]
["IPOS2","Y (ALGE COMPAN (ALO","PEB","900318","KRW",-5940718189,0,0,"2019-06-13","2023-02-28","C11",4320,"002-705913-840",3,"GTE","HSBC","SEL ","tst14-068idn","FNI",2,"PEBSEL900318","2026-12-18",-1389,"",null,null,"전자부품, 컴퓨터, 영상, 음향 및 통신장비 제조업(26)","C"]
["IPOS2"," PLC HSBC BANKPLC  ","PEB","900331","USD",-6949470,-6949470,-94283459,"2019-06-14","2023-12-01","FPO",10650,"002-115288-840",0,"   ","HSBC","SEL ","tst14259-idn","FNI",2,"PEBSEL900331","2026-12-19",-1114,"",null,null,"금융업(64)","K"]
["IPOS2","CAL EIMI CRITIAL EN","PEB","900354","KRW",-64746600,0,0,"2019-06-26","2021-12-19","C13",4310,"002-097164-840",3,"GTE","HSBC","SEL ","tst136-81idn","FNI",2,"PEBSEL900354","2026-12-20",-1827,"",null,null,"전기장비 제조업(28)","C"]
["IPOS2","A BR)HSBC(INDI BR) ","PEB","900375","USD",-776300,0,0,"2019-07-05","2021-11-30","BRO",10650,"002-706707-840",0,"   ","HSBC","SEL ","tst F0094idn","FNI",2,"PEBSEL900375","2026-12-21",-1847,"",null,null,"금융업(64)","K"]
["IPOS2","CAL EIMI CRITIAL EN","PEB","900386","USD",-11276050,-11276050,-152982170,"2019-07-11","2024-01-20","C13",4310,"002-097164-840",3,"GTE","HBVN","VNMC","tst136-81idn","FNI",2,"PEBSEL900386","2026-12-22",-1067,4599.2159999999994,null,null,"전기장비 제조업(28)","C"]
["IPOS2","CAL EIMI CRITIAL EN","PEB","900463","USD",-599000,0,0,"2019-08-16","2021-11-12","C13",4310,"002-097164-840",3,"GTE","HSBC","SEL ","tst136-81idn","FNI",2,"PEBSEL900463","2026-12-24",-1868,"",null,null,"전기장비 제조업(28)","C"]
["IPOS2","A BR)HSBC(INDI BR) ","PEB","900528","EUR",-12238600,0,0,"2019-09-20","2022-07-15","BRO",10650,"002-706707-840",0,"   ","HSBC","SEL ","tst F0094idn","FNI",2,"PEBSEL900528","2026-12-28",-1627,"",null,null,"금융업(64)","K"]
["IPOS2","CAL EIMI CRITIAL EN","PEB","914066","KRW",-63706170,0,0,"2019-11-25","2021-09-09","C13",4310,"002-097164-840",3,"GTE","HSBC","SEL ","tst136-81idn","FNI",2,"PEBSEL914066","2027-01-04",-1943,"",null,null,"전기장비 제조업(28)","C"]
["IPOS2","DUSTRVEOLIA INUSTRI","PEB","914078","KRW",-537408000,0,0,"2019-11-27","2022-02-28","C13",5410,"002-705155-840",3,"GTE","HSBC","SEL ","tst126-81idn","FNI",2,"PEBSEL914078","2027-01-07",-1774,"",null,null,"수도사업(36)","D"]
["IPOS2","LECTRKUKDONG EECTRI","PEB","914095","USD",-348129,0,0,"2019-12-11","2022-04-29","C13",4310,"002-704840-840",3,"GTE","HSBC","SEL ","tst301-81idn","FNI",2,"PEBSEL914095","2027-01-12",-1719,"",null,null,"전기장비 제조업(28)","C"]
["IPOS2","OREA JANSSEN KREA L","PEB","914109","KRW",-1,0,0,"2019-12-26","2021-07-07","C13",4240,"002-466995-840",3,"GTE","HSBC","SEL ","tst120-81idn","FNI",2,"PEBSEL914109","2027-01-17",-2020,"",null,null,"화학물질 및 화학제품 제조업(의약품 제외)(20)","C"]
["IPOS2","LECTRKUKDONG EECTRI","PEB","914118","USD",-10293517,0,0,"2019-12-31","2023-01-24","C13",4310,"002-704840-840",3,"GTE","HSBC","SEL ","tst301-81idn","FNI",2,"PEBSEL914118","2027-01-22",-1459,"",null,null,"전기장비 제조업(28)","C"]
["IPOS2","LECTRKUKDONG EECTRI","PEB","914120","USD",-1449365,0,0,"2019-12-31","2022-11-18","C13",4310,"002-704840-840",3,"GTE","HSBC","SEL ","tst301-81idn","FNI",2,"PEBSEL914120","2027-01-24",-1528,"",null,null,"전기장비 제조업(28)","C"]
["IPOS2"," MIDDHSBC BANKMIDDL","REB","32","USD",-7811000,0,0,"2020-02-05","2023-08-31","FPO",10650,"002-153446-840",0,"   ","KOAB","KRSL","tst208172idn","FNI",2,"REBSEL000032","2027-02-01",-1250,"",null,null,"금융업(64)","K"]
["IPOS2","A BR)HSBC(INDI BR) ","REB","42","USD",-124000000,0,0,"2020-02-07","2022-04-26","BRO",10650,"002-706707-840",0,"   ","HSBC","SEL ","tst F0094idn","FNI",2,"REBSEL000042","2027-02-06",-1747,"",null,null,"금융업(64)","K"]
["IPOS2","CAL EIMI CRITIAL EN","REB","54","KRW",-7150000,-7150000,-7150000,"2020-02-14","2025-08-15","C13",4310,"002-097164-840",3,"GTE","HSBC","SEL ","tst136-81idn","FNI",2,"REBSEL000054","2027-02-10",-544,554,null,null,"전기장비 제조업(28)","C"]
["IPOS2"," USA,HSBC BANKUSA, ","REB","65","USD",-20000000,0,0,"2020-02-28","2021-11-30","FPO",10650,"002-551730-840",0,"   ","KOEX","KRCK","tst20-117idn","FNI",2,"REBSEL000065","2027-02-11",-1899,"",null,null,"금융업(64)","K"]
["IPOS2"," & CHPOSCO ECO& CHA","REB","92","IDR",-5026827143700,0,0,"2020-03-09","2021-04-09","C13",6450,"002-094821-840",3,"GTE","HSBC","HKIA","tst506-81idn","FNI",2,"REBSEL000092","2027-02-17",-2140,"",null,null,"종합건설업(41)","F"]
["IPOS2","A BR)HSBC(INDI BR) ","REB","136","USD",-8322920,0,0,"2020-03-20","2023-06-30","BRO",10650,"002-706707-840",0,"   ","HSBC","SEL ","tst F0094idn","FNI",2,"REBSEL000136","2027-02-20",-1331,"",null,null,"금융업(64)","K"]
["IPOS2","CAL EIMI CRITIAL EN","REB","189","KRW",-245020352,0,0,"2020-04-14","2023-01-20","C13",4310,"002-097164-840",3,"GTE","HSBC","SEL ","tst136-81idn","FNI",2,"REBSEL000189","2027-02-26",-1498,"",null,null,"전기장비 제조업(28)","C"]
["IPOS2","CAL EIMI CRITIAL EN","REB","207","USD",-1744720,0,0,"2020-04-22","2022-08-29","C13",4310,"002-097164-840",3,"GTE","HSBC","SEL ","tst136-81idn","FNI",2,"REBSEL000207","2027-03-02",-1646,"",null,null,"전기장비 제조업(28)","C"]
["IPOS2","CAL EIMI CRITIAL EN","REB","250","USD",-3880000,0,0,"2020-05-21","2023-06-15","C13",4310,"002-097164-840",3,"GTE","HSBC","SEL ","tst136-81idn","FNI",2,"REBSEL000250","2027-03-08",-1362,"",null,null,"전기장비 제조업(28)","C"]
["IPOS2","CAL EIMI CRITIAL EN","REB","294","KRW",-112200000,0,0,"2020-06-23","2022-06-18","C13",4310,"002-097164-840",3,"GTE","HSBC","SEL ","tst136-81idn","FNI",2,"REBSEL000294","2027-03-13",-1729,"",null,null,"전기장비 제조업(28)","C"]
["IPOS2","CAL EIMI CRITIAL EN","REB","365","EUR",-14135110,-14135110,-202165028,"2020-08-18","2024-04-29","C13",4310,"002-097164-840",3,"GTE","HSBC","SEL ","tst136-81idn","FNI",2,"REBSEL000365","2027-03-19",-1054,10364.357462399999,null,null,"전기장비 제조업(28)","C"]
["IPOS2"," CORPGS GLOBALCORP.","REB","393","USD",-11067830,0,0,"2020-09-01","2023-02-26","C13",7510,"002-003928-840",3,"GTE","HSBC","SEL ","tst202-81idn","FNI",2,"REBSEL000393","2027-03-23",-1486,"",null,null,"도매 및 상품중개업(46)","G"]
["IPOS2","ONG ATHE HONGKNG AN","REB","418","USD",-947100,0,0,"2020-09-08","2022-03-23","BRO",10650,"002-703827-840",0,"   ","NACF","KRSO","tstS16FC0idn","FNI",2,"REBSEL000418","2027-03-26",-1829,"",null,null,"금융업(64)","K"]
["IPOS2"," USA,HSBC BANKUSA, ","REB","479","USD",-72000000,0,0,"2020-10-08","2022-09-30","FPO",10650,"002-551730-840",0,"   ","HSBC","SEL ","tst20-117idn","FNI",2,"REBSEL000479","2027-04-02",-1645,"",null,null,"금융업(64)","K"]
["IPOS2"," PLC HSBC BANKPLC  ","REB","515","EUR",-14613690,0,0,"2020-10-22","2023-02-13","FPO",10650,"002-115288-840",0,"   ","HSBC","SEL ","tst14259-idn","FNI",2,"REBSEL000515","2027-04-07",-1514,"",null,null,"금융업(64)","K"]
["IPOS2","CAL EIMI CRITIAL EN","REB","548","KRW",-10702120,0,0,"2020-11-02","2021-10-30","C13",4310,"002-097164-840",3,"GTE","HSBC","SEL ","tst136-81idn","FNI",2,"REBSEL000548","2027-04-08",-1986,"",null,null,"전기장비 제조업(28)","C"]
["IPOS2","INENTHSBC CONTNENTA","REB","669","EUR",-1011934,0,0,"2020-11-24","2021-11-04","FPO",10650,"002-546202-840",0,"   ","HSBC","SEL ","tst775 67idn","FNI",2,"REBSEL000669","2027-04-12",-1985,"",null,null,"금융업(64)","K"]
["IPOS2","CAL EIMI CRITIAL EN","REB","734","KRW",-3843125,-3843125,-3843125,"2020-12-30","2024-08-31","C13",4310,"002-097164-840",3,"GTE","HSBC","SEL ","tst136-81idn","FNI",2,"REBSEL000734","2027-04-19",-961,298,null,null,"전기장비 제조업(28)","C"]
["IPOS2","INENTHSBC CONTNENTA","REB","100004","EUR",-419705,0,0,"2021-01-04","2021-12-03","FPO",10650,"002-546202-840",0,"   ","HSBC","SEL ","tst775 67idn","FNI",2,"REBSEL100004","2027-04-21",-1965,"",null,null,"금융업(64)","K"]
["IPOS2","ONG ATHE HONGKNG AN","REB","100087","USD",-1425000,0,0,"2021-02-23","2022-01-17","BRO",10650,"002-703827-840",0,"   ","HSBC","SEL ","tstS16FC0idn","FNI",2,"REBSEL100087","2027-04-27",-1926,"",null,null,"금융업(64)","K"]
["IPOS2","CAL EIMI CRITIAL EN","REB","100134","KRW",-1271600,0,0,"2021-03-10","2022-12-10","C13",4310,"002-097164-840",3,"GTE","HSBC","SEL ","tst136-81idn","FNI",2,"REBSEL100134","2027-05-02",-1604,"",null,null,"전기장비 제조업(28)","C"]
["IPOS2","Y (ALGE COMPAN (ALO","REB","100167","KRW",-1571250,0,0,"2021-04-05","2022-04-08","C11",4320,"002-705913-840",3,"GTE","HSBC","SEL ","tst14-068idn","FNI",2,"REBSEL100167","2027-05-07",-1855,"",null,null,"전자부품, 컴퓨터, 영상, 음향 및 통신장비 제조업(26)","C"]
["IPOS2","CAL EIMI CRITIAL EN","REB","100227","KRW",-5523045,-5523045,-5523045,"2021-05-11","2026-08-15","C13",4310,"002-097164-840",3,"GTE","HSBC","SEL ","tst136-81idn","FNI",2,"REBSEL100227","2027-05-12",-270,428,null,null,"전기장비 제조업(28)","C"]
["IPOS2","ONG ATHE HONGKNG AN","REB","100237","USD",-525000,0,0,"2021-05-12","2022-12-16","BRO",10650,"002-703827-840",0,"   ","NACF","KRSE","tstS16FC0idn","FNI",2,"REBSEL100237","2027-05-15",-1611,"",null,null,"금융업(64)","K"]
["IPOS2","A BR)HSBC(INDI BR) ","REB","100304","USD",-273770,0,0,"2021-06-07","2021-12-31","BRO",10650,"002-706707-840",0,"   ","HSBC","SEL ","tst F0094idn","FNI",2,"REBSEL100304","2027-05-22",-1968,"",null,null,"금융업(64)","K"]
["IPOS2","CAL EIMI CRITIAL EN","REB","100361","EUR",-14188240,-14188240,-202924910,"2021-07-06","2026-07-17","C13",4310,"002-097164-840",3,"GTE","HSBC","SEL ","tst136-81idn","FNI",2,"REBSEL100361","2027-05-26",-313,15638.948159999998,null,null,"전기장비 제조업(28)","C"]
["IPOS2","CAL EIMI CRITIAL EN","REB","100535","EUR",-7150000,-7150000,-102261670,"2021-10-21","2026-10-31","C13",4310,"002-097164-840",3,"GTE","HSBC","SEL ","tst136-81idn","FPO",null,"REBSEL100535","2027-05-31",-212,7876.3429823999995,null,null,"전기장비 제조업(28)","C"]
["IPOS2","CAL EIMI CRITIAL EN","REB","100569","KRW",-11099770,-11099770,-11099770,"2021-11-09","2023-10-28","C13",4310,"002-097164-840",3,"GTE","HSBC","SEL ","tst136-81idn","FPO",null,"REBSEL100569","2027-06-06",-1317,139,null,null,"전기장비 제조업(28)","C"]
["IPOS2","CAL EIMI CRITIAL EN","REB","160062","SEK",-284900000,0,0,"2016-10-06","2021-02-22","C13",4310,"002-097164-840",3,"GTE","HSBC","SEL ","tst136-81idn","FPO",null,"REBSEL160062","2027-06-08",-2297,"",null,null,"전기장비 제조업(28)","C"]
["IPOS2","ONG ATHE HONGKNG AN","REB","200021","USD",-152770,0,0,"2022-01-19","2023-06-17","BRO",10650,"002-703827-840",0,"   ","NACF","KRSE","tstS16FC0idn","FPO",null,"REBSEL200021","2027-06-11",-1455,"",null,null,"금융업(64)","K"]
["IPOS2","A BR)HSBC(INDI BR) ","REB","200139","EUR",-14000000,0,0,"2022-03-21","2022-12-21","BRO",10650,"002-706707-840",0,"   ","HSBC","SEL ","tst F0094idn","FPO",null,"REBSEL200139","2027-06-19",-1641,"",null,null,"금융업(64)","K"]
["IPOS2","CAL EIMI CRITIAL EN","REB","200145","KRW",-44769340,-44769340,-44769340,"2022-03-15","2027-06-14","C13",4310,"002-097164-840",3,"GTE","HSBC","SEL ","tst136-81idn","FPO",null,"REBSEL200145","2027-06-20",-6,3470,null,null,"전기장비 제조업(28)","C"]
["IPOS2","CAL EIMI CRITIAL EN","REB","200183","USD",-12339200,-12339200,-167405926,"2022-04-11","2024-10-14","C13",4310,"002-097164-840",3,"GTE","HSBC","SEL ","tst136-81idn","FPO",null,"REBSEL200183","2027-06-26",-985,12869.735999999999,null,null,"전기장비 제조업(28)","C"]
["IPOS2","NGINEHYUNDAI EGINEE","REB","200207","EUR",-175390200,-175390200,-2508488765,"2022-04-28","2025-03-06","C13",6450,"002-547340-840",3,"GTE","HSBC","SEL ","tst101-81idn","FPO",null,"REBSEL200207","2027-07-02",-848,38045.295705600001,null,null,"종합건설업(41)","F"]
["IPOS2","CAL EIMI CRITIAL EN","REB","200276","USD",-4802600,-4802600,-65156874,"2022-06-10","2027-11-03","C13",4310,"002-097164-840",3,"GTE","HSBC","SEL ","tst136-81idn","FPO",null,"REBSEL200276","2027-07-06",120,5002.6559999999999,null,null,"전기장비 제조업(28)","C"]
["IPOS2","CAL EIMI CRITIAL EN","REB","200357","KRW",-13650490,-13650490,-13650490,"2022-07-28","2026-07-31","C13",4310,"002-097164-840",3,"GTE","HSBC","SEL ","tst136-81idn","FPO",null,"REBSEL200357","2027-07-11",-345,1058,null,null,"전기장비 제조업(28)","C"]
["IPOS2","CAL EIMI CRITIAL EN","REB","200427","KRW",-3380355,-3380355,-3380355,"2022-09-14","2026-06-15","C13",4310,"002-097164-840",3,"GTE","HSBC","SEL ","tst136-81idn","FPO",null,"REBSEL200427","2027-07-15",-395,262,null,null,"전기장비 제조업(28)","C"]
["IPOS2","CAL EIMI CRITIAL EN","REB","200686","KRW",-7150000,-7150000,-7150000,"2022-12-09","2023-10-31","C13",4310,"002-097164-840",3,"GTE","HSBC","SEL ","tst136-81idn","FPO",null,"REBSEL200686","2027-07-21",-1359,47,null,null,"전기장비 제조업(28)","C"]
["IPOS2","CAL EIMI CRITIAL EN","REB","200702","KRW",-5445000,0,0,"2022-12-20","2023-10-16","C13",4310,"002-097164-840",3,"GTE","HSBC","SEL ","tst136-81idn","FPO",null,"REBSEL200702","2027-07-26",-1379,27,null,null,"전기장비 제조업(28)","C"]
["IPOS2","CAL EIMI CRITIAL EN","REB","300083","KRW",-5938240,-5938240,-5938240,"2023-02-08","2027-02-07","C13",4310,"002-097164-840",3,"GTE","HSBC","SEL ","tst136-81idn","FPO",null,"REBSEL300083","2027-07-30",-173,460,null,null,"전기장비 제조업(28)","C"]
["IPOS2","ANK PHSBC UK BNK PL","REB","300194","EUR",-982000,-982000,-14044889,"2023-04-11","2025-06-22","FPO",10650,"002-173789-840",3,"   ","HSBC","SEL ","tst099284idn","FPO",null,"REBSEL300194","2027-08-05",-774,"",null,null,"금융업(64)","K"]
["IPOS2","CAL EIMI CRITIAL EN","REB","300261","KRW",-318780,-318780,-318780,"2023-05-24","2025-04-12","C13",4310,"002-097164-840",3,"GTE","HSBC","SEL ","tst136-81idn","FPO",null,"REBSEL300261","2027-08-08",-848,25,null,null,"전기장비 제조업(28)","C"]
["IPOS2","CAL EIMI CRITIAL EN","REB","300276","USD",-2200000,-2200000,-29847400,"2023-06-02","2026-03-15","C13",4310,"002-097164-840",3,"GTE","HSBC","SEL ","tst136-81idn","FPO",null,"REBSEL300276","2027-08-10",-513,2299.6079999999997,null,null,"전기장비 제조업(28)","C"]
["IPOS2","CAL EIMI CRITIAL EN","REB","300313","KRW",-5720000,-5720000,-5720000,"2023-06-29","2024-06-04","C13",4310,"002-097164-840",3,"GTE","HSBC","SEL ","tst136-81idn","FPO",null,"REBSEL300313","2027-08-15",-1167,169,null,null,"전기장비 제조업(28)","C"]
["IPOS2","CAL EIMI CRITIAL EN","REB","300405","KRW",-1203290,-1203290,-1203290,"2023-08-04","2024-06-30","C13",4310,"002-097164-840",3,"GTE","HSBC","SEL ","tst136-81idn","FPO",null,"REBSEL300405","2027-08-19",-1145,39,null,null,"전기장비 제조업(28)","C"]
["IPOS2","CAL EIMI CRITIAL EN","REB","300534","KRW",-19627410,-19627410,-19627410,"2023-10-18","2027-10-16","C13",4310,"002-097164-840",3,"GTE","HSBC","SEL ","tst136-81idn","FPO",null,"REBSEL300534","2027-08-25",52,"",null,null,"전기장비 제조업(28)","C"]
["IPOS2","CAL EIMI CRITIAL EN","REB","700532","KRW",-6017440,0,0,"2017-12-26","2022-01-17","C13",4310,"002-097164-840",3,"GTE","HSBC","SEL ","tst136-81idn","OBK",null,"REBSEL700532","2027-09-01",-2053,"",null,null,"전기장비 제조업(28)","C"]
["IPOS2","A BR)HSBC(INDI BR) ","REB","800014","EUR",-39625200,0,0,"2018-01-17","2021-12-31","BRO",10650,"002-706707-840",0,"   ","HSBC","SEL ","tst F0094idn","OBK",null,"REBSEL800014","2027-09-04",-2073,"",null,null,"금융업(64)","K"]
["IPOS2","CAL EIMI CRITIAL EN","REB","800152","KRW",-65608180,0,0,"2018-05-11","2022-04-27","C13",4310,"002-097164-840",3,"GTE","HSBC","SEL ","tst136-81idn","OBK",null,"REBSEL800152","2027-09-08",-1960,"",null,null,"전기장비 제조업(28)","C"]
["IPOS2","REA LNEXANS KOEA LT","REB","800258","USD",-297180,0,0,"2018-07-11","2021-03-16","C13",4310,"002-707538-840",4,"GTE","HSBC","SEL ","tst127-81idn","OBK",null,"REBSEL800258","2027-09-13",-2372,"",null,null,"전기장비 제조업(28)","C"]
["IPOS2","CAL EIMI CRITIAL EN","REB","800385","KRW",-288501700,0,0,"2018-10-31","2021-07-10","C13",4310,"002-097164-840",3,"GTE","HSBC","SEL ","tst136-81idn","OBK",null,"REBSEL800385","2027-09-19",-2262,"",null,null,"전기장비 제조업(28)","C"]
["IPOS2","ILANDHSBC (THALAND ","REB","800446","USD",-1209732,0,0,"2018-11-14","2021-08-28","BRO",10650,"002-004235-840",0,"   ","HSBC","SEL ","tst 11606idn","OBK",null,"REBSEL800446","2027-09-21",-2215,"",null,null,"금융업(64)","K"]
["IPOS2","CAL EIMI CRITIAL EN","REB","900008","KRW",-14300000,-14300000,-14300000,"2019-01-09","2024-04-30","C13",4310,"002-097164-840",3,"GTE","HSBC","SEL ","tst136-81idn","OBK",null,"REBSEL900008","2027-09-28",-1246,741,null,null,"전기장비 제조업(28)","C"]
["IPOS2","CAL EIMI CRITIAL EN","REB","900140","KRW",-17870710,-17870710,-17870710,"2019-03-29","2023-12-19","C13",4310,"002-097164-840",3,"GTE","HSBC","SEL ","tst136-81idn","OBK",null,"REBSEL900140","2027-10-04",-1385,421,null,null,"전기장비 제조업(28)","C"]
["IPOS2","CAL EIMI CRITIAL EN","REB","900238","USD",-2400000,0,0,"2019-05-07","2021-05-04","C13",4310,"002-097164-840",3,"GTE","HSBC","SEL ","tst136-81idn","OBK",null,"REBSEL900238","2027-10-08",-2348,"",null,null,"전기장비 제조업(28)","C"]
["IPOS2","CAL EIMI CRITIAL EN","REB","900240","KRW",-28804300,0,0,"2019-05-08","2023-03-31","C13",4310,"002-097164-840",3,"GTE","HSBC","SEL ","tst136-81idn","OBK",null,"REBSEL900240","2027-10-09",-1653,"",null,null,"전기장비 제조업(28)","C"]
["IPOS2","CAL EIMI CRITIAL EN","REB","900254","KRW",-6600000,-6600000,-6600000,"2019-05-09","2023-12-31","C13",4310,"002-097164-840",3,"GTE","HSBC","SEL ","tst136-81idn","OBK",null,"REBSEL900254","2027-10-15",-1384,172,null,null,"전기장비 제조업(28)","C"]
["IPOS2","CAL EIMI CRITIAL EN","REB","900362","USD",-845400,0,0,"2019-06-27","2021-06-26","C13",4310,"002-097164-840",3,"GTE","HSBC","SEL ","tst136-81idn","OBK",null,"REBSEL900362","2027-10-18",-2305,"",null,null,"전기장비 제조업(28)","C"]
["IPOS2","CAL EIMI CRITIAL EN","REB","900408","KRW",-4867390,0,0,"2019-07-19","2023-03-31","C13",4310,"002-097164-840",3,"GTE","HSBC","SEL ","tst136-81idn","OBK",null,"REBSEL900408","2027-10-24",-1668,"",null,null,"전기장비 제조업(28)","C"]
["IPOS2","CAL EIMI CRITIAL EN","REB","900415","USD",-1165000,0,0,"2019-07-25","2021-07-15","C13",4310,"002-097164-840",3,"GTE","HSBC","SEL ","tst136-81idn","OBK",null,"REBSEL900415","2027-10-28",-2296,"",null,null,"전기장비 제조업(28)","C"]
["IPOS2","CAL EIMI CRITIAL EN","REB","900469","USD",-4124550,-4124550,-55957770,"2019-08-21","2024-07-01","C13",4310,"002-097164-840",3,"GTE","HSBC","SEL ","tst136-81idn","OBK",null,"REBSEL900469","2027-11-02",-1219,3604.0639999999999,null,null,"전기장비 제조업(28)","C"]
["IPOS2","CAL EIMI CRITIAL EN","REB","900600","KRW",-28380000,0,0,"2019-10-30","2021-11-30","C13",4310,"002-097164-840",3,"GTE","HSBC","SEL ","tst136-81idn","OBK",null,"REBSEL900600","2027-11-08",-2169,"",null,null,"전기장비 제조업(28)","C"]
["IPOS2","INENTHSBC CONTNENTA","REB","914062","EUR",-16444673,0,0,"2019-11-28","2022-01-31","FPO",10650,"002-125024-840",0,"   ","HSBC","SEL ","tstHRB969idn","OBK",null,"REBSEL914062","2027-11-12",-2111,"",null,null,"금융업(64)","K"]
["IPOS2","A BR)HSBC(INDI BR) ","REB","914110","USD",-56101500,-56101500,-761129051,"2019-12-24","2023-12-07","BRO",10650,"002-706707-840",0,"   ","HSBC","SEL ","tst F0094idn","OBK",null,"REBSEL914110","2027-11-18",-1442,"",null,null,"금융업(64)","K"]
["IPOS2"," AUSTHSBC BANKAUSTR","SDN","480","USD",-114000000,-114000000,-1546638000,"2020-10-08","2024-09-20","GPO",10650,"002-191223-831",0,"   ","SHIB","KRSE","tst006 43idn","OBK",null,"SDNSEL000480","2027-11-21",-1157,"",null,null,"금융업(64)","K"]
["IPOS2","Y (ALGE COMPAN (ALO","SDN","200369","USD",-657312700,-657312700,-8917761401,"2022-08-05","2024-06-30","C11",4320,"002-705913-832",3,"GTE","HSBC","SEL ","tst14-068idn","OBK",null,"SDNSEL200369","2027-11-27",-1245,112707.68799999999,null,null,"전자부품, 컴퓨터, 영상, 음향 및 통신장비 제조업(26)","C"]
["IPOS2","Y (ALGE COMPAN (ALO","SDN","200377","USD",-657312700,-657312700,-8917761401,"2022-08-08","2025-04-30","C11",4320,"002-705913-832",3,"GTE","HSBC","SEL ","tst14-068idn","OBK",null,"SDNSEL200377","2027-12-03",-947,134883.44,null,null,"전자부품, 컴퓨터, 영상, 음향 및 통신장비 제조업(26)","C"]
["IPOS2","Y (ALGE COMPAN (ALO","SDN","200378","EUR",-66255600,-66255600,-947609548,"2022-08-08","2025-04-30","C11",4320,"002-705913-832",3,"GTE","HSBC","SEL ","tst14-068idn","OBK",null,"SDNSEL200378","2027-12-04",-948,14373.615081599999,null,null,"전자부품, 컴퓨터, 영상, 음향 및 통신장비 제조업(26)","C"]
["IPOS2","., LTDL E&C CO, LTD","SDN","200612","USD",-2511052890,-2511052890,-34067454559,"2022-11-14","2025-02-12","C13",6450,"002-091316-840",3,"GTE","MMBI","MNY ","tst676-87idn","OBK",null,"SDNSEL200612","2027-12-08",-1029,1166035.736,null,null,"종합건설업(41)","F"]
["IPOS2","I OILHD HYUNDA OILB","SDN","300504","USD",-9087605383,-9996365921,-135620696450,"2023-09-12","2023-11-13","C13",4232,"002-425679-831",3,"IMP","FUJI","USNY","tst310-81idn","OBK",null,"SDNSEL300504","2027-12-15",-1493,"",null,null,"코크스, 연탄 및 석유정제품 제조업(19)","C"]
["IPOS2"," PLC HSBC BANKPLC  ","SDN","600016","USD",-25139500,-25139500,-341067597,"2016-02-03","2023-10-31","FPO",10650,"002-115288-831",0,"   ","HSBC","SEL ","tst14259-idn","OBK",null,"SDNSEL600016","2027-12-17",-1508,"",null,null,"금융업(64)","K"]
["IPOS2","ERINGGS ENGINERING ","TEB","712","AUD",-350000000,0,0,"2020-12-18","2022-03-25","C13",6450,"002-709138-840",3,"GTE","HSBC","SYH ","tst104-81idn","OBK",null,"TEBSEL000712","2027-12-23",-2099,"",null,null,"종합건설업(41)","F"]
["IPOS2","ANY LBASF COMPNY LT","TEB","100261","KRW",-1968120,0,0,"2021-05-21","2021-06-03","C13",4240,"002-001792-840",3,"GTE","HSBC","SEL ","tst417-81idn","OBK",null,"TEBSEL100261","2027-12-28",-2399,"",null,null,"화학물질 및 화학제품 제조업(의약품 제외)(20)","C"]
["IPOS2","., LTDL E&C CO, LTD","TEB","100363","USD",-1,0,0,"2021-07-08","2022-12-06","C13",6450,"002-091316-840",3,"GTE","HSBC","MNL ","tst676-87idn","OBK",null,"TEBSEL100363","2028-01-01",-1852,"",null,null,"종합건설업(41)","F"]
["IPOS2","&T COSAMSUNG CT COR","TEB","100379","USD",-1,0,0,"2021-07-12","2022-06-17","C13",7510,"002-000934-840",3,"GTE","HSBC","MNL ","tst202-81idn","OBK",null,"TEBSEL100379","2028-01-08",-2031,"",null,null,"도매 및 상품중개업(46)","G"]
["IPOS2","., LTDL E&C CO, LTD","TEB","100486","USD",-1,0,0,"2021-09-15","2022-11-29","C13",6450,"002-091316-840",3,"GTE","HSBC","MNL ","tst676-87idn","OBK",null,"TEBSEL100486","2028-01-11",-1869,"",null,null,"종합건설업(41)","F"]
["IPOS2","ANY LBASF COMPNY LT","TEB","200121","KRW",-1112760,0,0,"2022-03-02","2022-03-17","C13",4240,"002-001792-840",3,"GTE","HSBC","SEL ","tst417-81idn","OBK",null,"TEBSEL200121","2028-01-17",-2132,"",null,null,"화학물질 및 화학제품 제조업(의약품 제외)(20)","C"]
["IPOS2","., LTDL E&C CO, LTD","TEB","200426","USD",-450000000,0,0,"2022-09-07","2023-03-31","C13",6450,"002-091316-840",3,"GTE","HSBC","SEL ","tst676-87idn","OBK",null,"TEBSEL200426","2028-01-21",-1757,"",null,null,"종합건설업(41)","F"]
["IPOS2","ANY LBASF COMPNY LT","TEB","300117","KRW",-36622756,0,0,"2023-02-23","2023-03-10","C13",4240,"002-001792-840",3,"GTE","HSBC","SEL ","tst417-81idn","OBK",null,"TEBSEL300117","2028-01-26",-1783,"",null,null,"화학물질 및 화학제품 제조업(의약품 제외)(20)","C"]
["IPOS2","&T COSAMSUNG CT COR","TEB","300303","USD",-180000000,-180000000,-2442060000,"2023-06-26","2039-12-31","C13",7510,"002-000934-840",3,"GTE","HSBC","MNL ","tst202-81idn","OBK",null,"TEBSEL300303","2028-02-01",4351,15895.535999999998,null,null,"도매 및 상품중개업(46)","G"]
["IPOS2","O., LMAXIMUS C., LT","TEB","300331","KRW",-4697000,-4697000,-4697000,"2023-07-13","2023-12-31","MFS",11740,"002-087866-840",3,"GTE","HSBC","SEL ","tst220-87idn","OBK",null,"TEBSEL300331","2028-02-03",-1495,90,null,null,"   사업지원서비스업(75)","M"]
["IPOS3","     POSCO         ","CIL","SEL300049    ","CNY",-6851477087,-6851477087,-12682952170,"2023-10-17","2023-12-28","C13",4270,"002-033664-831",3,"IMC",null,null,"tst301-87idn","FNI",2,"CILSEL300049    ","2028-02-10",-1505,"",null,null,"제1차 금속제조업(24)","C"]
["IPOS3","NT COSK ECOPLAT CO.","CIL","SEL300002    ","USD",-4851460000,-4851460000,-65819757820,"2023-01-06","2023-10-27","C13",6450,"002-239871-831",3,"IMC",null,null,"tst101-81idn","FNI",2,"CILSEL300002    ","2028-02-14",-1571,"",null,null,"종합건설업(41)","F"]
["IPOS3","ERINGGS ENGINERING ","LAI","SEL300005    ","USD",-331205099,-331205099,-4493459578,"2023-02-13","2024-02-08","C13",6450,"002-709138-831",3,"IMC",null,null,"tst104-81idn","FNI",2,"LAISEL300005    ","2028-02-15",-1468,"",null,null,"종합건설업(41)","F"]
["IPOS3"," CORPKOREA GASCORPO","CIL","SEL300027    ","USD",-16204534850,0,0,"2023-04-06","2023-10-02","C13",5400,"002-012278-833",3,"IMC",null,null,"tst120-82idn","FNI",2,"CILSEL300027    ","2028-02-21",-1603,"",null,null,"전기, 가스, 증기 및 공기조절 공급업(35)","D"]
["IPOS3","ERINGGS ENGINERING ","LAI","SEL300016    ","USD",-1485000000,-1485000000,-20146995000,"2023-03-23","2024-03-15","C13",6450,"002-709138-831",3,"IMC",null,null,"tst104-81idn","FNI",2,"LAISEL300016    ","2028-02-27",-1444,"",null,null,"종합건설업(41)","F"]
["IPOS3","ERINGGS ENGINERING ","LAI","SEL300037    ","USD",-97567430,-97567430,-1323697323,"2023-07-06","2024-07-05","C13",6450,"002-709138-831",3,"IMC",null,null,"tst104-81idn","FNI",2,"LAISEL300037    ","2028-03-01",-1335,"",null,null,"종합건설업(41)","F"]
["IPOS3","     POSCO         ","CIL","SEL300040    ","CNY",-5682787241,0,0,"2023-07-13","2023-10-12","C13",4270,"002-033664-831",3,"IMC",null,null,"tst301-87idn","FNI",2,"CILSEL300040    ","2028-03-05",-1606,"",null,null,"제1차 금속제조업(24)","C"]
["PFIPOS1","ONAL INTERNATINAL P","OAV","FND305663SEL ","KRW",-19800000,-19800000,19800000,"2023-08-07","2023-11-01","C13",4240,"002-775744-835",3,null,"HSBC","SEL ","tst134-81idn","FNI",2,"OAVFND305663SEL ","2028-03-11",-1592,"",null,null,"화학물질 및 화학제품 제조업(의약품 제외)(20)","C"]
["PFIPOS1","O., LPPG SSC C., LT","OAV","FND305849SEL ","KRW",-34507000,-34507000,34507000,"2023-08-16","2023-10-31","C13",4240,"002-704939-835",3,null,"HSBC","SEL ","tst610-81idn","FNI",2,"OAVFND305849SEL ","2028-03-17",-1599,"",null,null,"화학물질 및 화학제품 제조업(의약품 제외)(20)","C"]
["PFIPOS1","O., LPPG SSC C., LT","OAV","FND305854SEL ","KRW",-14239500,-14239500,14239500,"2023-08-16","2023-11-15","C13",4240,"002-704939-835",3,null,"HSBC","SEL ","tst610-81idn","FNI",2,"OAVFND305854SEL ","2028-03-22",-1589,"",null,null,"화학물질 및 화학제품 제조업(의약품 제외)(20)","C"]
["PFIPOS1","TRIESPPG INDUSRIES ","OAV","FND305858SEL ","KRW",-38903700,-38903700,38903700,"2023-08-16","2023-11-15","C13",4240,"002-494767-835",3,null,"HSBC","SEL ","tst617-81idn","FNI",2,"OAVFND305858SEL ","2028-03-26",-1593,"",null,null,"화학물질 및 화학제품 제조업(의약품 제외)(20)","C"]
["PFIPOS1","TRIESPPG INDUSRIES ","OAV","FND304216SEL ","KRW",-69031908,0,0,"2023-06-16","2023-10-16","C13",4240,"002-494767-835",3,null,"HSBC","SEL ","tst617-81idn","FNI",2,"OAVFND304216SEL ","2028-04-01",-1629,"",null,null,"화학물질 및 화학제품 제조업(의약품 제외)(20)","C"]
["PFIPOS1","TRIESPPG INDUSRIES ","OAV","FND304230SEL ","KRW",-5095750,0,0,"2023-06-16","2023-10-16","C13",4240,"002-494767-835",3,null,"HSBC","SEL ","tst617-81idn","FNI",2,"OAVFND304230SEL ","2028-04-04",-1632,"",null,null,"화학물질 및 화학제품 제조업(의약품 제외)(20)","C"]
["PFIPOS1","ONAL INTERNATINAL P","OAV","FND304280SEL ","KRW",-4494600,0,0,"2023-06-20","2023-10-02","C13",4240,"002-775744-835",3,null,"HSBC","SEL ","tst134-81idn","FNI",2,"OAVFND304280SEL ","2028-04-10",-1652,"",null,null,"화학물질 및 화학제품 제조업(의약품 제외)(20)","C"]
["PFIPOS1","L POWAKZO NOBE POWD","OAV","FND304282SEL ","KRW",-198000,0,0,"2023-06-20","2023-10-13","C13",4240,"002-777104-835",3,null,"HSBC","SEL ","tst134-81idn","FNI",2,"OAVFND304282SEL ","2028-04-11",-1642,"",null,null,"화학물질 및 화학제품 제조업(의약품 제외)(20)","C"]
["PFIPOS1","L POWAKZO NOBE POWD","OAV","FND304291SEL ","KRW",-264000,0,0,"2023-06-20","2023-10-13","C13",4240,"002-777104-835",3,null,"HSBC","SEL ","tst134-81idn","FNI",2,"OAVFND304291SEL ","2028-04-15",-1646,"",null,null,"화학물질 및 화학제품 제조업(의약품 제외)(20)","C"]
["PFIPOS1","O., LPPG SSC C., LT","OAV","FND305904SEL ","KRW",-2035000,-2035000,2035000,"2023-08-16","2023-10-31","C13",4240,"002-704939-835",3,null,"HSBC","SEL ","tst610-81idn","FNI",2,"OAVFND305904SEL ","2028-04-21",-1634,"",null,null,"화학물질 및 화학제품 제조업(의약품 제외)(20)","C"]
["PFIPOS1","TRIESPPG INDUSRIES ","OAV","FND305911SEL ","KRW",-9979200,-9979200,9979200,"2023-08-16","2023-11-15","C13",4240,"002-494767-835",3,null,"HSBC","SEL ","tst617-81idn","FNI",2,"OAVFND305911SEL ","2028-04-28",-1626,"",null,null,"화학물질 및 화학제품 제조업(의약품 제외)(20)","C"]
["PFIPOS1","TRIESPPG INDUSRIES ","OAV","FND305913SEL ","KRW",-1544400,-1544400,1544400,"2023-08-16","2023-12-15","C13",4240,"002-494767-835",3,null,"HSBC","SEL ","tst617-81idn","FNI",2,"OAVFND305913SEL ","2028-04-30",-1598,"",null,null,"화학물질 및 화학제품 제조업(의약품 제외)(20)","C"]
["PFIPOS1","ONAL INTERNATINAL P","OAV","FND305928SEL ","KRW",-80718000,-80718000,80718000,"2023-08-17","2023-11-01","C13",4240,"002-775744-835",3,null,"HSBC","SEL ","tst134-81idn","FNI",2,"OAVFND305928SEL ","2028-05-05",-1647,"",null,null,"화학물질 및 화학제품 제조업(의약품 제외)(20)","C"]
["PFIPOS1","TRIESPPG INDUSRIES ","OAV","FND305073SEL ","KRW",-9523800,0,0,"2023-07-17","2023-10-02","C13",4240,"002-494767-835",3,null,"HSBC","SEL ","tst617-81idn","FNI",2,"OAVFND305073SEL ","2028-05-10",-1682,"",null,null,"화학물질 및 화학제품 제조업(의약품 제외)(20)","C"]
["PFIPOS1","L POWAKZO NOBE POWD","OAV","FND305103SEL ","KRW",-393053100,-393053100,393053100,"2023-07-20","2023-11-14","C13",4240,"002-777104-835",3,null,"HSBC","SEL ","tst134-81idn","FNI",2,"OAVFND305103SEL ","2028-05-16",-1645,"",null,null,"화학물질 및 화학제품 제조업(의약품 제외)(20)","C"]
["PFIPOS1","L POWAKZO NOBE POWD","OAV","FND305107SEL ","KRW",-264000,-264000,264000,"2023-07-20","2023-11-14","C13",4240,"002-777104-835",3,null,"HSBC","SEL ","tst134-81idn","FNI",2,"OAVFND305107SEL ","2028-05-18",-1647,"",null,null,"화학물질 및 화학제품 제조업(의약품 제외)(20)","C"]
["PFIPOS1","L POWAKZO NOBE POWD","OAV","FND305118SEL ","KRW",-198000,-198000,198000,"2023-07-20","2023-11-14","C13",4240,"002-777104-835",3,null,"HSBC","SEL ","tst134-81idn","FNI",2,"OAVFND305118SEL ","2028-05-25",-1654,"",null,null,"화학물질 및 화학제품 제조업(의약품 제외)(20)","C"]
["PFIPOS1","O., LPPG SSC C., LT","OAV","FND305882SEL ","KRW",-2640000,-2640000,2640000,"2023-08-16","2023-10-31","C13",4240,"002-704939-835",3,null,"HSBC","SEL ","tst610-81idn","FNI",2,"OAVFND305882SEL ","2028-05-29",-1672,"",null,null,"화학물질 및 화학제품 제조업(의약품 제외)(20)","C"]
["PFIPOS1","O., LPPG SSC C., LT","OAV","FND305888SEL ","KRW",-57979427,-57979427,57979427,"2023-08-16","2023-11-15","C13",4240,"002-704939-835",3,null,"HSBC","SEL ","tst610-81idn","FNI",2,"OAVFND305888SEL ","2028-06-04",-1663,"",null,null,"화학물질 및 화학제품 제조업(의약품 제외)(20)","C"]
["PFIPOS1","TRIESPPG INDUSRIES ","OAV","FND305893SEL ","KRW",-2319856,0,0,"2023-08-16","2023-10-02","C13",4240,"002-494767-835",3,null,"HSBC","SEL ","tst617-81idn","FNI",2,"OAVFND305893SEL ","2028-06-09",-1712,"",null,null,"화학물질 및 화학제품 제조업(의약품 제외)(20)","C"]
["PFIPOS1","TRIESPPG INDUSRIES ","OAV","FND305895SEL ","KRW",-3991680,-3991680,3991680,"2023-08-16","2023-11-15","C13",4240,"002-494767-835",3,null,"HSBC","SEL ","tst617-81idn","FNI",2,"OAVFND305895SEL ","2028-06-11",-1670,"",null,null,"화학물질 및 화학제품 제조업(의약품 제외)(20)","C"]
["PFIPOS1","TRIESPPG INDUSRIES ","OAV","FND305898SEL ","KRW",-316025600,-316025600,316025600,"2023-08-16","2023-10-30","C13",4240,"002-494767-835",3,null,"HSBC","SEL ","tst617-81idn","FNI",2,"OAVFND305898SEL ","2028-06-14",-1689,"",null,null,"화학물질 및 화학제품 제조업(의약품 제외)(20)","C"]
["PFIPOS1","TRIESPPG INDUSRIES ","OAV","UNF307392SEL ","KRW",-1320000,0,0,"2023-10-13","2023-10-16","C13",4240,"002-494767-835",3,null,"HSBC","SEL ","tst617-81idn","FNI",2,"OAVUNF307392SEL ","2028-06-20",-1709,"",null,null,"화학물질 및 화학제품 제조업(의약품 제외)(20)","C"]
["PFIPOS1","ONAL INTERNATINAL P","OAV","UNF307472SEL ","KRW",-1655500,-1655500,1655500,"2023-10-19","2023-10-20","C13",4240,"002-775744-835",3,null,"HSBC","SEL ","tst134-81idn","FNI",2,"OAVUNF307472SEL ","2028-06-24",-1709,"",null,null,"화학물질 및 화학제품 제조업(의약품 제외)(20)","C"]
["PFIPOS1","TRIESPPG INDUSRIES ","OAV","FND305004SEL ","KRW",-32939500,0,0,"2023-07-17","2023-10-16","C13",4240,"002-494767-835",3,null,"HSBC","SEL ","tst617-81idn","FNI",2,"OAVFND305004SEL ","2028-06-29",-1718,"",null,null,"화학물질 및 화학제품 제조업(의약품 제외)(20)","C"]
["PFIPOS1","O., LPPG SSC C., LT","OAV","FND305011SEL ","KRW",-2508000,0,0,"2023-07-17","2023-10-13","C13",4240,"002-704939-835",3,null,"HSBC","SEL ","tst610-81idn","FNI",2,"OAVFND305011SEL ","2028-07-05",-1727,"",null,null,"화학물질 및 화학제품 제조업(의약품 제외)(20)","C"]
["PFIPOS1","O., LPPG SSC C., LT","OAV","FND305016SEL ","KRW",-12913340,0,0,"2023-07-17","2023-09-27","C13",4240,"002-704939-835",3,null,"HSBC","SEL ","tst610-81idn","FNI",2,"OAVFND305016SEL ","2028-07-09",-1747,"",null,null,"화학물질 및 화학제품 제조업(의약품 제외)(20)","C"]
["PFIPOS1","TRIESPPG INDUSRIES ","OAV","FND305022SEL ","KRW",-995500,0,0,"2023-07-17","2023-10-16","C13",4240,"002-494767-835",3,null,"HSBC","SEL ","tst617-81idn","FNI",2,"OAVFND305022SEL ","2028-07-14",-1733,"",null,null,"화학물질 및 화학제품 제조업(의약품 제외)(20)","C"]
["PFIPOS1","L INDAKZO NOBE INDU","OAV","FND306032SEL ","KRW",-110000,-110000,110000,"2023-08-25","2023-11-01","C23",4240,"002-732125-835",3,null,"HSBC","SEL ","tst107-86idn","FNI",2,"OAVFND306032SEL ","2028-07-18",-1721,"",null,null,"화학물질 및 화학제품 제조업(의약품 제외)(20)","C"]
["PFIPOS1","L INDAKZO NOBE INDU","OAV","FND306038SEL ","KRW",-1980000,-1980000,1980000,"2023-08-25","2023-11-01","C23",4240,"002-732125-835",3,null,"HSBC","SEL ","tst107-86idn","FNI",2,"OAVFND306038SEL ","2028-07-24",-1727,"",null,null,"화학물질 및 화학제품 제조업(의약품 제외)(20)","C"]
["PFIPOS1","L INDAKZO NOBE INDU","OAV","FND306043SEL ","KRW",-1540000,-1540000,1540000,"2023-08-25","2023-11-01","C23",4240,"002-732125-835",3,null,"HSBC","SEL ","tst107-86idn","FNI",2,"OAVFND306043SEL ","2028-07-29",-1732,"",null,null,"화학물질 및 화학제품 제조업(의약품 제외)(20)","C"]
["PFIPOS1","L INDAKZO NOBE INDU","OAV","FND306048SEL ","KRW",-41800,-41800,41800,"2023-08-25","2023-11-01","C23",4240,"002-732125-835",3,null,"HSBC","SEL ","tst107-86idn","FNI",2,"OAVFND306048SEL ","2028-08-03",-1737,"",null,null,"화학물질 및 화학제품 제조업(의약품 제외)(20)","C"]
["PFIPOS1","L POWAKZO NOBE POWD","OAV","FND305934SEL ","KRW",-352000,-352000,352000,"2023-08-18","2023-12-14","C13",4240,"002-777104-835",3,null,"HSBC","SEL ","tst134-81idn","FNI",2,"OAVFND305934SEL ","2028-08-08",-1699,"",null,null,"화학물질 및 화학제품 제조업(의약품 제외)(20)","C"]
["PFIPOS1","L POWAKZO NOBE POWD","OAV","FND305939SEL ","KRW",-407000,-407000,407000,"2023-08-18","2023-12-14","C13",4240,"002-777104-835",3,null,"HSBC","SEL ","tst134-81idn","FNI",2,"OAVFND305939SEL ","2028-08-11",-1702,"",null,null,"화학물질 및 화학제품 제조업(의약품 제외)(20)","C"]
["PFIPOS1","L POWAKZO NOBE POWD","OAV","FND305942SEL ","KRW",-264000,-264000,264000,"2023-08-18","2023-12-14","C13",4240,"002-777104-835",3,null,"HSBC","SEL ","tst134-81idn","FNI",2,"OAVFND305942SEL ","2028-08-13",-1704,"",null,null,"화학물질 및 화학제품 제조업(의약품 제외)(20)","C"]
["PFIPOS1","L POWAKZO NOBE POWD","OAV","FND305948SEL ","KRW",-223080,0,0,"2023-08-18","2023-10-02","C13",4240,"002-777104-835",3,null,"HSBC","SEL ","tst134-81idn","FNI",2,"OAVFND305948SEL ","2028-08-19",-1783,"",null,null,"화학물질 및 화학제품 제조업(의약품 제외)(20)","C"]
["PFIPOS1","L POWAKZO NOBE POWD","OAV","FND305953SEL ","KRW",-3796650,0,0,"2023-08-18","2023-10-13","C13",4240,"002-777104-835",3,null,"HSBC","SEL ","tst134-81idn","FNI",2,"OAVFND305953SEL ","2028-08-24",-1777,"",null,null,"화학물질 및 화학제품 제조업(의약품 제외)(20)","C"]
["PFIPOS1","L INDAKZO NOBE INDU","OAV","FND306176SEL ","KRW",-180905120,-180905120,180905120,"2023-08-29","2023-12-01","C23",4240,"002-732125-835",3,null,"HSBC","SEL ","tst107-86idn","FNI",2,"OAVFND306176SEL ","2028-08-28",-1732,"",null,null,"화학물질 및 화학제품 제조업(의약품 제외)(20)","C"]
["PFIPOS1","O., LPPG SSC C., LT","OAV","FND306467SEL ","KRW",-4290000,-4290000,4290000,"2023-08-31","2023-11-15","C13",4240,"002-704939-835",3,null,"HSBC","SEL ","tst610-81idn","FNI",2,"OAVFND306467SEL ","2028-09-04",-1755,"",null,null,"화학물질 및 화학제품 제조업(의약품 제외)(20)","C"]
["PFIPOS1","TRIESPPG INDUSRIES ","OAV","FND306482SEL ","KRW",-15347222,-15347222,15347222,"2023-09-01","2023-11-15","C13",4240,"002-494767-835",3,null,"HSBC","SEL ","tst617-81idn","FNI",2,"OAVFND306482SEL ","2028-09-07",-1758,"",null,null,"화학물질 및 화학제품 제조업(의약품 제외)(20)","C"]
["PFIPOS1","ONAL INTERNATINAL P","OAV","FND306487SEL ","KRW",-12389520,-12389520,12389520,"2023-09-07","2023-12-01","C13",4240,"002-775744-835",3,null,"HSBC","SEL ","tst134-81idn","FNI",2,"OAVFND306487SEL ","2028-09-12",-1747,"",null,null,"화학물질 및 화학제품 제조업(의약품 제외)(20)","C"]
["PFIPOS1","L POWAKZO NOBE POWD","OAV","FND305957SEL ","KRW",-3520000,0,0,"2023-08-18","2023-10-02","C13",4240,"002-777104-835",3,null,"HSBC","SEL ","tst134-81idn","FNI",2,"OAVFND305957SEL ","2028-09-17",-1812,"",null,null,"화학물질 및 화학제품 제조업(의약품 제외)(20)","C"]
["PFIPOS1","L POWAKZO NOBE POWD","OAV","FND305963SEL ","KRW",-1715859,0,0,"2023-08-18","2023-10-02","C13",4240,"002-777104-835",3,null,"HSBC","SEL ","tst134-81idn","FNI",2,"OAVFND305963SEL ","2028-09-22",-1817,"",null,null,"화학물질 및 화학제품 제조업(의약품 제외)(20)","C"]
["PFIPOS1","ONAL INTERNATINAL P","OAV","FND305965SEL ","KRW",-4271080,-4271080,4271080,"2023-08-18","2023-12-01","C13",4240,"002-775744-835",3,null,"HSBC","SEL ","tst134-81idn","FNI",2,"OAVFND305965SEL ","2028-09-24",-1759,"",null,null,"화학물질 및 화학제품 제조업(의약품 제외)(20)","C"]
["PFIPOS1","EMICAWACKER CHMICAL","OAV","FND305987SEL ","KRW",-9350000,0,0,"2023-08-22","2023-09-27","MFS",4240,"002-703670-835",3,null,"HSBC","SEL ","tst120-81idn","FNI",2,"OAVFND305987SEL ","2028-10-02",-1832,"",null,null,"화학물질 및 화학제품 제조업(의약품 제외)(20)","C"]
["PFIPOS1","EMICAWACKER CHMICAL","OAV","FND305992SEL ","KRW",-70288185,0,0,"2023-08-22","2023-09-27","MFS",4240,"002-703670-835",3,null,"HSBC","SEL ","tst120-81idn","FNI",2,"OAVFND305992SEL ","2028-10-07",-1837,"",null,null,"화학물질 및 화학제품 제조업(의약품 제외)(20)","C"]
["PFIPOS1","EMICAWACKER CHMICAL","OAV","FND305996SEL ","KRW",-43450000,-43450000,43450000,"2023-08-22","2023-12-29","MFS",4240,"002-703670-835",3,null,"HSBC","SEL ","tst120-81idn","FNI",2,"OAVFND305996SEL ","2028-10-11",-1748,"",null,null,"화학물질 및 화학제품 제조업(의약품 제외)(20)","C"]
["PFIPOS1","EMICAWACKER CHMICAL","OAV","FND305997SEL ","KRW",-40150000,0,0,"2023-08-22","2023-09-27","MFS",4240,"002-703670-835",3,null,"HSBC","SEL ","tst120-81idn","FNI",2,"OAVFND305997SEL ","2028-10-12",-1842,"",null,null,"화학물질 및 화학제품 제조업(의약품 제외)(20)","C"]
["PFIPOS1","TRIESPPG INDUSRIES ","OAV","FND306003SEL ","KRW",-20128900,-20128900,20128900,"2023-08-22","2023-10-30","C13",4240,"002-494767-835",3,null,"HSBC","SEL ","tst617-81idn","FNI",2,"OAVFND306003SEL ","2028-10-18",-1815,"",null,null,"화학물질 및 화학제품 제조업(의약품 제외)(20)","C"]
["PFIPOS1","ONAL INTERNATINAL P","OAV","FND306050SEL ","KRW",-23375000,-23375000,23375000,"2023-08-25","2023-12-01","C13",4240,"002-775744-835",3,null,"HSBC","SEL ","tst134-81idn","FNI",2,"OAVFND306050SEL ","2028-10-24",-1789,"",null,null,"화학물질 및 화학제품 제조업(의약품 제외)(20)","C"]
["PFIPOS1","L INDAKZO NOBE INDU","OAV","FND306053SEL ","KRW",-151985900,-151985900,151985900,"2023-08-25","2023-11-01","C23",4240,"002-732125-835",3,null,"HSBC","SEL ","tst107-86idn","FNI",2,"OAVFND306053SEL ","2028-10-27",-1822,"",null,null,"화학물질 및 화학제품 제조업(의약품 제외)(20)","C"]
["PFIPOS1","L INDAKZO NOBE INDU","OAV","FND306057SEL ","KRW",-217800,-217800,217800,"2023-08-25","2023-11-01","C23",4240,"002-732125-835",3,null,"HSBC","SEL ","tst107-86idn","FNI",2,"OAVFND306057SEL ","2028-10-31",-1826,"",null,null,"화학물질 및 화학제품 제조업(의약품 제외)(20)","C"]
["PFIPOS1","L INDAKZO NOBE INDU","OAV","FND306064SEL ","KRW",-5469420,-5469420,5469420,"2023-08-25","2023-11-01","C23",4240,"002-732125-835",3,null,"HSBC","SEL ","tst107-86idn","FNI",2,"OAVFND306064SEL ","2028-11-06",-1832,"",null,null,"화학물질 및 화학제품 제조업(의약품 제외)(20)","C"]
["PFIPOS1","O., LPPG SSC C., LT","OAV","FND306079SEL ","KRW",-4831200,-4831200,4831200,"2023-08-28","2023-11-15","C13",4240,"002-704939-835",3,null,"HSBC","SEL ","tst610-81idn","FNI",2,"OAVFND306079SEL ","2028-11-11",-1823,"",null,null,"화학물질 및 화학제품 제조업(의약품 제외)(20)","C"]
["PFIPOS1","L POWAKZO NOBE POWD","OAV","FND304310SEL ","KRW",-830500,0,0,"2023-06-20","2023-10-13","C13",4240,"002-777104-835",3,null,"HSBC","SEL ","tst134-81idn","FNI",2,"OAVFND304310SEL ","2028-11-17",-1862,"",null,null,"화학물질 및 화학제품 제조업(의약품 제외)(20)","C"]
["PFIPOS1","TRIESPPG INDUSRIES ","OAV","FND304331SEL ","KRW",-272530082,0,0,"2023-06-21","2023-10-16","C13",4240,"002-494767-835",3,null,"HSBC","SEL ","tst617-81idn","FNI",2,"OAVFND304331SEL ","2028-11-21",-1863,"",null,null,"화학물질 및 화학제품 제조업(의약품 제외)(20)","C"]
["PFIPOS1","L INDAKZO NOBE INDU","OAV","FND304338SEL ","KRW",-1009800,0,0,"2023-06-21","2023-10-02","C23",4240,"002-732125-835",3,null,"HSBC","SEL ","tst107-86idn","FNI",2,"OAVFND304338SEL ","2028-11-24",-1880,"",null,null,"화학물질 및 화학제품 제조업(의약품 제외)(20)","C"]
["PFIPOS1","L INDAKZO NOBE INDU","OAV","FND304647SEL ","KRW",-2807200,0,0,"2023-06-29","2023-10-02","C23",4240,"002-732125-835",3,null,"HSBC","SEL ","tst107-86idn","FNI",2,"OAVFND304647SEL ","2028-12-01",-1887,"",null,null,"화학물질 및 화학제품 제조업(의약품 제외)(20)","C"]
["PFIPOS1","ONAL INTERNATINAL P","OAV","UNF307184SEL ","KRW",-153170886,0,0,"2023-09-27","2023-10-04","C13",4240,"002-775744-835",3,null,"HSBC","SEL ","tst134-81idn","FNI",2,"OAVUNF307184SEL ","2028-12-06",-1890,"",null,null,"화학물질 및 화학제품 제조업(의약품 제외)(20)","C"]
["PFIPOS1","ONAL INTERNATINAL P","OAV","UNF307185SEL ","KRW",-2849954,0,0,"2023-09-27","2023-10-04","C13",4240,"002-775744-835",3,null,"HSBC","SEL ","tst134-81idn","FNI",2,"OAVUNF307185SEL ","2028-12-07",-1891,"",null,null,"화학물질 및 화학제품 제조업(의약품 제외)(20)","C"]
["PFIPOS1","ONAL INTERNATINAL P","OAV","UNF307189SEL ","KRW",-24902174,0,0,"2023-09-27","2023-10-04","C13",4240,"002-775744-835",3,null,"HSBC","SEL ","tst134-81idn","FNI",2,"OAVUNF307189SEL ","2028-12-11",-1895,"",null,null,"화학물질 및 화학제품 제조업(의약품 제외)(20)","C"]
["PFIPOS1","L INDAKZO NOBE INDU","OAV","UNF307194SEL ","KRW",-10145850,0,0,"2023-09-27","2023-10-04","C23",4240,"002-732125-835",3,null,"HSBC","SEL ","tst107-86idn","FNI",2,"OAVUNF307194SEL ","2028-12-16",-1900,"",null,null,"화학물질 및 화학제품 제조업(의약품 제외)(20)","C"]
["PFIPOS1","O., LPPG SSC C., LT","OAV","UNF307290SEL ","KRW",-294431676,0,0,"2023-10-12","2023-10-13","C13",4240,"002-704939-835",3,null,"HSBC","SEL ","tst610-81idn","FNI",2,"OAVUNF307290SEL ","2028-12-24",-1899,"",null,null,"화학물질 및 화학제품 제조업(의약품 제외)(20)","C"]
["PFIPOS1","O., LPPG SSC C., LT","OAV","UNF307292SEL ","KRW",-62382090,0,0,"2023-10-12","2023-10-13","C13",4240,"002-704939-835",3,null,"HSBC","SEL ","tst610-81idn","FNI",2,"OAVUNF307292SEL ","2028-12-26",-1901,"",null,null,"화학물질 및 화학제품 제조업(의약품 제외)(20)","C"]
["PFIPOS1","O., LPPG SSC C., LT","OAV","UNF307297SEL ","KRW",-35580600,0,0,"2023-10-12","2023-10-13","C13",4240,"002-704939-835",3,null,"HSBC","SEL ","tst610-81idn","FNI",2,"OAVUNF307297SEL ","2028-12-31",-1906,"",null,null,"화학물질 및 화학제품 제조업(의약품 제외)(20)","C"]
["PFIPOS1","O., LPPG SSC C., LT","OAV","UNF307302SEL ","KRW",-9286200,0,0,"2023-10-12","2023-10-13","C13",4240,"002-704939-835",3,null,"HSBC","SEL ","tst610-81idn","FNI",2,"OAVUNF307302SEL ","2029-01-05",-1911,"",null,null,"화학물질 및 화학제품 제조업(의약품 제외)(20)","C"]
["PFIPOS1","TRIESPPG INDUSRIES ","OAV","UNF307307SEL ","KRW",-130944000,0,0,"2023-10-13","2023-10-16","C13",4240,"002-494767-835",3,null,"HSBC","SEL ","tst617-81idn","FNI",2,"OAVUNF307307SEL ","2029-01-10",-1913,"",null,null,"화학물질 및 화학제품 제조업(의약품 제외)(20)","C"]
["PFIPOS1","L INDAKZO NOBE INDU","OAV","FND305242SEL ","KRW",-825000,0,0,"2023-07-25","2023-10-02","C23",4240,"002-732125-835",3,null,"HSBC","SEL ","tst107-86idn","FNI",2,"OAVFND305242SEL ","2029-01-13",-1930,"",null,null,"화학물질 및 화학제품 제조업(의약품 제외)(20)","C"]
["PFIPOS1","L INDAKZO NOBE INDU","OAV","FND305252SEL ","KRW",-344336740,-344336740,344336740,"2023-07-26","2023-11-01","C23",4240,"002-732125-835",3,null,"HSBC","SEL ","tst107-86idn","FNI",2,"OAVFND305252SEL ","2029-01-20",-1907,"",null,null,"화학물질 및 화학제품 제조업(의약품 제외)(20)","C"]
["PFIPOS1","ONAL INTERNATINAL P","OAV","FND305256SEL ","KRW",-1210000,0,0,"2023-07-26","2023-10-02","C13",4240,"002-775744-835",3,null,"HSBC","SEL ","tst134-81idn","FNI",2,"OAVFND305256SEL ","2029-01-24",-1941,"",null,null,"화학물질 및 화학제품 제조업(의약품 제외)(20)","C"]
["PFIPOS1","ONAL INTERNATINAL P","OAV","FND305616SEL ","KRW",-148450500,-148450500,148450500,"2023-07-31","2023-12-01","C13",4240,"002-775744-835",3,null,"HSBC","SEL ","tst134-81idn","FNI",2,"OAVFND305616SEL ","2029-01-30",-1887,"",null,null,"화학물질 및 화학제품 제조업(의약품 제외)(20)","C"]
["PFIPOS1","TRIESPPG INDUSRIES ","OAV","UNF307124SEL ","KRW",-18347202,0,0,"2023-09-27","2023-10-04","C13",4240,"002-494767-835",3,null,"HSBC","SEL ","tst617-81idn","FNI",2,"OAVUNF307124SEL ","2029-02-04",-1950,"",null,null,"화학물질 및 화학제품 제조업(의약품 제외)(20)","C"]
["PFIPOS1","TRIESPPG INDUSRIES ","OAV","UNF307126SEL ","KRW",-26180000,0,0,"2023-09-27","2023-10-04","C13",4240,"002-494767-835",3,null,"HSBC","SEL ","tst617-81idn","FNI",2,"OAVUNF307126SEL ","2029-02-06",-1952,"",null,null,"화학물질 및 화학제품 제조업(의약품 제외)(20)","C"]
["PFIPOS1","TRIESPPG INDUSRIES ","OAV","UNF307129SEL ","KRW",-3537050,0,0,"2023-09-27","2023-10-04","C13",4240,"002-494767-835",3,null,"HSBC","SEL ","tst617-81idn","FNI",2,"OAVUNF307129SEL ","2029-02-09",-1955,"",null,null,"화학물질 및 화학제품 제조업(의약품 제외)(20)","C"]
["PFIPOS1","TRIESPPG INDUSRIES ","OAV","UNF307137SEL ","KRW",-30717500,0,0,"2023-09-27","2023-10-04","C13",4240,"002-494767-835",3,null,"HSBC","SEL ","tst617-81idn","FNI",2,"OAVUNF307137SEL ","2029-02-17",-1963,"",null,null,"화학물질 및 화학제품 제조업(의약품 제외)(20)","C"]
["PFIPOS1","TRIESPPG INDUSRIES ","OAV","UNF307139SEL ","KRW",-57851027,0,0,"2023-09-27","2023-10-04","C13",4240,"002-494767-835",3,null,"HSBC","SEL ","tst617-81idn","FNI",2,"OAVUNF307139SEL ","2029-02-19",-1965,"",null,null,"화학물질 및 화학제품 제조업(의약품 제외)(20)","C"]
["PFIPOS1","L POWAKZO NOBE POWD","OAV","UNF307272SEL ","KRW",-1689600,0,0,"2023-10-12","2023-10-13","C13",4240,"002-777104-835",3,null,"HSBC","SEL ","tst134-81idn","FNI",2,"OAVUNF307272SEL ","2029-02-24",-1961,"",null,null,"화학물질 및 화학제품 제조업(의약품 제외)(20)","C"]
["PFIPOS1","O., LPPG SSC C., LT","OAV","UNF307278SEL ","KRW",-15525400,0,0,"2023-10-12","2023-10-13","C13",4240,"002-704939-835",3,null,"HSBC","SEL ","tst610-81idn","FNI",2,"OAVUNF307278SEL ","2029-03-02",-1967,"",null,null,"화학물질 및 화학제품 제조업(의약품 제외)(20)","C"]
["PFIPOS1","O., LPPG SSC C., LT","OAV","UNF307282SEL ","KRW",-1630200,0,0,"2023-10-12","2023-10-13","C13",4240,"002-704939-835",3,null,"HSBC","SEL ","tst610-81idn","FNI",2,"OAVUNF307282SEL ","2029-03-06",-1971,"",null,null,"화학물질 및 화학제품 제조업(의약품 제외)(20)","C"]
["PFIPOS1","O., LPPG SSC C., LT","OAV","UNF307287SEL ","KRW",-299957735,0,0,"2023-10-12","2023-10-13","C13",4240,"002-704939-835",3,null,"HSBC","SEL ","tst610-81idn","FNI",2,"OAVUNF307287SEL ","2029-03-11",-1976,"",null,null,"화학물질 및 화학제품 제조업(의약품 제외)(20)","C"]
["PFIPOS1","TRIESPPG INDUSRIES ","OAV","UNF307371SEL ","KRW",-422160,0,0,"2023-10-13","2023-10-16","C13",4240,"002-494767-835",3,null,"HSBC","SEL ","tst617-81idn","FNI",2,"OAVUNF307371SEL ","2029-03-15",-1977,"",null,null,"화학물질 및 화학제품 제조업(의약품 제외)(20)","C"]
["PFIPOS1","TRIESPPG INDUSRIES ","OAV","UNF307377SEL ","KRW",-440000,0,0,"2023-10-13","2023-10-16","C13",4240,"002-494767-835",3,null,"HSBC","SEL ","tst617-81idn","FNI",2,"OAVUNF307377SEL ","2029-03-21",-1983,"",null,null,"화학물질 및 화학제품 제조업(의약품 제외)(20)","C"]
["PFIPOS1","TRIESPPG INDUSRIES ","OAV","UNF307382SEL ","KRW",-4618944,0,0,"2023-10-13","2023-10-16","C13",4240,"002-494767-835",3,null,"HSBC","SEL ","tst617-81idn","FNI",2,"OAVUNF307382SEL ","2029-03-26",-1988,"",null,null,"화학물질 및 화학제품 제조업(의약품 제외)(20)","C"]
["PFIPOS1","TRIESPPG INDUSRIES ","OAV","UNF307387SEL ","KRW",-412500,0,0,"2023-10-13","2023-10-16","C13",4240,"002-494767-835",3,null,"HSBC","SEL ","tst617-81idn","FNI",2,"OAVUNF307387SEL ","2029-03-31",-1993,"",null,null,"화학물질 및 화학제품 제조업(의약품 제외)(20)","C"]
["PFIPOS1","L INDAKZO NOBE INDU","OAV","FND305218SEL ","KRW",-52800,0,0,"2023-07-25","2023-10-02","C23",4240,"002-732125-835",3,null,"HSBC","SEL ","tst107-86idn","FNI",2,"OAVFND305218SEL ","2029-04-05",-2012,"",null,null,"화학물질 및 화학제품 제조업(의약품 제외)(20)","C"]
["PFIPOS1","L INDAKZO NOBE INDU","OAV","FND305224SEL ","KRW",-1438470,0,0,"2023-07-25","2023-10-02","C23",4240,"002-732125-835",3,null,"HSBC","SEL ","tst107-86idn","FNI",2,"OAVFND305224SEL ","2029-04-08",-2015,"",null,null,"화학물질 및 화학제품 제조업(의약품 제외)(20)","C"]
["PFIPOS1","L INDAKZO NOBE INDU","OAV","FND305226SEL ","KRW",-15747160,0,0,"2023-07-25","2023-10-02","C23",4240,"002-732125-835",3,null,"HSBC","SEL ","tst107-86idn","FNI",2,"OAVFND305226SEL ","2029-04-10",-2017,"",null,null,"화학물질 및 화학제품 제조업(의약품 제외)(20)","C"]
["PFIPOS1","L INDAKZO NOBE INDU","OAV","FND305231SEL ","KRW",-46020623,0,0,"2023-07-25","2023-10-02","C23",4240,"002-732125-835",3,null,"HSBC","SEL ","tst107-86idn","FNI",2,"OAVFND305231SEL ","2029-04-15",-2022,"",null,null,"화학물질 및 화학제품 제조업(의약품 제외)(20)","C"]
["PFIPOS1","L INDAKZO NOBE INDU","OAV","FND305238SEL ","KRW",-249018,0,0,"2023-07-25","2023-10-02","C23",4240,"002-732125-835",3,null,"HSBC","SEL ","tst107-86idn","FNI",2,"OAVFND305238SEL ","2029-04-20",-2027,"",null,null,"화학물질 및 화학제품 제조업(의약품 제외)(20)","C"]
["PFIPOS1","ONAL INTERNATINAL P","OAV","UNF307024SEL ","KRW",-77000,0,0,"2023-09-27","2023-10-04","C13",4240,"002-775744-835",3,null,"HSBC","SEL ","tst134-81idn","FNI",2,"OAVUNF307024SEL ","2029-04-25",-2030,"",null,null,"화학물질 및 화학제품 제조업(의약품 제외)(20)","C"]
["PFIPOS1","L POWAKZO NOBE POWD","OAV","UNF307031SEL ","KRW",-165000,0,0,"2023-09-27","2023-10-04","C13",4240,"002-777104-835",3,null,"HSBC","SEL ","tst134-81idn","FNI",2,"OAVUNF307031SEL ","2029-05-02",-2037,"",null,null,"화학물질 및 화학제품 제조업(의약품 제외)(20)","C"]
["PFIPOS1","L POWAKZO NOBE POWD","OAV","UNF307034SEL ","KRW",-1647360,0,0,"2023-09-27","2023-10-04","C13",4240,"002-777104-835",3,null,"HSBC","SEL ","tst134-81idn","FNI",2,"OAVUNF307034SEL ","2029-05-05",-2040,"",null,null,"화학물질 및 화학제품 제조업(의약품 제외)(20)","C"]
["PFIPOS1","L POWAKZO NOBE POWD","OAV","UNF307039SEL ","KRW",-14705625,0,0,"2023-09-27","2023-10-04","C13",4240,"002-777104-835",3,null,"HSBC","SEL ","tst134-81idn","FNI",2,"OAVUNF307039SEL ","2029-05-10",-2045,"",null,null,"화학물질 및 화학제품 제조업(의약품 제외)(20)","C"]
["PFIPOS1","TRIESPPG INDUSRIES ","OAV","UNF307144SEL ","KRW",-2618000,0,0,"2023-09-27","2023-10-04","C13",4240,"002-494767-835",3,null,"HSBC","SEL ","tst617-81idn","FNI",2,"OAVUNF307144SEL ","2029-05-15",-2050,"",null,null,"화학물질 및 화학제품 제조업(의약품 제외)(20)","C"]
["PFIPOS1","TRIESPPG INDUSRIES ","OAV","UNF307149SEL ","KRW",-2667500,0,0,"2023-09-27","2023-10-04","C13",4240,"002-494767-835",3,null,"HSBC","SEL ","tst617-81idn","FNI",2,"OAVUNF307149SEL ","2029-05-20",-2055,"",null,null,"화학물질 및 화학제품 제조업(의약품 제외)(20)","C"]
["PFIPOS1","TRIESPPG INDUSRIES ","OAV","UNF307151SEL ","KRW",-2420000,0,0,"2023-09-27","2023-10-04","C13",4240,"002-494767-835",3,null,"HSBC","SEL ","tst617-81idn","FNI",2,"OAVUNF307151SEL ","2029-05-22",-2057,"",null,null,"화학물질 및 화학제품 제조업(의약품 제외)(20)","C"]
["PFIPOS1","TRIESPPG INDUSRIES ","OAV","UNF307159SEL ","KRW",-27340885,0,0,"2023-09-27","2023-10-04","C13",4240,"002-494767-835",3,null,"HSBC","SEL ","tst617-81idn","FNI",2,"OAVUNF307159SEL ","2029-05-30",-2065,"",null,null,"화학물질 및 화학제품 제조업(의약품 제외)(20)","C"]
["PFIPOS1","ONAL INTERNATINAL P","OAV","UNF307224SEL ","KRW",-13200000,0,0,"2023-09-27","2023-10-04","C13",4240,"002-775744-835",3,null,"HSBC","SEL ","tst134-81idn","FNI",2,"OAVUNF307224SEL ","2029-06-04",-2070,"",null,null,"화학물질 및 화학제품 제조업(의약품 제외)(20)","C"]
["PFIPOS1","L POWAKZO NOBE POWD","OAV","UNF307228SEL ","KRW",-2860000,0,0,"2023-09-27","2023-10-04","C13",4240,"002-777104-835",3,null,"HSBC","SEL ","tst134-81idn","FNI",2,"OAVUNF307228SEL ","2029-06-08",-2074,"",null,null,"화학물질 및 화학제품 제조업(의약품 제외)(20)","C"]
["PFIPOS1","L INDAKZO NOBE INDU","OAV","UNF307229SEL ","KRW",-38593280,0,0,"2023-09-27","2023-10-04","C23",4240,"002-732125-835",3,null,"HSBC","SEL ","tst107-86idn","FNI",2,"OAVUNF307229SEL ","2029-06-09",-2075,"",null,null,"화학물질 및 화학제품 제조업(의약품 제외)(20)","C"]
["PFIPOS1","O., LPPG SSC C., LT","OAV","UNF307263SEL ","KRW",-220792983,0,0,"2023-10-12","2023-10-13","C13",4240,"002-704939-835",3,null,"HSBC","SEL ","tst610-81idn","FNI",2,"OAVUNF307263SEL ","2029-06-15",-2072,"",null,null,"화학물질 및 화학제품 제조업(의약품 제외)(20)","C"]
["PFIPOS1","L POWAKZO NOBE POWD","OAV","UNF307267SEL ","KRW",-65604000,0,0,"2023-10-12","2023-10-13","C13",4240,"002-777104-835",3,null,"HSBC","SEL ","tst134-81idn","FNI",2,"OAVUNF307267SEL ","2029-06-19",-2076,"",null,null,"화학물질 및 화학제품 제조업(의약품 제외)(20)","C"]
["PFIPOS1","TRIESPPG INDUSRIES ","OAV","FND305028SEL ","KRW",-17938800,0,0,"2023-07-17","2023-10-16","C13",4240,"002-494767-835",3,null,"HSBC","SEL ","tst617-81idn","FNI",2,"OAVFND305028SEL ","2029-06-24",-2078,"",null,null,"화학물질 및 화학제품 제조업(의약품 제외)(20)","C"]
["PFIPOS1","O., LPPG SSC C., LT","OAV","FND305032SEL ","KRW",-35986500,0,0,"2023-07-17","2023-10-13","C13",4240,"002-704939-835",3,null,"HSBC","SEL ","tst610-81idn","FNI",2,"OAVFND305032SEL ","2029-06-28",-2085,"",null,null,"화학물질 및 화학제품 제조업(의약품 제외)(20)","C"]
["PFIPOS1","O., LPPG SSC C., LT","OAV","FND305041SEL ","KRW",-38305905,0,0,"2023-07-17","2023-10-13","C13",4240,"002-704939-835",3,null,"HSBC","SEL ","tst610-81idn","FNI",2,"OAVFND305041SEL ","2029-07-04",-2091,"",null,null,"화학물질 및 화학제품 제조업(의약품 제외)(20)","C"]
["PFIPOS1","TRIESPPG INDUSRIES ","OAV","FND305047SEL ","KRW",-649000,0,0,"2023-07-17","2023-10-16","C13",4240,"002-494767-835",3,null,"HSBC","SEL ","tst617-81idn","FNI",2,"OAVFND305047SEL ","2029-07-09",-2093,"",null,null,"화학물질 및 화학제품 제조업(의약품 제외)(20)","C"]
["PFIPOS1","EMICAWACKER CHMICAL","OAV","UNF306884SEL ","KRW",-11518100,0,0,"2023-09-26","2023-09-27","MFS",4240,"002-703670-835",3,null,"HSBC","SEL ","tst120-81idn","FNI",2,"OAVUNF306884SEL ","2029-07-15",-2118,"",null,null,"화학물질 및 화학제품 제조업(의약품 제외)(20)","C"]
["PFIPOS1","O., LPPG SSC C., LT","OAV","UNF306888SEL ","KRW",-4495095,0,0,"2023-09-26","2023-09-27","C13",4240,"002-704939-835",3,null,"HSBC","SEL ","tst610-81idn","FNI",2,"OAVUNF306888SEL ","2029-07-19",-2122,"",null,null,"화학물질 및 화학제품 제조업(의약품 제외)(20)","C"]
["PFIPOS1","O., LPPG SSC C., LT","OAV","UNF306891SEL ","KRW",-215600,0,0,"2023-09-26","2023-09-27","C13",4240,"002-704939-835",3,null,"HSBC","SEL ","tst610-81idn","FNI",2,"OAVUNF306891SEL ","2029-07-22",-2125,"",null,null,"화학물질 및 화학제품 제조업(의약품 제외)(20)","C"]
["PFIPOS1","O., LPPG SSC C., LT","OAV","UNF306898SEL ","KRW",-11959200,0,0,"2023-09-26","2023-09-27","C13",4240,"002-704939-835",3,null,"HSBC","SEL ","tst610-81idn","FNI",2,"OAVUNF306898SEL ","2029-07-29",-2132,"",null,null,"화학물질 및 화학제품 제조업(의약품 제외)(20)","C"]
["PFIPOS1","TRIESPPG INDUSRIES ","OAV","UNF306984SEL ","KRW",-175090135,0,0,"2023-09-27","2023-10-04","C13",4240,"002-494767-835",3,null,"HSBC","SEL ","tst617-81idn","FNI",2,"OAVUNF306984SEL ","2029-08-03",-2130,"",null,null,"화학물질 및 화학제품 제조업(의약품 제외)(20)","C"]
["PFIPOS1","ONAL INTERNATINAL P","OAV","UNF306985SEL ","KRW",-48400,0,0,"2023-09-27","2023-10-04","C13",4240,"002-775744-835",3,null,"HSBC","SEL ","tst134-81idn","FNI",2,"OAVUNF306985SEL ","2029-08-04",-2131,"",null,null,"화학물질 및 화학제품 제조업(의약품 제외)(20)","C"]
["PFIPOS1","ONAL INTERNATINAL P","OAV","UNF306989SEL ","KRW",-6820000,0,0,"2023-09-27","2023-10-04","C13",4240,"002-775744-835",3,null,"HSBC","SEL ","tst134-81idn","FNI",2,"OAVUNF306989SEL ","2029-08-08",-2135,"",null,null,"화학물질 및 화학제품 제조업(의약품 제외)(20)","C"]
["PFIPOS1","ONAL INTERNATINAL P","OAV","UNF306996SEL ","KRW",-150678,0,0,"2023-09-27","2023-10-04","C13",4240,"002-775744-835",3,null,"HSBC","SEL ","tst134-81idn","FNI",2,"OAVUNF306996SEL ","2029-08-15",-2142,"",null,null,"화학물질 및 화학제품 제조업(의약품 제외)(20)","C"]
["PFIPOS1","ONAL INTERNATINAL P","OAV","UNF306999SEL ","KRW",-140525000,0,0,"2023-09-27","2023-10-04","C13",4240,"002-775744-835",3,null,"HSBC","SEL ","tst134-81idn","FNI",2,"OAVUNF306999SEL ","2029-08-18",-2145,"",null,null,"화학물질 및 화학제품 제조업(의약품 제외)(20)","C"]
["PFIPOS1","TRIESPPG INDUSRIES ","OAV","UNF307104SEL ","KRW",-1676400,0,0,"2023-09-27","2023-10-04","C13",4240,"002-494767-835",3,null,"HSBC","SEL ","tst617-81idn","FNI",2,"OAVUNF307104SEL ","2029-08-23",-2150,"",null,null,"화학물질 및 화학제품 제조업(의약품 제외)(20)","C"]
["PFIPOS1","TRIESPPG INDUSRIES ","OAV","UNF307109SEL ","KRW",-7429950,0,0,"2023-09-27","2023-10-04","C13",4240,"002-494767-835",3,null,"HSBC","SEL ","tst617-81idn","FNI",2,"OAVUNF307109SEL ","2029-08-28",-2155,"",null,null,"화학물질 및 화학제품 제조업(의약품 제외)(20)","C"]
["PFIPOS1","TRIESPPG INDUSRIES ","OAV","UNF307114SEL ","KRW",-165000,0,0,"2023-09-27","2023-10-04","C13",4240,"002-494767-835",3,null,"HSBC","SEL ","tst617-81idn","FNI",2,"OAVUNF307114SEL ","2029-09-02",-2160,"",null,null,"화학물질 및 화학제품 제조업(의약품 제외)(20)","C"]
["PFIPOS1","TRIESPPG INDUSRIES ","OAV","UNF307119SEL ","KRW",-2200000,0,0,"2023-09-27","2023-10-04","C13",4240,"002-494767-835",3,null,"HSBC","SEL ","tst617-81idn","FNI",2,"OAVUNF307119SEL ","2029-09-07",-2165,"",null,null,"화학물질 및 화학제품 제조업(의약품 제외)(20)","C"]
["PFIPOS1","TRIESPPG INDUSRIES ","OAV","UNF307350SEL ","KRW",-57505800,0,0,"2023-10-13","2023-10-16","C13",4240,"002-494767-835",3,null,"HSBC","SEL ","tst617-81idn","FNI",2,"OAVUNF307350SEL ","2029-09-10",-2156,"",null,null,"화학물질 및 화학제품 제조업(의약품 제외)(20)","C"]
["PFIPOS1","TRIESPPG INDUSRIES ","OAV","UNF307357SEL ","KRW",-268664000,0,0,"2023-10-13","2023-10-16","C13",4240,"002-494767-835",3,null,"HSBC","SEL ","tst617-81idn","FNI",2,"OAVUNF307357SEL ","2029-09-17",-2163,"",null,null,"화학물질 및 화학제품 제조업(의약품 제외)(20)","C"]
["PFIPOS1","TRIESPPG INDUSRIES ","OAV","UNF307361SEL ","KRW",-5720000,0,0,"2023-10-13","2023-10-16","C13",4240,"002-494767-835",3,null,"HSBC","SEL ","tst617-81idn","FNI",2,"OAVUNF307361SEL ","2029-09-21",-2167,"",null,null,"화학물질 및 화학제품 제조업(의약품 제외)(20)","C"]
["PFIPOS1","TRIESPPG INDUSRIES ","OAV","UNF307367SEL ","KRW",-23540000,0,0,"2023-10-13","2023-10-16","C13",4240,"002-494767-835",3,null,"HSBC","SEL ","tst617-81idn","FNI",2,"OAVUNF307367SEL ","2029-09-27",-2173,"",null,null,"화학물질 및 화학제품 제조업(의약품 제외)(20)","C"]
["PFIPOS1","L POWAKZO NOBE POWD","OAV","FND305129SEL ","KRW",-1540000,0,0,"2023-07-20","2023-10-02","C13",4240,"002-777104-835",3,null,"HSBC","SEL ","tst134-81idn","FNI",2,"OAVFND305129SEL ","2029-10-02",-2192,"",null,null,"화학물질 및 화학제품 제조업(의약품 제외)(20)","C"]
["PFIPOS1","TRIESPPG INDUSRIES ","OAV","FND305131SEL ","KRW",-990000,0,0,"2023-07-20","2023-10-02","C13",4240,"002-494767-835",3,null,"HSBC","SEL ","tst617-81idn","FNI",2,"OAVFND305131SEL ","2029-10-04",-2194,"",null,null,"화학물질 및 화학제품 제조업(의약품 제외)(20)","C"]
["PFIPOS1","ONAL INTERNATINAL P","OAV","FND305134SEL ","KRW",-62156600,-62156600,62156600,"2023-07-20","2023-11-01","C13",4240,"002-775744-835",3,null,"HSBC","SEL ","tst134-81idn","FNI",2,"OAVFND305134SEL ","2029-10-07",-2167,"",null,null,"화학물질 및 화학제품 제조업(의약품 제외)(20)","C"]
["PFIPOS1","L POWAKZO NOBE POWD","OAV","FND305146SEL ","KRW",-143000,-143000,143000,"2023-07-20","2023-11-14","C13",4240,"002-777104-835",3,null,"HSBC","SEL ","tst134-81idn","FNI",2,"OAVFND305146SEL ","2029-10-15",-2162,"",null,null,"화학물질 및 화학제품 제조업(의약품 제외)(20)","C"]
["PFIPOS1","L POWAKZO NOBE POWD","OAV","FND305148SEL ","KRW",-8140000,-8140000,8140000,"2023-07-20","2023-11-14","C13",4240,"002-777104-835",3,null,"HSBC","SEL ","tst134-81idn","FNI",2,"OAVFND305148SEL ","2029-10-17",-2164,"",null,null,"화학물질 및 화학제품 제조업(의약품 제외)(20)","C"]
["PFIPOS1","TRIESPPG INDUSRIES ","OAV","FND306683SEL ","KRW",-4853145,-4853145,4853145,"2023-09-19","2023-11-30","C13",4240,"002-494767-835",3,null,"HSBC","SEL ","tst617-81idn","FNI",2,"OAVFND306683SEL ","2029-10-22",-2153,"",null,null,"화학물질 및 화학제품 제조업(의약품 제외)(20)","C"]
["PFIPOS1","O., LPPG SSC C., LT","OAV","FND306689SEL ","KRW",-5968600,-5968600,5968600,"2023-09-19","2023-12-15","C13",4240,"002-704939-835",3,null,"HSBC","SEL ","tst610-81idn","FNI",2,"OAVFND306689SEL ","2029-10-28",-2144,"",null,null,"화학물질 및 화학제품 제조업(의약품 제외)(20)","C"]
["PFIPOS1","O., LPPG SSC C., LT","OAV","FND306693SEL ","KRW",-35024000,-35024000,35024000,"2023-09-19","2023-11-30","C13",4240,"002-704939-835",3,null,"HSBC","SEL ","tst610-81idn","FNI",2,"OAVFND306693SEL ","2029-11-01",-2163,"",null,null,"화학물질 및 화학제품 제조업(의약품 제외)(20)","C"]
["PFIPOS1","TRIESPPG INDUSRIES ","OAV","FND306696SEL ","KRW",-166059245,-166059245,166059245,"2023-09-19","2023-12-15","C13",4240,"002-494767-835",3,null,"HSBC","SEL ","tst617-81idn","FNI",2,"OAVFND306696SEL ","2029-11-04",-2151,"",null,null,"화학물질 및 화학제품 제조업(의약품 제외)(20)","C"]
["PFIPOS1","L POWAKZO NOBE POWD","OAV","FND306743SEL ","KRW",-808500,-808500,808500,"2023-09-20","2024-01-12","C13",4240,"002-777104-835",3,null,"HSBC","SEL ","tst134-81idn","FNI",2,"OAVFND306743SEL ","2029-11-11",-2130,"",null,null,"화학물질 및 화학제품 제조업(의약품 제외)(20)","C"]
["PFIPOS1","L POWAKZO NOBE POWD","OAV","FND306748SEL ","KRW",-7565051,-7565051,7565051,"2023-09-20","2023-11-01","C13",4240,"002-777104-835",3,null,"HSBC","SEL ","tst134-81idn","FNI",2,"OAVFND306748SEL ","2029-11-16",-2207,"",null,null,"화학물질 및 화학제품 제조업(의약품 제외)(20)","C"]
["PFIPOS1","L POWAKZO NOBE POWD","OAV","FND306753SEL ","KRW",-65894400,-65894400,65894400,"2023-09-20","2023-11-01","C13",4240,"002-777104-835",3,null,"HSBC","SEL ","tst134-81idn","FNI",2,"OAVFND306753SEL ","2029-11-21",-2212,"",null,null,"화학물질 및 화학제품 제조업(의약품 제외)(20)","C"]
["PFIPOS1","L POWAKZO NOBE POWD","OAV","FND306758SEL ","KRW",-23007600,-23007600,23007600,"2023-09-20","2023-12-01","C13",4240,"002-777104-835",3,null,"HSBC","SEL ","tst134-81idn","FNI",2,"OAVFND306758SEL ","2029-11-26",-2187,"",null,null,"화학물질 및 화학제품 제조업(의약품 제외)(20)","C"]
["PFIPOS1","L INDAKZO NOBE INDU","OAV","FND306826SEL ","KRW",-2500718,-2500718,2500718,"2023-09-25","2023-11-01","C23",4240,"002-732125-835",3,null,"HSBC","SEL ","tst107-86idn","FNI",2,"OAVFND306826SEL ","2029-12-01",-2222,"",null,null,"화학물질 및 화학제품 제조업(의약품 제외)(20)","C"]
["PFIPOS1","L INDAKZO NOBE INDU","OAV","FND306829SEL ","KRW",-30203800,-30203800,30203800,"2023-09-25","2023-11-30","C23",4240,"002-732125-835",3,null,"HSBC","SEL ","tst107-86idn","FNI",2,"OAVFND306829SEL ","2029-12-04",-2196,"",null,null,"화학물질 및 화학제품 제조업(의약품 제외)(20)","C"]
["PFIPOS1","L INDAKZO NOBE INDU","OAV","FND306831SEL ","KRW",-13398000,-13398000,13398000,"2023-09-25","2023-12-01","C23",4240,"002-732125-835",3,null,"HSBC","SEL ","tst107-86idn","FNI",2,"OAVFND306831SEL ","2029-12-06",-2197,"",null,null,"화학물질 및 화학제품 제조업(의약품 제외)(20)","C"]
["PFIPOS1","L INDAKZO NOBE INDU","OAV","FND306836SEL ","KRW",-34265550,-34265550,34265550,"2023-09-25","2023-12-01","C23",4240,"002-732125-835",3,null,"HSBC","SEL ","tst107-86idn","FNI",2,"OAVFND306836SEL ","2029-12-11",-2202,"",null,null,"화학물질 및 화학제품 제조업(의약품 제외)(20)","C"]
["PFIPOS1","L INDAKZO NOBE INDU","OAV","FND306841SEL ","KRW",-110000,-110000,110000,"2023-09-25","2023-12-01","C23",4240,"002-732125-835",3,null,"HSBC","SEL ","tst107-86idn","FNI",2,"OAVFND306841SEL ","2029-12-16",-2207,"",null,null,"화학물질 및 화학제품 제조업(의약품 제외)(20)","C"]
["PFIPOS1","TRIESPPG INDUSRIES ","OAV","FND307244SEL ","KRW",-26555866,-26555866,26555866,"2023-10-04","2023-12-15","C13",4240,"002-494767-835",3,null,"HSBC","SEL ","tst617-81idn","FNI",2,"OAVFND307244SEL ","2029-12-21",-2198,"",null,null,"화학물질 및 화학제품 제조업(의약품 제외)(20)","C"]
["PFIPOS1","ONAL INTERNATINAL P","OAV","FND307255SEL ","KRW",-6930000,-6930000,6930000,"2023-10-11","2023-11-01","C13",4240,"002-775744-835",3,null,"HSBC","SEL ","tst134-81idn","FNI",2,"OAVFND307255SEL ","2029-12-28",-2249,"",null,null,"화학물질 및 화학제품 제조업(의약품 제외)(20)","C"]
["PFIPOS1","O., LPPG SSC C., LT","OAV","FND307396SEL ","KRW",-41756000,-41756000,41756000,"2023-10-16","2024-01-02","C13",4240,"002-704939-835",3,null,"HSBC","SEL ","tst610-81idn","FNI",2,"OAVFND307396SEL ","2029-12-31",-2190,"",null,null,"화학물질 및 화학제품 제조업(의약품 제외)(20)","C"]
["PFIPOS1","TRIESPPG INDUSRIES ","OAV","FND307400SEL ","KRW",-5148000,-5148000,5148000,"2023-10-16","2024-01-15","C13",4240,"002-494767-835",3,null,"HSBC","SEL ","tst617-81idn","FNI",2,"OAVFND307400SEL ","2030-01-04",-2181,"",null,null,"화학물질 및 화학제품 제조업(의약품 제외)(20)","C"]
["PFIPOS1","TRIESPPG INDUSRIES ","OAV","FND307446SEL ","KRW",-56512291,-56512291,56512291,"2023-10-16","2024-02-15","C13",4240,"002-494767-835",3,null,"HSBC","SEL ","tst617-81idn","FNI",2,"OAVFND307446SEL ","2030-01-10",-2156,"",null,null,"화학물질 및 화학제품 제조업(의약품 제외)(20)","C"]
["PFIPOS1","TRIESPPG INDUSRIES ","OAV","FND307451SEL ","KRW",-4823500,-4823500,4823500,"2023-10-16","2024-01-02","C13",4240,"002-494767-835",3,null,"HSBC","SEL ","tst617-81idn","FNI",2,"OAVFND307451SEL ","2030-01-15",-2205,"",null,null,"화학물질 및 화학제품 제조업(의약품 제외)(20)","C"]
["PFIPOS1","TRIESPPG INDUSRIES ","OAV","FND307453SEL ","KRW",-141479415,-141479415,141479415,"2023-10-16","2024-01-15","C13",4240,"002-494767-835",3,null,"HSBC","SEL ","tst617-81idn","FNI",2,"OAVFND307453SEL ","2030-01-17",-2194,"",null,null,"화학물질 및 화학제품 제조업(의약품 제외)(20)","C"]
["PFIPOS1","O., LPPG SSC C., LT","OAV","FND307461SEL ","KRW",-1960200,-1960200,1960200,"2023-10-16","2024-01-15","C13",4240,"002-704939-835",3,null,"HSBC","SEL ","tst610-81idn","FNI",2,"OAVFND307461SEL ","2030-01-25",-2202,"",null,null,"화학물질 및 화학제품 제조업(의약품 제외)(20)","C"]
["PFIPOS1","EMICAWACKER CHMICAL","OAV","UNF306863SEL ","KRW",-12789700,0,0,"2023-09-26","2023-09-27","MFS",4240,"002-703670-835",3,null,"HSBC","SEL ","tst120-81idn","FNI",2,"OAVUNF306863SEL ","2030-01-30",-2317,"",null,null,"화학물질 및 화학제품 제조업(의약품 제외)(20)","C"]
["PFIPOS1","EMICAWACKER CHMICAL","OAV","UNF306867SEL ","KRW",-4588232,0,0,"2023-09-26","2023-09-27","MFS",4240,"002-703670-835",3,null,"HSBC","SEL ","tst120-81idn","FNI",2,"OAVUNF306867SEL ","2030-02-03",-2321,"",null,null,"화학물질 및 화학제품 제조업(의약품 제외)(20)","C"]
["PFIPOS1","EMICAWACKER CHMICAL","OAV","UNF306868SEL ","KRW",-144180,0,0,"2023-09-26","2023-09-27","MFS",4240,"002-703670-835",3,null,"HSBC","SEL ","tst120-81idn","FNI",2,"OAVUNF306868SEL ","2030-02-04",-2322,"",null,null,"화학물질 및 화학제품 제조업(의약품 제외)(20)","C"]
["PFIPOS1","EMICAWACKER CHMICAL","OAV","UNF306874SEL ","KRW",-529164900,0,0,"2023-09-26","2023-09-27","MFS",4240,"002-703670-835",3,null,"HSBC","SEL ","tst120-81idn","FNI",2,"OAVUNF306874SEL ","2030-02-10",-2328,"",null,null,"화학물질 및 화학제품 제조업(의약품 제외)(20)","C"]
["PFIPOS1","O., LPPG SSC C., LT","OAV","UNF306878SEL ","KRW",-7480000,0,0,"2023-09-26","2023-09-27","C13",4240,"002-704939-835",3,null,"HSBC","SEL ","tst610-81idn","FNI",2,"OAVUNF306878SEL ","2030-02-14",-2332,"",null,null,"화학물질 및 화학제품 제조업(의약품 제외)(20)","C"]
["PFIPOS1","ONAL INTERNATINAL P","OAV","UNF307004SEL ","KRW",-1925000,0,0,"2023-09-27","2023-10-04","C13",4240,"002-775744-835",3,null,"HSBC","SEL ","tst134-81idn","FNI",2,"OAVUNF307004SEL ","2030-02-19",-2330,"",null,null,"화학물질 및 화학제품 제조업(의약품 제외)(20)","C"]
["PFIPOS1","ONAL INTERNATINAL P","OAV","UNF307008SEL ","KRW",-12333640,0,0,"2023-09-27","2023-10-04","C13",4240,"002-775744-835",3,null,"HSBC","SEL ","tst134-81idn","FNI",2,"OAVUNF307008SEL ","2030-02-23",-2334,"",null,null,"화학물질 및 화학제품 제조업(의약품 제외)(20)","C"]
["PFIPOS1","ONAL INTERNATINAL P","OAV","UNF307014SEL ","KRW",-5915580,0,0,"2023-09-27","2023-10-04","C13",4240,"002-775744-835",3,null,"HSBC","SEL ","tst134-81idn","FNI",2,"OAVUNF307014SEL ","2030-03-01",-2340,"",null,null,"화학물질 및 화학제품 제조업(의약품 제외)(20)","C"]
["PFIPOS1","ONAL INTERNATINAL P","OAV","UNF307019SEL ","KRW",-648120,0,0,"2023-09-27","2023-10-04","C13",4240,"002-775744-835",3,null,"HSBC","SEL ","tst134-81idn","FNI",2,"OAVUNF307019SEL ","2030-03-06",-2345,"",null,null,"화학물질 및 화학제품 제조업(의약품 제외)(20)","C"]
["PFIPOS1","L INDAKZO NOBE INDU","OAV","UNF307204SEL ","KRW",-689700,0,0,"2023-09-27","2023-10-04","C23",4240,"002-732125-835",3,null,"HSBC","SEL ","tst107-86idn","FNI",2,"OAVUNF307204SEL ","2030-03-11",-2350,"",null,null,"화학물질 및 화학제품 제조업(의약품 제외)(20)","C"]
["PFIPOS1","L INDAKZO NOBE INDU","OAV","UNF307209SEL ","KRW",-7603200,0,0,"2023-09-27","2023-10-04","C23",4240,"002-732125-835",3,null,"HSBC","SEL ","tst107-86idn","FNI",2,"OAVUNF307209SEL ","2030-03-16",-2355,"",null,null,"화학물질 및 화학제품 제조업(의약품 제외)(20)","C"]
["PFIPOS1","L INDAKZO NOBE INDU","OAV","UNF307212SEL ","KRW",-44110000,0,0,"2023-09-27","2023-10-04","C23",4240,"002-732125-835",3,null,"HSBC","SEL ","tst107-86idn","FNI",2,"OAVUNF307212SEL ","2030-03-19",-2358,"",null,null,"화학물질 및 화학제품 제조업(의약품 제외)(20)","C"]
["PFIPOS1","L INDAKZO NOBE INDU","OAV","UNF307219SEL ","KRW",-1812699,0,0,"2023-09-27","2023-10-04","C23",4240,"002-732125-835",3,null,"HSBC","SEL ","tst107-86idn","FNI",2,"OAVUNF307219SEL ","2030-03-26",-2365,"",null,null,"화학물질 및 화학제품 제조업(의약품 제외)(20)","C"]
["PFIPOS1","O., LPPG SSC C., LT","OAV","FND305864SEL ","KRW",-15522320,-15522320,15522320,"2023-08-16","2023-10-31","C13",4240,"002-704939-835",3,null,"HSBC","SEL ","tst610-81idn","FNI",2,"OAVFND305864SEL ","2030-03-31",-2343,"",null,null,"화학물질 및 화학제품 제조업(의약품 제외)(20)","C"]
["PFIPOS1","TRIESPPG INDUSRIES ","OAV","FND305865SEL ","KRW",-14612400,-14612400,14612400,"2023-08-16","2023-11-15","C13",4240,"002-494767-835",3,null,"HSBC","SEL ","tst617-81idn","FNI",2,"OAVFND305865SEL ","2030-04-01",-2329,"",null,null,"화학물질 및 화학제품 제조업(의약품 제외)(20)","C"]
["PFIPOS1","TRIESPPG INDUSRIES ","OAV","FND305869SEL ","KRW",-3785650,-3785650,3785650,"2023-08-16","2023-11-15","C13",4240,"002-494767-835",3,null,"HSBC","SEL ","tst617-81idn","FNI",2,"OAVFND305869SEL ","2030-04-05",-2333,"",null,null,"화학물질 및 화학제품 제조업(의약품 제외)(20)","C"]
["PFIPOS1","O., LPPG SSC C., LT","OAV","FND305876SEL ","KRW",-1960200,-1960200,1960200,"2023-08-16","2023-11-15","C13",4240,"002-704939-835",3,null,"HSBC","SEL ","tst610-81idn","FNI",2,"OAVFND305876SEL ","2030-04-12",-2340,"",null,null,"화학물질 및 화학제품 제조업(의약품 제외)(20)","C"]
["PFIPOS1","TRIESPPG INDUSRIES ","OAV","FND305879SEL ","KRW",-24794000,-24794000,24794000,"2023-08-16","2023-10-30","C13",4240,"002-494767-835",3,null,"HSBC","SEL ","tst617-81idn","FNI",2,"OAVFND305879SEL ","2030-04-15",-2359,"",null,null,"화학물질 및 화학제품 제조업(의약품 제외)(20)","C"]
["PFIPOS1","EMICAWACKER CHMICAL","OAV","UNF306923SEL ","KRW",-1386000,0,0,"2023-09-26","2023-09-27","MFS",4240,"002-703670-835",3,null,"HSBC","SEL ","tst120-81idn","FNI",2,"OAVUNF306923SEL ","2030-04-20",-2397,"",null,null,"화학물질 및 화학제품 제조업(의약품 제외)(20)","C"]
["PFIPOS1","EMICAWACKER CHMICAL","OAV","UNF306928SEL ","KRW",-81755520,0,0,"2023-09-26","2023-09-27","MFS",4240,"002-703670-835",3,null,"HSBC","SEL ","tst120-81idn","FNI",2,"OAVUNF306928SEL ","2030-04-25",-2402,"",null,null,"화학물질 및 화학제품 제조업(의약품 제외)(20)","C"]
["PFIPOS1","L INDAKZO NOBE INDU","OAV","UNF306933SEL ","KRW",-196232850,0,0,"2023-09-26","2023-09-27","C23",4240,"002-732125-835",3,null,"HSBC","SEL ","tst107-86idn","FNI",2,"OAVUNF306933SEL ","2030-04-30",-2407,"",null,null,"화학물질 및 화학제품 제조업(의약품 제외)(20)","C"]
["PFIPOS1","L INDAKZO NOBE INDU","OAV","UNF306939SEL ","KRW",-231000,0,0,"2023-09-26","2023-09-27","C23",4240,"002-732125-835",3,null,"HSBC","SEL ","tst107-86idn","FNI",2,"OAVUNF306939SEL ","2030-05-06",-2413,"",null,null,"화학물질 및 화학제품 제조업(의약품 제외)(20)","C"]
["PFIPOS1","L POWAKZO NOBE POWD","OAV","UNF307043SEL ","KRW",-4549600,0,0,"2023-09-27","2023-10-04","C13",4240,"002-777104-835",3,null,"HSBC","SEL ","tst134-81idn","FNI",2,"OAVUNF307043SEL ","2030-05-09",-2409,"",null,null,"화학물질 및 화학제품 제조업(의약품 제외)(20)","C"]
["PFIPOS1","L POWAKZO NOBE POWD","OAV","UNF307049SEL ","KRW",-4942080,0,0,"2023-09-27","2023-10-04","C13",4240,"002-777104-835",3,null,"HSBC","SEL ","tst134-81idn","FNI",2,"OAVUNF307049SEL ","2030-05-15",-2415,"",null,null,"화학물질 및 화학제품 제조업(의약품 제외)(20)","C"]
["PFIPOS1","ONAL INTERNATINAL P","OAV","UNF307053SEL ","KRW",-49071000,0,0,"2023-09-27","2023-10-04","C13",4240,"002-775744-835",3,null,"HSBC","SEL ","tst134-81idn","FNI",2,"OAVUNF307053SEL ","2030-05-19",-2419,"",null,null,"화학물질 및 화학제품 제조업(의약품 제외)(20)","C"]
["PFIPOS1","ONAL INTERNATINAL P","OAV","UNF307059SEL ","KRW",-5033600,0,0,"2023-09-27","2023-10-04","C13",4240,"002-775744-835",3,null,"HSBC","SEL ","tst134-81idn","FNI",2,"OAVUNF307059SEL ","2030-05-25",-2425,"",null,null,"화학물질 및 화학제품 제조업(의약품 제외)(20)","C"]
["PFIPOS1","TRIESPPG INDUSRIES ","OAV","UNF307164SEL ","KRW",-3051510,0,0,"2023-09-27","2023-10-04","C13",4240,"002-494767-835",3,null,"HSBC","SEL ","tst617-81idn","FNI",2,"OAVUNF307164SEL ","2030-05-30",-2430,"",null,null,"화학물질 및 화학제품 제조업(의약품 제외)(20)","C"]
["PFIPOS1","TRIESPPG INDUSRIES ","OAV","UNF307166SEL ","KRW",-7260000,0,0,"2023-09-27","2023-10-04","C13",4240,"002-494767-835",3,null,"HSBC","SEL ","tst617-81idn","FNI",2,"OAVUNF307166SEL ","2030-06-01",-2432,"",null,null,"화학물질 및 화학제품 제조업(의약품 제외)(20)","C"]
["PFIPOS1","TRIESPPG INDUSRIES ","OAV","UNF307169SEL ","KRW",-15804441,0,0,"2023-09-27","2023-10-04","C13",4240,"002-494767-835",3,null,"HSBC","SEL ","tst617-81idn","FNI",2,"OAVUNF307169SEL ","2030-06-04",-2435,"",null,null,"화학물질 및 화학제품 제조업(의약품 제외)(20)","C"]
["PFIPOS1","ONAL INTERNATINAL P","OAV","UNF307177SEL ","KRW",-434014900,0,0,"2023-09-27","2023-10-04","C13",4240,"002-775744-835",3,null,"HSBC","SEL ","tst134-81idn","FNI",2,"OAVUNF307177SEL ","2030-06-12",-2443,"",null,null,"화학물질 및 화학제품 제조업(의약품 제외)(20)","C"]
["PFIPOS1","ONAL INTERNATINAL P","OAV","UNF307179SEL ","KRW",-221914251,0,0,"2023-09-27","2023-10-04","C13",4240,"002-775744-835",3,null,"HSBC","SEL ","tst134-81idn","FNI",2,"OAVUNF307179SEL ","2030-06-14",-2445,"",null,null,"화학물질 및 화학제품 제조업(의약품 제외)(20)","C"]
["PFIPOS1","TRIESPPG INDUSRIES ","OAV","UNF307332SEL ","KRW",-13877000,0,0,"2023-10-13","2023-10-16","C13",4240,"002-494767-835",3,null,"HSBC","SEL ","tst617-81idn","FNI",2,"OAVUNF307332SEL ","2030-06-19",-2438,"",null,null,"화학물질 및 화학제품 제조업(의약품 제외)(20)","C"]
["PFIPOS1","TRIESPPG INDUSRIES ","OAV","UNF307338SEL ","KRW",-7946675,0,0,"2023-10-13","2023-10-16","C13",4240,"002-494767-835",3,null,"HSBC","SEL ","tst617-81idn","FNI",2,"OAVUNF307338SEL ","2030-06-25",-2444,"",null,null,"화학물질 및 화학제품 제조업(의약품 제외)(20)","C"]
["PFIPOS1","TRIESPPG INDUSRIES ","OAV","UNF307342SEL ","KRW",-259644891,0,0,"2023-10-13","2023-10-16","C13",4240,"002-494767-835",3,null,"HSBC","SEL ","tst617-81idn","FNI",2,"OAVUNF307342SEL ","2030-06-29",-2448,"",null,null,"화학물질 및 화학제품 제조업(의약품 제외)(20)","C"]
["PFIPOS1","TRIESPPG INDUSRIES ","OAV","UNF307345SEL ","KRW",-214153632,0,0,"2023-10-13","2023-10-16","C13",4240,"002-494767-835",3,null,"HSBC","SEL ","tst617-81idn","FNI",2,"OAVUNF307345SEL ","2030-07-02",-2451,"",null,null,"화학물질 및 화학제품 제조업(의약품 제외)(20)","C"]
["PFIPOS1","L POWAKZO NOBE POWD","OAV","FND305156SEL ","KRW",-143000,-143000,143000,"2023-07-20","2023-11-14","C13",4240,"002-777104-835",3,null,"HSBC","SEL ","tst134-81idn","FNI",2,"OAVFND305156SEL ","2030-07-08",-2428,"",null,null,"화학물질 및 화학제품 제조업(의약품 제외)(20)","C"]
["PFIPOS1","EMICAWACKER CHMICAL","OAV","FND305174SEL ","KRW",-241990909,0,0,"2023-07-21","2023-09-27","MFS",4240,"002-703670-835",3,null,"HSBC","SEL ","tst120-81idn","FNI",2,"OAVFND305174SEL ","2030-07-14",-2482,"",null,null,"화학물질 및 화학제품 제조업(의약품 제외)(20)","C"]
["PFIPOS1","ONAL INTERNATINAL P","OAV","FND305198SEL ","KRW",-76695344,-76695344,76695344,"2023-07-24","2023-11-01","C13",4240,"002-775744-835",3,null,"HSBC","SEL ","tst134-81idn","FNI",2,"OAVFND305198SEL ","2030-07-19",-2452,"",null,null,"화학물질 및 화학제품 제조업(의약품 제외)(20)","C"]
["PFIPOS1","L INDAKZO NOBE INDU","OAV","FND305213SEL ","KRW",-38002800,0,0,"2023-07-25","2023-10-02","C23",4240,"002-732125-835",3,null,"HSBC","SEL ","tst107-86idn","FNI",2,"OAVFND305213SEL ","2030-07-24",-2487,"",null,null,"화학물질 및 화학제품 제조업(의약품 제외)(20)","C"]
["PFIPOS1","TRIESPPG INDUSRIES ","OAV","FND306489SEL ","KRW",-21120000,0,0,"2023-09-08","2023-10-16","C13",4240,"002-494767-835",3,null,"HSBC","SEL ","tst617-81idn","FNI",2,"OAVFND306489SEL ","2030-07-26",-2475,"",null,null,"화학물질 및 화학제품 제조업(의약품 제외)(20)","C"]
["PFIPOS1","TRIESPPG INDUSRIES ","OAV","FND306647SEL ","KRW",-7590000,-7590000,7590000,"2023-09-19","2023-11-30","C13",4240,"002-494767-835",3,null,"HSBC","SEL ","tst617-81idn","FNI",2,"OAVFND306647SEL ","2030-08-02",-2437,"",null,null,"화학물질 및 화학제품 제조업(의약품 제외)(20)","C"]
["PFIPOS1","O., LPPG SSC C., LT","OAV","FND306648SEL ","KRW",-43874050,-43874050,43874050,"2023-09-19","2023-12-15","C13",4240,"002-704939-835",3,null,"HSBC","SEL ","tst610-81idn","FNI",2,"OAVFND306648SEL ","2030-08-03",-2423,"",null,null,"화학물질 및 화학제품 제조업(의약품 제외)(20)","C"]
["PFIPOS1","TRIESPPG INDUSRIES ","OAV","FND306653SEL ","KRW",-110441100,-110441100,110441100,"2023-09-19","2023-11-30","C13",4240,"002-494767-835",3,null,"HSBC","SEL ","tst617-81idn","FNI",2,"OAVFND306653SEL ","2030-08-08",-2443,"",null,null,"화학물질 및 화학제품 제조업(의약품 제외)(20)","C"]
["PFIPOS1","TRIESPPG INDUSRIES ","OAV","FND306658SEL ","KRW",-42008384,-42008384,42008384,"2023-09-19","2023-11-30","C13",4240,"002-494767-835",3,null,"HSBC","SEL ","tst617-81idn","FNI",2,"OAVFND306658SEL ","2030-08-13",-2448,"",null,null,"화학물질 및 화학제품 제조업(의약품 제외)(20)","C"]
["PFIPOS1","L POWAKZO NOBE POWD","OAV","FND306723SEL ","KRW",-770000,0,0,"2023-09-20","2023-10-04","C13",4240,"002-777104-835",3,null,"HSBC","SEL ","tst134-81idn","FNI",2,"OAVFND306723SEL ","2030-08-18",-2510,"",null,null,"화학물질 및 화학제품 제조업(의약품 제외)(20)","C"]
["PFIPOS1","L POWAKZO NOBE POWD","OAV","FND306730SEL ","KRW",-264000,-264000,264000,"2023-09-20","2024-01-12","C13",4240,"002-777104-835",3,null,"HSBC","SEL ","tst134-81idn","FNI",2,"OAVFND306730SEL ","2030-08-25",-2417,"",null,null,"화학물질 및 화학제품 제조업(의약품 제외)(20)","C"]
["PFIPOS1","L POWAKZO NOBE POWD","OAV","FND306733SEL ","KRW",-1718750,0,0,"2023-09-20","2023-10-04","C13",4240,"002-777104-835",3,null,"HSBC","SEL ","tst134-81idn","FNI",2,"OAVFND306733SEL ","2030-08-28",-2520,"",null,null,"화학물질 및 화학제품 제조업(의약품 제외)(20)","C"]
["PFIPOS1","L POWAKZO NOBE POWD","OAV","FND306737SEL ","KRW",-13574000,-13574000,13574000,"2023-09-20","2023-12-01","C13",4240,"002-777104-835",3,null,"HSBC","SEL ","tst134-81idn","FNI",2,"OAVFND306737SEL ","2030-09-01",-2466,"",null,null,"화학물질 및 화학제품 제조업(의약품 제외)(20)","C"]
["PFIPOS1","EMICAWACKER CHMICAL","OAV","FND306795SEL ","KRW",-189692249,-189692249,189692249,"2023-09-21","2023-11-30","MFS",4240,"002-703670-835",3,null,"HSBC","SEL ","tst120-81idn","FNI",2,"OAVFND306795SEL ","2030-09-06",-2472,"",null,null,"화학물질 및 화학제품 제조업(의약품 제외)(20)","C"]
["PFIPOS1","EMICAWACKER CHMICAL","OAV","FND306801SEL ","KRW",-25581600,-25581600,25581600,"2023-09-21","2023-11-30","MFS",4240,"002-703670-835",3,null,"HSBC","SEL ","tst120-81idn","FNI",2,"OAVFND306801SEL ","2030-09-12",-2478,"",null,null,"화학물질 및 화학제품 제조업(의약품 제외)(20)","C"]
["PFIPOS1","EMICAWACKER CHMICAL","OAV","FND306803SEL ","KRW",-37494600,-37494600,37494600,"2023-09-21","2023-10-23","MFS",4240,"002-703670-835",3,null,"HSBC","SEL ","tst120-81idn","FNI",2,"OAVFND306803SEL ","2030-09-14",-2518,"",null,null,"화학물질 및 화학제품 제조업(의약품 제외)(20)","C"]
["PFIPOS1","ONAL INTERNATINAL P","OAV","FND306820SEL ","KRW",-25487440,-25487440,25487440,"2023-09-22","2024-02-01","C13",4240,"002-775744-835",3,null,"HSBC","SEL ","tst134-81idn","FNI",2,"OAVFND306820SEL ","2030-09-22",-2425,"",null,null,"화학물질 및 화학제품 제조업(의약품 제외)(20)","C"]
["PFIPOS1","O., LPPG SSC C., LT","OAV","FND307424SEL ","KRW",-4401595,-4401595,4401595,"2023-10-16","2024-01-15","C13",4240,"002-704939-835",3,null,"HSBC","SEL ","tst610-81idn","FNI",2,"OAVFND307424SEL ","2030-09-25",-2445,"",null,null,"화학물질 및 화학제품 제조업(의약품 제외)(20)","C"]
["PFIPOS1","O., LPPG SSC C., LT","OAV","FND307430SEL ","KRW",-2750000,-2750000,2750000,"2023-10-16","2023-11-30","C13",4240,"002-704939-835",3,null,"HSBC","SEL ","tst610-81idn","FNI",2,"OAVFND307430SEL ","2030-10-01",-2497,"",null,null,"화학물질 및 화학제품 제조업(의약품 제외)(20)","C"]
["PFIPOS1","O., LPPG SSC C., LT","OAV","FND307431SEL ","KRW",-264000,-264000,264000,"2023-10-16","2024-01-02","C13",4240,"002-704939-835",3,null,"HSBC","SEL ","tst610-81idn","FNI",2,"OAVFND307431SEL ","2030-10-02",-2465,"",null,null,"화학물질 및 화학제품 제조업(의약품 제외)(20)","C"]
["PFIPOS1","TRIESPPG INDUSRIES ","OAV","FND307437SEL ","KRW",-7170240,-7170240,7170240,"2023-10-16","2024-01-15","C13",4240,"002-494767-835",3,null,"HSBC","SEL ","tst617-81idn","FNI",2,"OAVFND307437SEL ","2030-10-08",-2458,"",null,null,"화학물질 및 화학제품 제조업(의약품 제외)(20)","C"]
["PFIPOS1","O., LPPG SSC C., LT","OAV","FND307440SEL ","KRW",-34314995,-34314995,34314995,"2023-10-16","2023-11-30","C13",4240,"002-704939-835",3,null,"HSBC","SEL ","tst610-81idn","FNI",2,"OAVFND307440SEL ","2030-10-11",-2507,"",null,null,"화학물질 및 화학제품 제조업(의약품 제외)(20)","C"]
["PFIPOS1","TRIESPPG INDUSRIES ","OAV","UNF306805SEL ","KRW",-7207200,0,0,"2023-09-22","2023-09-25","C13",4240,"002-494767-835",3,null,"HSBC","SEL ","tst617-81idn","FNI",2,"OAVUNF306805SEL ","2030-10-17",-2579,"",null,null,"화학물질 및 화학제품 제조업(의약품 제외)(20)","C"]
["PFIPOS1","TRIESPPG INDUSRIES ","OAV","UNF306809SEL ","KRW",-3169100,0,0,"2023-09-22","2023-09-25","C13",4240,"002-494767-835",3,null,"HSBC","SEL ","tst617-81idn","FNI",2,"OAVUNF306809SEL ","2030-10-21",-2583,"",null,null,"화학물질 및 화학제품 제조업(의약품 제외)(20)","C"]
["PFIPOS1","EMICAWACKER CHMICAL","OAV","UNF306853SEL ","KRW",-548493000,0,0,"2023-09-26","2023-09-27","MFS",4240,"002-703670-835",3,null,"HSBC","SEL ","tst120-81idn","FNI",2,"OAVUNF306853SEL ","2030-10-27",-2587,"",null,null,"화학물질 및 화학제품 제조업(의약품 제외)(20)","C"]
["PFIPOS1","EMICAWACKER CHMICAL","OAV","UNF306858SEL ","KRW",-5291000,0,0,"2023-09-26","2023-09-27","MFS",4240,"002-703670-835",3,null,"HSBC","SEL ","tst120-81idn","FNI",2,"OAVUNF306858SEL ","2030-11-01",-2592,"",null,null,"화학물질 및 화학제품 제조업(의약품 제외)(20)","C"]
["PFIPOS1","L INDAKZO NOBE INDU","OAV","UNF306942SEL ","KRW",-6376700,0,0,"2023-09-26","2023-09-27","C23",4240,"002-732125-835",3,null,"HSBC","SEL ","tst107-86idn","FNI",2,"OAVUNF306942SEL ","2030-11-05",-2596,"",null,null,"화학물질 및 화학제품 제조업(의약품 제외)(20)","C"]
["PFIPOS1","EMICAWACKER CHMICAL","OAV","UNF306948SEL ","KRW",-495000,0,0,"2023-09-26","2023-09-27","MFS",4240,"002-703670-835",3,null,"HSBC","SEL ","tst120-81idn","FNI",2,"OAVUNF306948SEL ","2030-11-11",-2602,"",null,null,"화학물질 및 화학제품 제조업(의약품 제외)(20)","C"]
["PFIPOS1","O., LPPG SSC C., LT","OAV","UNF306972SEL ","KRW",-78672035,0,0,"2023-09-27","2023-10-04","C13",4240,"002-704939-835",3,null,"HSBC","SEL ","tst610-81idn","FNI",2,"OAVUNF306972SEL ","2030-11-14",-2598,"",null,null,"화학물질 및 화학제품 제조업(의약품 제외)(20)","C"]
["PFIPOS1","TRIESPPG INDUSRIES ","OAV","UNF306979SEL ","KRW",-1393700,0,0,"2023-09-27","2023-10-04","C13",4240,"002-494767-835",3,null,"HSBC","SEL ","tst617-81idn","FNI",2,"OAVUNF306979SEL ","2030-11-21",-2605,"",null,null,"화학물질 및 화학제품 제조업(의약품 제외)(20)","C"]
["PFIPOS1","ONAL INTERNATINAL P","OAV","UNF307083SEL ","KRW",-5742000,0,0,"2023-09-27","2023-10-04","C13",4240,"002-775744-835",3,null,"HSBC","SEL ","tst134-81idn","FNI",2,"OAVUNF307083SEL ","2030-11-25",-2609,"",null,null,"화학물질 및 화학제품 제조업(의약품 제외)(20)","C"]
["PFIPOS1","L INDAKZO NOBE INDU","OAV","UNF307088SEL ","KRW",-2838000,0,0,"2023-09-27","2023-10-04","C23",4240,"002-732125-835",3,null,"HSBC","SEL ","tst107-86idn","FNI",2,"OAVUNF307088SEL ","2030-11-30",-2614,"",null,null,"화학물질 및 화학제품 제조업(의약품 제외)(20)","C"]
["PFIPOS1","L INDAKZO NOBE INDU","OAV","UNF307089SEL ","KRW",-68487210,0,0,"2023-09-27","2023-10-04","C23",4240,"002-732125-835",3,null,"HSBC","SEL ","tst107-86idn","FNI",2,"OAVUNF307089SEL ","2030-12-01",-2615,"",null,null,"화학물질 및 화학제품 제조업(의약품 제외)(20)","C"]
["PFIPOS1","TRIESPPG INDUSRIES ","OAV","UNF307096SEL ","KRW",-23158300,0,0,"2023-09-27","2023-10-04","C13",4240,"002-494767-835",3,null,"HSBC","SEL ","tst617-81idn","FNI",2,"OAVUNF307096SEL ","2030-12-08",-2622,"",null,null,"화학물질 및 화학제품 제조업(의약품 제외)(20)","C"]
["PFIPOS1","TRIESPPG INDUSRIES ","OAV","UNF307098SEL ","KRW",-35248405,0,0,"2023-09-27","2023-10-04","C13",4240,"002-494767-835",3,null,"HSBC","SEL ","tst617-81idn","FNI",2,"OAVUNF307098SEL ","2030-12-10",-2624,"",null,null,"화학물질 및 화학제품 제조업(의약품 제외)(20)","C"]
["PFIPOS1","TRIESPPG INDUSRIES ","OAV","UNF307312SEL ","KRW",-1191860,0,0,"2023-10-13","2023-10-16","C13",4240,"002-494767-835",3,null,"HSBC","SEL ","tst617-81idn","FNI",2,"OAVUNF307312SEL ","2030-12-16",-2618,"",null,null,"화학물질 및 화학제품 제조업(의약품 제외)(20)","C"]
["PFIPOS1","TRIESPPG INDUSRIES ","OAV","UNF307317SEL ","KRW",-64061314,0,0,"2023-10-13","2023-10-16","C13",4240,"002-494767-835",3,null,"HSBC","SEL ","tst617-81idn","FNI",2,"OAVUNF307317SEL ","2030-12-21",-2623,"",null,null,"화학물질 및 화학제품 제조업(의약품 제외)(20)","C"]
["PFIPOS1","TRIESPPG INDUSRIES ","OAV","UNF307322SEL ","KRW",-536243901,0,0,"2023-10-13","2023-10-16","C13",4240,"002-494767-835",3,null,"HSBC","SEL ","tst617-81idn","FNI",2,"OAVUNF307322SEL ","2030-12-26",-2628,"",null,null,"화학물질 및 화학제품 제조업(의약품 제외)(20)","C"]
["PFIPOS1","TRIESPPG INDUSRIES ","OAV","UNF307328SEL ","KRW",-326920000,0,0,"2023-10-13","2023-10-16","C13",4240,"002-494767-835",3,null,"HSBC","SEL ","tst617-81idn","FNI",2,"OAVUNF307328SEL ","2031-01-01",-2634,"",null,null,"화학물질 및 화학제품 제조업(의약품 제외)(20)","C"]
["PFIPOS1","TRIESPPG INDUSRIES ","OAV","FND305052SEL ","KRW",-146364845,0,0,"2023-07-17","2023-10-16","C13",4240,"002-494767-835",3,null,"HSBC","SEL ","tst617-81idn","FNI",2,"OAVFND305052SEL ","2031-01-04",-2637,"",null,null,"화학물질 및 화학제품 제조업(의약품 제외)(20)","C"]
["PFIPOS1","TRIESPPG INDUSRIES ","OAV","FND305058SEL ","KRW",-7590000,0,0,"2023-07-17","2023-10-02","C13",4240,"002-494767-835",3,null,"HSBC","SEL ","tst617-81idn","FNI",2,"OAVFND305058SEL ","2031-01-10",-2657,"",null,null,"화학물질 및 화학제품 제조업(의약품 제외)(20)","C"]
["PFIPOS1","TRIESPPG INDUSRIES ","OAV","FND305063SEL ","KRW",-19408400,0,0,"2023-07-17","2023-10-02","C13",4240,"002-494767-835",3,null,"HSBC","SEL ","tst617-81idn","FNI",2,"OAVFND305063SEL ","2031-01-14",-2661,"",null,null,"화학물질 및 화학제품 제조업(의약품 제외)(20)","C"]
["PFIPOS1","TRIESPPG INDUSRIES ","OAV","FND305068SEL ","KRW",-57328392,0,0,"2023-07-17","2023-10-16","C13",4240,"002-494767-835",3,null,"HSBC","SEL ","tst617-81idn","FNI",2,"OAVFND305068SEL ","2031-01-19",-2652,"",null,null,"화학물질 및 화학제품 제조업(의약품 제외)(20)","C"]
["PFIPOS1","O., LPPG SSC C., LT","OAV","FND305070SEL ","KRW",-5218411,0,0,"2023-07-17","2023-10-13","C13",4240,"002-704939-835",3,null,"HSBC","SEL ","tst610-81idn","FNI",2,"OAVFND305070SEL ","2031-01-21",-2657,"",null,null,"화학물질 및 화학제품 제조업(의약품 제외)(20)","C"]
["PFIPOS1","TRIESPPG INDUSRIES ","OAV","FND306667SEL ","KRW",-25256000,-25256000,25256000,"2023-09-19","2023-12-15","C13",4240,"002-494767-835",3,null,"HSBC","SEL ","tst617-81idn","FNI",2,"OAVFND306667SEL ","2031-01-29",-2602,"",null,null,"화학물질 및 화학제품 제조업(의약품 제외)(20)","C"]
["PFIPOS1","TRIESPPG INDUSRIES ","OAV","FND306668SEL ","KRW",-4514400,-4514400,4514400,"2023-09-19","2023-12-15","C13",4240,"002-494767-835",3,null,"HSBC","SEL ","tst617-81idn","FNI",2,"OAVFND306668SEL ","2031-01-30",-2603,"",null,null,"화학물질 및 화학제품 제조업(의약품 제외)(20)","C"]
["PFIPOS1","TRIESPPG INDUSRIES ","OAV","FND306676SEL ","KRW",-192981800,-192981800,192981800,"2023-09-19","2023-11-30","C13",4240,"002-494767-835",3,null,"HSBC","SEL ","tst617-81idn","FNI",2,"OAVFND306676SEL ","2031-02-07",-2626,"",null,null,"화학물질 및 화학제품 제조업(의약품 제외)(20)","C"]
["PFIPOS1","O., LPPG SSC C., LT","OAV","FND306677SEL ","KRW",-11731500,-11731500,11731500,"2023-09-19","2023-12-15","C13",4240,"002-704939-835",3,null,"HSBC","SEL ","tst610-81idn","FNI",2,"OAVFND306677SEL ","2031-02-08",-2612,"",null,null,"화학물질 및 화학제품 제조업(의약품 제외)(20)","C"]
["PFIPOS1","O., LPPG SSC C., LT","OAV","FND306703SEL ","KRW",-940500,-940500,940500,"2023-09-19","2023-11-30","C13",4240,"002-704939-835",3,null,"HSBC","SEL ","tst610-81idn","FNI",2,"OAVFND306703SEL ","2031-02-14",-2633,"",null,null,"화학물질 및 화학제품 제조업(의약품 제외)(20)","C"]
["PFIPOS1","O., LPPG SSC C., LT","OAV","FND306709SEL ","KRW",-2805000,-2805000,2805000,"2023-09-19","2023-11-30","C13",4240,"002-704939-835",3,null,"HSBC","SEL ","tst610-81idn","FNI",2,"OAVFND306709SEL ","2031-02-20",-2639,"",null,null,"화학물질 및 화학제품 제조업(의약품 제외)(20)","C"]
["PFIPOS1","TRIESPPG INDUSRIES ","OAV","FND306713SEL ","KRW",-979000,-979000,979000,"2023-09-19","2023-12-15","C13",4240,"002-494767-835",3,null,"HSBC","SEL ","tst617-81idn","FNI",2,"OAVFND306713SEL ","2031-02-24",-2628,"",null,null,"화학물질 및 화학제품 제조업(의약품 제외)(20)","C"]
["PFIPOS1","ONAL INTERNATINAL P","OAV","FND306716SEL ","KRW",-292971250,-292971250,292971250,"2023-09-20","2024-02-01","C13",4240,"002-775744-835",3,null,"HSBC","SEL ","tst134-81idn","FNI",2,"OAVFND306716SEL ","2031-02-27",-2583,"",null,null,"화학물질 및 화학제품 제조업(의약품 제외)(20)","C"]
["PFIPOS1","L POWAKZO NOBE POWD","OAV","FND306762SEL ","KRW",-2420000,0,0,"2023-09-20","2023-10-04","C13",4240,"002-777104-835",3,null,"HSBC","SEL ","tst134-81idn","FNI",2,"OAVFND306762SEL ","2031-03-05",-2709,"",null,null,"화학물질 및 화학제품 제조업(의약품 제외)(20)","C"]
["PFIPOS1","TRIESPPG INDUSRIES ","OAV","FND306768SEL ","KRW",-9702000,-9702000,9702000,"2023-09-20","2023-11-30","C13",4240,"002-494767-835",3,null,"HSBC","SEL ","tst617-81idn","FNI",2,"OAVFND306768SEL ","2031-03-11",-2658,"",null,null,"화학물질 및 화학제품 제조업(의약품 제외)(20)","C"]
["PFIPOS1","L POWAKZO NOBE POWD","OAV","FND306773SEL ","KRW",-209000,-209000,209000,"2023-09-20","2023-12-01","C13",4240,"002-777104-835",3,null,"HSBC","SEL ","tst134-81idn","FNI",2,"OAVFND306773SEL ","2031-03-16",-2662,"",null,null,"화학물질 및 화학제품 제조업(의약품 제외)(20)","C"]
["PFIPOS1","ONAL INTERNATINAL P","OAV","FND306790SEL ","KRW",-19747200,-19747200,19747200,"2023-09-21","2023-12-01","C13",4240,"002-775744-835",3,null,"HSBC","SEL ","tst134-81idn","FNI",2,"OAVFND306790SEL ","2031-03-20",-2666,"",null,null,"화학물질 및 화학제품 제조업(의약품 제외)(20)","C"]
["PFIPOS1","L INDAKZO NOBE INDU","OAV","FND306843SEL ","KRW",-5586790,-5586790,5586790,"2023-09-25","2023-10-31","C23",4240,"002-732125-835",3,null,"HSBC","SEL ","tst107-86idn","FNI",2,"OAVFND306843SEL ","2031-03-23",-2700,"",null,null,"화학물질 및 화학제품 제조업(의약품 제외)(20)","C"]
["PFIPOS1","L INDAKZO NOBE INDU","OAV","FND306850SEL ","KRW",-25313640,-25313640,25313640,"2023-09-25","2024-01-02","C23",4240,"002-732125-835",3,null,"HSBC","SEL ","tst107-86idn","FNI",2,"OAVFND306850SEL ","2031-03-30",-2644,"",null,null,"화학물질 및 화학제품 제조업(의약품 제외)(20)","C"]
["PFIPOS1","L INDAKZO NOBE INDU","OAV","FND306851SEL ","KRW",-1601600,-1601600,1601600,"2023-09-25","2023-12-01","C23",4240,"002-732125-835",3,null,"HSBC","SEL ","tst107-86idn","FNI",2,"OAVFND306851SEL ","2031-03-31",-2677,"",null,null,"화학물질 및 화학제품 제조업(의약품 제외)(20)","C"]
["PFIPOS1","L INDAKZO NOBE INDU","OAV","FND306954SEL ","KRW",-255697640,-255697640,255697640,"2023-09-26","2024-01-02","C23",4240,"002-732125-835",3,null,"HSBC","SEL ","tst107-86idn","FNI",2,"OAVFND306954SEL ","2031-04-05",-2650,"",null,null,"화학물질 및 화학제품 제조업(의약품 제외)(20)","C"]
["PFIPOS1","O., LPPG SSC C., LT","OAV","FND306958SEL ","KRW",-10243200,-10243200,10243200,"2023-09-26","2023-11-30","C13",4240,"002-704939-835",3,null,"HSBC","SEL ","tst610-81idn","FNI",2,"OAVFND306958SEL ","2031-04-09",-2687,"",null,null,"화학물질 및 화학제품 제조업(의약품 제외)(20)","C"]
["PFIPOS1","O., LPPG SSC C., LT","OAV","FND307407SEL ","KRW",-15023360,-15023360,15023360,"2023-10-16","2024-01-02","C13",4240,"002-704939-835",3,null,"HSBC","SEL ","tst610-81idn","FNI",2,"OAVFND307407SEL ","2031-04-16",-2661,"",null,null,"화학물질 및 화학제품 제조업(의약품 제외)(20)","C"]
["PFIPOS1","TRIESPPG INDUSRIES ","OAV","FND307410SEL ","KRW",-4331250,-4331250,4331250,"2023-10-16","2024-01-15","C13",4240,"002-494767-835",3,null,"HSBC","SEL ","tst617-81idn","FNI",2,"OAVFND307410SEL ","2031-04-19",-2651,"",null,null,"화학물질 및 화학제품 제조업(의약품 제외)(20)","C"]
["PFIPOS1","O., LPPG SSC C., LT","OAV","FND307416SEL ","KRW",-2640000,-2640000,2640000,"2023-10-16","2024-01-02","C13",4240,"002-704939-835",3,null,"HSBC","SEL ","tst610-81idn","FNI",2,"OAVFND307416SEL ","2031-04-25",-2670,"",null,null,"화학물질 및 화학제품 제조업(의약품 제외)(20)","C"]
["PFIPOS1","TRIESPPG INDUSRIES ","OAV","FND307420SEL ","KRW",-2227500,-2227500,2227500,"2023-10-16","2024-01-15","C13",4240,"002-494767-835",3,null,"HSBC","SEL ","tst617-81idn","FNI",2,"OAVFND307420SEL ","2031-04-29",-2661,"",null,null,"화학물질 및 화학제품 제조업(의약품 제외)(20)","C"]
["PFIPOS1","TRIESPPG INDUSRIES ","OAV","FND307465SEL ","KRW",-4317456,-4317456,4317456,"2023-10-17","2023-11-30","C13",4240,"002-494767-835",3,null,"HSBC","SEL ","tst617-81idn","FNI",2,"OAVFND307465SEL ","2031-05-04",-2712,"",null,null,"화학물질 및 화학제품 제조업(의약품 제외)(20)","C"]
["PFIPOS1","TRIESPPG INDUSRIES ","OAV","FND307471SEL ","KRW",-2398000,-2398000,2398000,"2023-10-18","2024-01-02","C13",4240,"002-494767-835",3,null,"HSBC","SEL ","tst617-81idn","FNI",2,"OAVFND307471SEL ","2031-05-10",-2685,"",null,null,"화학물질 및 화학제품 제조업(의약품 제외)(20)","C"]
["PFIPOS1","ONAL INTERNATINAL P","OAV","UNF306775SEL ","KRW",-230266080,0,0,"2023-09-21","2023-09-22","C13",4240,"002-775744-835",3,null,"HSBC","SEL ","tst134-81idn","FNI",2,"OAVUNF306775SEL ","2031-05-12",-2789,"",null,null,"화학물질 및 화학제품 제조업(의약품 제외)(20)","C"]
["PFIPOS1","ONAL INTERNATINAL P","OAV","UNF306782SEL ","KRW",-9063230,0,0,"2023-09-21","2023-09-22","C13",4240,"002-775744-835",3,null,"HSBC","SEL ","tst134-81idn","FNI",2,"OAVUNF306782SEL ","2031-05-19",-2796,"",null,null,"화학물질 및 화학제품 제조업(의약품 제외)(20)","C"]
["PFIPOS1","O., LPPG SSC C., LT","OAV","UNF306901SEL ","KRW",-31863040,0,0,"2023-09-26","2023-09-27","C13",4240,"002-704939-835",3,null,"HSBC","SEL ","tst610-81idn","FNI",2,"OAVUNF306901SEL ","2031-05-23",-2795,"",null,null,"화학물질 및 화학제품 제조업(의약품 제외)(20)","C"]
["PFIPOS1","O., LPPG SSC C., LT","OAV","UNF306907SEL ","KRW",-5120500,0,0,"2023-09-26","2023-09-27","C13",4240,"002-704939-835",3,null,"HSBC","SEL ","tst610-81idn","FNI",2,"OAVUNF306907SEL ","2031-05-29",-2801,"",null,null,"화학물질 및 화학제품 제조업(의약품 제외)(20)","C"]
["PFIPOS1","O., LPPG SSC C., LT","OAV","UNF306908SEL ","KRW",-6250618,0,0,"2023-09-26","2023-09-27","C13",4240,"002-704939-835",3,null,"HSBC","SEL ","tst610-81idn","FNI",2,"OAVUNF306908SEL ","2031-05-30",-2802,"",null,null,"화학물질 및 화학제품 제조업(의약품 제외)(20)","C"]
["PFIPOS1","EMICAWACKER CHMICAL","OAV","UNF306914SEL ","KRW",-183590,0,0,"2023-09-26","2023-09-27","MFS",4240,"002-703670-835",3,null,"HSBC","SEL ","tst120-81idn","FNI",2,"OAVUNF306914SEL ","2031-06-05",-2808,"",null,null,"화학물질 및 화학제품 제조업(의약품 제외)(20)","C"]
["PFIPOS1","EMICAWACKER CHMICAL","OAV","UNF306917SEL ","KRW",-29040000,0,0,"2023-09-26","2023-09-27","MFS",4240,"002-703670-835",3,null,"HSBC","SEL ","tst120-81idn","FNI",2,"OAVUNF306917SEL ","2031-06-08",-2811,"",null,null,"화학물질 및 화학제품 제조업(의약품 제외)(20)","C"]
["PFIPOS1","ONAL INTERNATINAL P","OAV","UNF307066SEL ","KRW",-9900000,0,0,"2023-09-27","2023-10-04","C13",4240,"002-775744-835",3,null,"HSBC","SEL ","tst134-81idn","FNI",2,"OAVUNF307066SEL ","2031-06-16",-2812,"",null,null,"화학물질 및 화학제품 제조업(의약품 제외)(20)","C"]
["PFIPOS1","ONAL INTERNATINAL P","OAV","UNF307068SEL ","KRW",-1743497570,0,0,"2023-09-27","2023-10-04","C13",4240,"002-775744-835",3,null,"HSBC","SEL ","tst134-81idn","FNI",2,"OAVUNF307068SEL ","2031-06-18",-2814,"",null,null,"화학물질 및 화학제품 제조업(의약품 제외)(20)","C"]
["PFIPOS1","ONAL INTERNATINAL P","OAV","UNF307073SEL ","KRW",-37415600,0,0,"2023-09-27","2023-10-04","C13",4240,"002-775744-835",3,null,"HSBC","SEL ","tst134-81idn","FNI",2,"OAVUNF307073SEL ","2031-06-23",-2819,"",null,null,"화학물질 및 화학제품 제조업(의약품 제외)(20)","C"]
["PFIPOS1","ONAL INTERNATINAL P","OAV","UNF307079SEL ","KRW",-17175048,0,0,"2023-09-27","2023-10-04","C13",4240,"002-775744-835",3,null,"HSBC","SEL ","tst134-81idn","FNI",2,"OAVUNF307079SEL ","2031-06-29",-2825,"",null,null,"화학물질 및 화학제품 제조업(의약품 제외)(20)","C"]
["HTVFSS","I INFHD HYUNDA INFR","FOT","SEL248735DDFD","USD",306000,306000,415150200,"2022-11-09","2023-10-23","C13",4290,"002-210741-847",3,"   ","BKCZ","IDJK","tst121-81idn","BK3",null,"FOTSEL248735DDFD","2031-07-03",-2810,12842.84,null,null,"기타 기계 및 장비 제조업(29)","C"]
["HTVFSS","I INFHD HYUNDA INFR","FOT","SEL249617DDFD","USD",63229.48,63229.48,85783436,"2022-12-14","2023-11-20","C13",4290,"002-210741-847",3,"   ","BKCZ","IDJK","tst121-81idn","BK3",null,"FOTSEL249617DDFD","2031-07-09",-2788,4007.5039999999995,null,null,"기타 기계 및 장비 제조업(29)","C"]
["HTVFSS","I INFHD HYUNDA INFR","FOT","SEL249625DDFD","USD",232664.99,232664.99,315656592,"2022-12-16","2023-11-20","C13",4290,"002-210741-847",3,"   ","BKCZ","IDJK","tst121-81idn","BK3",null,"FOTSEL249625DDFD","2031-07-12",-2791,14685.215999999999,null,null,"기타 기계 및 장비 제조업(29)","C"]
["HTVFSS","I INFHD HYUNDA INFR","FOT","SEL300467DDFD","USD",340000,340000,461278000,"2023-04-13","2024-03-11","C13",4290,"002-210741-847",3,"   ","BKCZ","IDJK","tst121-81idn","BK3",null,"FOTSEL300467DDFD","2031-07-18",-2685,50604.823999999993,null,null,"기타 기계 및 장비 제조업(29)","C"]
["HTVFSS","I INFHD HYUNDA INFR","FOT","SEL350065DDFD","USD",1249500,1249500,1695196650,"2023-01-12","2023-12-27","C13",4290,"002-210741-847",3,"   ","BKCZ","IDJK","tst121-81idn","BK3",null,"FOTSEL350065DDFD","2031-07-23",-2765,115289.704,null,null,"기타 기계 및 장비 제조업(29)","C"]
["HTVFSS","I INFHD HYUNDA INFR","FOT","SEL350142DDFD","USD",58329.93,58329.93,79136216,"2023-01-13","2023-12-27","C13",4290,"002-210741-847",3,"   ","BKCZ","IDJK","tst121-81idn","BK3",null,"FOTSEL350142DDFD","2031-07-28",-2770,5352.3040000000001,null,null,"기타 기계 및 장비 제조업(29)","C"]
["HTVFSS","I INFHD HYUNDA INFR","FOT","SEL350144DDFD","USD",14837.08,14837.08,20129466,"2023-01-13","2023-12-27","C13",4290,"002-210741-847",3,"   ","BKCZ","IDJK","tst121-81idn","BK3",null,"FOTSEL350144DDFD","2031-07-29",-2771,1371.6960000000001,null,null,"기타 기계 및 장비 제조업(29)","C"]
["HTVFSS","I INFHD HYUNDA INFR","FOT","SEL350591DDFD","USD",21036.52,21036.52,28540247,"2023-02-10","2024-01-23","C13",4290,"002-210741-847",3,"   ","BKCZ","IDJK","tst121-81idn","BK3",null,"FOTSEL350591DDFD","2031-08-05",-2751,2380.2960000000003,null,null,"기타 기계 및 장비 제조업(29)","C"]
["HTVFSS","I INFHD HYUNDA INFR","FOT","SEL350595DDFD","USD",41674.35,41674.35,56539591,"2023-02-09","2024-01-23","C13",4290,"002-210741-847",3,"   ","BKCZ","IDJK","tst121-81idn","BK3",null,"FOTSEL350595DDFD","2031-08-07",-2753,4747.1439999999993,null,null,"기타 기계 및 장비 제조업(29)","C"]
["HTVFSS","I INFHD HYUNDA INFR","FOT","SEL350679DDFD","USD",833000,833000,1130131100,"2023-02-14","2024-01-26","C13",4290,"002-210741-847",3,"   ","BKCZ","IDJK","tst121-81idn","BK3",null,"FOTSEL350679DDFD","2031-08-12",-2755,96825.600000000006,null,null,"기타 기계 및 장비 제조업(29)","C"]
["HTVFSS","I INFHD HYUNDA INFR","FOT","SEL351200DDFD","USD",2150000,2150000,2916905000,"2023-03-16","2024-02-21","C13",4290,"002-210741-847",3,"   ","BKCZ","IDJK","tst121-81idn","BK3",null,"FOTSEL351200DDFD","2031-08-17",-2734,288392.36,null,null,"기타 기계 및 장비 제조업(29)","C"]
["HTVFSS","I INFHD HYUNDA INFR","FOT","SEL351221DDFD","USD",41310.6,41310.6,56046091,"2023-03-16","2024-02-22","C13",4290,"002-210741-847",3,"   ","BKCZ","IDJK","tst121-81idn","BK4",null,"FOTSEL351221DDFD","2031-08-22",-2738,5567.4719999999998,null,null,"기타 기계 및 장비 제조업(29)","C"]
["HTVFSS","I INFHD HYUNDA INFR","FOT","SEL351492DDFD","USD",390000,390000,529113000,"2023-03-31","2024-03-11","C13",4290,"002-210741-847",3,"   ","BKCZ","IDJK","tst121-81idn","BK4",null,"FOTSEL351492DDFD","2031-08-29",-2727,57880.192000000003,null,null,"기타 기계 및 장비 제조업(29)","C"]
["HTVFSS","I INFHD HYUNDA INFR","FOT","SEL351736DDFD","USD",8379.33,8379.33,11368237,"2023-04-17","2024-03-22","C13",4290,"002-210741-847",3,"   ","BKCZ","IDJK","tst121-81idn","BK4",null,"FOTSEL351736DDFD","2031-09-01",-2719,1317.904,null,null,"기타 기계 및 장비 제조업(29)","C"]
["HTVFSS","I INFHD HYUNDA INFR","FOT","SEL351744DDFD","USD",484000,484000,656642800,"2023-04-13","2024-03-25","C13",4290,"002-210741-847",3,"   ","BKCZ","IDJK","tst121-81idn","BK4",null,"FOTSEL351744DDFD","2031-09-07",-2722,77164.623999999996,null,null,"기타 기계 및 장비 제조업(29)","C"]
["HTVFSS","I INFHD HYUNDA INFR","FOT","SEL351748DDFD","USD",520000,520000,705484000,"2023-04-13","2024-03-25","C13",4290,"002-210741-847",3,"   ","BKCZ","IDJK","tst121-81idn","BK4",null,"FOTSEL351748DDFD","2031-09-11",-2726,82906.92,null,null,"기타 기계 및 장비 제조업(29)","C"]
["HTVFSS","BANK KEB HANA ANK  ","RBU","SEL202622KE  ","USD",23800,23800,32289460,"2022-11-11","2023-11-06","BE1",10650,"002-060970-842",3,"FIT","KOEX","KRCK","tst202-81idn","BK4",null,"RBUSEL202622KE  ","2031-09-16",-2871,"",null,null,"금융업(64)","K"]
["HTVFSS","ANK CKOOKMIN BNK CO","RBU","SEL202644CT  ","USD",64000,64000,86828800,"2022-11-22","2023-11-17","BE1",10650,"002-060855-842",3,"FIT","CTZN","KRSE","tst201-81idn","BK4",null,"RBUSEL202644CT  ","2031-09-18",-2862,"",null,null,"금융업(64)","K"]
["HTVFSS","ANK CKOOKMIN BNK CO","RBU","SEL202732CT  ","USD",94785.600000000006,94785.600000000006,128595624,"2022-12-05","2023-11-30","BE1",10650,"002-060855-842",3,"FIT","CTZN","KRSE","tst201-81idn","BK4",null,"RBUSEL202732CT  ","2031-09-26",-2857,"",null,null,"금융업(64)","K"]
["HTVFSS","ANK CKOOKMIN BNK CO","RBU","SEL202733CT  ","USD",94701.2,94701.2,128481118,"2022-12-05","2023-11-30","BE1",10650,"002-060855-842",3,"FIT","CTZN","KRSE","tst201-81idn","BK4",null,"RBUSEL202733CT  ","2031-09-27",-2858,"",null,null,"금융업(64)","K"]
["HTVFSS","ANK CKOOKMIN BNK CO","RBU","SEL202780CT  ","USD",79120,79120,107342104,"2022-12-14","2023-12-11","BE1",10650,"002-060855-842",3,"FIT","CTZN","KRSE","tst201-81idn","BK4",null,"RBUSEL202780CT  ","2031-10-05",-2855,"",null,null,"금융업(64)","K"]
["HTVFSS","ANK CKOOKMIN BNK CO","RBU","SEL202782CT  ","USD",39520,39520,53616784,"2022-12-14","2023-12-11","BE1",10650,"002-060855-842",3,"FIT","CTZN","KRSE","tst201-81idn","BK4",null,"RBUSEL202782CT  ","2031-10-06",-2856,"",null,null,"금융업(64)","K"]
["HTVFSS","ANK CKOOKMIN BNK CO","RBU","SEL202792CT  ","USD",79120,79120,107342104,"2022-12-14","2023-12-11","BE1",10650,"002-060855-842",3,"FIT","CTZN","KRSE","tst201-81idn","BK4",null,"RBUSEL202792CT  ","2031-10-12",-2862,"",null,null,"금융업(64)","K"]
["HTVFSS","ANK CKOOKMIN BNK CO","RBU","SEL202826CT  ","USD",79920,79920,108427464,"2022-12-23","2023-12-18","BE1",10650,"002-060855-842",3,"FIT","CTZN","KRSE","tst201-81idn","BK4",null,"RBUSEL202826CT  ","2031-10-16",-2859,"",null,null,"금융업(64)","K"]
["HTVFSS","BANK KEB HANA ANK  ","RBU","SEL248085KE  ","USD",47600,47600,64578920,"2022-10-17","2023-10-12","BE1",10650,"002-060970-842",3,"FIT","KOEX","KRCK","tst202-81idn","BK4",null,"RBUSEL248085KE  ","2031-10-21",-2931,"",null,null,"금융업(64)","K"]
["HTVFSS","ANK CSHINHAN BNK CO","RBU","SEL248338SH  ","USD",198068.13,198068.13,268719032,"2022-10-24","2023-10-19","BE1",10650,"002-061061-842",3,"FIT","SHIB","KRAN","tst202-81idn","BK4",null,"RBUSEL248338SH  ","2031-10-25",-2928,"",null,null,"금융업(64)","K"]
["HTVFSS","BANK KEB HANA ANK  ","RBU","SEL248459KE  ","USD",886900,886900,1203257230,"2022-10-27","2023-10-23","BE1",10650,"002-060970-842",3,"FIT","KOEX","KRCK","tst202-81idn","BK4",null,"RBUSEL248459KE  ","2031-10-31",-2930,"",null,null,"금융업(64)","K"]
["HTVFSS","ANK CKOOKMIN BNK CO","RBU","SEL248532CT  ","USD",70966.759999999995,70966.759999999995,96280603,"2022-10-31","2023-10-26","BE1",10650,"002-060855-842",3,"FIT","CTZN","KRSE","tst201-81idn","BK4",null,"RBUSEL248532CT  ","2031-11-06",-2933,"",null,null,"금융업(64)","K"]
["HTVFSS","ANK CKOOKMIN BNK CO","RBU","SEL248598CT  ","GBP",102910,102910,169398516,"2022-11-02","2023-10-30","BE1",10650,"002-060855-842",3,"FIT","CTZN","KRSE","tst201-81idn","BK4",null,"RBUSEL248598CT  ","2031-11-11",-2934,"",null,null,"금융업(64)","K"]
["HTVFSS","BANK NONGHYUP ANK  ","RBU","SEL248640NA  ","USD",600,600,814020,"2022-11-02","2023-10-30","BE1",10650,"002-061045-842",3,"FIT","NACF","KRSE","tst104-86idn","BK4",null,"RBUSEL248640NA  ","2031-11-15",-2938,"",null,null,"금융업(64)","K"]
["HTVFSS","ANK CKOOKMIN BNK CO","RBU","SEL248675CT  ","USD",86825,86825,117795478,"2022-11-02","2023-10-30","BE1",10650,"002-060855-842",3,"FIT","CTZN","KRSE","tst201-81idn","BK4",null,"RBUSEL248675CT  ","2031-11-18",-2941,"",null,null,"금융업(64)","K"]
["HTVFSS","BANK KEB HANA ANK  ","RBU","SEL248709KE  ","USD",219275,219275,297490393,"2022-11-04","2023-10-30","BE1",10650,"002-060970-842",3,"FIT","KOEX","KRCK","tst202-81idn","BK4",null,"RBUSEL248709KE  ","2031-11-25",-2948,"",null,null,"금융업(64)","K"]
["HTVFSS","ANK CKOOKMIN BNK CO","RBU","SEL248791CT  ","USD",338920,338920,459812764,"2022-11-09","2023-11-06","BE1",10650,"002-060855-842",3,"FIT","CTZN","KRSE","tst201-81idn","BK4",null,"RBUSEL248791CT  ","2031-11-30",-2946,"",null,null,"금융업(64)","K"]
["HTVFSS","BANK KEB HANA ANK  ","RBU","SEL248795KE  ","USD",7255,7255,9842859,"2022-11-09","2023-11-06","BE1",10650,"002-060970-842",3,"FIT","KOEX","KRCK","tst202-81idn","BK4",null,"RBUSEL248795KE  ","2031-12-01",-2947,"",null,null,"금융업(64)","K"]
["HTVFSS"," DEVETHE KOREADEVEL","RBU","SEL248853KD  ","USD",3965907.73,3965907.73,5380547017,"2022-11-10","2023-11-06","BK6",10650,"002-060962-842",3,"FIT","KODB","KRSE","tst101-82idn","BK4",null,"RBUSEL248853KD  ","2031-12-05",-2951,"",null,null,"금융업(64)","K"]
["HTVFSS","T-IMPTHE EXPOR-IMPO","RBU","SEL248888EI  ","USD",703000,703000,953760100,"2022-11-14","2023-11-09","C15",10650,"002-015925-842",3,"FIT","EIBK","KRYD","tst116-82idn","BK4",null,"RBUSEL248888EI  ","2031-12-12",-2955,"",null,null,"금융업(64)","K"]
["HTVFSS","BANK KEB HANA ANK  ","RBU","SEL248916KE  ","USD",60800,60800,82487360,"2022-11-14","2023-11-09","BE1",10650,"002-060970-842",3,"FIT","KOEX","KRCK","tst202-81idn","BK4",null,"RBUSEL248916KE  ","2031-12-15",-2958,"",null,null,"금융업(64)","K"]
["HTVFSS","ANK CKOOKMIN BNK CO","RBU","SEL249014CT  ","USD",33350,33350,45245945,"2022-11-16","2023-11-13","BE1",10650,"002-060855-842",3,"FIT","CTZN","KRSE","tst201-81idn","BK4",null,"RBUSEL249014CT  ","2031-12-20",-2959,"",null,null,"금융업(64)","K"]
["HTVFSS","ANK CKOOKMIN BNK CO","RBU","SEL249051CT  ","USD",40720,40720,55244824,"2022-11-21","2023-11-16","BE1",10650,"002-060855-842",3,"FIT","CTZN","KRSE","tst201-81idn","BK4",null,"RBUSEL249051CT  ","2031-12-25",-2961,"",null,null,"금융업(64)","K"]
["HTVFSS","ANK CKOOKMIN BNK CO","RBU","SEL249090CT  ","USD",240355,240355,326089629,"2022-11-22","2023-11-17","BE1",10650,"002-060855-842",3,"FIT","CTZN","KRSE","tst201-81idn","BK4",null,"RBUSEL249090CT  ","2031-12-30",-2965,"",null,null,"금융업(64)","K"]
["HTVFSS","T-IMPTHE EXPOR-IMPO","RBU","SEL249147EI  ","USD",3396648.07,3396648.07,4608232437,"2022-11-23","2023-11-20","C15",10650,"002-015925-842",3,"FIT","EIBK","KRYD","tst116-82idn","BK4",null,"RBUSEL249147EI  ","2032-01-05",-2968,"",null,null,"금융업(64)","K"]
["HTVFSS","ANK CKOOKMIN BNK CO","RBU","SEL249255CT  ","USD",77625,77625,105313838,"2022-11-28","2023-11-24","BE1",10650,"002-060855-842",3,"FIT","CTZN","KRSE","tst201-81idn","BK4",null,"RBUSEL249255CT  ","2032-01-09",-2968,"",null,null,"금융업(64)","K"]
["HTVFSS","BANK KEB HANA ANK  ","RBU","SEL249296KE  ","USD",68720,68720,93232424,"2022-11-29","2023-11-24","BE1",10650,"002-060970-842",3,"FIT","KOEX","KRCK","tst202-81idn","BK4",null,"RBUSEL249296KE  ","2032-01-14",-2973,"",null,null,"금융업(64)","K"]
["HTVFSS","T-IMPTHE EXPOR-IMPO","RBU","SEL249335EI  ","USD",125947.45,125947.45,170872905,"2022-11-29","2023-11-24","C15",10650,"002-015925-842",3,"FIT","EIBK","KRYD","tst116-82idn","BK4",null,"RBUSEL249335EI  ","2032-01-18",-2977,"",null,null,"금융업(64)","K"]
["HTVFSS","ANK CKOOKMIN BNK CO","RBU","SEL249353CT  ","USD",280720,280720,380852824,"2022-11-30","2023-11-27","BE1",10650,"002-060855-842",3,"FIT","CTZN","KRSE","tst201-81idn","BK4",null,"RBUSEL249353CT  ","2032-01-24",-2980,"",null,null,"금융업(64)","K"]
["HTVFSS","ANK CKOOKMIN BNK CO","RBU","SEL249405CT  ","USD",68500,68500,92933950,"2022-12-01","2023-11-27","BE1",10650,"002-060855-842",3,"FIT","CTZN","KRSE","tst201-81idn","BK4",null,"RBUSEL249405CT  ","2032-01-29",-2985,"",null,null,"금융업(64)","K"]
["HTVFSS","BANK NONGHYUP ANK  ","RBU","SEL249466NA  ","USD",250710,250710,340138257,"2022-12-02","2023-11-27","BE1",10650,"002-061045-842",3,"FIT","NACF","KRSE","tst104-86idn","BK4",null,"RBUSEL249466NA  ","2032-01-31",-2987,"",null,null,"금융업(64)","K"]
["HTVFSS","BANK KEB HANA ANK  ","RBU","SEL249499KE  ","USD",54580,54580,74048686,"2022-12-02","2023-11-27","BE1",10650,"002-060970-842",3,"FIT","KOEX","KRCK","tst202-81idn","BK4",null,"RBUSEL249499KE  ","2032-02-03",-2990,"",null,null,"금융업(64)","K"]
["HTVFSS","K    WOORI BAN     ","RBU","SEL249542CB  ","USD",201806,201806,273790200,"2022-12-06","2023-12-01","BE1",10650,"002-060863-842",3,"FIT","CBOK","KRSL","tst201-81idn","BK4",null,"RBUSEL249542CB  ","2032-02-11",-2994,"",null,null,"금융업(64)","K"]
["HTVFSS","ANK CKOOKMIN BNK CO","RBU","SEL249561CT  ","USD",150320,150320,203939144,"2022-12-06","2023-12-01","BE1",10650,"002-060855-842",3,"FIT","CTZN","KRSE","tst201-81idn","BK4",null,"RBUSEL249561CT  ","2032-02-13",-2996,"",null,null,"금융업(64)","K"]
["HTVFSS","ANK CKOOKMIN BNK CO","RBU","SEL249627CT  ","USD",166079,166079,225319379,"2022-12-07","2023-12-04","BE1",10650,"002-060855-842",3,"FIT","CTZN","KRSE","tst201-81idn","BK4",null,"RBUSEL249627CT  ","2032-02-18",-2998,"",null,null,"금융업(64)","K"]
["HTVFSS","ANK CKOOKMIN BNK CO","RBU","SEL249656CT  ","USD",93688.4,93688.4,127107052,"2022-12-09","2023-12-04","BE1",10650,"002-060855-842",3,"FIT","CTZN","KRSE","tst201-81idn","BK4",null,"RBUSEL249656CT  ","2032-02-24",-3004,"",null,null,"금융업(64)","K"]
["HTVFSS","ANK CKOOKMIN BNK CO","RBU","SEL249668CT  ","USD",200994.55,200994.55,272689306,"2022-12-12","2023-12-07","BE1",10650,"002-060855-842",3,"FIT","CTZN","KRSE","tst201-81idn","BK4",null,"RBUSEL249668CT  ","2032-02-28",-3005,"",null,null,"금융업(64)","K"]
["HTVFSS","ANK CKOOKMIN BNK CO","RBU","SEL249692CT  ","USD",79800,79800,108264660,"2022-12-13","2023-12-08","BE1",10650,"002-060855-842",3,"FIT","CTZN","KRSE","tst201-81idn","BK4",null,"RBUSEL249692CT  ","2032-03-02",-3007,"",null,null,"금융업(64)","K"]
["HTVFSS","BANK KEB HANA ANK  ","RBU","SEL249778KE  ","USD",763822,763822,1036277307,"2022-12-19","2023-12-14","BE1",10650,"002-060970-842",3,"FIT","KOEX","KRCK","tst202-81idn","BK4",null,"RBUSEL249778KE  ","2032-03-09",-3008,"",null,null,"금융업(64)","K"]
["HTVFSS","BANK NONGHYUP ANK  ","RBU","SEL249830NA  ","CNY",3126812.86,3126812.86,578812677,"2022-12-21","2023-12-18","BE1",10650,"002-061045-842",3,"FIT","NACF","KRSE","tst104-86idn","BK4",null,"RBUSEL249830NA  ","2032-03-14",-3009,"",null,null,"금융업(64)","K"]
["HTVFSS","BANK NONGHYUP ANK  ","RBU","SEL249856NA  ","CNY",4054812.03,4054812.03,750597081,"2022-12-22","2023-12-18","BE1",10650,"002-061045-842",3,"FIT","NACF","KRSE","tst104-86idn","BK4",null,"RBUSEL249856NA  ","2032-03-19",-3014,"",null,null,"금융업(64)","K"]
["HTVFSS","ANK CKOOKMIN BNK CO","RBU","SEL249906CT  ","USD",2733.96,2733.96,3709164,"2022-12-23","2023-12-18","BE1",10650,"002-060855-842",3,"FIT","CTZN","KRSE","tst201-81idn","BK4",null,"RBUSEL249906CT  ","2032-03-24",-3019,"",null,null,"금융업(64)","K"]
["HTVFSS","ANK CKOOKMIN BNK CO","RBU","SEL249931CT  ","USD",4937,4937,6698028,"2022-12-27","2023-12-22","BE1",10650,"002-060855-842",3,"FIT","CTZN","KRSE","tst201-81idn","BK4",null,"RBUSEL249931CT  ","2032-03-29",-3020,"",null,null,"금융업(64)","K"]
["HTVFSS","ANK CKOOKMIN BNK CO","RBU","SEL249943CT  ","USD",103040,103040,139794368,"2022-12-27","2023-12-22","BE1",10650,"002-060855-842",3,"FIT","CTZN","KRSE","tst201-81idn","BK4",null,"RBUSEL249943CT  ","2032-04-01",-3023,"",null,null,"금융업(64)","K"]
["HTVFSS","T-IMPTHE EXPOR-IMPO","RBU","SEL249956EI  ","USD",2213288.14,2213288.14,3002768020,"2022-12-28","2023-12-26","C15",10650,"002-015925-842",3,"FIT","EIBK","KRYD","tst116-82idn","BK4",null,"RBUSEL249956EI  ","2032-04-03",-3021,"",null,null,"금융업(64)","K"]
["HTVFSS","ANK CKOOKMIN BNK CO","RBU","SEL249968CT  ","USD",81900,81900,111113730,"2022-12-29","2023-12-26","BE1",10650,"002-060855-842",3,"FIT","CTZN","KRSE","tst201-81idn","BK4",null,"RBUSEL249968CT  ","2032-04-08",-3026,"",null,null,"금융업(64)","K"]
["HTVFSS","ANK CKOOKMIN BNK CO","RBU","SEL250044CT  ","USD",384242,384242,521301121,"2022-12-30","2023-12-26","BE1",10650,"002-060855-842",3,"FIT","CTZN","KRSE","tst201-81idn","BK4",null,"RBUSEL250044CT  ","2032-04-13",-3031,"",null,null,"금융업(64)","K"]
["HTVFSS","BANK KEB HANA ANK  ","RBU","SEL300012KE  ","USD",361800,361800,490854060,"2023-01-09","2024-01-04","BE1",10650,"002-060970-842",3,"FIT","KOEX","KRCK","tst202-81idn","BK4",null,"RBUSEL300012KE  ","2032-04-18",-3027,"",null,null,"금융업(64)","K"]
["HTVFSS","ANK CKOOKMIN BNK CO","RBU","SEL300074CT  ","USD",47502,47502,64445963,"2023-01-27","2024-01-22","BE1",10650,"002-060855-842",3,"FIT","CTZN","KRSE","tst201-81idn","BK4",null,"RBUSEL300074CT  ","2032-04-25",-3016,"",null,null,"금융업(64)","K"]
["HTVFSS","ANK CKOOKMIN BNK CO","RBU","SEL300094CT  ","USD",1786850,1786850,2424219395,"2023-02-03","2024-01-29","BE1",10650,"002-060855-842",3,"FIT","CTZN","KRSE","tst201-81idn","BK4",null,"RBUSEL300094CT  ","2032-04-28",-3012,"",null,null,"금융업(64)","K"]
["HTVFSS","BANK KEB HANA ANK  ","RBU","SEL300265KE  ","USD",361800,361800,490854060,"2023-03-13","2024-03-07","BE1",10650,"002-060970-842",3,"FIT","KOEX","KRCK","tst202-81idn","BK4",null,"RBUSEL300265KE  ","2032-05-02",-2978,"",null,null,"금융업(64)","K"]
["HTVFSS","ANK CKOOKMIN BNK CO","RBU","SEL300447CT  ","USD",238000,238000,322894600,"2023-04-07","2024-04-01","BE1",10650,"002-060855-842",3,"FIT","CTZN","KRSE","tst201-81idn","BK4",null,"RBUSEL300447CT  ","2032-05-08",-2959,"",null,null,"금융업(64)","K"]
["HTVFSS","ANK CKOOKMIN BNK CO","RBU","SEL350012CT  ","USD",106962.82,106962.82,145116458,"2023-01-03","2023-12-29","BE1",10650,"002-060855-842",3,"FIT","CTZN","KRSE","tst201-81idn","BK4",null,"RBUSEL350012CT  ","2032-05-13",-3058,"",null,null,"금융업(64)","K"]
["HTVFSS","BANK NONGHYUP ANK  ","RBU","SEL350057NA  ","USD",343866.5,343866.5,466523681,"2023-01-04","2024-01-02","BE1",10650,"002-061045-842",3,"FIT","NACF","KRSE","tst104-86idn","BK4",null,"RBUSEL350057NA  ","2032-05-15",-3056,"",null,null,"금융업(64)","K"]
["HTVFSS","ANK CKOOKMIN BNK CO","RBU","SEL350172CT  ","USD",68657,68657,93146952,"2023-01-10","2024-01-05","BE1",10650,"002-060855-842",3,"FIT","CTZN","KRSE","tst201-81idn","BK4",null,"RBUSEL350172CT  ","2032-05-23",-3061,"",null,null,"금융업(64)","K"]
["HTVFSS","ANK CKOOKMIN BNK CO","RBU","SEL350193CT  ","USD",64110,64110,86978037,"2023-01-10","2024-01-05","BE1",10650,"002-060855-842",3,"FIT","CTZN","KRSE","tst201-81idn","BK4",null,"RBUSEL350193CT  ","2032-05-28",-3066,"",null,null,"금융업(64)","K"]
["HTVFSS","BANK NONGHYUP ANK  ","RBU","SEL350217NA  ","USD",751610,751610,1019709287,"2023-01-11","2024-01-08","BE1",10650,"002-061045-842",3,"FIT","NACF","KRSE","tst104-86idn","BK4",null,"RBUSEL350217NA  ","2032-06-01",-3067,"",null,null,"금융업(64)","K"]
["HTVFSS","BANK NONGHYUP ANK  ","RBU","SEL350219NA  ","USD",212223.56,212223.56,287923704,"2023-01-11","2024-01-08","BE1",10650,"002-061045-842",3,"FIT","NACF","KRSE","tst104-86idn","BK4",null,"RBUSEL350219NA  ","2032-06-02",-3068,"",null,null,"금융업(64)","K"]
["HTVFSS","ANK CKOOKMIN BNK CO","RBU","SEL350272CT  ","USD",1153798.33,1153798.33,1565358194,"2023-01-13","2024-01-08","BE1",10650,"002-060855-842",3,"FIT","CTZN","KRSE","tst201-81idn","BK4",null,"RBUSEL350272CT  ","2032-06-08",-3074,"",null,null,"금융업(64)","K"]
["HTVFSS","ANK CSHINHAN BNK CO","RBU","SEL350337SH  ","USD",317780,317780,431132126,"2023-01-18","2024-01-16","BE1",10650,"002-061061-842",3,"FIT","SHIB","KRAN","tst202-81idn","BK4",null,"RBUSEL350337SH  ","2032-06-12",-3070,"",null,null,"금융업(64)","K"]
["HTVFSS","BANK KEB HANA ANK  ","RBU","SEL350371KE  ","USD",589068,589068,799188556,"2023-01-18","2024-01-16","BE1",10650,"002-060970-842",3,"FIT","KOEX","KRCK","tst202-81idn","BK4",null,"RBUSEL350371KE  ","2032-06-17",-3075,"",null,null,"금융업(64)","K"]
["HTVFSS","ANK CKOOKMIN BNK CO","RBU","SEL350418CT  ","USD",375000,375000,508762500,"2023-01-20","2024-01-16","BE1",10650,"002-060855-842",3,"FIT","CTZN","KRSE","tst201-81idn","BK4",null,"RBUSEL350418CT  ","2032-06-21",-3079,"",null,null,"금융업(64)","K"]
["HTVFSS","BANK KEB HANA ANK  ","RBU","SEL350449KE  ","USD",20637,20637,27998218,"2023-01-25","2024-01-22","BE1",10650,"002-060970-842",3,"FIT","KOEX","KRCK","tst202-81idn","BK4",null,"RBUSEL350449KE  ","2032-06-27",-3079,"",null,null,"금융업(64)","K"]
["HTVFSS","ANK CKOOKMIN BNK CO","RBU","SEL350465CT  ","USD",48420,48420,65691414,"2023-01-26","2024-01-22","BE1",10650,"002-060855-842",3,"FIT","CTZN","KRSE","tst201-81idn","BK4",null,"RBUSEL350465CT  ","2032-07-02",-3084,"",null,null,"금융업(64)","K"]
["HTVFSS","ANK CKOOKMIN BNK CO","RBU","SEL350510CT  ","USD",160000,160000,217072000,"2023-01-30","2024-01-25","BE1",10650,"002-060855-842",3,"FIT","CTZN","KRSE","tst201-81idn","BK4",null,"RBUSEL350510CT  ","2032-07-07",-3086,"",null,null,"금융업(64)","K"]
["HTVFSS","ANK CKOOKMIN BNK CO","RBU","SEL350539CT  ","USD",60700,60700,82351690,"2023-01-31","2024-01-26","BE1",10650,"002-060855-842",3,"FIT","CTZN","KRSE","tst201-81idn","BK4",null,"RBUSEL350539CT  ","2032-07-12",-3090,"",null,null,"금융업(64)","K"]
["HTVFSS","K    WOORI BAN     ","RBU","SEL350555CB  ","USD",13982,13982,18969379,"2023-01-31","2024-01-26","BE1",10650,"002-060863-842",3,"FIT","CBOK","KRSL","tst201-81idn","BK4",null,"RBUSEL350555CB  ","2032-07-15",-3093,"",null,null,"금융업(64)","K"]
["HTVFSS","ANK CSHINHAN BNK CO","RBU","SEL350583SH  ","USD",139480,139480,189232516,"2023-02-01","2024-01-29","BE1",10650,"002-061061-842",3,"FIT","SHIB","KRSE","tst202-81idn","BK4",null,"RBUSEL350583SH  ","2032-07-22",-3097,"",null,null,"금융업(64)","K"]
["HTVFSS","ANK CKOOKMIN BNK CO","RBU","SEL350606CT  ","USD",370600,370600,502793020,"2023-02-02","2024-01-29","BE1",10650,"002-060855-842",3,"FIT","CTZN","KRSE","tst201-81idn","BK4",null,"RBUSEL350606CT  ","2032-07-27",-3102,"",null,null,"금융업(64)","K"]
["HTVFSS","ANK CKOOKMIN BNK CO","RBU","SEL350610CT  ","USD",555940,555940,754243798,"2023-02-02","2024-01-29","BE1",10650,"002-060855-842",3,"FIT","CTZN","KRSE","tst201-81idn","BK4",null,"RBUSEL350610CT  ","2032-07-28",-3103,"",null,null,"금융업(64)","K"]
["HTVFSS","ANK CKOOKMIN BNK CO","RBU","SEL350643CT  ","USD",244739,244739,332037401,"2023-02-03","2024-01-29","BE1",10650,"002-060855-842",3,"FIT","CTZN","KRSE","tst201-81idn","BK4",null,"RBUSEL350643CT  ","2032-08-01",-3107,"",null,null,"금융업(64)","K"]
["HTVFSS","K    WOORI BAN     ","RBU","SEL350684CB  ","USD",162592,162592,220588566,"2023-02-06","2024-01-29","BE1",10650,"002-060863-842",3,"FIT","CBOK","KRSL","tst201-81idn","BK4",null,"RBUSEL350684CB  ","2032-08-08",-3114,"",null,null,"금융업(64)","K"]
["HTVFSS","ANK CKOOKMIN BNK CO","RBU","SEL350712CT  ","USD",170522,170522,231347197,"2023-02-08","2024-02-05","BE1",10650,"002-060855-842",3,"FIT","CTZN","KRSE","tst201-81idn","BK4",null,"RBUSEL350712CT  ","2032-08-11",-3110,"",null,null,"금융업(64)","K"]
["HTVFSS","ANK CKOOKMIN BNK CO","RBU","SEL350727CT  ","USD",76800.83,76800.83,104195686,"2023-02-09","2024-02-05","BE1",10650,"002-060855-842",3,"FIT","CTZN","KRSE","tst201-81idn","BK4",null,"RBUSEL350727CT  ","2032-08-16",-3115,"",null,null,"금융업(64)","K"]
["HTVFSS","ANK CKOOKMIN BNK CO","RBU","SEL350758CT  ","USD",57191,57191,77591030,"2023-02-13","2024-02-08","BE1",10650,"002-060855-842",3,"FIT","CTZN","KRSE","tst201-81idn","BK4",null,"RBUSEL350758CT  ","2032-08-21",-3117,"",null,null,"금융업(64)","K"]
["HTVFSS","ANK CKOOKMIN BNK CO","RBU","SEL350811CT  ","USD",27900,27900,37851930,"2023-02-15","2024-02-13","BE1",10650,"002-060855-842",3,"FIT","CTZN","KRSE","tst201-81idn","BK4",null,"RBUSEL350811CT  ","2032-08-26",-3117,"",null,null,"금융업(64)","K"]
["HTVFSS","ANK CKOOKMIN BNK CO","RBU","SEL350866CT  ","USD",196420,196420,266483014,"2023-02-21","2024-02-16","BE1",10650,"002-060855-842",3,"FIT","CTZN","KRSE","tst201-81idn","BK4",null,"RBUSEL350866CT  ","2032-09-01",-3120,"",null,null,"금융업(64)","K"]
["HTVFSS"," DEVETHE KOREADEVEL","RBU","SEL350890KD  ","CNY",2077600,2077600,384590083,"2023-02-21","2024-02-16","BK6",10650,"002-060962-842",3,"FIT","KODB","KRSE","tst101-82idn","BK4",null,"RBUSEL350890KD  ","2032-09-05",-3124,"",null,null,"금융업(64)","K"]
["HTVFSS","ANK CKOOKMIN BNK CO","RBU","SEL350906CT  ","USD",16880,16880,22901096,"2023-02-21","2024-02-16","BE1",10650,"002-060855-842",3,"FIT","CTZN","KRSE","tst201-81idn","BK4",null,"RBUSEL350906CT  ","2032-09-10",-3129,"",null,null,"금융업(64)","K"]
["HTVFSS","ANK CKOOKMIN BNK CO","RBU","SEL350936CT  ","USD",159820,159820,216827794,"2023-02-22","2024-02-20","BE1",10650,"002-060855-842",3,"FIT","CTZN","KRSE","tst201-81idn","BK4",null,"RBUSEL350936CT  ","2032-09-14",-3129,"",null,null,"금융업(64)","K"]
["HTVFSS","K    WOORI BAN     ","RBU","SEL351021CB  ","USD",22554,22554,30599012,"2023-02-28","2024-02-23","BE1",10650,"002-060863-842",3,"FIT","CBOK","KRSL","tst201-81idn","BK4",null,"RBUSEL351021CB  ","2032-09-20",-3132,"",null,null,"금융업(64)","K"]
["HTVFSS","ANK CKOOKMIN BNK CO","RBU","SEL351027CT  ","USD",49408.52,49408.52,67032539,"2023-03-03","2024-02-26","BE1",10650,"002-060855-842",3,"FIT","CTZN","KRSE","tst201-81idn","BK4",null,"RBUSEL351027CT  ","2032-09-21",-3130,"",null,null,"금융업(64)","K"]
["HTVFSS","ANK CSHINHAN BNK CO","RBU","SEL351066SH  ","USD",362749.35,362749.35,492142043,"2023-03-02","2024-02-26","BE1",10650,"002-061061-842",3,"FIT","SHIB","KRSE","tst202-81idn","BK4",null,"RBUSEL351066SH  ","2032-09-25",-3134,"",null,null,"금융업(64)","K"]
["HTVFSS","ANK CKOOKMIN BNK CO","RBU","SEL351092CT  ","USD",909078,909078,1233346123,"2023-03-03","2024-02-26","BE1",10650,"002-060855-842",3,"FIT","CTZN","KRSE","tst201-81idn","BK4",null,"RBUSEL351092CT  ","2032-09-30",-3139,"",null,null,"금융업(64)","K"]
["HTVFSS","ANK CKOOKMIN BNK CO","RBU","SEL351161CT  ","USD",1168850,1168850,1585778795,"2023-03-08","2024-03-04","BE1",10650,"002-060855-842",3,"FIT","CTZN","KRSE","tst201-81idn","BK4",null,"RBUSEL351161CT  ","2032-10-08",-3140,"",null,null,"금융업(64)","K"]
["HTVFSS"," DEVETHE KOREADEVEL","RBU","SEL351166KD  ","USD",712261,712261,966324499,"2023-03-09","2024-03-04","BK6",10650,"002-060962-842",3,"FIT","KODB","KRSE","tst101-82idn","BK4",null,"RBUSEL351166KD  ","2032-10-10",-3142,"",null,null,"금융업(64)","K"]
["HTVFSS","ANK CSHINHAN BNK CO","RBU","SEL351185SH  ","USD",3403599.32,3403599.32,4617663197,"2023-03-08","2024-03-04","BE1",10650,"002-061061-842",3,"FIT","SHIB","KRSE","tst202-81idn","BK4",null,"RBUSEL351185SH  ","2032-10-15",-3147,"",null,null,"금융업(64)","K"]
["HTVFSS","ANK CKOOKMIN BNK CO","RBU","SEL351199CT  ","USD",66880,66880,90736096,"2023-03-09","2024-03-04","BE1",10650,"002-060855-842",3,"FIT","CTZN","KRSE","tst201-81idn","BK4",null,"RBUSEL351199CT  ","2032-10-21",-3153,"",null,null,"금융업(64)","K"]
["HTVFSS","ANK CKOOKMIN BNK CO","RBU","SEL351250CT  ","USD",1724850,1724850,2340103995,"2023-03-10","2024-03-04","BE1",10650,"002-060855-842",3,"FIT","CTZN","KRSE","tst201-81idn","BK4",null,"RBUSEL351250CT  ","2032-10-25",-3157,"",null,null,"금융업(64)","K"]
["HTVFSS","ANK CKOOKMIN BNK CO","RBU","SEL351253CT  ","USD",971415,971415,1317918731,"2023-03-10","2024-03-04","BE1",10650,"002-060855-842",3,"FIT","CTZN","KRSE","tst201-81idn","BK4",null,"RBUSEL351253CT  ","2032-10-28",-3160,"",null,null,"금융업(64)","K"]
["HTVFSS","BANK KEB HANA ANK  ","RBU","SEL351299KE  ","USD",499907.69,499907.69,678224763,"2023-03-14","2024-03-08","BE1",10650,"002-060970-842",3,"FIT","KOEX","KRCK","tst202-81idn","BK4",null,"RBUSEL351299KE  ","2032-11-04",-3163,"",null,null,"금융업(64)","K"]
["HTVFSS","ANK CKOOKMIN BNK CO","RBU","SEL351327CT  ","USD",72409.77,72409.77,98238335,"2023-03-15","2024-03-11","BE1",10650,"002-060855-842",3,"FIT","CTZN","KRSE","tst201-81idn","BK4",null,"RBUSEL351327CT  ","2032-11-09",-3165,"",null,null,"금융업(64)","K"]
["HTVFSS","BANK KEB HANA ANK  ","RBU","SEL351367KE  ","USD",190392,190392,258304826,"2023-03-16","2024-03-11","BE1",10650,"002-060970-842",3,"FIT","KOEX","KRCK","tst202-81idn","BK4",null,"RBUSEL351367KE  ","2032-11-14",-3170,"",null,null,"금융업(64)","K"]
["HTVFSS","ANK CKOOKMIN BNK CO","RBU","SEL351420CT  ","USD",39730,39730,53901691,"2023-03-20","2024-03-14","BE1",10650,"002-060855-842",3,"FIT","CTZN","KRSE","tst201-81idn","BK4",null,"RBUSEL351420CT  ","2032-11-19",-3172,"",null,null,"금융업(64)","K"]
["HTVFSS","ANK CSHINHAN BNK CO","RBU","SEL351438SH  ","USD",217530,217530,295122951,"2023-03-21","2024-03-15","BE1",10650,"002-061061-842",3,"FIT","SHIB","KRSE","tst202-81idn","BK4",null,"RBUSEL351438SH  ","2032-11-21",-3173,"",null,null,"금융업(64)","K"]
["HTVFSS","ANK CKOOKMIN BNK CO","RBU","SEL351486CT  ","USD",21120,21120,28653504,"2023-03-23","2024-03-18","BE1",10650,"002-060855-842",3,"FIT","CTZN","KRSE","tst201-81idn","BK4",null,"RBUSEL351486CT  ","2032-11-24",-3173,"",null,null,"금융업(64)","K"]
["HTVFSS","ANK CKOOKMIN BNK CO","RBU","SEL351536CT  ","USD",870554,870554,1181080612,"2023-03-27","2024-03-21","BE1",10650,"002-060855-842",3,"FIT","CTZN","KRSE","tst201-81idn","BK4",null,"RBUSEL351536CT  ","2032-11-29",-3175,"",null,null,"금융업(64)","K"]
["HTVFSS","K    WOORI BAN     ","RBU","SEL351554CB  ","USD",191336,191336,259585551,"2023-03-28","2024-03-22","BE1",10650,"002-060863-842",3,"FIT","CBOK","KRSL","tst201-81idn","BK4",null,"RBUSEL351554CB  ","2032-12-04",-3179,"",null,null,"금융업(64)","K"]
["HTVFSS","ANK CKOOKMIN BNK CO","RBU","SEL351582CT  ","USD",69150,69150,93815805,"2023-03-29","2024-03-25","BE1",10650,"002-060855-842",3,"FIT","CTZN","KRSE","tst201-81idn","BK4",null,"RBUSEL351582CT  ","2032-12-09",-3181,"",null,null,"금융업(64)","K"]
["HTVFSS","BANK KEB HANA ANK  ","RBU","SEL351609KE  ","USD",380668,380668,516452276,"2023-03-30","2024-03-25","BE1",10650,"002-060970-842",3,"FIT","KOEX","KRCK","tst202-81idn","BK6",null,"RBUSEL351609KE  ","2032-12-14",-3186,"",null,null,"금융업(64)","K"]
["HTVFSS","BANK KEB HANA ANK  ","RBU","SEL351660KE  ","USD",656011.48,656011.48,890010775,"2023-04-03","2024-03-28","BE1",10650,"002-060970-842",3,"FIT","KOEX","KRCK","tst202-81idn","BK6",null,"RBUSEL351660KE  ","2032-12-21",-3190,"",null,null,"금융업(64)","K"]
["HTVFSS","K    WOORI BAN     ","RBU","SEL351685CB  ","USD",669950,669950,908921165,"2023-04-04","2024-03-29","BE1",10650,"002-060863-842",3,"FIT","CBOK","KRSL","tst201-81idn","BK6",null,"RBUSEL351685CB  ","2032-12-24",-3192,"",null,null,"금융업(64)","K"]
["HTVFSS","ANK CKOOKMIN BNK CO","RBU","SEL351718CT  ","USD",511146,511146,693471778,"2023-04-06","2024-04-01","BE1",10650,"002-060855-842",3,"FIT","CTZN","KRSE","tst201-81idn","BK6",null,"RBUSEL351718CT  ","2032-12-28",-3193,"",null,null,"금융업(64)","K"]
["HTVFSS","BANK KEB HANA ANK  ","RBU","SEL351759KE  ","USD",650221.1,650221.1,882154966,"2023-04-07","2024-04-01","BE1",10650,"002-060970-842",3,"FIT","KOEX","KRCK","tst202-81idn","BK6",null,"RBUSEL351759KE  ","2033-01-03",-3199,"",null,null,"금융업(64)","K"]
["HTVFSS","BANK KEB HANA ANK  ","RBU","SEL351790KE  ","USD",783795.84,783795.84,1063375816,"2023-04-11","2024-04-05","BE1",10650,"002-060970-842",3,"FIT","KOEX","KRCK","tst202-81idn","BNK",null,"RBUSEL351790KE  ","2033-01-08",-3200,"",null,null,"금융업(64)","K"]
["HTVFSS","BANK KEB HANA ANK  ","RBU","SEL351811KE  ","USD",761449.6,761449.6,1033058672,"2023-04-11","2024-04-05","BE1",10650,"002-060970-842",3,"FIT","KOEX","KRCK","tst202-81idn","BNK",null,"RBUSEL351811KE  ","2033-01-10",-3202,"",null,null,"금융업(64)","K"]
["HTVFSS","ANK CKOOKMIN BNK CO","RBU","SEL351843CT  ","USD",253379,253379,343759289,"2023-04-12","2024-04-08","BE1",10650,"002-060855-842",3,"FIT","CTZN","KRSE","tst201-81idn","BNK",null,"RBUSEL351843CT  ","2033-01-18",-3207,"",null,null,"금융업(64)","K"]
["HTVFSS","BANK KEB HANA ANK  ","RBU","SEL351856KE  ","USD",6000,6000,8140200,"2023-04-13","2024-04-08","BE1",10650,"002-060970-842",3,"FIT","KOEX","KRCK","tst202-81idn","BNK",null,"RBUSEL351856KE  ","2033-01-21",-3210,"",null,null,"금융업(64)","K"]
["HTVFSS","K    WOORI BAN     ","RBU","SEL351858CB  ","USD",449800,449800,610243660,"2023-04-14","2024-04-08","BE1",10650,"002-060863-842",3,"FIT","CBOK","KRSE","tst201-81idn","BNK",null,"RBUSEL351858CB  ","2033-01-23",-3212,"",null,null,"금융업(64)","K"]
["HTVFSS","ANK CKOOKMIN BNK CO","RBU","SEL351871CT  ","USD",54489.07,54489.07,73925321,"2023-04-14","2024-04-08","BE1",10650,"002-060855-842",3,"FIT","CTZN","KRSE","tst201-81idn","BNK",null,"RBUSEL351871CT  ","2033-01-28",-3217,"",null,null,"금융업(64)","K"]
["HTVFSS","BANK KEB HANA ANK  ","RBU","SEL351896KE  ","USD",9200,9200,12481640,"2023-04-17","2024-04-11","BE1",10650,"002-060970-842",3,"FIT","KOEX","KRCK","tst202-81idn","BNK",null,"RBUSEL351896KE  ","2033-02-03",-3220,"",null,null,"금융업(64)","K"]
["HTVFSS","K    WOORI BAN     ","RBU","SEL300514CB  ","USD",83500,83500,113284450,"2023-04-19","2024-04-15","BE1",10650,"002-060863-842",3,"FIT","CBOK","KRSL","tst201-81idn","BNK",null,"RBUSEL300514CB  ","2033-02-07",-3220,"",null,null,"금융업(64)","K"]
["HTVFSS","ANK CKOOKMIN BNK CO","RBU","SEL351946CT  ","USD",79000,79000,107179300,"2023-04-19","2024-04-15","BE1",10650,"002-060855-842",3,"FIT","CTZN","KRSE","tst201-81idn","BNK",null,"RBUSEL351946CT  ","2033-02-12",-3225,"",null,null,"금융업(64)","K"]
["HTVFSS","ANK CSHINHAN BNK CO","RBU","SEL300536SH  ","USD",494090,494090,670331903,"2023-04-21","2024-04-15","BE1",10650,"002-061061-842",3,"FIT","SHIB","KRSE","tst202-81idn","BNK",null,"RBUSEL300536SH  ","2033-02-16",-3229,"",null,null,"금융업(64)","K"]
["HTVFSS","ANK CKOOKMIN BNK CO","RBU","SEL352007CT  ","USD",894650,894650,1213771655,"2023-04-24","2024-04-18","BE1",10650,"002-060855-842",3,"FIT","CTZN","KRSE","tst201-81idn","BNK",null,"RBUSEL352007CT  ","2033-02-22",-3232,"",null,null,"금융업(64)","K"]
["HTVFSS","ANK CSHINHAN BNK CO","RBU","SEL352031SH  ","USD",47632.639999999999,47632.639999999999,64623203,"2023-04-24","2023-10-23","BE1",10650,"002-061061-842",3,"FIT","SHIB","KRSE","tst202-81idn","BNK",null,"RBUSEL352031SH  ","2033-02-27",-3415,"",null,null,"금융업(64)","K"]
["HTVFSS","ANK CKOOKMIN BNK CO","RBU","SEL352044CT  ","USD",63951,63951,86762322,"2023-04-25","2023-10-23","BE1",10650,"002-060855-842",3,"FIT","CTZN","KRSE","tst201-81idn","BNK",null,"RBUSEL352044CT  ","2033-03-04",-3420,"",null,null,"금융업(64)","K"]
["HTVFSS","BANK KEB HANA ANK  ","RBU","SEL352061KE  ","USD",9881.5,9881.5,13406231,"2023-04-25","2024-04-19","BE1",10650,"002-060970-842",3,"FIT","KOEX","KRCK","tst202-81idn","BNK",null,"RBUSEL352061KE  ","2033-03-09",-3246,"",null,null,"금융업(64)","K"]
["HTVFSS","ANK CSHINHAN BNK CO","RBU","SEL300548SH  ","USD",8058.35,8058.35,10932763,"2023-04-26","2023-10-23","BE1",10650,"002-061061-842",3,"FIT","SHIB","KRSE","tst202-81idn","BNK",null,"RBUSEL300548SH  ","2033-03-12",-3428,"",null,null,"금융업(64)","K"]
["HTVFSS","ANK CSHINHAN BNK CO","RBU","SEL352090SH  ","USD",254249.71,254249.71,344940582,"2023-04-26","2023-10-23","BE1",10650,"002-061061-842",3,"FIT","SHIB","KRSE","tst202-81idn","BNK",null,"RBUSEL352090SH  ","2033-03-19",-3435,"",null,null,"금융업(64)","K"]
["HTVFSS","K    WOORI BAN     ","RBU","SEL352083CB  ","USD",227363.18,227363.18,308463626,"2023-04-27","2023-10-24","BE1",10650,"002-060863-842",3,"FIT","CBOK","KRSL","tst201-81idn","BNK",null,"RBUSEL352083CB  ","2033-03-23",-3438,"",null,null,"금융업(64)","K"]
["HTVFSS","BANK KEB HANA ANK  ","RBU","SEL352091KE  ","USD",242000,242000,328321400,"2023-04-27","2024-04-22","BE1",10650,"002-060970-842",3,"FIT","KOEX","KRCK","tst202-81idn","BNK",null,"RBUSEL352091KE  ","2033-03-24",-3258,"",null,null,"금융업(64)","K"]
["HTVFSS","I INFHD HYUNDA INFR","FOT","SEL352085DDFD","USD",1078356,1078356,1463005585,"2023-05-09","2023-10-19","C13",4290,"002-210741-847",3,"   ","FCOT","TWHO","tst121-81idn","BNK",null,"FOTSEL352085DDFD","2033-03-29",-3449,36390.288,null,null,"기타 기계 및 장비 제조업(29)","C"]
["HTVFSS","ANK CSHINHAN BNK CO","RBU","SEL352117SH  ","USD",137692.54,137692.54,186807469,"2023-04-28","2023-10-25","BE1",10650,"002-061061-842",3,"FIT","SHIB","KRSE","tst202-81idn","BNK",null,"RBUSEL352117SH  ","2033-04-05",-3450,"",null,null,"금융업(64)","K"]
["HTVFSS","K    WOORI BAN     ","RBU","SEL352128CB  ","USD",15460,15460,20974582,"2023-04-28","2023-10-25","BE1",10650,"002-060863-842",3,"FIT","CBOK","KRSL","tst201-81idn","BNK",null,"RBUSEL352128CB  ","2033-04-08",-3453,"",null,null,"금융업(64)","K"]
["HTVFSS","I XITHD HYUNDA XITE","FOT","SEL352149DDFD","USD",25182,25182,34164419,"2023-05-09","2023-10-23","C13",4290,"002-055030-847"," ","   ","PTBB","IDTG","tst493-81idn","BNK",null,"FOTSEL352149DDFD","2033-04-13",-3460,1075.8399999999999,null,null,"기타 기계 및 장비 제조업(29)","C"]
["HTVFSS","ANK CKOOKMIN BNK CO","RBU","SEL352148CT  ","USD",46930,46930,63669931,"2023-05-02","2024-04-26","BE1",10650,"002-060855-842",3,"FIT","CTZN","KRSE","tst201-81idn","BNK",null,"RBUSEL352148CT  ","2033-04-18",-3279,"",null,null,"금융업(64)","K"]
["HTVFSS","K    WOORI BAN     ","RBU","SEL352173CB  ","USD",16456.810000000001,16456.810000000001,22326954,"2023-05-02","2023-10-30","BE1",10650,"002-060863-842",3,"FIT","CBOK","KRSL","tst201-81idn","BNK",null,"RBUSEL352173CB  ","2033-04-23",-3463,"",null,null,"금융업(64)","K"]
["HTVFSS","K    WOORI BAN     ","RBU","SEL352160CB  ","USD",83033.62,83033.62,112651712,"2023-05-03","2023-11-30","BE1",10650,"002-060863-842",3,"FIT","CBOK","KRSL","tst201-81idn","BNK",null,"RBUSEL352160CB  ","2033-04-29",-3438,"",null,null,"금융업(64)","K"]
["HTVFSS","ANK CKOOKMIN BNK CO","RBU","SEL352180CT  ","USD",835409.75,835409.75,1133400408,"2023-05-03","2024-03-28","BE1",10650,"002-060855-842",3,"FIT","CTZN","KRSE","tst201-81idn","BNK",null,"RBUSEL352180CT  ","2033-05-03",-3323,"",null,null,"금융업(64)","K"]
["HTVFSS","K    WOORI BAN     ","RBU","SEL352200CB  ","USD",158094.56,158094.56,214486890,"2023-05-04","2023-10-31","BE1",10650,"002-060863-842",3,"FIT","CBOK","KRSL","tst201-81idn","BNK",null,"RBUSEL352200CB  ","2033-05-08",-3477,"",null,null,"금융업(64)","K"]
["HTVFSS","ANK CKOOKMIN BNK CO","RBU","SEL352212CT  ","USD",35120,35120,47647304,"2023-05-04","2024-04-29","BE1",10650,"002-060855-842",3,"FIT","CTZN","KRSE","tst201-81idn","BNK",null,"RBUSEL352212CT  ","2033-05-12",-3300,"",null,null,"금융업(64)","K"]
["HTVFSS","I CONHD HYUNDA CONS","FOT","SEL352222DDFD","USD",127580,127580,173087786,"2023-05-11","2024-04-24","C13",4290,"002-284786-847",3,"   ","BBME","MNM ","tst528-88idn","BNK",null,"FOTSEL352222DDFD","2033-05-18",-3311,35233.760000000002,null,null,"기타 기계 및 장비 제조업(29)","C"]
["HTVFSS","I INFHD HYUNDA INFR","FOT","SEL352224DDFD","USD",173920,173920,235957264,"2023-05-25","2023-10-25","C13",4290,"002-210741-847",3,"   ","DBIB","AEDB","tst121-81idn","BNK",null,"FOTSEL352224DDFD","2033-05-19",-3494,6253.32,null,null,"기타 기계 및 장비 제조업(29)","C"]
["HTVFSS","I INFHD HYUNDA INFR","FOT","SEL352229DDFD","USD",108793.78,108793.78,147600521,"2023-05-16","2024-04-19","C13",4290,"002-210741-847",3,"   ","BKCZ","IDJK","tst121-81idn","BNK",null,"FOTSEL352229DDFD","2033-05-23",-3321,19297.88,null,null,"기타 기계 및 장비 제조업(29)","C"]
["HTVFSS","BANK NONGHYUP ANK  ","RBU","SEL352241NA  ","USD",42332.4,42332.4,57432367,"2023-05-08","2023-10-23","BE1",10650,"002-061045-842",3,"FIT","NACF","KRSE","tst104-86idn","BNK",null,"RBUSEL352241NA  ","2033-05-28",-3505,"",null,null,"금융업(64)","K"]
["HTVFSS","K    WOORI BAN     ","RBU","SEL352266CB  ","USD",42549.06,42549.06,57726310,"2023-05-08","2023-11-15","BE1",10650,"002-060863-842",3,"FIT","CBOK","KRSL","tst201-81idn","BNK",null,"RBUSEL352266CB  ","2033-06-05",-3490,"",null,null,"금융업(64)","K"]
["HTVFSS","ANK CKOOKMIN BNK CO","RBU","SEL352271CT  ","USD",237920,237920,322786064,"2023-05-08","2024-05-02","BE1",10650,"002-060855-842",3,"FIT","CTZN","KRSE","tst201-81idn","BNK",null,"RBUSEL352271CT  ","2033-06-07",-3323,"",null,null,"금융업(64)","K"]
["HTVFSS","I CONHD HYUNDA CONS","FOT","SEL352221DDFD","USD",159740,159740,216719258,"2023-05-17","2023-10-23","C13",4290,"002-284786-847",3,"   ","BOCJ","COBG","tst528-88idn","BNK",null,"FOTSEL352221DDFD","2033-06-12",-3520,98439.360000000001,null,null,"기타 기계 및 장비 제조업(29)","C"]
["HTVFSS","ANK CKOOKMIN BNK CO","RBU","SEL352260CT  ","USD",1058503.75,1058503.75,1436072038,"2023-05-09","2024-05-03","BE1",10650,"002-060855-842",3,"FIT","CTZN","KRSE","tst201-81idn","BNK",null,"RBUSEL352260CT  ","2033-06-16",-3331,"",null,null,"금융업(64)","K"]
["HTVFSS","ANK CKOOKMIN BNK CO","RBU","SEL352299CT  ","USD",1251530,1251530,1697950751,"2023-05-09","2024-05-03","BE1",10650,"002-060855-842",3,"FIT","CTZN","KRSE","tst201-81idn","BNK",null,"RBUSEL352299CT  ","2033-06-22",-3337,"",null,null,"금융업(64)","K"]
["HTVFSS","ANK CSHINHAN BNK CO","RBU","SEL300645SH  ","USD",403202,403202,547024153,"2023-05-10","2024-05-07","BE1",10650,"002-061061-842",3,"FIT","SHIB","KRSE","tst202-81idn","BNK",null,"RBUSEL300645SH  ","2033-06-25",-3336,"",null,null,"금융업(64)","K"]
["HTVFSS","ANK CKOOKMIN BNK CO","RBU","SEL352303CT  ","USD",209500,209500,284228650,"2023-05-10","2024-05-07","BE1",10650,"002-060855-842",3,"FIT","CTZN","KRSE","tst201-81idn","BNK",null,"RBUSEL352303CT  ","2033-07-02",-3343,"",null,null,"금융업(64)","K"]
["HTVFSS","BANK KEB HANA ANK  ","RBU","SEL352318KE  ","USD",1049570,1049570,1423951619,"2023-05-10","2024-05-07","BE1",10650,"002-060970-842",3,"FIT","KOEX","KRCK","tst202-81idn","BNK",null,"RBUSEL352318KE  ","2033-07-07",-3348,"",null,null,"금융업(64)","K"]
["HTVFSS","BANK KEB HANA ANK  ","RBU","SEL352325KE  ","USD",1049570,1049570,1423951619,"2023-05-10","2024-05-07","BE1",10650,"002-060970-842",3,"FIT","KOEX","KRCK","tst202-81idn","BNK",null,"RBUSEL352325KE  ","2033-07-12",-3353,"",null,null,"금융업(64)","K"]
["HTVFSS","K    WOORI BAN     ","RBU","SEL352332CB  ","USD",37750,37750,51215425,"2023-05-11","2023-11-07","BE1",10650,"002-060863-842",3,"FIT","CBOK","KRSL","tst201-81idn","BNK",null,"RBUSEL352332CB  ","2033-07-17",-3540,"",null,null,"금융업(64)","K"]
["HTVFSS","BANK NONGHYUP ANK  ","RBU","SEL352339NA  ","USD",95365.4,95365.4,129382238,"2023-05-11","2023-11-07","BE1",10650,"002-061045-842",3,"FIT","NACF","KRSE","tst104-86idn","BNK",null,"RBUSEL352339NA  ","2033-07-19",-3542,"",null,null,"금융업(64)","K"]
["HTVFSS","ANK CSHINHAN BNK CO","RBU","SEL352346SH  ","USD",756530,756530,1026384251,"2023-05-11","2024-05-07","BE1",10650,"002-061061-842",3,"FIT","SHIB","KRSE","tst202-81idn","BNK",null,"RBUSEL352346SH  ","2033-07-22",-3363,"",null,null,"금융업(64)","K"]
["HTVFSS","K    WOORI BAN     ","RBU","SEL352359CB  ","USD",73631.850000000006,73631.850000000006,99896331,"2023-05-12","2023-11-08","BE1",10650,"002-060863-842",3,"FIT","CBOK","KRSL","tst201-81idn","BNK",null,"RBUSEL352359CB  ","2033-07-27",-3549,"",null,null,"금융업(64)","K"]
["HTVFSS","K    WOORI BAN     ","RBU","SEL352365CB  ","USD",214822.42,214822.42,291449577,"2023-05-12","2023-11-08","BE1",10650,"002-060863-842",3,"FIT","CBOK","KRSL","tst201-81idn","BNK",null,"RBUSEL352365CB  ","2033-08-01",-3554,"",null,null,"금융업(64)","K"]
["HTVFSS","ANK CKOOKMIN BNK CO","RBU","SEL352343CT  ","USD",30095.279999999999,30095.279999999999,40830266,"2023-05-15","2024-05-09","BE1",10650,"002-060855-842",3,"FIT","CTZN","KRSE","tst201-81idn","BNK",null,"RBUSEL352343CT  ","2033-08-06",-3376,"",null,null,"금융업(64)","K"]
["HTVFSS","C COMKOREA ZIN COMP","FOT","SEL300701DDFD","USD",488240.68,488240.68,662396131,"2023-05-16","2023-11-08","MFS",4272,"002-248510-847"," ","   ","UOBL","SGRP","tst610-85idn","BNK",null,"FOTSEL300701DDFD","2033-08-12",-3565,12089.752,null,null,"제1차 금속제조업(24)","C"]
["HTVFSS","K    WOORI BAN     ","RBU","SEL352381CB  ","USD",103021.18,103021.18,139768835,"2023-05-16","2023-11-13","BE1",10650,"002-060863-842",3,"FIT","CBOK","KRSL","tst201-81idn","BNK",null,"RBUSEL352381CB  ","2033-08-15",-3563,"",null,null,"금융업(64)","K"]
["HTVFSS","ANK CSHINHAN BNK CO","RBU","SEL352402SH  ","USD",24867.13,24867.13,33737235,"2023-05-16","2023-11-13","BE1",10650,"002-061061-842",3,"FIT","SHIB","KRSE","tst202-81idn","BNK",null,"RBUSEL352402SH  ","2033-08-21",-3569,"",null,null,"금융업(64)","K"]
["HTVFSS","BANK NONGHYUP ANK  ","RBU","SEL300673NA  ","CHF",815022,815022,1229830218,"2023-05-17","2024-05-13","BE1",10650,"002-061045-842",3,"FIT","NACF","KRSE","tst104-86idn","BNK",null,"RBUSEL300673NA  ","2033-08-25",-3391,"",null,null,"금융업(64)","K"]
["HTVFSS","ANK CSHINHAN BNK CO","RBU","SEL300700SH  ","USD",504090,504090,683898903,"2023-05-17","2024-05-13","BE1",10650,"002-061061-842",3,"FIT","SHIB","KRSE","tst202-81idn","BNK",null,"RBUSEL300700SH  ","2033-08-31",-3397,"",null,null,"금융업(64)","K"]
["HTVFSS","BANK NONGHYUP ANK  ","RBU","SEL352432NA  ","USD",35400,35400,48027180,"2023-05-17","2023-11-13","BE1",10650,"002-061045-842",3,"FIT","NACF","KRSE","tst104-86idn","BNK",null,"RBUSEL352432NA  ","2033-09-05",-3584,"",null,null,"금융업(64)","K"]
["HTVFSS","ANK CKOOKMIN BNK CO","RBU","SEL352460CT  ","USD",67908,67908,92130784,"2023-05-17","2024-05-13","BE1",10650,"002-060855-842",3,"FIT","CTZN","KRSE","tst201-81idn","BNK",null,"RBUSEL352460CT  ","2033-09-07",-3404,"",null,null,"금융업(64)","K"]
["HTVFSS","K    WOORI BAN     ","RBU","SEL352453CB  ","USD",16821.04,16821.04,22821105,"2023-05-18","2023-11-14","BE1",10650,"002-060863-842",3,"FIT","CBOK","KRSL","tst201-81idn","BNK",null,"RBUSEL352453CB  ","2033-09-15",-3593,"",null,null,"금융업(64)","K"]
["HTVFSS","K    WOORI BAN     ","RBU","SEL352461CB  ","USD",45584.42,45584.42,61844383,"2023-05-18","2023-11-14","BE1",10650,"002-060863-842",3,"FIT","CBOK","KRSL","tst201-81idn","BNK",null,"RBUSEL352461CB  ","2033-09-18",-3596,"",null,null,"금융업(64)","K"]
["HTVFSS","I XITHD HYUNDA XITE","FOT","SEL352499DDFD","USD",233000,233000,316111100,"2023-05-23","2023-10-30","C13",4290,"002-055030-847"," ","   ","BBME","MNM ","tst493-81idn","BNK",null,"FOTSEL352499DDFD","2033-09-24",-3617,17038.615999999998,null,null,"기타 기계 및 장비 제조업(29)","C"]
["HTVFSS","ANK CSHINHAN BNK CO","RBU","SEL300666SH  ","USD",19580,19580,26564186,"2023-05-19","2023-11-15","BE1",10650,"002-061061-842",3,"FIT","SHIB","KRSE","tst202-81idn","BNK",null,"RBUSEL300666SH  ","2033-09-25",-3602,"",null,null,"금융업(64)","K"]
["HTVFSS","BANK KEB HANA ANK  ","RBU","SEL352476KE  ","USD",2478284.2000000002,2478284.2000000002,3362288174,"2023-05-19","2023-11-15","BE1",10650,"002-060970-842",3,"FIT","KOEX","KRCK","tst202-81idn","BNK",null,"RBUSEL352476KE  ","2033-10-01",-3608,"",null,null,"금융업(64)","K"]
["HTVFSS","BANK KEB HANA ANK  ","RBU","SEL352480KE  ","USD",203500,203500,276088450,"2023-05-19","2024-05-13","BE1",10650,"002-060970-842",3,"FIT","KOEX","KRCK","tst202-81idn","BNK",null,"RBUSEL352480KE  ","2033-10-05",-3432,"",null,null,"금융업(64)","K"]
["HTVFSS","ANK CSHINHAN BNK CO","RBU","SEL352496SH  ","USD",25238.400000000001,25238.400000000001,34240937,"2023-05-19","2023-11-15","BE1",10650,"002-061061-842",3,"FIT","SHIB","KRSE","tst202-81idn","BNK",null,"RBUSEL352496SH  ","2033-10-12",-3619,"",null,null,"금융업(64)","K"]
["HTVFSS","ANK CSHINHAN BNK CO","RBU","SEL300725SH  ","USD",403202,403202,547024153,"2023-05-22","2024-05-16","BE1",10650,"002-061061-842",3,"FIT","SHIB","KRSE","tst202-81idn","BNK",null,"RBUSEL300725SH  ","2033-10-14",-3438,"",null,null,"금융업(64)","K"]
["HTVFSS","ANK CSHINHAN BNK CO","RBU","SEL352508SH  ","USD",807830.68,807830.68,1095983884,"2023-05-22","2024-05-07","BE1",10650,"002-061061-842",3,"FIT","SHIB","KRSE","tst202-81idn","BNK",null,"RBUSEL352508SH  ","2033-10-20",-3453,"",null,null,"금융업(64)","K"]
["HTVFSS"," CORPGS GLOBALCORP.","FOT","SEL300748FD  ","USD",147512.64000000001,147512.64000000001,200130399,"2023-05-31","2023-11-06","C13",7510,"002-003928-847",3,"   ","BOCK","MXMI","tst202-81idn","BNK",null,"FOTSEL300748FD  ","2033-10-25",-3641,"",null,null,"도매 및 상품중개업(46)","G"]
["HTVFSS","BANK NONGHYUP ANK  ","RBU","SEL352515NA  ","USD",1202910,1202910,1631987997,"2023-05-23","2024-05-17","BE1",10650,"002-061045-842",3,"FIT","NACF","KRSE","tst104-86idn","BNK",null,"RBUSEL352515NA  ","2033-10-30",-3453,"",null,null,"금융업(64)","K"]
["HTVFSS","BANK NONGHYUP ANK  ","RBU","SEL352535NA  ","USD",34884,34884,47327123,"2023-05-23","2023-11-17","BE1",10650,"002-061045-842",3,"FIT","NACF","KRSE","tst104-86idn","BNK",null,"RBUSEL352535NA  ","2033-11-04",-3640,"",null,null,"금융업(64)","K"]
["HTVFSS","ANK CSHINHAN BNK CO","RBU","SEL300738SH  ","USD",1061387.76,1061387.76,1439984774,"2023-05-24","2024-05-13","BE1",10650,"002-061061-842",3,"FIT","SHIB","KRSE","tst202-81idn","BNK",null,"RBUSEL300738SH  ","2033-11-07",-3465,"",null,null,"금융업(64)","K"]
["HTVFSS","ANK CKOOKMIN BNK CO","RBU","SEL352557CT  ","USD",195000,195000,264556500,"2023-05-24","2024-05-20","BE1",10650,"002-060855-842",3,"FIT","CTZN","KRSE","tst201-81idn","BNK",null,"RBUSEL352557CT  ","2033-11-14",-3465,"",null,null,"금융업(64)","K"]
["HTVFSS","ANK CKOOKMIN BNK CO","RBU","SEL352589CT  ","USD",25000,25000,33917500,"2023-05-24","2024-05-20","BE1",10650,"002-060855-842",3,"FIT","CTZN","KRSE","tst201-81idn","BNK",null,"RBUSEL352589CT  ","2033-11-18",-3469,"",null,null,"금융업(64)","K"]
["HTVFSS","BANK KEB HANA ANK  ","RBU","SEL352587KE  ","USD",310063.78000000003,310063.78000000003,420663530,"2023-05-25","2023-11-21","BE1",10650,"002-060970-842",3,"FIT","KOEX","KRCK","tst202-81idn","BNK",null,"RBUSEL352587KE  ","2033-11-23",-3655,"",null,null,"금융업(64)","K"]
["HTVFSS","K    WOORI BAN     ","RBU","SEL352592CB  ","USD",28590,28590,38788053,"2023-05-25","2023-11-21","BE1",10650,"002-060863-842",3,"FIT","CBOK","KRSL","tst201-81idn","BNK",null,"RBUSEL352592CB  ","2033-11-24",-3656,"",null,null,"금융업(64)","K"]
["HTVFSS","ANK CSHINHAN BNK CO","RBU","SEL300697SH  ","USD",236643,236643,321053558,"2023-05-26","2023-10-30","BE1",10650,"002-061061-842",3,"FIT","SHIB","KRSE","tst202-81idn","BNK",null,"RBUSEL300697SH  ","2033-12-01",-3685,"",null,null,"금융업(64)","K"]
["HTVFSS","K    WOORI BAN     ","RBU","SEL300772CB  ","USD",6354.82,6354.82,8621584,"2023-05-26","2023-11-22","BE1",10650,"002-060863-842",3,"FIT","CBOK","KRSL","tst201-81idn","BNK",null,"RBUSEL300772CB  ","2033-12-04",-3665,"",null,null,"금융업(64)","K"]
["HTVFSS","K    WOORI BAN     ","RBU","SEL352610CB  ","USD",42276.69,42276.69,57356785,"2023-05-26","2023-11-15","BE1",10650,"002-060863-842",3,"FIT","CBOK","KRSL","tst201-81idn","BNK",null,"RBUSEL352610CB  ","2033-12-08",-3676,"",null,null,"금융업(64)","K"]
["HTVFSS","BANK KEB HANA ANK  ","RBU","SEL352630KE  ","USD",40357.519999999997,40357.519999999997,54753047,"2023-05-26","2023-11-22","BE1",10650,"002-060970-842",3,"FIT","KOEX","KRCK","tst202-81idn","BNK",null,"RBUSEL352630KE  ","2033-12-13",-3674,"",null,null,"금융업(64)","K"]
["HTVFSS","BANK KEB HANA ANK  ","RBU","SEL352634KE  ","USD",361500,361500,490447050,"2023-05-30","2024-05-24","BE1",10650,"002-060970-842",3,"FIT","KOEX","KRCK","tst202-81idn","BNK",7,"RBUSEL352634KE  ","2033-12-19",-3496,"",null,null,"금융업(64)","K"]
["HTVFSS","ANK CSHINHAN BNK CO","RBU","SEL352658SH  ","USD",477330.56,477330.56,647594371,"2023-05-30","2024-05-20","BE1",10650,"002-061061-842",3,"FIT","SHIB","KRSE","tst202-81idn","BNK",7,"RBUSEL352658SH  ","2033-12-25",-3506,"",null,null,"금융업(64)","K"]
["HTVFSS","BANK KEB HANA ANK  ","RBU","SEL300788KE  ","USD",46749.919999999998,46749.919999999998,63425616,"2023-05-31","2023-11-27","BE1",10650,"002-060970-842",3,"FIT","KOEX","KRCK","tst202-81idn","BNK",7,"RBUSEL300788KE  ","2033-12-28",-3684,"",null,null,"금융업(64)","K"]
["HTVFSS","L BANINDUSTRIA BANK","RBU","SEL300793MD  ","USD",39800,39800,53996660,"2023-05-31","2024-05-28","BK4",10650,"002-060921-842"," ","FIT","MDDY","KRSL","tst202-81idn","BNK",7,"RBUSEL300793MD  ","2034-01-01",-3505,"",null,null,"금융업(64)","K"]
["HTVFSS","ANK CSHINHAN BNK CO","RBU","SEL352681SH  ","USD",140210,140210,190222907,"2023-05-31","2024-05-28","BE1",10650,"002-061061-842",3,"FIT","SHIB","KRSE","tst202-81idn","BNK",7,"RBUSEL352681SH  ","2034-01-07",-3511,"",null,null,"금융업(64)","K"]
["HTVFSS","I CONHD HYUNDA CONS","FOT","SEL352719DDFD","USD",191370,191370,259631679,"2023-06-07","2024-05-21","C13",4290,"002-284786-847",3,"   ","BBME","MNM ","tst528-88idn","BNK",7,"FOTSEL352719DDFD","2034-01-13",-3524,59668.775999999998,null,null,"기타 기계 및 장비 제조업(29)","C"]
["HTVFSS","BANK KEB HANA ANK  ","RBU","SEL300799KE  ","USD",1143686.71,1143686.71,1551639759,"2023-06-01","2023-11-17","BE1",10650,"002-060970-842",3,"FIT","KOEX","KRCK","tst202-81idn","BNK",7,"RBUSEL300799KE  ","2034-01-14",-3711,"",null,null,"금융업(64)","K"]
["HTVFSS","ANK CSHINHAN BNK CO","RBU","SEL300800SH  ","USD",14818.61,14818.61,20104408,"2023-06-02","2023-11-29","BE1",10650,"002-061061-842",3,"FIT","SHIB","KRSE","tst202-81idn","BNK",7,"RBUSEL300800SH  ","2034-01-22",-3707,"",null,null,"금융업(64)","K"]
["HTVFSS","BANK NONGHYUP ANK  ","RBU","SEL300811NA  ","USD",937.28,937.28,1271608,"2023-06-02","2023-10-27","BE1",10650,"002-061045-842",3,"FIT","NACF","KRSE","tst104-86idn","BNK",7,"RBUSEL300811NA  ","2034-01-23",-3741,"",null,null,"금융업(64)","K"]
["HTVFSS","BANK KEB HANA ANK  ","RBU","SEL352753KE  ","USD",358820,358820,486811094,"2023-06-02","2024-05-28","BE1",10650,"002-060970-842",3,"FIT","KOEX","KRCK","tst202-81idn","BNK",7,"RBUSEL352753KE  ","2034-01-31",-3535,"",null,null,"금융업(64)","K"]
["HTVFSS","BANK NONGHYUP ANK  ","RBU","SEL352758NA  ","USD",54229.599999999999,54229.599999999999,73573298,"2023-06-02","2023-11-20","BE1",10650,"002-061045-842",3,"FIT","NACF","KRSE","tst104-86idn","BNK",7,"RBUSEL352758NA  ","2034-02-02",-3727,"",null,null,"금융업(64)","K"]
["HTVFSS","ANK CKOOKMIN BNK CO","RBU","SEL352682CT  ","USD",89632,89632,121603734,"2023-06-05","2024-05-30","BE1",10650,"002-060855-842",3,"FIT","CTZN","KRSE","tst201-81idn","BNK",7,"RBUSEL352682CT  ","2034-02-07",-3540,"",null,null,"금융업(64)","K"]
["HTVFSS","BANK NONGHYUP ANK  ","RBU","SEL352769NA  ","USD",58846.2,58846.2,79836640,"2023-06-05","2023-11-13","BE1",10650,"002-061045-842",3,"FIT","NACF","KRSE","tst104-86idn","BNK",7,"RBUSEL352769NA  ","2034-02-11",-3743,"",null,null,"금융업(64)","K"]
["HTVFSS","K    WOORI BAN     ","RBU","SEL352780CB  ","USD",103599.66,103599.66,140553659,"2023-06-05","2023-12-04","BE1",10650,"002-060863-842",3,"FIT","CBOK","KRSL","tst201-81idn","BNK",7,"RBUSEL352780CB  ","2034-02-17",-3728,"",null,null,"금융업(64)","K"]
["HTVFSS","K    WOORI BAN     ","RBU","SEL300816CB  ","USD",21000,21000,28490700,"2023-06-07","2023-12-04","BE1",10650,"002-060863-842",3,"FIT","CBOK","KRSL","tst201-81idn","BNK",7,"RBUSEL300816CB  ","2034-02-20",-3731,"",null,null,"금융업(64)","K"]
["HTVFSS","BANK KEB HANA ANK  ","RBU","SEL352752KE  ","USD",662755,662755,899159709,"2023-06-07","2024-06-03","BE1",10650,"002-060970-842",3,"FIT","KOEX","KRCK","tst202-81idn","BNK",7,"RBUSEL352752KE  ","2034-02-26",-3555,"",null,null,"금융업(64)","K"]
["HTVFSS","C COMKOREA ZIN COMP","FOT","SEL300846DDFD","USD",477595.53,477595.53,647953856,"2023-06-08","2023-12-06","MFS",4272,"002-248510-847"," ","   ","UOBL","HKHK","tst610-85idn","BNK",7,"FOTSEL300846DDFD","2034-03-03",-3740,16984.824000000001,null,null,"제1차 금속제조업(24)","C"]
["HTVFSS","BANK KEB HANA ANK  ","RBU","SEL352800KE  ","USD",164000,164000,222498800,"2023-06-08","2023-12-05","BE1",10650,"002-060970-842",3,"FIT","KOEX","KRCK","tst202-81idn","BNK",7,"RBUSEL352800KE  ","2034-03-08",-3746,"",null,null,"금융업(64)","K"]
["HTVFSS","BANK KEB HANA ANK  ","RBU","SEL352815KE  ","USD",174630,174630,236920521,"2023-06-08","2023-12-05","BE1",10650,"002-060970-842",3,"FIT","KOEX","KRCK","tst202-81idn","BNK",7,"RBUSEL352815KE  ","2034-03-14",-3752,"",null,null,"금융업(64)","K"]
["HTVFSS","BANK KEB HANA ANK  ","RBU","SEL352817KE  ","USD",20000,20000,27134000,"2023-06-08","2024-06-03","BE1",10650,"002-060970-842",3,"FIT","KOEX","KRCK","tst202-81idn","BNK",7,"RBUSEL352817KE  ","2034-03-16",-3573,"",null,null,"금융업(64)","K"]
["HTVFSS","BANK NONGHYUP ANK  ","RBU","SEL352826NA  ","USD",278395.84000000003,278395.84000000003,377699636,"2023-06-08","2024-06-03","BE1",10650,"002-061045-842",3,"FIT","NACF","KRSE","tst104-86idn","BNK",7,"RBUSEL352826NA  ","2034-03-23",-3580,"",null,null,"금융업(64)","K"]
["HTVFSS","ANK CKOOKMIN BNK CO","RBU","SEL352838CT  ","USD",1553157,1553157,2107168102,"2023-06-08","2024-06-03","BE1",10650,"002-060855-842",3,"FIT","CTZN","KRSE","tst201-81idn","BNK",7,"RBUSEL352838CT  ","2034-03-24",-3581,"",null,null,"금융업(64)","K"]
["HTVFSS","I XITHD HYUNDA XITE","FOT","SEL352871DDFD","USD",189965,189965,257725516,"2023-06-28","2023-12-11","C13",4290,"002-055030-847"," ","   ","KIWI","NZWI","tst493-81idn","BNK",7,"FOTSEL352871DDFD","2034-03-29",-3761,55849.543999999994,null,null,"기타 기계 및 장비 제조업(29)","C"]
["HTVFSS","K    WOORI BAN     ","RBU","SEL352846CB  ","USD",843997.25,843997.25,1145051069,"2023-06-09","2023-12-15","BE1",10650,"002-060863-842",3,"FIT","CBOK","KRSL","tst201-81idn","BNK",7,"RBUSEL352846CB  ","2034-04-03",-3762,"",null,null,"금융업(64)","K"]
["HTVFSS","K    WOORI BAN     ","RBU","SEL352866CB  ","USD",62027.4,62027.4,84152574,"2023-06-09","2023-12-06","BE1",10650,"002-060863-842",3,"FIT","CBOK","KRSL","tst201-81idn","BNK",7,"RBUSEL352866CB  ","2034-04-09",-3777,"",null,null,"금융업(64)","K"]
["HTVFSS","ANK CKOOKMIN BNK CO","RBU","SEL352853CT  ","USD",284218,284218,385598561,"2023-06-09","2024-06-03","BE1",10650,"002-060855-842",3,"FIT","CTZN","KRSE","tst201-81idn","BNK",7,"RBUSEL352853CT  ","2034-04-12",-3600,"",null,null,"금융업(64)","K"]
["HTVFSS","I INFHD HYUNDA INFR","FOT","SEL352882DDFD","USD",17085.39,17085.39,23179749,"2023-06-19","2024-05-24","C13",4290,"002-210741-847",3,"   ","BKCZ","IDJK","tst121-81idn","BNK",7,"FOTSEL352882DDFD","2034-04-18",-3616,3563.72,null,null,"기타 기계 및 장비 제조업(29)","C"]
["HTVFSS","L BANINDUSTRIA BANK","RBU","SEL300848MD  ","USD",31058.23,31058.23,42136701,"2023-06-12","2024-06-07","BK4",10650,"002-060921-842"," ","FIT","MDDY","KRSL","tst202-81idn","BNK",7,"RBUSEL300848MD  ","2034-04-22",-3606,"",null,null,"금융업(64)","K"]
["HTVFSS","BANK NONGHYUP ANK  ","RBU","SEL352898NA  ","USD",109794.29,109794.29,148957913,"2023-06-12","2023-12-11","BE1",10650,"002-061045-842",3,"FIT","NACF","KRSE","tst104-86idn","BNK",7,"RBUSEL352898NA  ","2034-04-27",-3790,"",null,null,"금융업(64)","K"]
["HTVFSS","BANK NONGHYUP ANK  ","RBU","SEL300857NA  ","USD",46374.96,46374.96,62916908,"2023-06-12","2023-11-13","BE1",10650,"002-061045-842",3,"FIT","NACF","KRSE","tst104-86idn","BNK",7,"RBUSEL300857NA  ","2034-05-03",-3824,"",null,null,"금융업(64)","K"]
["HTVFSS","ANK CKOOKMIN BNK CO","RBU","SEL300870CT  ","USD",166120.51999999999,166120.51999999999,225375709,"2023-06-13","2024-06-07","BE1",10650,"002-060855-842",3,"FIT","CTZN","KRSE","tst201-81idn","BNK",7,"RBUSEL300870CT  ","2034-05-07",-3621,"",null,null,"금융업(64)","K"]
["HTVFSS","K    WOORI BAN     ","RBU","SEL352850CB  ","USD",286155.52000000002,286155.52000000002,388227194,"2023-06-13","2023-11-09","BE1",10650,"002-060863-842",3,"FIT","CBOK","KRSL","tst201-81idn","BNK",7,"RBUSEL352850CB  ","2034-05-13",-3838,"",null,null,"금융업(64)","K"]
["HTVFSS","L BANINDUSTRIA BANK","RBU","SEL352927MD  ","USD",258392,258392,350560426,"2023-06-13","2024-06-07","BK4",10650,"002-060921-842"," ","FIT","MDDY","KRSL","tst202-81idn","BNK",7,"RBUSEL352927MD  ","2034-05-16",-3630,"",null,null,"금융업(64)","K"]
["HTVFSS","I INFHD HYUNDA INFR","FOT","SEL352922DDFD","USD",144160,144160,195581872,"2023-07-04","2023-12-04","C13",4290,"002-210741-847",3,"   ","DBIB","AEDB","tst121-81idn","BNK",7,"FOTSEL352922DDFD","2034-05-22",-3822,8929.4719999999998,null,null,"기타 기계 및 장비 제조업(29)","C"]
["HTVFSS","I INFHD HYUNDA INFR","FOT","SEL352952DDFD","USD",332500,332500,451102750,"2023-06-26","2023-12-08","C13",4290,"002-210741-847",3,"   ","WNHA","HKHT","tst121-81idn","BNK",7,"FOTSEL352952DDFD","2034-05-23",-3819,10865.983999999999,null,null,"기타 기계 및 장비 제조업(29)","C"]
["HTVFSS","ANK CSHINHAN BNK CO","RBU","SEL300875SH  ","USD",619030,619030,839838001,"2023-06-14","2023-11-13","BE1",10650,"002-061061-842",3,"FIT","SHIB","KRSA","tst202-81idn","BNK",7,"RBUSEL300875SH  ","2034-05-29",-3850,"",null,null,"금융업(64)","K"]
["HTVFSS","BANK KEB HANA ANK  ","RBU","SEL352943KE  ","USD",181566,181566,246330592,"2023-06-14","2023-12-11","BE1",10650,"002-060970-842",3,"FIT","KOEX","KRCK","tst202-81idn","BNK",7,"RBUSEL352943KE  ","2034-06-01",-3825,"",null,null,"금융업(64)","K"]
["HTVFSS","BANK KEB HANA ANK  ","RBU","SEL352982KE  ","USD",22556.04,22556.04,30601779,"2023-06-14","2023-12-07","BE1",10650,"002-060970-842",3,"FIT","KOEX","KRCK","tst202-81idn","BNK",7,"RBUSEL352982KE  ","2034-06-09",-3837,"",null,null,"금융업(64)","K"]
["HTVFSS","BANK KEB HANA ANK  ","RBU","SEL352988KE  ","USD",15100,15100,20486170,"2023-06-14","2023-12-11","BE1",10650,"002-060970-842",3,"FIT","KOEX","KRCK","tst202-81idn","BNK",7,"RBUSEL352988KE  ","2034-06-11",-3835,"",null,null,"금융업(64)","K"]
["HTVFSS","ANK CSHINHAN BNK CO","RBU","SEL300888SH  ","USD",280274.7,280274.7,380248685,"2023-06-15","2023-12-12","BE1",10650,"002-061061-842",3,"FIT","SHIB","KRSE","tst202-81idn","BNK",7,"RBUSEL300888SH  ","2034-06-17",-3840,"",null,null,"금융업(64)","K"]
["HTVFSS","ANK CKOOKMIN BNK CO","RBU","SEL352999CT  ","USD",1412612.02,1412612.02,1916490728,"2023-06-15","2024-06-10","BE1",10650,"002-060855-842",3,"FIT","CTZN","KRSE","tst201-81idn","BNK",7,"RBUSEL352999CT  ","2034-06-22",-3664,"",null,null,"금융업(64)","K"]
["HTVFSS","K    WOORI BAN     ","RBU","SEL353005CB  ","USD",62249.8,62249.8,84454304,"2023-06-15","2023-12-12","BE1",10650,"002-060863-842",3,"FIT","CBOK","KRSL","tst201-81idn","BNK",7,"RBUSEL353005CB  ","2034-06-26",-3849,"",null,null,"금융업(64)","K"]
["HTVFSS","BANK KEB HANA ANK  ","RBU","SEL353008KE  ","USD",764733.6,764733.6,1037514075,"2023-06-15","2023-12-12","BE1",10650,"002-060970-842",3,"FIT","KOEX","KRCK","tst202-81idn","BNK",7,"RBUSEL353008KE  ","2034-06-29",-3852,"",null,null,"금융업(64)","K"]
["HTVFSS","BANK NONGHYUP ANK  ","RBU","SEL300927NA  ","USD",289221.14,289221.14,392386321,"2023-06-16","2023-11-27","BE1",10650,"002-061045-842",3,"FIT","NACF","KRSE","tst104-86idn","BNK",7,"RBUSEL300927NA  ","2034-07-06",-3874,"",null,null,"금융업(64)","K"]
["HTVFSS","BANK KEB HANA ANK  ","RBU","SEL353032KE  ","USD",57320,57320,77766044,"2023-06-16","2024-06-10","BE1",10650,"002-060970-842",3,"FIT","KOEX","KRCK","tst202-81idn","BNK",7,"RBUSEL353032KE  ","2034-07-12",-3684,"",null,null,"금융업(64)","K"]
["HTVFSS","K    WOORI BAN     ","RBU","SEL353046CB  ","USD",14448,14448,19601602,"2023-06-16","2023-12-13","BE1",10650,"002-060863-842",3,"FIT","CBOK","KRSL","tst201-81idn","BNK",7,"RBUSEL353046CB  ","2034-07-16",-3868,"",null,null,"금융업(64)","K"]
["HTVFSS","BANK KEB HANA ANK  ","RBU","SEL300916KE  ","USD",4757662.8,4757662.8,6454721121,"2023-06-20","2023-12-18","BE1",10650,"002-060970-842",3,"FIT","KOEX","KRCK","tst202-81idn","BNK",7,"RBUSEL300916KE  ","2034-07-21",-3868,"",null,null,"금융업(64)","K"]
["HTVFSS","BANK KEB HANA ANK  ","RBU","SEL300924KE  ","USD",2611531.42,2611531.42,3543064678,"2023-06-20","2023-11-17","BE1",10650,"002-060970-842",3,"FIT","KOEX","KRCK","tst202-81idn","BNK",7,"RBUSEL300924KE  ","2034-07-22",-3900,"",null,null,"금융업(64)","K"]
["HTVFSS","BANK KEB HANA ANK  ","RBU","SEL353053KE  ","USD",119000,119000,161447300,"2023-06-20","2023-12-12","BE1",10650,"002-060970-842",3,"FIT","KOEX","KRCK","tst202-81idn","BNK",7,"RBUSEL353053KE  ","2034-07-29",-3882,"",null,null,"금융업(64)","K"]
["HTVFSS","BANK KEB HANA ANK  ","RBU","SEL353065KE  ","USD",118552,118552,160839498,"2023-06-20","2023-12-11","BE1",10650,"002-060970-842",3,"FIT","KOEX","KRCK","tst202-81idn","BNK",7,"RBUSEL353065KE  ","2034-07-31",-3885,"",null,null,"금융업(64)","K"]
["HTVFSS","BANK KEB HANA ANK  ","RBU","SEL300917KE  ","USD",6922624.5,6922624.5,9391924659,"2023-06-20","2023-12-18","BE1",10650,"002-060970-842",3,"FIT","KOEX","KRCK","tst202-81idn","BNK",7,"RBUSEL300917KE  ","2034-08-05",-3883,"",null,null,"금융업(64)","K"]
["HTVFSS","I INFHD HYUNDA INFR","FOT","SEL353090DDFD","USD",510000,510000,691917000,"2023-06-28","2023-12-11","C13",4290,"002-210741-847",3,"   ","BNBS","ZAJA","tst121-81idn","BNK",7,"FOTSEL353090DDFD","2034-08-10",-3895,606316.52799999993,null,null,"기타 기계 및 장비 제조업(29)","C"]
["HTVFSS","BANK KEB HANA ANK  ","RBU","SEL300944KE  ","USD",67040,67040,90953168,"2023-06-21","2023-12-18","BE1",10650,"002-060970-842",3,"FIT","KOEX","KRCK","tst202-81idn","BNK",7,"RBUSEL300944KE  ","2034-08-16",-3894,"",null,null,"금융업(64)","K"]
["HTVFSS","K    WOORI BAN     ","RBU","SEL353091CB  ","USD",147450,147450,200045415,"2023-06-21","2023-11-30","BE1",10650,"002-060863-842",3,"FIT","CBOK","KRSL","tst201-81idn","BNK",7,"RBUSEL353091CB  ","2034-08-22",-3918,"",null,null,"금융업(64)","K"]
["HTVFSS","ANK CSHINHAN BNK CO","RBU","SEL353096SH  ","CNY",610923.09,610923.09,113089604,"2023-06-21","2023-10-19","BE1",10650,"002-061061-842",3,"FIT","SHIB","KRSE","tst202-81idn","BNK",7,"RBUSEL353096SH  ","2034-08-25",-3963,"",null,null,"금융업(64)","K"]
["HTVFSS","ANK CKOOKMIN BNK CO","RBU","SEL353113CT  ","USD",242000,242000,328321400,"2023-06-21","2024-06-17","BE1",10650,"002-060855-842",3,"FIT","CTZN","KRSE","tst201-81idn","BNK",7,"RBUSEL353113CT  ","2034-08-29",-3725,"",null,null,"금융업(64)","K"]
["HTVFSS","BANK NONGHYUP ANK  ","RBU","SEL300972NA  ","USD",82421.42,82421.42,111821141,"2023-06-22","2023-12-19","BE1",10650,"002-061045-842",3,"FIT","NACF","KRSE","tst104-86idn","BNK",7,"RBUSEL300972NA  ","2034-09-04",-3912,"",null,null,"금융업(64)","K"]
["HTVFSS","BANK KEB HANA ANK  ","RBU","SEL353119KE  ","USD",2315790.9700000002,2315790.9700000002,3141833609,"2023-06-22","2023-10-20","BE1",10650,"002-060970-842",3,"FIT","KOEX","KRCK","tst202-81idn","BNK",7,"RBUSEL353119KE  ","2034-09-09",-3977,"",null,null,"금융업(64)","K"]
["HTVFSS","BANK NONGHYUP ANK  ","RBU","SEL353125NA  ","USD",37213.629999999997,37213.629999999997,50487732,"2023-06-22","2023-12-19","BE1",10650,"002-061045-842",3,"FIT","NACF","KRSE","tst104-86idn","BNK",7,"RBUSEL353125NA  ","2034-09-11",-3919,"",null,null,"금융업(64)","K"]
["HTVFSS","K    WOORI BAN     ","RBU","SEL353105CB  ","USD",330057.51,330057.51,447789024,"2023-06-22","2023-12-28","BE1",10650,"002-060863-842",3,"FIT","CBOK","KRSL","tst201-81idn","BNK",7,"RBUSEL353105CB  ","2034-09-19",-3918,"",null,null,"금융업(64)","K"]
["HTVFSS","L BANINDUSTRIA BANK","RBU","SEL300958MD  ","USD",118000,118000,160090600,"2023-06-23","2024-06-17","BK4",10650,"002-060921-842"," ","FIT","MDDY","KRSL","tst202-81idn","BNK",7,"RBUSEL300958MD  ","2034-09-22",-3749,"",null,null,"금융업(64)","K"]
["HTVFSS","BANK KEB HANA ANK  ","RBU","SEL300978KE  ","USD",4359189.88,4359189.88,5914112910,"2023-06-23","2023-12-04","BE1",10650,"002-060970-842",3,"FIT","KOEX","KRCK","tst202-81idn","BNK",7,"RBUSEL300978KE  ","2034-09-24",-3947,"",null,null,"금융업(64)","K"]
["HTVFSS","ANK CKOOKMIN BNK CO","RBU","SEL353137CT  ","USD",737070,737070,999982869,"2023-06-23","2024-06-17","BE1",10650,"002-060855-842",3,"FIT","CTZN","KRSE","tst201-81idn","BNK",7,"RBUSEL353137CT  ","2034-09-29",-3756,"",null,null,"금융업(64)","K"]
["HTVFSS","L BANINDUSTRIA BANK","RBU","SEL300940MD  ","USD",72380,72380,98197946,"2023-06-26","2024-06-20","BK4",10650,"002-060921-842"," ","FIT","MDDY","KRSL","tst202-81idn","BNK",7,"RBUSEL300940MD  ","2034-10-05",-3759,"",null,null,"금융업(64)","K"]
["HTVFSS","BANK KEB HANA ANK  ","RBU","SEL353167KE  ","USD",311088,311088,422053090,"2023-06-26","2023-10-24","BE1",10650,"002-060970-842",3,"FIT","KOEX","KRCK","tst202-81idn","BNK",7,"RBUSEL353167KE  ","2034-10-09",-4003,"",null,null,"금융업(64)","K"]
["HTVFSS","L BANINDUSTRIA BANK","RBU","SEL353178MD  ","USD",301330,301330,408814411,"2023-06-26","2024-06-20","BK4",10650,"002-060921-842"," ","FIT","MDDY","KRSL","tst202-81idn","BNK",7,"RBUSEL353178MD  ","2034-10-15",-3769,"",null,null,"금융업(64)","K"]
["HTVFSS","BANK KEB HANA ANK  ","RBU","SEL353191KE  ","USD",5660,5660,7678922,"2023-06-26","2023-12-26","BE1",10650,"002-060970-842",3,"FIT","KOEX","KRCK","tst202-81idn","BNK",7,"RBUSEL353191KE  ","2034-10-18",-3949,"",null,null,"금융업(64)","K"]
["HTVFSS","L BANINDUSTRIA BANK","RBU","SEL353154MD  ","USD",265225,265225,359830758,"2023-06-27","2024-06-21","BK4",10650,"002-060921-842"," ","FIT","MDDY","KRSL","tst202-81idn","BNK",7,"RBUSEL353154MD  ","2034-10-24",-3777,"",null,null,"금융업(64)","K"]
["HTVFSS","BANK KEB HANA ANK  ","RBU","SEL353204KE  ","USD",22900,22900,31068430,"2023-06-27","2023-12-26","BE1",10650,"002-060970-842",3,"FIT","KOEX","KRCK","tst202-81idn","BNK",7,"RBUSEL353204KE  ","2034-10-29",-3960,"",null,null,"금융업(64)","K"]
["HTVFSS","K    WOORI BAN     ","RBU","SEL300976CB  ","USD",108050,108050,146591435,"2023-06-28","2023-11-27","BE1",10650,"002-060863-842",3,"FIT","CBOK","KRSL","tst201-81idn","BNK",7,"RBUSEL300976CB  ","2034-11-03",-3994,"",null,null,"금융업(64)","K"]
["HTVFSS","ANK CSHINHAN BNK CO","RBU","SEL353226SH  ","USD",82591.02,82591.02,112051237,"2023-06-28","2023-12-26","BE1",10650,"002-061061-842",3,"FIT","SHIB","KRSE","tst202-81idn","BNK",7,"RBUSEL353226SH  ","2034-11-08",-3970,"",null,null,"금융업(64)","K"]
["HTVFSS","BANK NONGHYUP ANK  ","RBU","SEL353230NA  ","CNY",178767.23,178767.23,33092079,"2023-06-28","2023-11-06","BE1",10650,"002-061045-842",3,"FIT","NACF","KRSE","tst104-86idn","BNK",7,"RBUSEL353230NA  ","2034-11-11",-4023,"",null,null,"금융업(64)","K"]
["HTVFSS","ANK CSHINHAN BNK CO","RBU","SEL300997SH  ","USD",16714.099999999999,16714.099999999999,22676019,"2023-06-29","2023-12-26","BE1",10650,"002-061061-842",3,"FIT","SHIB","KRSE","tst202-81idn","BNK",7,"RBUSEL300997SH  ","2034-11-18",-3980,"",null,null,"금융업(64)","K"]
["HTVFSS","ANK CSHINHAN BNK CO","RBU","SEL301017SH  ","USD",49436.57,49436.57,67070595,"2023-06-29","2023-12-26","BE1",10650,"002-061061-842",3,"FIT","SHIB","KRSE","tst202-81idn","BNK",7,"RBUSEL301017SH  ","2034-11-22",-3984,"",null,null,"금융업(64)","K"]
["HTVFSS","ANK CSHINHAN BNK CO","RBU","SEL301018SH  ","USD",60878.61,60878.61,82594010,"2023-06-29","2023-12-26","BE1",10650,"002-061061-842",3,"FIT","SHIB","KRSE","tst202-81idn","BNK",7,"RBUSEL301018SH  ","2034-11-23",-3985,"",null,null,"금융업(64)","K"]
["HTVFSS","K    WOORI BAN     ","RBU","SEL353255CB  ","USD",76823.28,76823.28,104226144,"2023-06-29","2023-12-26","BE1",10650,"002-060863-842",3,"FIT","CBOK","KRSL","tst201-81idn","BNK",7,"RBUSEL353255CB  ","2034-11-28",-3990,"",null,null,"금융업(64)","K"]
["HTVFSS","I ELEHD HYUNDA ELEC","FOT","SEL353254DDFD","USD",180933,180933,245471801,"2023-07-13","2023-11-27","C13",4310,"002-079097-847",3,"   ","CHAS","SARI","tst266-86idn","BNK",7,"FOTSEL353254DDFD","2034-12-05",-4026,2810.6320000000001,null,null,"전기장비 제조업(28)","C"]
["HTVFSS","ANK CSHINHAN BNK CO","RBU","SEL300936SH  ","USD",109356.5,109356.5,148363964,"2023-06-30","2023-11-06","BE1",10650,"002-061061-842",3,"FIT","SHIB","KRSE","tst202-81idn","BNK",7,"RBUSEL300936SH  ","2034-12-08",-4050,"",null,null,"금융업(64)","K"]
["HTVFSS","BANK NONGHYUP ANK  ","RBU","SEL353252NA  ","CNY",180000,180000,33320281,"2023-06-30","2023-11-07","BE1",10650,"002-061045-842",3,"FIT","NACF","KRSE","tst104-86idn","BNK",7,"RBUSEL353252NA  ","2034-12-14",-4055,"",null,null,"금융업(64)","K"]
["HTVFSS","BANK KEB HANA ANK  ","RBU","SEL353270KE  ","USD",36300,36300,49248210,"2023-06-30","2023-12-18","BE1",10650,"002-060970-842",3,"FIT","KOEX","KRCK","tst202-81idn","BNK",7,"RBUSEL353270KE  ","2034-12-18",-4018,"",null,null,"금융업(64)","K"]
["HTVFSS","ANK CKOOKMIN BNK CO","RBU","SEL353278CT  ","USD",242000,242000,328321400,"2023-06-30","2024-06-24","BE1",10650,"002-060855-842",3,"FIT","CTZN","KRSE","tst201-81idn","BNK",7,"RBUSEL353278CT  ","2034-12-23",-3834,"",null,null,"금융업(64)","K"]
["HTVFSS","ANK CKOOKMIN BNK CO","RBU","SEL353281CT  ","USD",508834.02,508834.02,690335115,"2023-06-30","2024-06-24","BE1",10650,"002-060855-842",3,"FIT","CTZN","KRSE","tst201-81idn","BNK",7,"RBUSEL353281CT  ","2034-12-29",-3840,"",null,null,"금융업(64)","K"]
["HTVFSS","L BANINDUSTRIA BANK","RBU","SEL301028MD  ","USD",351520,351520,476907184,"2023-07-03","2024-06-27","BK4",10650,"002-060921-842"," ","FIT","MDDY","KRSL","tst202-81idn","BNK",7,"RBUSEL301028MD  ","2035-01-02",-3841,"",null,null,"금융업(64)","K"]
["HTVFSS","BANK KEB HANA ANK  ","RBU","SEL353286KE  ","USD",171555.84,171555.84,232749808,"2023-07-03","2023-11-30","BE1",10650,"002-060970-842",3,"FIT","KOEX","KRCK","tst202-81idn","BNK",7,"RBUSEL353286KE  ","2035-01-07",-4056,"",null,null,"금융업(64)","K"]
["HTVFSS","BANK KEB HANA ANK  ","RBU","SEL353293KE  ","USD",423900,423900,575105130,"2023-07-03","2024-01-02","BE1",10650,"002-060970-842",3,"FIT","KOEX","KRCK","tst202-81idn","BNK",7,"RBUSEL353293KE  ","2035-01-11",-4027,"",null,null,"금융업(64)","K"]
["HTVFSS","L BANINDUSTRIA BANK","RBU","SEL353311MD  ","USD",25461,25461,34542939,"2023-07-03","2024-06-27","BK4",10650,"002-060921-842"," ","FIT","MDDY","KRSL","tst202-81idn","BNK",7,"RBUSEL353311MD  ","2035-01-17",-3856,"",null,null,"금융업(64)","K"]
["HTVFSS","&T COSAMSUNG CT COR","FOT","SEL301059DDFD","USD",219917.95,219917.95,298362683,"2023-07-04","2023-11-07","C13",7510,"002-000934-847",3,"   ","NBKF","AEFJ","tst202-81idn","BNK",7,"FOTSEL301059DDFD","2035-01-18",-4090,51613.423999999992,null,null,"도매 및 상품중개업(46)","G"]
["HTVFSS","C COMKOREA ZIN COMP","FOT","SEL301068DDFD","USD",482070.5,482070.5,654025047,"2023-07-05","2023-12-28","MFS",4272,"002-248510-847"," ","   ","CTCL","HKHK","tst610-85idn","BNK",7,"FOTSEL301068DDFD","2035-01-22",-4043,74017.792000000001,null,null,"제1차 금속제조업(24)","C"]
["HTVFSS","TALENHANWHA TOALENE","FOT","SEL353332DDFD","USD",28220,28220,38286074,"2023-07-05","2023-10-27","C13",4232,"002-826974-847",3,"   ","CRIT","ITMP","tst316-81idn","BNK",7,"FOTSEL353332DDFD","2035-01-27",-4110,1506.1760000000002,null,null,"코크스, 연탄 및 석유정제품 제조업(19)","C"]
["HTVFSS","ANK CSHINHAN BNK CO","RBU","SEL301049SH  ","USD",31475.5,31475.5,42702811,"2023-07-05","2024-01-02","BE1",10650,"002-061061-842",3,"FIT","SHIB","KRSE","tst202-81idn","BNK",7,"RBUSEL301049SH  ","2035-02-04",-4051,"",null,null,"금융업(64)","K"]
["HTVFSS","K    WOORI BAN     ","RBU","SEL301053CB  ","USD",25264,25264,34275669,"2023-07-05","2024-01-02","BE1",10650,"002-060863-842",3,"FIT","CBOK","KRSL","tst201-81idn","BNK",7,"RBUSEL301053CB  ","2035-02-06",-4053,"",null,null,"금융업(64)","K"]
["HTVFSS","ANK CSHINHAN BNK CO","RBU","SEL353321SH  ","USD",101890,101890,138234163,"2023-07-05","2024-07-01","BE1",10650,"002-061061-842",3,"FIT","SHIB","KRSE","tst202-81idn","BNK",7,"RBUSEL353321SH  ","2035-02-11",-3877,"",null,null,"금융업(64)","K"]
["HTVFSS","BANK KEB HANA ANK  ","RBU","SEL353349KE  ","USD",26940,26940,36549498,"2023-07-05","2024-01-02","BE1",10650,"002-060970-842",3,"FIT","KOEX","KRCK","tst202-81idn","BNK",7,"RBUSEL353349KE  ","2035-02-17",-4064,"",null,null,"금융업(64)","K"]
["HTVFSS","&T COSAMSUNG CT COR","FOT","SEL301074DDFD","USD",833659.25,833659.25,1131025504,"2023-07-06","2023-10-23","C13",7510,"002-000934-847",3,"   ","SABB","RYD ","tst202-81idn","BNK",7,"FOTSEL301074DDFD","2035-02-21",-4139,50308.968000000001,null,null,"도매 및 상품중개업(46)","G"]
["HTVFSS","L BANINDUSTRIA BANK","RBU","SEL301048MD  ","USD",97682.5,97682.5,132525848,"2023-07-06","2024-07-01","BK4",10650,"002-060921-842"," ","FIT","MDDY","KRSL","tst202-81idn","BNK",7,"RBUSEL301048MD  ","2035-02-24",-3890,"",null,null,"금융업(64)","K"]
["HTVFSS","K    WOORI BAN     ","RBU","SEL353366CB  ","USD",1260950,1260950,1710730865,"2023-07-06","2024-07-01","BE1",10650,"002-060863-842",3,"FIT","CBOK","KRSL","tst201-81idn","BNK",7,"RBUSEL353366CB  ","2035-03-03",-3897,"",null,null,"금융업(64)","K"]
["HTVFSS","BANK KEB HANA ANK  ","RBU","SEL353378KE  ","USD",297189.59999999998,297189.59999999998,403197130,"2023-07-06","2024-07-01","BE1",10650,"002-060970-842",3,"FIT","KOEX","KRCK","tst202-81idn","BNK",7,"RBUSEL353378KE  ","2035-03-08",-3902,"",null,null,"금융업(64)","K"]
["HTVFSS","C COMKOREA ZIN COMP","FOT","SEL301080DDFD","USD",237913.31,237913.31,322776988,"2023-07-07","2024-01-08","MFS",4272,"002-248510-847"," ","   ","UOBL","HKHK","tst610-85idn","BNK",7,"FOTSEL301080DDFD","2035-03-13",-4082,11457.695999999998,null,null,"제1차 금속제조업(24)","C"]
["HTVFSS","L BANINDUSTRIA BANK","RBU","SEL353314MD  ","CAD",370012.5,370012.5,365726327,"2023-07-07","2024-01-03","BK4",10650,"002-060921-842"," ","FIT","MDDY","KRSL","tst202-81idn","BNK",7,"RBUSEL353314MD  ","2035-03-18",-4092,"",null,null,"금융업(64)","K"]
["HTVFSS","K    WOORI BAN     ","RBU","SEL353384CB  ","USD",893870,893870,1212713429,"2023-07-07","2024-07-01","BE1",10650,"002-060863-842",3,"FIT","CBOK","KRSL","tst201-81idn","BNK",7,"RBUSEL353384CB  ","2035-03-20",-3914,"",null,null,"금융업(64)","K"]
["HTVFSS","T-IMPTHE EXPOR-IMPO","RBU","SEL353388EI  ","USD",244776.8,244776.8,332088685,"2023-07-07","2024-07-01","C15",10650,"002-015925-842",3,"FIT","EIBK","KRYD","tst116-82idn","BNK",7,"RBUSEL353388EI  ","2035-03-23",-3917,"",null,null,"금융업(64)","K"]
["HTVFSS","BANK KEB HANA ANK  ","RBU","SEL353402KE  ","USD",147820,147820,200547394,"2023-07-07","2024-07-01","BE1",10650,"002-060970-842",3,"FIT","KOEX","KRCK","tst202-81idn","BNK",7,"RBUSEL353402KE  ","2035-03-28",-3922,"",null,null,"금융업(64)","K"]
["HTVFSS","ANK CSHINHAN BNK CO","RBU","SEL300998SH  ","USD",110066,110066,149326542,"2023-07-10","2023-12-11","BE1",10650,"002-061061-842",3,"FIT","SHIB","KRSE","tst202-81idn","BNK",7,"RBUSEL300998SH  ","2035-04-02",-4130,"",null,null,"금융업(64)","K"]
["HTVFSS","L BANINDUSTRIA BANK","RBU","SEL301065MD  ","USD",81680,81680,110815256,"2023-07-10","2024-07-05","BK4",10650,"002-060921-842"," ","FIT","MDDY","KRSL","tst202-81idn","BNK",7,"RBUSEL301065MD  ","2035-04-07",-3928,"",null,null,"금융업(64)","K"]
["HTVFSS","BANK KEB HANA ANK  ","RBU","SEL353411KE  ","USD",20000,20000,27134000,"2023-07-10","2024-01-08","BE1",10650,"002-060970-842",3,"FIT","KOEX","KRCK","tst202-81idn","BNK",7,"RBUSEL353411KE  ","2035-04-12",-4112,"",null,null,"금융업(64)","K"]
["HTVFSS","BANK KEB HANA ANK  ","RBU","SEL353435KE  ","USD",43856.53,43856.53,59500154,"2023-07-10","2023-12-07","BE1",10650,"002-060970-842",3,"FIT","KOEX","KRCK","tst202-81idn","BNK",7,"RBUSEL353435KE  ","2035-04-19",-4151,"",null,null,"금융업(64)","K"]
["HTVFSS","L BANINDUSTRIA BANK","RBU","SEL301090MD  ","USD",39800,39800,53996660,"2023-07-11","2024-07-05","BK4",10650,"002-060921-842"," ","FIT","MDDY","KRSL","tst202-81idn","BNK",7,"RBUSEL301090MD  ","2035-04-22",-3943,"",null,null,"금융업(64)","K"]
["HTVFSS","BANK NONGHYUP ANK  ","RBU","SEL301101NA  ","USD",24279.58,24279.58,32940106,"2023-07-11","2023-12-26","BE1",10650,"002-061045-842",3,"FIT","NACF","KRSE","tst104-86idn","BNK",7,"RBUSEL301101NA  ","2035-04-26",-4139,"",null,null,"금융업(64)","K"]
["HTVFSS","L BANINDUSTRIA BANK","RBU","SEL353439MD  ","USD",109840,109840,149019928,"2023-07-11","2024-07-05","BK4",10650,"002-060921-842"," ","FIT","MDDY","KRSL","tst202-81idn","BNK",7,"RBUSEL353439MD  ","2035-05-02",-3953,"",null,null,"금융업(64)","K"]
["HTVFSS","BANK NONGHYUP ANK  ","RBU","SEL353451NA  ","USD",12000,12000,16280400,"2023-07-11","2024-07-05","BE1",10650,"002-061045-842",3,"FIT","NACF","KRSE","tst104-86idn","BNK",7,"RBUSEL353451NA  ","2035-05-07",-3958,"",null,null,"금융업(64)","K"]
["HTVFSS","K    WOORI BAN     ","RBU","SEL353453CB  ","USD",316400.45,316400.45,429260491,"2023-07-11","2024-01-08","BE1",10650,"002-060863-842",3,"FIT","CBOK","KRSL","tst201-81idn","BNK",7,"RBUSEL353453CB  ","2035-05-09",-4139,"",null,null,"금융업(64)","K"]
["HTVFSS","L BANINDUSTRIA BANK","RBU","SEL301091MD  ","USD",43000,43000,58338100,"2023-07-12","2024-07-08","BK4",10650,"002-060921-842"," ","FIT","MDDY","KRSL","tst202-81idn","BNK",7,"RBUSEL301091MD  ","2035-05-17",-3965,"",null,null,"금융업(64)","K"]
["HTVFSS","BANK NONGHYUP ANK  ","RBU","SEL353410NA  ","CNY",486864,486864,90124695,"2023-07-12","2023-11-09","BE1",10650,"002-061045-842",3,"FIT","NACF","KRSE","tst104-86idn","BNK",7,"RBUSEL353410NA  ","2035-05-20",-4210,"",null,null,"금융업(64)","K"]
["HTVFSS","BANK KEB HANA ANK  ","RBU","SEL353472KE  ","USD",742080,742080,1006779936,"2023-07-12","2024-07-08","BE1",10650,"002-060970-842",3,"FIT","KOEX","KRCK","tst202-81idn","BNK",7,"RBUSEL353472KE  ","2035-05-22",-3970,"",null,null,"금융업(64)","K"]
["HTVFSS","BANK KEB HANA ANK  ","RBU","SEL353480KE  ","USD",48472.5,48472.5,65762641,"2023-07-12","2024-07-08","BE1",10650,"002-060970-842",3,"FIT","KOEX","KRCK","tst202-81idn","BNK",7,"RBUSEL353480KE  ","2035-05-27",-3975,"",null,null,"금융업(64)","K"]
["HTVFSS","BANK KEB HANA ANK  ","RBU","SEL353490KE  ","USD",200148.48000000001,200148.48000000001,271541443,"2023-07-12","2023-12-11","BE1",10650,"002-060970-842",3,"FIT","KOEX","KRCK","tst202-81idn","BNK",7,"RBUSEL353490KE  ","2035-06-02",-4191,"",null,null,"금융업(64)","K"]
["HTVFSS","BANK KEB HANA ANK  ","RBU","SEL353500KE  ","USD",32000,32000,43414400,"2023-07-12","2024-01-08","BE1",10650,"002-060970-842",3,"FIT","KOEX","KRCK","tst202-81idn","BNK",7,"RBUSEL353500KE  ","2035-06-06",-4167,"",null,null,"금융업(64)","K"]
["HTVFSS","ANK CSHINHAN BNK CO","RBU","SEL301107SH  ","USD",7308.23,7308.23,9915076,"2023-07-13","2024-01-09","BE1",10650,"002-061061-842",3,"FIT","SHIB","KRSE","tst202-81idn","BNK",7,"RBUSEL301107SH  ","2035-06-13",-4173,"",null,null,"금융업(64)","K"]
["HTVFSS","ANK CSHINHAN BNK CO","RBU","SEL353486SH  ","USD",14968.46,14968.46,20307710,"2023-07-13","2024-01-09","BE1",10650,"002-061061-842",3,"FIT","SHIB","KRSE","tst202-81idn","BNK",7,"RBUSEL353486SH  ","2035-06-16",-4176,"",null,null,"금융업(64)","K"]
["HTVFSS","BANK KEB HANA ANK  ","RBU","SEL353506KE  ","USD",1499398,1499398,2034233267,"2023-07-13","2024-07-08","BE1",10650,"002-060970-842",3,"FIT","KOEX","KRCK","tst202-81idn","BNK",7,"RBUSEL353506KE  ","2035-06-21",-4000,"",null,null,"금융업(64)","K"]
["HTVFSS","BANK KEB HANA ANK  ","RBU","SEL353517KE  ","USD",40800,40800,55353360,"2023-07-13","2024-01-09","BE1",10650,"002-060970-842",3,"FIT","KOEX","KRCK","tst202-81idn","BNK",7,"RBUSEL353517KE  ","2035-06-26",-4186,"",null,null,"금융업(64)","K"]
["HTVFSS","ANK CSHINHAN BNK CO","RBU","SEL353473SH  ","USD",1655165.05,1655165.05,2245562423,"2023-07-14","2024-01-10","BE1",10650,"002-061061-842",3,"FIT","SHIB","KRSA","tst202-81idn","BNK",7,"RBUSEL353473SH  ","2035-07-01",-4190,"",null,null,"금융업(64)","K"]
["HTVFSS","BANK KEB HANA ANK  ","RBU","SEL353530KE  ","USD",47420,47420,64334714,"2023-07-14","2024-01-10","BE1",10650,"002-060970-842",3,"FIT","KOEX","KRCK","tst202-81idn","BNK",7,"RBUSEL353530KE  ","2035-07-06",-4195,"",null,null,"금융업(64)","K"]
["HTVFSS","BANK KEB HANA ANK  ","RBU","SEL353536KE  ","USD",36660,36660,49736622,"2023-07-14","2024-01-10","BE1",10650,"002-060970-842",3,"FIT","KOEX","KRCK","tst202-81idn","BNK",7,"RBUSEL353536KE  ","2035-07-09",-4198,"",null,null,"금융업(64)","K"]
["HTVFSS","ANK CKOOKMIN BNK CO","RBU","SEL353511CT  ","USD",236317.18,236317.18,320611518,"2023-07-14","2024-07-08","BE1",10650,"002-060855-842",3,"FIT","CTZN","KRSE","tst201-81idn","FNI",2,"RBUSEL353511CT  ","2035-07-16",-4025,"",null,null,"금융업(64)","K"]
["HTVFSS","ANK CSHINHAN BNK CO","RBU","SEL301118SH  ","USD",16259.4,16259.4,22059128,"2023-07-17","2024-01-16","BE1",10650,"002-061061-842",3,"FIT","SHIB","KRSE","tst202-81idn","FNI",2,"RBUSEL301118SH  ","2035-07-20",-4203,"",null,null,"금융업(64)","K"]
["HTVFSS","BANK KEB HANA ANK  ","RBU","SEL353501KE  ","USD",1425198.74,1425198.74,1933567131,"2023-07-17","2024-01-16","BE1",10650,"002-060970-842",3,"FIT","KOEX","KRCK","tst202-81idn","FNI",2,"RBUSEL353501KE  ","2035-07-21",-4204,"",null,null,"금융업(64)","K"]
["HTVFSS","ANK CSHINHAN BNK CO","RBU","SEL353563SH  ","USD",228800,228800,310412960,"2023-07-17","2023-12-14","BE1",10650,"002-061061-842",3,"FIT","SHIB","KRSE","tst202-81idn","FNI",2,"RBUSEL353563SH  ","2035-07-26",-4242,"",null,null,"금융업(64)","K"]
["HTVFSS","I INFHD HYUNDA INFR","FOT","SEL353547DDFD","USD",27222.12,27222.12,36932250,"2023-07-26","2024-07-01","C13",4290,"002-210741-847",3,"   ","BKCZ","IDJK","tst121-81idn","FNI",2,"FOTSEL353547DDFD","2035-08-02",-4049,6495.384,null,null,"기타 기계 및 장비 제조업(29)","C"]
["HTVFSS","I CONHD HYUNDA CONS","FOT","SEL353569DDFD","USD",119940,119940,162722598,"2023-07-27","2024-01-02","C13",4290,"002-284786-847",3,"   ","UNBU","UYMO","tst528-88idn","FNI",2,"FOTSEL353569DDFD","2035-08-05",-4233,55204.04,null,null,"기타 기계 및 장비 제조업(29)","C"]
["HTVFSS","L BANINDUSTRIA BANK","RBU","SEL301121MD  ","USD",44000,44000,59694800,"2023-07-18","2024-07-12","BK4",10650,"002-060921-842"," ","FIT","MDDY","KRSL","tst202-81idn","FNI",2,"RBUSEL301121MD  ","2035-08-09",-4045,"",null,null,"금융업(64)","K"]
["HTVFSS","ANK CSHINHAN BNK CO","RBU","SEL353540SH  ","USD",318620.40000000002,318620.40000000002,432272297,"2023-07-18","2023-12-15","BE1",10650,"002-061061-842",3,"FIT","SHIB","KRSE","tst202-81idn","FNI",2,"RBUSEL353540SH  ","2035-08-15",-4261,"",null,null,"금융업(64)","K"]
["HTVFSS","BANK KEB HANA ANK  ","RBU","SEL353594KE  ","USD",25000,25000,33917500,"2023-07-18","2024-07-12","BE1",10650,"002-060970-842",3,"FIT","KOEX","KRCK","tst202-81idn","FNI",2,"RBUSEL353594KE  ","2035-08-20",-4056,"",null,null,"금융업(64)","K"]
["HTVFSS","BANK KEB HANA ANK  ","RBU","SEL353609KE  ","USD",70880,70880,96162896,"2023-07-18","2024-07-12","BE1",10650,"002-060970-842",3,"FIT","KOEX","KRCK","tst202-81idn","FNI",2,"RBUSEL353609KE  ","2035-08-26",-4062,"",null,null,"금융업(64)","K"]
["HTVFSS","L BANINDUSTRIA BANK","RBU","SEL301135MD  ","USD",149920,149920,203396464,"2023-07-19","2024-07-15","BK4",10650,"002-060921-842"," ","FIT","MDDY","KRSL","tst202-81idn","FNI",2,"RBUSEL301135MD  ","2035-08-30",-4063,"",null,null,"금융업(64)","K"]
["HTVFSS","T-IMPTHE EXPOR-IMPO","RBU","SEL353607EI  ","USD",2831871.5,2831871.5,3842000064,"2023-07-19","2024-07-15","C15",10650,"002-015925-842",3,"FIT","EIBK","KRYD","tst116-82idn","FNI",2,"RBUSEL353607EI  ","2035-09-04",-4068,"",null,null,"금융업(64)","K"]
["HTVFSS","BANK KEB HANA ANK  ","RBU","SEL353619KE  ","USD",1209749.29,1209749.29,1641266862,"2023-07-19","2024-01-08","BE1",10650,"002-060970-842",3,"FIT","KOEX","KRCK","tst202-81idn","FNI",2,"RBUSEL353619KE  ","2035-09-08",-4261,"",null,null,"금융업(64)","K"]
["HTVFSS","BANK KEB HANA ANK  ","RBU","SEL353626KE  ","USD",16479.38,16479.38,22357575,"2023-07-19","2024-07-15","BE1",10650,"002-060970-842",3,"FIT","KOEX","KRCK","tst202-81idn","FNI",2,"RBUSEL353626KE  ","2035-09-14",-4078,"",null,null,"금융업(64)","K"]
["HTVFSS","BANK KEB HANA ANK  ","RBU","SEL353628KE  ","USD",278119,278119,377324047,"2023-07-19","2024-01-16","BE1",10650,"002-060970-842",3,"FIT","KOEX","KRCK","tst202-81idn","FNI",2,"RBUSEL353628KE  ","2035-09-15",-4260,"",null,null,"금융업(64)","K"]
["HTVFSS","ANK CSHINHAN BNK CO","SBN","SEL301140SH  ","USD",90809.64,90809.64,123201439,"2023-07-19","2024-01-16","BE1",10650,"002-061061-842",3,"FIT","SHIB","KRSE","tst202-81idn","FNI",2,"SBNSEL301140SH  ","2035-09-19",-4264,"",null,null,"금융업(64)","K"]
["HTVFSS","BANK NONGHYUP ANK  ","RBU","SEL301164NA  ","USD",31885,31885,43258380,"2023-07-20","2023-12-26","BE1",10650,"002-061045-842",3,"FIT","NACF","KRSE","tst104-86idn","FNI",2,"RBUSEL301164NA  ","2035-09-24",-4290,"",null,null,"금융업(64)","K"]
["HTVFSS","BANK KEB HANA ANK  ","RBU","SEL353643KE  ","USD",4269408.17,4269408.17,5792306064,"2023-07-20","2024-01-02","BE1",10650,"002-060970-842",3,"FIT","KOEX","KRCK","tst202-81idn","FNI",2,"RBUSEL353643KE  ","2035-10-02",-4291,"",null,null,"금융업(64)","K"]
["HTVFSS","K    WOORI BAN     ","RBU","SEL353649CB  ","USD",55150,55150,74822005,"2023-07-20","2023-11-17","BE1",10650,"002-060863-842",3,"FIT","CBOK","KRSL","tst201-81idn","FNI",2,"RBUSEL353649CB  ","2035-10-04",-4339,"",null,null,"금융업(64)","K"]
["HTVFSS","OO COTATA DAEWO COM","FOT","SEL353601DDFD","USD",2205000,2205000,2991523500,"2023-07-27","2023-12-27","C13",4340,"002-704686-847",3,"   ","BABD","SAAD","tst401-81idn","FNI",2,"FOTSEL353601DDFD","2035-10-09",-4304,302243.8,null,null,"자동차 및 트레일러 제조업(30)","C"]
["HTVFSS","L BANINDUSTRIA BANK","RBU","SEL301180MD  ","USD",24840,24840,33700428,"2023-07-21","2024-07-15","BK4",10650,"002-060921-842"," ","FIT","MDDY","KRSL","tst202-81idn","FNI",2,"RBUSEL301180MD  ","2035-10-14",-4108,"",null,null,"금융업(64)","K"]
["HTVFSS","T-IMPTHE EXPOR-IMPO","RBU","SEL353666EI  ","USD",428289.32,428289.32,581060120,"2023-07-21","2024-07-15","C15",10650,"002-015925-842",3,"FIT","EIBK","KRYD","tst116-82idn","FNI",2,"RBUSEL353666EI  ","2035-10-19",-4113,"",null,null,"금융업(64)","K"]
["HTVFSS","BANK KEB HANA ANK  ","RBU","SEL353678KE  ","USD",85370,85370,115821479,"2023-07-21","2023-10-19","BE1",10650,"002-060970-842",3,"FIT","KOEX","KRCK","tst202-81idn","FNI",2,"RBUSEL353678KE  ","2035-10-22",-4386,"",null,null,"금융업(64)","K"]
["HTVFSS","TALENHANWHA TOALENE","FOT","SEL353706DDFD","USD",26900,26900,36495230,"2023-07-25","2023-11-16","C13",4232,"002-826974-847",3,"   ","CRIT","ITMP","tst316-81idn","FNI",2,"FOTSEL353706DDFD","2035-10-29",-4365,1923.0639999999999,null,null,"코크스, 연탄 및 석유정제품 제조업(19)","C"]
["HTVFSS","TALENHANWHA TOALENE","FOT","SEL353715DDFD","EUR",30240,30240,43250250,"2023-07-25","2023-10-23","C13",4232,"002-826974-847",3,"   ","BOEJ","ESMH","tst316-81idn","FNI",2,"FOTSEL353715DDFD","2035-11-03",-4394,1080.5091456,null,null,"코크스, 연탄 및 석유정제품 제조업(19)","C"]
["HTVFSS","K    WOORI BAN     ","RBU","SEL301190CB  ","USD",1142081.74,1142081.74,1549462297,"2023-07-24","2024-01-22","BE1",10650,"002-060863-842",3,"FIT","CBOK","KRSL","tst201-81idn","FNI",2,"RBUSEL301190CB  ","2035-11-08",-4308,"",null,null,"금융업(64)","K"]
["HTVFSS","ANK CSHINHAN BNK CO","RBU","SEL353681SH  ","USD",55002.49,55002.49,74621878,"2023-07-24","2024-01-22","BE1",10650,"002-061061-842",3,"FIT","SHIB","KRSE","tst202-81idn","FNI",2,"RBUSEL353681SH  ","2035-11-13",-4313,"",null,null,"금융업(64)","K"]
["HTVFSS","T-IMPTHE EXPOR-IMPO","RBU","SEL353683EI  ","USD",487519.53,487519.53,661417746,"2023-07-24","2024-07-18","C15",10650,"002-015925-842",3,"FIT","EIBK","KRYD","tst116-82idn","FNI",2,"RBUSEL353683EI  ","2035-11-15",-4137,"",null,null,"금융업(64)","K"]
["HTVFSS","K    WOORI BAN     ","RBU","SEL353690CB  ","USD",90000,90000,122103000,"2023-07-24","2024-01-22","BE1",10650,"002-060863-842",3,"FIT","CBOK","KRSL","tst201-81idn","FNI",2,"RBUSEL353690CB  ","2035-11-18",-4318,"",null,null,"금융업(64)","K"]
["HTVFSS","BANK KEB HANA ANK  ","RBU","SEL353702KE  ","USD",149900,149900,203369330,"2023-07-24","2024-07-18","BE1",10650,"002-060970-842",3,"FIT","KOEX","KRCK","tst202-81idn","FNI",2,"RBUSEL353702KE  ","2035-11-23",-4145,"",null,null,"금융업(64)","K"]
["HTVFSS","TALENHANWHA TOALENE","FOT","SEL353714DDFD","EUR",28600,28600,40904668,"2023-07-25","2023-10-23","C13",4232,"002-826974-847",3,"   ","BOEJ","ESAA","tst316-81idn","FNI",2,"FOTSEL353714DDFD","2035-11-28",-4419,1023.6402432,null,null,"코크스, 연탄 및 석유정제품 제조업(19)","C"]
["HTVFSS","MICALLOTTE CHEICAL ","FOT","SEL353749DDFD","USD",446600,446600,605902220,"2023-08-10","2023-10-23","C13",4240,"002-565583-847",3,"   ","CRID","EGAC","tst118 81idn","FNI",2,"FOTSEL353749DDFD","2035-12-03",-4424,1207522.8159999999,null,null,"화학물질 및 화학제품 제조업(의약품 제외)(20)","C"]
["HTVFSS","T-IMPTHE EXPOR-IMPO","RBU","SEL301192EI  ","USD",3447796.77,3447796.77,4677625878,"2023-07-25","2024-07-19","C15",10650,"002-015925-842",3,"FIT","EIBK","KRYD","tst116-82idn","FNI",2,"RBUSEL301192EI  ","2035-12-09",-4160,"",null,null,"금융업(64)","K"]
["HTVFSS","BANK KEB HANA ANK  ","RBU","SEL301213KE  ","EUR",2679,2679,3831595,"2023-07-25","2023-11-22","BE1",10650,"002-060970-842",3,"FIT","KOEX","KRCK","tst202-81idn","FNI",2,"RBUSEL301213KE  ","2035-12-13",-4404,"",null,null,"금융업(64)","K"]
["HTVFSS","L BANINDUSTRIA BANK","RBU","SEL353720MD  ","USD",37377.9,37377.9,50710597,"2023-07-25","2023-10-23","BK4",10650,"002-060921-842"," ","FIT","MDDY","KRSL","tst202-81idn","FNI",2,"RBUSEL353720MD  ","2035-12-18",-4439,"",null,null,"금융업(64)","K"]
["HTVFSS","BANK KEB HANA ANK  ","RBU","SEL353733KE  ","USD",495344,495344,672033205,"2023-07-25","2024-07-19","BE1",10650,"002-060970-842",3,"FIT","KOEX","KRCK","tst202-81idn","FNI",2,"RBUSEL353733KE  ","2035-12-22",-4173,"",null,null,"금융업(64)","K"]
["HTVFSS","MICALLOTTE CHEICAL ","FOT","SEL301214DDFD","USD",980100,980100,1329701670,"2023-08-09","2023-10-20","C13",4240,"002-565583-847",3,"   ","CIIB","CNCH","tst118 81idn","FNI",2,"FOTSEL301214DDFD","2035-12-28",-4452,600372.51199999999,null,null,"화학물질 및 화학제품 제조업(의약품 제외)(20)","C"]
["HTVFSS","MICALLOTTE CHEICAL ","FOT","SEL353754DDFD","USD",1001880,1001880,1359250596,"2023-08-09","2023-10-23","C13",4240,"002-565583-847",3,"   ","CIIB","CNCH","tst118 81idn","FNI",2,"FOTSEL353754DDFD","2036-01-02",-4454,649686.32799999998,null,null,"화학물질 및 화학제품 제조업(의약품 제외)(20)","C"]
["HTVFSS","MICALLOTTE CHEICAL ","FOT","SEL353773DDFD","USD",226800,226800,307699560,"2023-08-04","2023-10-23","C13",4240,"002-565583-847",3,"   ","PCBC","CNHY","tst118 81idn","FNI",2,"FOTSEL353773DDFD","2036-01-04",-4456,13515.24,null,null,"화학물질 및 화학제품 제조업(의약품 제외)(20)","C"]
["HTVFSS","BANK KEB HANA ANK  ","RBU","SEL353761KE  ","USD",26900,26900,36495230,"2023-07-26","2024-07-22","BE1",10650,"002-060970-842",3,"FIT","KOEX","KRCK","tst202-81idn","FNI",2,"RBUSEL353761KE  ","2036-01-12",-4191,"",null,null,"금융업(64)","K"]
["HTVFSS","BANK KEB HANA ANK  ","RBU","SEL353765KE  ","USD",43000,43000,58338100,"2023-07-26","2024-07-22","BE1",10650,"002-060970-842",3,"FIT","KOEX","KRCK","tst202-81idn","FNI",2,"RBUSEL353765KE  ","2036-01-15",-4194,"",null,null,"금융업(64)","K"]
["HTVFSS","BANK KEB HANA ANK  ","RBU","SEL353768KE  ","USD",33200,33200,45042440,"2023-07-26","2024-07-22","BE1",10650,"002-060970-842",3,"FIT","KOEX","KRCK","tst202-81idn","FNI",2,"RBUSEL353768KE  ","2036-01-17",-4196,"",null,null,"금융업(64)","K"]
["HTVFSS","BANK KEB HANA ANK  ","RBU","SEL353776KE  ","USD",60400.89,60400.89,81945887,"2023-07-26","2023-11-24","BE1",10650,"002-060970-842",3,"FIT","KOEX","KRCK","tst202-81idn","FNI",2,"RBUSEL353776KE  ","2036-01-22",-4442,"",null,null,"금융업(64)","K"]
["HTVFSS","MICALLOTTE CHEICAL ","FOT","SEL353782DDFD","USD",315840,315840,428500128,"2023-08-01","2023-10-23","C13",4240,"002-565583-847",3,"   ","BKID","VNHA","tst118 81idn","FNI",2,"FOTSEL353782DDFD","2036-01-28",-4480,153105.48000000001,null,null,"화학물질 및 화학제품 제조업(의약품 제외)(20)","C"]
["HTVFSS","I ELEHD HYUNDA ELEC","FOT","SEL353811DDFD","USD",1089489,1089489,1478109726,"2023-08-18","2023-12-18","C13",4310,"002-079097-847",3,"   ","CHAS","SARI","tst266-86idn","FNI",2,"FOTSEL353811DDFD","2036-02-01",-4428,20884.743999999999,null,null,"전기장비 제조업(28)","C"]
["HTVFSS","BANK NONGHYUP ANK  ","RBU","SEL353737NA  ","USD",160000,160000,217072000,"2023-07-27","2024-07-22","BE1",10650,"002-061045-842",3,"FIT","NACF","KRSE","tst104-86idn","FNI",2,"RBUSEL353737NA  ","2036-02-08",-4218,"",null,null,"금융업(64)","K"]
["HTVFSS","ANK CSHINHAN BNK CO","RBU","SEL353779SH  ","USD",2284517.4500000002,2284517.4500000002,3099404824,"2023-07-27","2024-01-23","BE1",10650,"002-061061-842",3,"FIT","SHIB","KRSE","tst202-81idn","FNI",2,"RBUSEL353779SH  ","2036-02-11",-4402,"",null,null,"금융업(64)","K"]
["HTVFSS","ANK CKOOKMIN BNK CO","RBU","SEL353790CT  ","USD",392500,392500,532504750,"2023-07-27","2024-07-22","BE1",10650,"002-060855-842",3,"FIT","CTZN","KRSE","tst201-81idn","FNI",2,"RBUSEL353790CT  ","2036-02-16",-4226,"",null,null,"금융업(64)","K"]
["HTVFSS","T-IMPTHE EXPOR-IMPO","RBU","SEL353802EI  ","USD",38479.57,38479.57,52205233,"2023-07-27","2024-07-22","C15",10650,"002-015925-842",3,"FIT","EIBK","KRYD","tst116-82idn","FNI",2,"RBUSEL353802EI  ","2036-02-21",-4231,"",null,null,"금융업(64)","K"]
["HTVFSS","TALENHANWHA TOALENE","FOT","SEL301239DDFD","USD",1443200,1443200,1957989440,"2023-07-28","2023-10-25","C13",4232,"002-826974-847",3,"   ","HBCN","SHH ","tst316-81idn","FNI",2,"FOTSEL301239DDFD","2036-02-26",-4507,566375.96799999999,null,null,"코크스, 연탄 및 석유정제품 제조업(19)","C"]
["HTVFSS","MICALLOTTE CHEICAL ","FOT","SEL301243DDFD","USD",32000,32000,43414400,"2023-08-08","2023-10-25","C13",4240,"002-565583-847",3,"   ","VTCJ","VNHO","tst118 81idn","FNI",2,"FOTSEL301243DDFD","2036-02-28",-4509,16043.464,null,null,"화학물질 및 화학제품 제조업(의약품 제외)(20)","C"]
["HTVFSS","ANK CSHINHAN BNK CO","RBU","SEL301237SH  ","USD",135390.70000000001,135390.70000000001,183684563,"2023-07-28","2024-01-24","BE1",10650,"002-061061-842",3,"FIT","SHIB","KRSE","tst202-81idn","FNI",2,"RBUSEL301237SH  ","2036-03-07",-4426,"",null,null,"금융업(64)","K"]
["HTVFSS","BANK KEB HANA ANK  ","RBU","SEL353767KE  ","USD",700527.95,700527.95,950406270,"2023-07-28","2023-10-26","BE1",10650,"002-060970-842",3,"FIT","KOEX","KRCK","tst202-81idn","FNI",2,"RBUSEL353767KE  ","2036-03-12",-4521,"",null,null,"금융업(64)","K"]
["HTVFSS","BANK KEB HANA ANK  ","RBU","SEL353810KE  ","USD",1207083.58,1207083.58,1637650293,"2023-07-28","2024-01-12","BE1",10650,"002-060970-842",3,"FIT","KOEX","KRCK","tst202-81idn","FNI",2,"RBUSEL353810KE  ","2036-03-16",-4447,"",null,null,"금융업(64)","K"]
["HTVFSS","BANK KEB HANA ANK  ","RBU","SEL353814KE  ","USD",198365.56,198365.56,269122555,"2023-07-28","2023-10-26","BE1",10650,"002-060970-842",3,"FIT","KOEX","KRCK","tst202-81idn","FNI",2,"RBUSEL353814KE  ","2036-03-17",-4526,"",null,null,"금융업(64)","K"]
["HTVFSS","OTOR HYUNDAI MTOR C","FOT","SEL301252DDAD","USD",1726383.7,1726383.7,2342184766,"2023-08-22","2023-11-20","C13",4340,"002-004764-847",3,"   ","HSBC","SEL ","tst101-81idn","FNI",2,"FOTSEL301252DDAD","2036-03-22",-4506,721256.58399999992,null,null,"자동차 및 트레일러 제조업(30)","C"]
["HTVFSS","TALENHANWHA TOALENE","FOT","SEL353829DDFD","USD",83600,83600,113420120,"2023-07-31","2023-11-02","C13",4232,"002-826974-847",3,"   ","BCII","HKHK","tst316-81idn","FNI",2,"FOTSEL353829DDFD","2036-03-29",-4531,5742.2959999999994,null,null,"코크스, 연탄 및 석유정제품 제조업(19)","C"]
["HTVFSS","TALENHANWHA TOALENE","FOT","SEL353833DDFD","USD",44640,44640,60563088,"2023-07-31","2023-10-26","C13",4232,"002-826974-847",3,"   ","ICBA","CNWI","tst316-81idn","FNI",2,"FOTSEL353833DDFD","2036-04-01",-4541,2810.6320000000001,null,null,"코크스, 연탄 및 석유정제품 제조업(19)","C"]
["HTVFSS","TALENHANWHA TOALENE","FOT","SEL353845DDFD","USD",28220,28220,38286074,"2023-08-01","2023-11-21","C13",4232,"002-826974-847",3,"   ","CRIT","ITMP","tst316-81idn","FNI",2,"FOTSEL353845DDFD","2036-04-05",-4519,2165.1279999999997,null,null,"코크스, 연탄 및 석유정제품 제조업(19)","C"]
["HTVFSS","K    WOORI BAN     ","RBU","SEL353824CB  ","AUD",195860.67,195860.67,167499232,"2023-07-31","2024-01-29","BE1",10650,"002-060863-842",3,"FIT","CBOK","KRSL","tst201-81idn","FNI",2,"RBUSEL353824CB  ","2036-04-11",-4456,"",null,null,"금융업(64)","K"]
["HTVFSS","BANK KEB HANA ANK  ","RBU","SEL353851KE  ","USD",1330000,1330000,1804411000,"2023-07-31","2024-01-23","BE1",10650,"002-060970-842",3,"FIT","KOEX","KRCK","tst202-81idn","FNI",2,"RBUSEL353851KE  ","2036-04-16",-4467,"",null,null,"금융업(64)","K"]
["HTVFSS","TALENHANWHA TOALENE","BAC","SEL353890DDD ","USD",73920,73920,100287264,"2023-08-02","2023-10-30","C13",4232,"002-826974-847",3,"EXC","TGBK","TRIT","tst316-81idn","FNI",2,"BACSEL353890DDD ","2036-04-22",-4558,"",null,null,"코크스, 연탄 및 석유정제품 제조업(19)","C"]
["HTVFSS","MICALLOTTE CHEICAL ","FOT","SEL301268DDFD","USD",315840,315840,428500128,"2023-08-04","2023-10-30","C13",4240,"002-565583-847",3,"   ","BKID","VNHA","tst118 81idn","FNI",2,"FOTSEL301268DDFD","2036-04-26",-4562,172914.38399999999,null,null,"화학물질 및 화학제품 제조업(의약품 제외)(20)","C"]
["HTVFSS","MICALLOTTE CHEICAL ","FOT","SEL353856DDFD","USD",22660,22660,30742822,"2023-08-11","2023-10-25","C13",4240,"002-565583-847",3,"   ","BOCG","PTLI","tst118 81idn","FNI",2,"FOTSEL353856DDFD","2036-04-29",-4570,1075.8399999999999,null,null,"화학물질 및 화학제품 제조업(의약품 제외)(20)","C"]
["HTVFSS","L BANINDUSTRIA BANK","RBU","SEL301236MD  ","USD",30500,30500,41379350,"2023-08-01","2024-07-26","BK4",10650,"002-060921-842"," ","FIT","MDDY","KRSL","tst202-81idn","FNI",2,"RBUSEL301236MD  ","2036-05-06",-4302,"",null,null,"금융업(64)","K"]
["HTVFSS","BANK KEB HANA ANK  ","RBU","SEL353861KE  ","USD",2123624.52,2123624.52,2881121386,"2023-08-01","2023-12-26","BE1",10650,"002-060970-842",3,"FIT","KOEX","KRCK","tst202-81idn","FNI",2,"RBUSEL353861KE  ","2036-05-11",-4520,"",null,null,"금융업(64)","K"]
["HTVFSS","BANK KEB HANA ANK  ","RBU","SEL353862KE  ","USD",2184200.6800000002,2184200.6800000002,2963305063,"2023-08-01","2024-07-26","BE1",10650,"002-060970-842",3,"FIT","KOEX","KRCK","tst202-81idn","FNI",2,"RBUSEL353862KE  ","2036-05-12",-4308,"",null,null,"금융업(64)","K"]
["HTVFSS","BANK KEB HANA ANK  ","RBU","SEL353876KE  ","USD",46544,46544,63146245,"2023-08-01","2024-01-29","BE1",10650,"002-060970-842",3,"FIT","KOEX","KRCK","tst202-81idn","FNI",2,"RBUSEL353876KE  ","2036-05-16",-4491,"",null,null,"금융업(64)","K"]
["HTVFSS","BANK KEB HANA ANK  ","RBU","SEL353899KE  ","USD",1304520,1304520,1769842284,"2023-08-01","2024-07-26","BE1",10650,"002-060970-842",3,"FIT","KOEX","KRCK","tst202-81idn","FNI",2,"RBUSEL353899KE  ","2036-05-21",-4317,"",null,null,"금융업(64)","K"]
["HTVFSS","C COMKOREA ZIN COMP","FOT","SEL301281DDFD","USD",211102.46,211102.46,286402707,"2023-08-09","2023-10-19","MFS",4272,"002-248510-847"," ","   ","RIBA","SARH","tst610-85idn","FNI",2,"FOTSEL301281DDFD","2036-05-29",-4606,3711.6479999999997,null,null,"제1차 금속제조업(24)","C"]
["HTVFSS","MICALLOTTE CHEICAL ","FOT","SEL353894DDFD","USD",40160,40160,54485072,"2023-08-18","2023-10-26","C13",4240,"002-565583-847",3,"   ","SBOI","INTC","tst118 81idn","FNI",2,"FOTSEL353894DDFD","2036-05-31",-4601,2313.056,null,null,"화학물질 및 화학제품 제조업(의약품 제외)(20)","C"]
["HTVFSS","BANK KEB HANA ANK  ","RBU","SEL301231KE  ","USD",21000,21000,28490700,"2023-08-02","2024-01-02","BE1",10650,"002-060970-842",3,"FIT","KOEX","KRCK","tst202-81idn","FNI",2,"RBUSEL301231KE  ","2036-06-05",-4538,"",null,null,"금융업(64)","K"]
["HTVFSS","BANK KEB HANA ANK  ","RBU","SEL353883KE  ","USD",25000,25000,33917500,"2023-08-02","2024-07-29","BE1",10650,"002-060970-842",3,"FIT","KOEX","KRCK","tst202-81idn","FNI",2,"RBUSEL353883KE  ","2036-06-10",-4334,"",null,null,"금융업(64)","K"]
["HTVFSS","BANK NONGHYUP ANK  ","RBU","SEL353913NA  ","USD",121102.8,121102.8,164300169,"2023-08-02","2023-10-31","BE1",10650,"002-061045-842",3,"FIT","NACF","KRSE","tst104-86idn","FNI",2,"RBUSEL353913NA  ","2036-06-15",-4611,"",null,null,"금융업(64)","K"]
["HTVFSS","ANK CKOOKMIN BNK CO","RBU","SEL353916CT  ","USD",768578.03,768578.03,1042729813,"2023-08-02","2024-07-29","BE1",10650,"002-060855-842",3,"FIT","CTZN","KRSE","tst201-81idn","FNI",2,"RBUSEL353916CT  ","2036-06-18",-4342,"",null,null,"금융업(64)","K"]
["HTVFSS","PORATSORIN CORORATI","FOT","SEL301284DDFD","USD",450828.34,450828.34,611638809,"2023-08-03","2024-01-29","MFS",7510,"002-497784-847"," ","   ","CTCL","HKHK","tst211-81idn","FNI",2,"FOTSEL301284DDFD","2036-06-25",-4531,87721.304000000004,null,null,"도매 및 상품중개업(46)","G"]
["HTVFSS","MICALLOTTE CHEICAL ","FOT","SEL353920DDFD","USD",38080,38080,51663136,"2023-08-21","2023-11-01","C13",4240,"002-565583-847",3,"   ","SBOI","INTC","tst118 81idn","FNI",2,"FOTSEL353920DDFD","2036-06-29",-4624,2434.0879999999997,null,null,"화학물질 및 화학제품 제조업(의약품 제외)(20)","C"]
["HTVFSS","MICALLOTTE CHEICAL ","FOT","SEL353941DDFD","USD",77600,77600,105279920,"2023-08-09","2023-10-31","C13",4240,"002-565583-847",3,"   ","BKID","VNHA","tst118 81idn","FNI",2,"FOTSEL353941DDFD","2036-07-05",-4631,43154.632000000005,null,null,"화학물질 및 화학제품 제조업(의약품 제외)(20)","C"]
["HTVFSS","MICALLOTTE CHEICAL ","FOT","SEL353948DDFD","USD",115500,115500,156698850,"2023-08-11","2023-10-30","C13",4240,"002-565583-847",3,"   ","BOCG","PTLI","tst118 81idn","FNI",2,"FOTSEL353948DDFD","2036-07-10",-4637,5957.4639999999999,null,null,"화학물질 및 화학제품 제조업(의약품 제외)(20)","C"]
["HTVFSS","K    WOORI BAN     ","RBU","SEL301274CB  ","USD",73800,73800,100124460,"2023-08-03","2024-07-29","BE1",10650,"002-060863-842",3,"FIT","CBOK","KRSL","tst201-81idn","FNI",2,"RBUSEL301274CB  ","2036-07-12",-4366,"",null,null,"금융업(64)","K"]
["HTVFSS","BANK KEB HANA ANK  ","RBU","SEL353816KE  ","EUR",38426.980000000003,38426.980000000003,54959540,"2023-08-03","2024-05-29","BE1",10650,"002-060970-842",3,"FIT","KOEX","KRCK","tst202-81idn","FNI",2,"RBUSEL353816KE  ","2036-07-15",-4430,"",null,null,"금융업(64)","K"]
["HTVFSS","BANK KEB HANA ANK  ","RBU","SEL353942KE  ","USD",271628,271628,368517708,"2023-08-03","2024-07-29","BE1",10650,"002-060970-842",3,"FIT","KOEX","KRCK","tst202-81idn","FNI",2,"RBUSEL353942KE  ","2036-07-20",-4374,"",null,null,"금융업(64)","K"]
["HTVFSS","T-IMPTHE EXPOR-IMPO","RBU","SEL353964EI  ","USD",378,378,512833,"2023-08-03","2024-07-29","C15",10650,"002-015925-842",3,"FIT","EIBK","KRYD","tst116-82idn","FNI",2,"RBUSEL353964EI  ","2036-07-25",-4379,"",null,null,"금융업(64)","K"]
["HTVFSS","TALENHANWHA TOALENE","BAC","SEL301291DDD ","USD",110670,110670,150145989,"2023-08-04","2023-10-30","C13",4232,"002-826974-847",3,"EXC","YVCB","TRFX","tst316-81idn","FNI",2,"BACSEL301291DDD ","2036-07-30",-4657,"",null,null,"코크스, 연탄 및 석유정제품 제조업(19)","C"]
["HTVFSS","MICALLOTTE CHEICAL ","FOT","SEL353977DDFD","USD",119040,119040,161501568,"2023-08-16","2023-11-01","C13",4240,"002-565583-847",3,"   ","ICBV","VNHA","tst118 81idn","FNI",2,"FOTSEL353977DDFD","2036-08-05",-4661,67616.543999999994,null,null,"화학물질 및 화학제품 제조업(의약품 제외)(20)","C"]
["HTVFSS","BANK NONGHYUP ANK  ","RBU","SEL301282NA  ","USD",314788.21000000002,314788.21000000002,427073165,"2023-08-04","2024-01-09","BE1",10650,"002-061045-842",3,"FIT","NACF","KRSE","tst104-86idn","FNI",2,"RBUSEL301282NA  ","2036-08-09",-4596,"",null,null,"금융업(64)","K"]
["HTVFSS","T-IMPTHE EXPOR-IMPO","RBU","SEL353956EI  ","USD",286113.08,286113.08,388169616,"2023-08-04","2024-07-29","C15",10650,"002-015925-842",3,"FIT","EIBK","KRYD","tst116-82idn","FNI",2,"RBUSEL353956EI  ","2036-08-14",-4399,"",null,null,"금융업(64)","K"]
["HTVFSS","BANK KEB HANA ANK  ","RBU","SEL353980KE  ","USD",20000,20000,27134000,"2023-08-04","2024-07-29","BE1",10650,"002-060970-842",3,"FIT","KOEX","KRCK","tst202-81idn","FNI",2,"RBUSEL353980KE  ","2036-08-18",-4403,"",null,null,"금융업(64)","K"]
["HTVFSS","C COMKOREA ZIN COMP","FOT","SEL301313DDFD","USD",271953.59999999998,271953.59999999998,368959449,"2023-08-08","2023-11-02","MFS",4272,"002-248510-847"," ","   ","BKCS","CNBJ","tst610-85idn","FNI",2,"FOTSEL301313DDFD","2036-08-24",-4679,38340.248,null,null,"제1차 금속제조업(24)","C"]
["HTVFSS","BANK KEB HANA ANK  ","RBU","SEL301288KE  ","USD",26019,26019,35299977,"2023-08-07","2023-11-06","BE1",10650,"002-060970-842",3,"FIT","KOEX","KRCK","tst202-81idn","FNI",2,"RBUSEL301288KE  ","2036-08-29",-4680,"",null,null,"금융업(64)","K"]
["HTVFSS","BANK KEB HANA ANK  ","RBU","SEL353927KE  ","USD",4649019,4649019,6307324077,"2023-08-07","2024-02-05","BE1",10650,"002-060970-842",3,"FIT","KOEX","KRCK","tst202-81idn","FNI",2,"RBUSEL353927KE  ","2036-09-02",-4593,"",null,null,"금융업(64)","K"]
["HTVFSS","BANK KEB HANA ANK  ","RBU","SEL353998KE  ","USD",72824.88,72824.88,98801515,"2023-08-07","2023-12-05","BE1",10650,"002-060970-842",3,"FIT","KOEX","KRCK","tst202-81idn","FNI",2,"RBUSEL353998KE  ","2036-09-08",-4661,"",null,null,"금융업(64)","K"]
["HTVFSS","BANK KEB HANA ANK  ","RBU","SEL354019KE  ","USD",409500,409500,555568650,"2023-08-07","2023-12-05","BE1",10650,"002-060970-842",3,"FIT","KOEX","KRCK","tst202-81idn","FNI",2,"RBUSEL354019KE  ","2036-09-11",-4664,"",null,null,"금융업(64)","K"]
["HTVFSS","ANK CSHINHAN BNK CO","RBU","SEL301290SH  ","USD",137890,137890,187075363,"2023-08-07","2023-11-28","BE1",10650,"002-061061-842",3,"FIT","SHIB","KRSE","tst202-81idn","FNI",2,"RBUSEL301290SH  ","2036-09-13",-4673,"",null,null,"금융업(64)","K"]
["HTVFSS","LOVISHYUNDAI GOVIS ","BAP","SEL301315DDD ","USD",2311799.41,2311799.41,3136418260,"2023-08-08","2023-10-24","C13",7500,"002-060029-847",3,"EXC","BBMC","IDJA","tst106-81idn","FNI",2,"BAPSEL301315DDD ","2036-09-18",-4713,"",null,null,"자동차 및 부품 판매업(45)","G"]
["HTVFSS","I INFHD HYUNDA INFR","FOT","SEL353993DDFD","USD",17459.28,17459.28,23687005,"2023-08-16","2024-07-29","C13",4290,"002-210741-847",3,"   ","BKCZ","IDJK","tst121-81idn","FNI",2,"FOTSEL353993DDFD","2036-09-24",-4440,4531.9759999999997,null,null,"기타 기계 및 장비 제조업(29)","C"]
["HTVFSS","BANK KEB HANA ANK  ","RBU","SEL301306KE  ","USD",2539247.44,2539247.44,3444997002,"2023-08-08","2024-02-05","BE1",10650,"002-060970-842",3,"FIT","KOEX","KRCK","tst202-81idn","FNI",2,"RBUSEL301306KE  ","2036-09-28",-4619,"",null,null,"금융업(64)","K"]
["HTVFSS","ANK CKOOKMIN BNK CO","RBU","SEL354024CT  ","USD",28576.42,28576.42,38769629,"2023-08-08","2024-08-02","BE1",10650,"002-060855-842",3,"FIT","CTZN","KRSE","tst201-81idn","FNI",2,"RBUSEL354024CT  ","2036-10-05",-4447,"",null,null,"금융업(64)","K"]
["HTVFSS","BANK NONGHYUP ANK  ","RBU","SEL354027NA  ","CNY",320038.34000000003,320038.34000000003,59243152,"2023-08-08","2023-11-06","BE1",10650,"002-061045-842",3,"FIT","NACF","KRSE","tst104-86idn","FNI",2,"RBUSEL354027NA  ","2036-10-08",-4720,"",null,null,"금융업(64)","K"]
["HTVFSS","BANK KEB HANA ANK  ","RBU","SEL354032KE  ","USD",889958.17,889958.17,1207406249,"2023-08-08","2024-01-29","BE1",10650,"002-060970-842",3,"FIT","KOEX","KRCK","tst202-81idn","FNI",2,"RBUSEL354032KE  ","2036-10-13",-4641,"",null,null,"금융업(64)","K"]
["HTVFSS","BANK KEB HANA ANK  ","RBU","SEL354043KE  ","USD",330870,330870,448891329,"2023-08-08","2024-08-02","BE1",10650,"002-060970-842",3,"FIT","KOEX","KRCK","tst202-81idn","FNI",2,"RBUSEL354043KE  ","2036-10-18",-4460,"",null,null,"금융업(64)","K"]
["HTVFSS","ANK CSHINHAN BNK CO","RBU","SEL301289SH  ","USD",16686.990000000002,16686.990000000002,22639239,"2023-08-09","2024-02-05","BE1",10650,"002-061061-842",3,"FIT","SHIB","KRSE","tst202-81idn","FNI",2,"RBUSEL301289SH  ","2036-10-23",-4644,"",null,null,"금융업(64)","K"]
["HTVFSS","BANK KEB HANA ANK  ","RBU","SEL301312KE  ","USD",127008,127008,172311754,"2023-08-09","2023-11-27","BE1",10650,"002-060970-842",3,"FIT","KOEX","KRCK","tst202-81idn","FNI",2,"RBUSEL301312KE  ","2036-10-25",-4716,"",null,null,"금융업(64)","K"]
["HTVFSS","BANK KEB HANA ANK  ","RBU","SEL354050KE  ","USD",28590,28590,38788053,"2023-08-09","2024-08-05","BE1",10650,"002-060970-842",3,"FIT","KOEX","KRCK","tst202-81idn","FNI",2,"RBUSEL354050KE  ","2036-11-01",-4471,"",null,null,"금융업(64)","K"]
["HTVFSS","MICALLOTTE CHEICAL ","FOT","SEL354062DDFD","USD",29440,29440,39941248,"2023-08-17","2023-11-07","C13",4240,"002-565583-847",3,"   ","BKAI","VNHN","tst118 81idn","FNI",2,"FOTSEL354062DDFD","2036-11-07",-4749,18168.248,null,null,"화학물질 및 화학제품 제조업(의약품 제외)(20)","C"]
["HTVFSS","BANK NONGHYUP ANK  ","RBU","SEL301329NA  ","USD",321251.36,321251.36,435841720,"2023-08-10","2024-01-16","BE1",10650,"002-061045-842",3,"FIT","NACF","KRSE","tst104-86idn","FNI",2,"RBUSEL301329NA  ","2036-11-11",-4683,"",null,null,"금융업(64)","K"]
["HTVFSS","K    WOORI BAN     ","RBU","SEL353995CB  ","USD",140825.73000000001,140825.73000000001,191058268,"2023-08-10","2024-02-06","BE1",10650,"002-060863-842",3,"FIT","CBOK","KRSL","tst201-81idn","FNI",2,"RBUSEL353995CB  ","2036-11-12",-4663,"",null,null,"금융업(64)","K"]
["HTVFSS","ANK CSHINHAN BNK CO","RBU","SEL354080SH  ","USD",94049.76,94049.76,127597309,"2023-08-10","2023-11-08","BE1",10650,"002-061061-842",3,"FIT","SHIB","KRSE","tst202-81idn","FNI",2,"RBUSEL354080SH  ","2036-11-18",-4759,"",null,null,"금융업(64)","K"]
["HTVFSS","TALENHANWHA TOALENE","FOT","SEL301334DDFD","USD",10962,10962,14872145,"2023-08-11","2023-11-20","C13",4232,"002-826974-847",3,"   ","SBOI","INTC","tst316-81idn","FNI",2,"FOTSEL301334DDFD","2036-11-21",-4750,914.46399999999994,null,null,"코크스, 연탄 및 석유정제품 제조업(19)","C"]
["HTVFSS","BANK KEB HANA ANK  ","RBU","SEL353985KE  ","USD",470000,470000,637649000,"2023-08-11","2023-11-13","BE1",10650,"002-060970-842",3,"FIT","KOEX","KRCK","tst202-81idn","FNI",2,"RBUSEL353985KE  ","2036-11-27",-4763,"",null,null,"금융업(64)","K"]
["HTVFSS","BANK KEB HANA ANK  ","RBU","SEL354084KE  ","USD",176000,176000,238779200,"2023-08-11","2024-08-05","BE1",10650,"002-060970-842",3,"FIT","KOEX","KRCK","tst202-81idn","FNI",2,"RBUSEL354084KE  ","2036-12-01",-4501,"",null,null,"금융업(64)","K"]
["HTVFSS","BANK KEB HANA ANK  ","RBU","SEL354094KE  ","USD",404780,404780,549165026,"2023-08-11","2024-08-05","BE1",10650,"002-060970-842",3,"FIT","KOEX","KRCK","tst202-81idn","FNI",2,"RBUSEL354094KE  ","2036-12-06",-4506,"",null,null,"금융업(64)","K"]
["HTVFSS","BANK KEB HANA ANK  ","RBU","SEL353959KE  ","USD",289406.09999999998,289406.09999999998,392637256,"2023-08-14","2024-01-24","BE1",10650,"002-060970-842",3,"FIT","KOEX","KRCK","tst202-81idn","FNI",2,"RBUSEL353959KE  ","2036-12-12",-4706,"",null,null,"금융업(64)","K"]
["HTVFSS","ANK CKOOKMIN BNK CO","RBU","SEL354101CT  ","SEK",1224972,1224972,150486438,"2023-08-14","2024-02-13","BE1",10650,"002-060855-842",3,"FIT","CTZN","KRSE","tst201-81idn","FNI",2,"RBUSEL354101CT  ","2036-12-18",-4692,"",null,null,"금융업(64)","K"]
["HTVFSS","ANK CSHINHAN BNK CO","RBU","SEL354107SH  ","USD",941064.3,941064.3,1276741936,"2023-08-14","2024-02-13","BE1",10650,"002-061061-842",3,"FIT","SHIB","KRSA","tst202-81idn","FNI",2,"RBUSEL354107SH  ","2036-12-22",-4696,"",null,null,"금융업(64)","K"]
["HTVFSS","BANK KEB HANA ANK  ","RBU","SEL354112KE  ","USD",84669.88,84669.88,114871626,"2023-08-14","2023-12-01","BE1",10650,"002-060970-842",3,"FIT","KOEX","KRCK","tst202-81idn","FNI",2,"RBUSEL354112KE  ","2036-12-25",-4773,"",null,null,"금융업(64)","K"]
["HTVFSS","&T COSAMSUNG CT COR","FOT","SEL301350DDFD","USD",31200,31200,42329040,"2023-08-17","2023-11-13","C13",7510,"002-000934-847",3,"   ","ICIB","INUI","tst202-81idn","FNI",2,"FOTSEL301350DDFD","2036-12-31",-4797,2313.056,null,null,"도매 및 상품중개업(46)","G"]
["HTVFSS","ANK CSHINHAN BNK CO","RBU","SEL301340SH  ","USD",8951.67,8951.67,12144731,"2023-08-16","2024-02-13","BE1",10650,"002-061061-842",3,"FIT","SHIB","KRSE","tst202-81idn","FNI",2,"RBUSEL301340SH  ","2037-01-06",-4711,"",null,null,"금융업(64)","K"]
["HTVFSS","L BANINDUSTRIA BANK","RBU","SEL301343MD  ","USD",170038,170038,230690555,"2023-08-16","2024-08-12","BK4",10650,"002-060921-842"," ","FIT","MDDY","KRSL","tst202-81idn","FNI",2,"RBUSEL301343MD  ","2037-01-07",-4531,"",null,null,"금융업(64)","K"]
["HTVFSS","ANK CSHINHAN BNK CO","RBU","SEL354086SH  ","USD",77672.52,77672.52,105378308,"2023-08-16","2024-02-13","BE1",10650,"002-061061-842",3,"FIT","SHIB","KRSE","tst202-81idn","FNI",2,"RBUSEL354086SH  ","2037-01-11",-4716,"",null,null,"금융업(64)","K"]
["HTVFSS","BANK NONGHYUP ANK  ","RBU","SEL354124NA  ","USD",99639.75,99639.75,135181249,"2023-08-16","2023-11-14","BE1",10650,"002-061045-842",3,"FIT","NACF","KRSE","tst104-86idn","FNI",2,"RBUSEL354124NA  ","2037-01-18",-4814,"",null,null,"금융업(64)","K"]
["HTVFSS","BANK KEB HANA ANK  ","RBU","SEL354128KE  ","USD",3159566.3,3159566.3,4286583599,"2023-08-16","2024-01-31","BE1",10650,"002-060970-842",3,"FIT","KOEX","KRCK","tst202-81idn","FNI",2,"RBUSEL354128KE  ","2037-01-20",-4738,"",null,null,"금융업(64)","K"]
["HTVFSS","C COMKOREA ZIN COMP","FOT","SEL301358DDFD","USD",216605.74,216605.74,293869007,"2023-08-17","2023-11-06","MFS",4272,"002-248510-847"," ","   ","HDFC","INND","tst610-85idn","FNI",2,"FOTSEL301358DDFD","2037-01-26",-4830,14886.935999999998,null,null,"제1차 금속제조업(24)","C"]
["HTVFSS","I INFHD HYUNDA INFR","FOT","SEL354147DDFD","USD",1291388,1291388,1752026100,"2023-08-23","2023-10-31","C13",4290,"002-210741-847",3,"   ","ALNK","SARI","tst121-81idn","FNI",2,"FOTSEL354147DDFD","2037-01-31",-4841,91863.287999999986,null,null,"기타 기계 및 장비 제조업(29)","C"]
["HTVFSS","ANK CSHINHAN BNK CO","RBU","SEL301341SH  ","USD",215296,215296,292092083,"2023-08-17","2024-02-13","BE1",10650,"002-061061-842",3,"FIT","SHIB","KRSA","tst202-81idn","FNI",2,"RBUSEL301341SH  ","2037-02-04",-4740,"",null,null,"금융업(64)","K"]
["HTVFSS","ANK CSHINHAN BNK CO","RBU","SEL354126SH  ","SEK",2152000,2152000,264370790,"2023-08-17","2024-02-13","BE1",10650,"002-061061-842",3,"FIT","SHIB","KRSE","tst202-81idn","FNI",2,"RBUSEL354126SH  ","2037-02-10",-4746,"",null,null,"금융업(64)","K"]
["HTVFSS","ANK CKOOKMIN BNK CO","RBU","SEL354134CT  ","SEK",1272000,1272000,156263775,"2023-08-17","2024-02-13","BE1",10650,"002-060855-842",3,"FIT","CTZN","KRSE","tst201-81idn","FNI",2,"RBUSEL354134CT  ","2037-02-13",-4749,"",null,null,"금융업(64)","K"]
["HTVFSS","BANK KEB HANA ANK  ","RBU","SEL354169KE  ","USD",82534.25,82534.25,111974217,"2023-08-17","2023-12-07","BE1",10650,"002-060970-842",3,"FIT","KOEX","KRCK","tst202-81idn","FNI",2,"RBUSEL354169KE  ","2037-02-20",-4824,"",null,null,"금융업(64)","K"]
["HTVFSS","MICALLOTTE CHEICAL ","FOT","SEL301366DDFD","USD",492912,492912,668733710,"2023-08-23","2023-11-15","C13",4240,"002-565583-847",3,"   ","ICBA","CNNI","tst118 81idn","FNI",2,"FOTSEL301366DDFD","2037-02-24",-4850,41702.248,null,null,"화학물질 및 화학제품 제조업(의약품 제외)(20)","C"]
["HTVFSS","MICALLOTTE CHEICAL ","FOT","SEL354177DDFD","USD",25870,25870,35097829,"2023-08-25","2023-11-15","C13",4240,"002-565583-847",3,"   ","BSLA","PLKA","tst118 81idn","FNI",2,"FOTSEL354177DDFD","2037-03-01",-4855,5392.6479999999992,null,null,"화학물질 및 화학제품 제조업(의약품 제외)(20)","C"]
["HTVFSS","BANK KEB HANA ANK  ","RBU","SEL354066KE  ","USD",50390,50390,68364113,"2023-08-18","2024-02-14","BE1",10650,"002-060970-842",3,"FIT","KOEX","KRCK","tst202-81idn","FNI",2,"RBUSEL354066KE  ","2037-03-07",-4770,"",null,null,"금융업(64)","K"]
["HTVFSS","BANK NONGHYUP ANK  ","RBU","SEL354166NA  ","CNY",9476.2999999999993,9476.2999999999993,1754183,"2023-08-18","2024-02-16","BE1",10650,"002-061045-842",3,"FIT","NACF","KRSE","tst104-86idn","FNI",2,"RBUSEL354166NA  ","2037-03-09",-4770,"",null,null,"금융업(64)","K"]
["HTVFSS","ANK CSHINHAN BNK CO","RBU","SEL354178SH  ","USD",102388.25,102388.25,138910139,"2023-08-18","2023-12-18","BE1",10650,"002-061061-842",3,"FIT","SHIB","KRSE","tst202-81idn","FNI",2,"RBUSEL354178SH  ","2037-03-12",-4833,"",null,null,"금융업(64)","K"]
["HTVFSS","I CONHD HYUNDA CONS","FOT","SEL354192DDFD","USD",168160,168160,228142672,"2023-09-01","2024-01-25","C13",4290,"002-284786-847",3,"   ","UNBU","UYMO","tst528-88idn","FNI",2,"FOTSEL354192DDFD","2037-03-20",-4803,"",null,null,"기타 기계 및 장비 제조업(29)","C"]
["HTVFSS","MICALLOTTE CHEICAL ","FOT","SEL354193DDFD","USD",67840,67840,92038528,"2023-08-25","2023-11-16","C13",4240,"002-565583-847",3,"   ","BKAI","VNHN","tst118 81idn","FNI",2,"FOTSEL354193DDFD","2037-03-21",-4874,47404.2,null,null,"화학물질 및 화학제품 제조업(의약품 제외)(20)","C"]
["HTVFSS","BANK KEB HANA ANK  ","RBU","SEL354189KE  ","USD",270295.28000000003,270295.28000000003,366709606,"2023-08-21","2023-12-19","BE1",10650,"002-060970-842",3,"FIT","KOEX","KRCK","tst202-81idn","FNI",2,"RBUSEL354189KE  ","2037-03-27",-4847,"",null,null,"금융업(64)","K"]
["HTVFSS","BANK KEB HANA ANK  ","RBU","SEL354200KE  ","USD",61587,61587,83555083,"2023-08-21","2023-11-20","BE1",10650,"002-060970-842",3,"FIT","KOEX","KRCK","tst202-81idn","FNI",2,"RBUSEL354200KE  ","2037-04-02",-4882,"",null,null,"금융업(64)","K"]
["HTVFSS","BANK KEB HANA ANK  ","RBU","SEL354207KE  ","USD",12600,12600,17094420,"2023-08-21","2024-02-20","BE1",10650,"002-060970-842",3,"FIT","KOEX","KRCK","tst202-81idn","FNI",2,"RBUSEL354207KE  ","2037-04-05",-4793,"",null,null,"금융업(64)","K"]
["HTVFSS","OO COTATA DAEWO COM","FOT","SEL354205DDFD","USD",3150000,3150000,4273605000,"2023-09-05","2024-01-29","C13",4340,"002-704686-847",3,"   ","BABD","SAAB","tst401-81idn","FNI",2,"FOTSEL354205DDFD","2037-04-11",-4821,"",null,null,"자동차 및 트레일러 제조업(30)","C"]
["HTVFSS","TALENHANWHA TOALENE","FOT","SEL354223DDFD","USD",26900,26900,36495230,"2023-08-23","2023-12-18","C13",4232,"002-826974-847",3,"   ","CRIT","ITMP","tst316-81idn","FNI",2,"FOTSEL354223DDFD","2037-04-15",-4867,8028.4560000000001,null,null,"코크스, 연탄 및 석유정제품 제조업(19)","C"]
["HTVFSS","BANK KEB HANA ANK  ","RBU","SEL354203KE  ","USD",19361.689999999999,19361.689999999999,26268005,"2023-08-22","2024-05-20","BE1",10650,"002-060970-842",3,"FIT","KOEX","KRCK","tst202-81idn","FNI",2,"RBUSEL354203KE  ","2037-04-21",-4719,"",null,null,"금융업(64)","K"]
["HTVFSS","BANK KEB HANA ANK  ","RBU","SEL354219KE  ","USD",16479.38,16479.38,22357575,"2023-08-22","2024-08-16","BE1",10650,"002-060970-842",3,"FIT","KOEX","KRCK","tst202-81idn","FNI",2,"RBUSEL354219KE  ","2037-04-26",-4636,"",null,null,"금융업(64)","K"]
["HTVFSS","BANK KEB HANA ANK  ","RBU","SEL354233KE  ","USD",166079,166079,225319379,"2023-08-22","2024-08-16","BE1",10650,"002-060970-842",3,"FIT","KOEX","KRCK","tst202-81idn","FNI",2,"RBUSEL354233KE  ","2037-04-30",-4640,"",null,null,"금융업(64)","K"]
["HTVFSS","BANK KEB HANA ANK  ","RBU","SEL354242KE  ","USD",199820,199820,271095794,"2023-08-22","2024-08-16","BE1",10650,"002-060970-842",3,"FIT","KOEX","KRCK","tst202-81idn","FNI",2,"RBUSEL354242KE  ","2037-05-06",-4646,"",null,null,"금융업(64)","K"]
["HTVFSS","MICALLOTTE CHEICAL ","FOT","SEL354228DDFD","USD",449400,449400,609700980,"2023-08-29","2023-11-20","C13",4240,"002-565583-847",3,"   ","ICBA","CNHH","tst118 81idn","FNI",2,"FOTSEL354228DDFD","2037-05-09",-4919,40478.480000000003,null,null,"화학물질 및 화학제품 제조업(의약품 제외)(20)","C"]
["HTVFSS","TALENHANWHA TOALENE","FOT","SEL354258DDFD","USD",26900,26900,36495230,"2023-08-24","2023-12-20","C13",4232,"002-826974-847",3,"   ","CRIT","ITMP","tst316-81idn","FNI",2,"FOTSEL354258DDFD","2037-05-15",-4895,8176.384,null,null,"코크스, 연탄 및 석유정제품 제조업(19)","C"]
["HTVFSS","ANK CSHINHAN BNK CO","RBU","SEL301370SH  ","USD",132411.25,132411.25,179642343,"2023-08-23","2024-02-20","BE1",10650,"002-061061-842",3,"FIT","SHIB","KRSE","tst202-81idn","FNI",2,"RBUSEL301370SH  ","2037-05-16",-4834,"",null,null,"금융업(64)","K"]
["HTVFSS","ANK CSHINHAN BNK CO","RBU","SEL354232SH  ","USD",1354054.05,1354054.05,1837045130,"2023-08-23","2024-08-19","BE1",10650,"002-061061-842",3,"FIT","SHIB","KRSE","tst202-81idn","FNI",2,"RBUSEL354232SH  ","2037-05-20",-4657,"",null,null,"금융업(64)","K"]
["HTVFSS","L BANINDUSTRIA BANK","RBU","SEL354250MD  ","CAD",15743.96,15743.96,15561584,"2023-08-23","2023-12-21","BK4",10650,"002-060921-842"," ","FIT","MDDY","KRSL","tst202-81idn","FNI",2,"RBUSEL354250MD  ","2037-05-26",-4905,"",null,null,"금융업(64)","K"]
["HTVFSS","BANK KEB HANA ANK  ","RBU","SEL354267KE  ","USD",29500,29500,40022650,"2023-08-23","2024-08-19","BE1",10650,"002-060970-842",3,"FIT","KOEX","KRCK","tst202-81idn","FNI",2,"RBUSEL354267KE  ","2037-06-02",-4670,"",null,null,"금융업(64)","K"]
["HTVFSS","BANK KEB HANA ANK  ","RBU","SEL354272KE  ","USD",20000,20000,27134000,"2023-08-23","2024-08-19","BE1",10650,"002-060970-842",3,"FIT","KOEX","KRCK","tst202-81idn","FNI",2,"RBUSEL354272KE  ","2037-06-04",-4672,"",null,null,"금융업(64)","K"]
["HTVFSS","OO COTATA DAEWO COM","FOT","SEL354260DDFD","USD",379560,379560,514949052,"2023-09-01","2024-02-13","C13",4340,"002-704686-847",3,"   ","CITI","GBLN","tst401-81idn","FNI",2,"FOTSEL354260DDFD","2037-06-10",-4866,"",null,null,"자동차 및 트레일러 제조업(30)","C"]
["HTVFSS","MICALLOTTE CHEICAL ","FOT","SEL354294DDFD","USD",2407421.0299999998,2407421.0299999998,3266148111,"2023-09-05","2023-11-20","C13",4240,"002-565583-847",3,"   ","BCHH","HKDV","tst118 81idn","FNI",2,"FOTSEL354294DDFD","2037-06-15",-4956,"",null,null,"화학물질 및 화학제품 제조업(의약품 제외)(20)","C"]
["HTVFSS","ANK CSHINHAN BNK CO","RBU","SEL301385SH  ","CNY",425000,425000,78672885,"2023-08-24","2023-10-23","BE1",10650,"002-061061-842",3,"FIT","SHIB","KRSE","tst202-81idn","FNI",2,"RBUSEL301385SH  ","2037-06-20",-4989,"",null,null,"금융업(64)","K"]
["HTVFSS","BANK KEB HANA ANK  ","RBU","SEL354091KE  ","USD",84564,84564,114727979,"2023-08-24","2024-01-29","BE1",10650,"002-060970-842",3,"FIT","KOEX","KRCK","tst202-81idn","FNI",2,"RBUSEL354091KE  ","2037-06-22",-4893,"",null,null,"금융업(64)","K"]
["HTVFSS","BANK KEB HANA ANK  ","RBU","SEL354286KE  ","USD",70980,70980,96298566,"2023-08-24","2024-08-19","BE1",10650,"002-060970-842",3,"FIT","KOEX","KRCK","tst202-81idn","FNI",2,"RBUSEL354286KE  ","2037-06-29",-4697,"",null,null,"금융업(64)","K"]
["HTVFSS","BANK KEB HANA ANK  ","RBU","SEL354298KE  ","USD",452205,452205,613506524,"2023-08-24","2024-08-19","BE1",10650,"002-060970-842",3,"FIT","KOEX","KRCK","tst202-81idn","FNI",2,"RBUSEL354298KE  ","2037-07-05",-4703,"",null,null,"금융업(64)","K"]
["HTVFSS","BANK KEB HANA ANK  ","RBU","SEL354309KE  ","USD",50119.1,50119.1,67996583,"2023-08-24","2024-01-30","BE1",10650,"002-060970-842",3,"FIT","KOEX","KRCK","tst202-81idn","FNI",2,"RBUSEL354309KE  ","2037-07-09",-4909,"",null,null,"금융업(64)","K"]
["HTVFSS","BANK KEB HANA ANK  ","RBU","SEL354287KE  ","USD",579820,579820,786641794,"2023-08-24","2024-08-19","BE1",10650,"002-060970-842",3,"FIT","KOEX","KRCK","tst202-81idn","FNI",2,"RBUSEL354287KE  ","2037-07-14",-4712,"",null,null,"금융업(64)","K"]
["HTVFSS","AL CODL CHEMICL CO.","FOT","SEL354259FD  ","USD",503730,503730,683410491,"2023-09-06","2023-10-20","C13",4240,"002-039687-847",3,"   ","PCBC","CNXA","tst898-86idn","FNI",2,"FOTSEL354259FD  ","2037-07-16",-5018,"",null,null,"화학물질 및 화학제품 제조업(의약품 제외)(20)","C"]
["HTVFSS","MICALLOTTE CHEICAL ","FOT","SEL354311DDFD","USD",48400,48400,65664280,"2023-09-04","2023-11-17","C13",4240,"002-565583-847",3,"   ","UTIB","INCF","tst118 81idn","FNI",2,"FOTSEL354311DDFD","2037-07-19",-4993,"",null,null,"화학물질 및 화학제품 제조업(의약품 제외)(20)","C"]
["HTVFSS","ANK CSHINHAN BNK CO","RBU","SEL301386SH  ","USD",2353.25,2353.25,3192654,"2023-08-25","2024-02-21","BE1",10650,"002-061061-842",3,"FIT","SHIB","KRSE","tst202-81idn","FNI",2,"RBUSEL301386SH  ","2037-07-25",-4903,"",null,null,"금융업(64)","K"]
["HTVFSS","BANK KEB HANA ANK  ","RBU","SEL354283KE  ","USD",30764.1,30764.1,41737654,"2023-08-25","2024-02-21","BE1",10650,"002-060970-842",3,"FIT","KOEX","KRCK","tst202-81idn","FNI",2,"RBUSEL354283KE  ","2037-07-29",-4907,"",null,null,"금융업(64)","K"]
["HTVFSS","BANK NONGHYUP ANK  ","RBU","SEL354318NA  ","USD",375000,375000,508762500,"2023-08-25","2024-08-19","BE1",10650,"002-061045-842",3,"FIT","NACF","KRSE","tst104-86idn","FNI",2,"RBUSEL354318NA  ","2037-08-03",-4732,"",null,null,"금융업(64)","K"]
["HTVFSS","BANK KEB HANA ANK  ","RBU","SEL354333KE  ","USD",51271.5,51271.5,69560044,"2023-08-25","2023-11-24","BE1",10650,"002-060970-842",3,"FIT","KOEX","KRCK","tst202-81idn","FNI",2,"RBUSEL354333KE  ","2037-08-09",-5007,"",null,null,"금융업(64)","K"]
["HTVFSS","&T COSAMSUNG CT COR","FOT","SEL301405DDFD","USD",923654.32,923654.32,1253121816,"2023-08-28","2024-02-07","C13",7510,"002-000934-847",3,"   ","MNEX","CLSA","tst202-81idn","FNI",2,"FOTSEL301405DDFD","2037-08-13",-4936,1178515.48,null,null,"도매 및 상품중개업(46)","G"]
["HTVFSS","MICALLOTTE CHEICAL ","FOT","SEL354334DDFD","USD",92400,92400,125359080,"2023-09-07","2023-10-24","C13",4240,"002-565583-847",3,"   ","BACP","CNNI","tst118 81idn","FNI",2,"FOTSEL354334DDFD","2037-08-18",-5047,"",null,null,"화학물질 및 화학제품 제조업(의약품 제외)(20)","C"]
["HTVFSS","K    WOORI BAN     ","RBU","SEL301404CB  ","USD",233213.14,233213.14,316400267,"2023-08-28","2023-11-15","BE1",10650,"002-060863-842",3,"FIT","CBOK","KRSL","tst201-81idn","FNI",2,"RBUSEL301404CB  ","2037-08-22",-5029,"",null,null,"금융업(64)","K"]
["HTVFSS","BANK NONGHYUP ANK  ","RBU","SEL354336NA  ","CNY",294525,294525,54520309,"2023-08-28","2023-12-26","BE1",10650,"002-061045-842",3,"FIT","NACF","KRSE","tst104-86idn","FNI",2,"RBUSEL354336NA  ","2037-08-28",-4994,"",null,null,"금융업(64)","K"]
["HTVFSS","BANK KEB HANA ANK  ","RBU","SEL354348KE  ","USD",26820,26820,36386694,"2023-08-28","2024-08-22","BE1",10650,"002-060970-842",3,"FIT","KOEX","KRCK","tst202-81idn","FNI",2,"RBUSEL354348KE  ","2037-09-03",-4760,"",null,null,"금융업(64)","K"]
["HTVFSS","BANK KEB HANA ANK  ","RBU","SEL354351KE  ","USD",80400.070000000007,80400.070000000007,109078775,"2023-08-28","2023-12-18","BE1",10650,"002-060970-842",3,"FIT","KOEX","KRCK","tst202-81idn","FNI",2,"RBUSEL354351KE  ","2037-09-04",-5009,"",null,null,"금융업(64)","K"]
["HTVFSS"," CORPGS GLOBALCORP.","FOT","SEL354345FD  ","USD",73426.429999999993,73426.429999999993,99617638,"2023-09-27","2023-12-18","C13",7510,"002-003928-847",3,"   ","BSHR","OMRU","tst202-81idn","FNI",2,"FOTSEL354345FD  ","2037-09-12",-5017,"",null,null,"도매 및 상품중개업(46)","G"]
["HTVFSS","MICALLOTTE CHEICAL ","FOT","SEL354355DDFD","USD",515000,515000,698700500,"2023-09-07","2023-11-24","C13",4240,"002-565583-847",3,"   ","ICBV","VNHA","tst118 81idn","FNI",2,"FOTSEL354355DDFD","2037-09-15",-5044,"",null,null,"화학물질 및 화학제품 제조업(의약품 제외)(20)","C"]
["HTVFSS","TALENHANWHA TOALENE","FOT","SEL354359DDFD","USD",74880,74880,101589696,"2023-08-29","2023-11-24","C13",4232,"002-826974-847",3,"   ","ICBV","VNHA","tst316-81idn","FNI",2,"FOTSEL354359DDFD","2037-09-17",-5046,56952.28,null,null,"코크스, 연탄 및 석유정제품 제조업(19)","C"]
["HTVFSS","MICALLOTTE CHEICAL ","FOT","SEL354366DDFD","USD",355520,355520,482333984,"2023-09-06","2023-12-22","C13",4240,"002-565583-847",3,"   ","BNBS","ZAJA","tst118 81idn","FNI",2,"FOTSEL354366DDFD","2037-09-23",-5024,"",null,null,"화학물질 및 화학제품 제조업(의약품 제외)(20)","C"]
["HTVFSS","ANK CSHINHAN BNK CO","RBU","SEL354350SH  ","SEK",1417340,1417340,174118632,"2023-08-29","2024-02-26","BE1",10650,"002-061061-842",3,"FIT","SHIB","KRSE","tst202-81idn","FNI",2,"RBUSEL354350SH  ","2037-09-28",-4963,"",null,null,"금융업(64)","K"]
["HTVFSS","BANK KEB HANA ANK  ","RBU","SEL354372KE  ","USD",175668.48000000001,175668.48000000001,238329427,"2023-08-29","2024-01-26","BE1",10650,"002-060970-842",3,"FIT","KOEX","KRCK","tst202-81idn","FNI",2,"RBUSEL354372KE  ","2037-10-02",-4998,"",null,null,"금융업(64)","K"]
["HTVFSS","&T COSAMSUNG CT COR","FOT","SEL301425DDFD","USD",120320,120320,163238144,"2023-08-31","2023-11-24","C13",7510,"002-000934-847",3,"   ","BKPE","IDJH","tst202-81idn","FNI",2,"FOTSEL301425DDFD","2037-10-09",-5068,23695.376,null,null,"도매 및 상품중개업(46)","G"]
["HTVFSS","MICALLOTTE CHEICAL ","FOT","SEL354383DDFD","USD",1836000,1836000,2490901200,"2023-09-06","2023-11-27","C13",4240,"002-565583-847",3,"   ","BACP","CNHE","tst118 81idn","FNI",2,"FOTSEL354383DDFD","2037-10-12",-5068,"",null,null,"화학물질 및 화학제품 제조업(의약품 제외)(20)","C"]
["HTVFSS","TALENHANWHA TOALENE","FOT","SEL354407DDFD","USD",50512,50512,68529630,"2023-08-31","2023-11-24","C13",4232,"002-826974-847",3,"   ","HBMB","MYAG","tst316-81idn","FNI",2,"FOTSEL354407DDFD","2037-10-17",-5076,5701.9519999999993,null,null,"코크스, 연탄 및 석유정제품 제조업(19)","C"]
["HTVFSS","BANK NONGHYUP ANK  ","RBU","SEL354391NA  ","CNY",298069.59000000003,298069.59000000003,55176458,"2023-08-30","2023-11-10","BE1",10650,"002-061045-842",3,"FIT","NACF","KRSE","tst104-86idn","FNI",2,"RBUSEL354391NA  ","2037-10-22",-5095,"",null,null,"금융업(64)","K"]
["HTVFSS","T-IMPTHE EXPOR-IMPO","RBU","SEL354399EI  ","USD",10000,10000,13567000,"2023-08-30","2024-08-26","C15",10650,"002-015925-842",3,"FIT","EIBK","KRYD","tst116-82idn","FNI",2,"RBUSEL354399EI  ","2037-10-27",-4810,"",null,null,"금융업(64)","K"]
["HTVFSS","BANK KEB HANA ANK  ","RBU","SEL354412KE  ","USD",84294.5,84294.5,114362348,"2023-08-30","2023-12-20","BE1",10650,"002-060970-842",3,"FIT","KOEX","KRCK","tst202-81idn","FNI",2,"RBUSEL354412KE  ","2037-11-02",-5066,"",null,null,"금융업(64)","K"]
["HTVFSS","K    WOORI BAN     ","RBU","SEL354414CB  ","USD",132950,132950,180373265,"2023-08-30","2023-12-28","BE1",10650,"002-060863-842",3,"FIT","CBOK","KRSL","tst201-81idn","FNI",2,"RBUSEL354414CB  ","2037-11-04",-5060,"",null,null,"금융업(64)","K"]
["HTVFSS","&T COSAMSUNG CT COR","FOT","SEL301433DDFD","USD",64294.400000000001,64294.400000000001,87228212,"2023-09-01","2023-11-27","C13",7510,"002-000934-847",3,"   ","PTNB","IDJA","tst202-81idn","FNI",2,"FOTSEL301433DDFD","2037-11-11",-5098,"",null,null,"도매 및 상품중개업(46)","G"]
["HTVFSS","MICALLOTTE CHEICAL ","FOT","SEL354416DDFD","USD",48000,48000,65121600,"2023-09-05","2023-10-27","C13",4240,"002-565583-847",3,"   ","HKBA","SYD ","tst118 81idn","FNI",2,"FOTSEL354416DDFD","2037-11-15",-5133,"",null,null,"화학물질 및 화학제품 제조업(의약품 제외)(20)","C"]
["HTVFSS","MICALLOTTE CHEICAL ","FOT","SEL354420DDFD","USD",517500,517500,702092250,"2023-09-12","2023-11-27","C13",4240,"002-565583-847",3,"   ","BACP","CNNK","tst118 81idn","FNI",2,"FOTSEL354420DDFD","2037-11-16",-5103,"",null,null,"화학물질 및 화학제품 제조업(의약품 제외)(20)","C"]
["HTVFSS","TALENHANWHA TOALENE","FOT","SEL354446DDFD","USD",220800,220800,299559360,"2023-09-01","2023-11-28","C13",4232,"002-826974-847",3,"   ","BQFB","FRPB","tst316-81idn","FNI",2,"FOTSEL354446DDFD","2037-11-22",-5108,"",null,null,"코크스, 연탄 및 석유정제품 제조업(19)","C"]
["HTVFSS","BANK KEB HANA ANK  ","RBU","SEL354368KE  ","USD",654075,654075,887383553,"2023-08-31","2024-08-26","BE1",10650,"002-060970-842",3,"FIT","KOEX","KRCK","tst202-81idn","FNI",2,"RBUSEL354368KE  ","2037-11-28",-4842,"",null,null,"금융업(64)","K"]
["HTVFSS","BANK NONGHYUP ANK  ","RBU","SEL354403NA  ","CNY",3483559.55,3483559.55,644851009,"2023-08-31","2023-12-29","BE1",10650,"002-061045-842",3,"FIT","NACF","KRSE","tst104-86idn","FNI",2,"RBUSEL354403NA  ","2037-12-01",-5086,"",null,null,"금융업(64)","K"]
["HTVFSS","BANK KEB HANA ANK  ","RBU","SEL354427KE  ","USD",36300,36300,49248210,"2023-08-31","2024-02-27","BE1",10650,"002-060970-842",3,"FIT","KOEX","KRCK","tst202-81idn","FNI",2,"RBUSEL354427KE  ","2037-12-05",-5030,"",null,null,"금융업(64)","K"]
["HTVFSS","LOVISHYUNDAI GOVIS ","BAP","SEL301438DDD ","USD",2876723.47,2876723.47,3902850732,"2023-09-01","2023-11-17","C13",7500,"002-060029-847",3,"EXC","BBMC","IDJA","tst106-81idn","FNI",2,"BAPSEL301438DDD ","2037-12-11",-5138,"",null,null,"자동차 및 부품 판매업(45)","G"]
["HTVFSS","MICALLOTTE CHEICAL ","FOT","SEL354451DDFD","USD",844560,844560,1145814552,"2023-09-21","2023-11-28","C13",4240,"002-565583-847",3,"   ","BKCS","CNHJ","tst118 81idn","FNI",2,"FOTSEL354451DDFD","2037-12-16",-5132,"",null,null,"화학물질 및 화학제품 제조업(의약품 제외)(20)","C"]
["HTVFSS","BANK NONGHYUP ANK  ","RBU","SEL354433NA  ","CNY",90467.59,90467.59,16746697,"2023-09-01","2023-11-20","BE1",10650,"002-061045-842",3,"FIT","NACF","KRSE","tst104-86idn","FNI",2,"RBUSEL354433NA  ","2037-12-22",-5146,"",null,null,"금융업(64)","K"]
["HTVFSS","BANK KEB HANA ANK  ","RBU","SEL354462KE  ","USD",285565,285565,387426036,"2023-09-01","2024-08-26","BE1",10650,"002-060970-842",3,"FIT","KOEX","KRCK","tst202-81idn","FNI",2,"RBUSEL354462KE  ","2037-12-26",-4870,"",null,null,"금융업(64)","K"]
["HTVFSS","BANK KEB HANA ANK  ","RBU","SEL354468KE  ","USD",204866.56,204866.56,277942462,"2023-09-01","2024-01-29","BE1",10650,"002-060970-842",3,"FIT","KOEX","KRCK","tst202-81idn","FNI",2,"RBUSEL354468KE  ","2038-01-01",-5086,"",null,null,"금융업(64)","K"]
["HTVFSS","BANK KEB HANA ANK  ","RBU","SEL354472KE  ","USD",102500,102500,139061750,"2023-09-01","2024-08-26","BE1",10650,"002-060970-842",3,"FIT","KOEX","KRCK","tst202-81idn","FNI",2,"RBUSEL354472KE  ","2038-01-04",-4879,"",null,null,"금융업(64)","K"]
["HTVFSS","I CONHD HYUNDA CONS","FOT","SEL354449DDFD","USD",95250,95250,129225675,"2023-09-15","2024-08-26","C13",4290,"002-284786-847",3,"   ","AABQ","QADH","tst528-88idn","FNI",2,"FOTSEL354449DDFD","2038-01-10",-4885,"",null,null,"기타 기계 및 장비 제조업(29)","C"]
["HTVFSS","I CONHD HYUNDA CONS","FOT","SEL354450DDFD","USD",213000,213000,288977100,"2023-09-12","2024-02-20","C13",4290,"002-284786-847",3,"   ","UNBU","UYMO","tst528-88idn","FNI",2,"FOTSEL354450DDFD","2038-01-11",-5074,"",null,null,"기타 기계 및 장비 제조업(29)","C"]
["HTVFSS","MICALLOTTE CHEICAL ","FOT","SEL354479DDFD","USD",12870,12870,17460729,"2023-09-12","2023-10-30","C13",4240,"002-565583-847",3,"   ","WNZL","NZWT","tst118 81idn","FNI",2,"FOTSEL354479DDFD","2038-01-15",-5191,"",null,null,"화학물질 및 화학제품 제조업(의약품 제외)(20)","C"]
["HTVFSS","MICALLOTTE CHEICAL ","FOT","SEL354497DDFD","USD",198000,198000,268626600,"2023-09-12","2023-11-27","C13",4240,"002-565583-847",3,"   ","BOCG","PTLI","tst118 81idn","FNI",2,"FOTSEL354497DDFD","2038-01-20",-5168,"",null,null,"화학물질 및 화학제품 제조업(의약품 제외)(20)","C"]
["HTVFSS","BANK KEB HANA ANK  ","RBU","SEL354492KE  ","EUR",73923.16,73923.16,105727353,"2023-09-04","2024-01-02","BE1",10650,"002-060970-842",3,"FIT","KOEX","KRCK","tst202-81idn","FNI",2,"RBUSEL354492KE  ","2038-01-28",-5140,"",null,null,"금융업(64)","K"]
["HTVFSS","I ELEHD HYUNDA ELEC","FOT","SEL354507DDFD","USD",2408820,2408820,3268046094,"2023-09-20","2024-05-28","C13",4310,"002-079097-847",3,"   ","NCLB","SAJD","tst266-86idn","FNI",2,"FOTSEL354507DDFD","2038-01-30",-4995,"",null,null,"전기장비 제조업(28)","C"]
["HTVFSS","TALENHANWHA TOALENE","FOT","SEL354527DDFD","EUR",229900,229900,328810599,"2023-09-06","2023-10-30","C13",4232,"002-826974-847",3,"   ","BCII","ITMI","tst316-81idn","FNI",2,"FOTSEL354527DDFD","2038-02-04",-5211,"",null,null,"코크스, 연탄 및 석유정제품 제조업(19)","C"]
["HTVFSS","ANK CKOOKMIN BNK CO","RBU","SEL354481CT  ","USD",118520,118520,160796084,"2023-09-05","2024-08-30","BE1",10650,"002-060855-842",3,"FIT","CTZN","KRSE","tst201-81idn","FNI",2,"RBUSEL354481CT  ","2038-02-09",-4911,"",null,null,"금융업(64)","K"]
["HTVFSS","ANK CKOOKMIN BNK CO","RBU","SEL354495CT  ","USD",81030,81030,109933401,"2023-09-05","2024-08-30","BE1",10650,"002-060855-842",3,"FIT","CTZN","KRSE","tst201-81idn","FNI",2,"RBUSEL354495CT  ","2038-02-14",-4916,"",null,null,"금융업(64)","K"]
["HTVFSS","K    WOORI BAN     ","RBU","SEL354500CB  ","USD",5688.5,5688.5,7717588,"2023-09-05","2024-08-30","BE1",10650,"002-060863-842",3,"FIT","CBOK","KRSL","tst201-81idn","FNI",2,"RBUSEL354500CB  ","2038-02-17",-4919,"",null,null,"금융업(64)","K"]
["HTVFSS","ANK CKOOKMIN BNK CO","RBU","SEL354510CT  ","USD",185320,185320,251423644,"2023-09-05","2024-08-30","BE1",10650,"002-060855-842",3,"FIT","CTZN","KRSE","tst201-81idn","FNI",2,"RBUSEL354510CT  ","2038-02-24",-4926,"",null,null,"금융업(64)","K"]
["HTVFSS","MICALLOTTE CHEICAL ","FOT","SEL354506DDFD","USD",117120,117120,158896704,"2023-09-20","2023-11-29","C13",4240,"002-565583-847",3,"   ","SBOI","INTC","tst118 81idn","FNI",2,"FOTSEL354506DDFD","2038-03-02",-5207,"",null,null,"화학물질 및 화학제품 제조업(의약품 제외)(20)","C"]
["HTVFSS","I INFHD HYUNDA INFR","FOT","SEL354526DDFD","USD",943600,943600,1280182120,"2023-09-13","2023-11-21","C13",4290,"002-210741-847",3,"   ","BABD","SAAD","tst121-81idn","FNI",2,"FOTSEL354526DDFD","2038-03-06",-5219,"",null,null,"기타 기계 및 장비 제조업(29)","C"]
["HTVFSS","ANK CSHINHAN BNK CO","RBU","SEL354534SH  ","USD",470106.64,470106.64,637793678,"2023-09-06","2024-03-04","BE1",10650,"002-061061-842",3,"FIT","SHIB","KRSE","tst202-81idn","FNI",2,"RBUSEL354534SH  ","2038-03-11",-5120,"",null,null,"금융업(64)","K"]
["HTVFSS","ANK CKOOKMIN BNK CO","RBU","SEL354536CT  ","USD",29500,29500,40022650,"2023-09-06","2024-09-03","BE1",10650,"002-060855-842",3,"FIT","CTZN","KRSE","tst201-81idn","FNI",2,"RBUSEL354536CT  ","2038-03-13",-4939,"",null,null,"금융업(64)","K"]
["HTVFSS","ANK CSHINHAN BNK CO","RBU","SEL354541SH  ","USD",2405166.6,2405166.6,3263089526,"2023-09-06","2024-09-03","BE1",10650,"002-061061-842",3,"FIT","SHIB","KRSE","tst202-81idn","FNI",2,"RBUSEL354541SH  ","2038-03-16",-4942,"",null,null,"금융업(64)","K"]
["HTVFSS","BANK KEB HANA ANK  ","RBU","SEL354549KE  ","USD",2372204.5099999998,2372204.5099999998,3218369859,"2023-09-06","2024-03-04","BE1",10650,"002-060970-842",3,"FIT","KOEX","KRCK","tst202-81idn","FNI",2,"RBUSEL354549KE  ","2038-03-21",-5130,"",null,null,"금융업(64)","K"]
["HTVFSS","K    WOORI BAN     ","RBU","SEL354564CB  ","USD",53150,53150,72108605,"2023-09-06","2024-01-04","BE1",10650,"002-060863-842",3,"FIT","CBOK","KRSL","tst201-81idn","FNI",2,"RBUSEL354564CB  ","2038-03-26",-5195,"",null,null,"금융업(64)","K"]
["HTVFSS","MICALLOTTE CHEICAL ","FOT","SEL354555DDFD","USD",20460,20460,27758082,"2023-09-14","2023-12-04","C13",4240,"002-565583-847",3,"   ","BOCG","PTLI","tst118 81idn","FNI",2,"FOTSEL354555DDFD","2038-03-31",-5231,"",null,null,"화학물질 및 화학제품 제조업(의약품 제외)(20)","C"]
["HTVFSS","ANK CKOOKMIN BNK CO","RBU","SEL354569CT  ","USD",335623,335623,455339724,"2023-09-07","2024-09-03","BE1",10650,"002-060855-842",3,"FIT","CTZN","KRSE","tst201-81idn","FNI",2,"RBUSEL354569CT  ","2038-04-06",-4963,"",null,null,"금융업(64)","K"]
["HTVFSS","ANK CSHINHAN BNK CO","RBU","SEL354577SH  ","USD",2206723.58,2206723.58,2993861881,"2023-09-07","2024-02-05","BE1",10650,"002-061061-842",3,"FIT","SHIB","KRSA","tst202-81idn","FNI",2,"RBUSEL354577SH  ","2038-04-10",-5178,"",null,null,"금융업(64)","K"]
["HTVFSS","&T COSAMSUNG CT COR","FOT","SEL301474DDFD","USD",394740,394740,535543758,"2023-09-08","2023-11-24","C13",7510,"002-000934-847",3,"   ","UBOI","INND","tst202-81idn","FNI",2,"FOTSEL301474DDFD","2038-04-15",-5256,"",null,null,"도매 및 상품중개업(46)","G"]
["HTVFSS","MICALLOTTE CHEICAL ","FOT","SEL354581DDFD","USD",36800,36800,49926560,"2023-09-19","2023-12-06","C13",4240,"002-565583-847",3,"   ","VTCJ","VNHO","tst118 81idn","FNI",2,"FOTSEL354581DDFD","2038-04-19",-5248,"",null,null,"화학물질 및 화학제품 제조업(의약품 제외)(20)","C"]
["HTVFSS","L BANINDUSTRIA BANK","RBU","SEL301473MD  ","USD",17438.21,17438.21,23658420,"2023-09-08","2023-12-07","BK4",10650,"002-060921-842"," ","FIT","MDDY","KRSL","tst202-81idn","FNI",2,"RBUSEL301473MD  ","2038-04-25",-5253,"",null,null,"금융업(64)","K"]
["HTVFSS","K    WOORI BAN     ","RBU","SEL354591CB  ","USD",132950,132950,180373265,"2023-09-08","2024-01-08","BE1",10650,"002-060863-842",3,"FIT","CBOK","KRSL","tst201-81idn","FNI",2,"RBUSEL354591CB  ","2038-04-30",-5226,"",null,null,"금융업(64)","K"]
["HTVFSS","&T COSAMSUNG CT COR","FOT","SEL301483DDFD","USD",117936.48,117936.48,160004422,"2023-09-13","2023-12-05","C13",7510,"002-000934-847",3,"   ","HDFC","INAH","tst202-81idn","FNI",2,"FOTSEL301483DDFD","2038-05-05",-5265,"",null,null,"도매 및 상품중개업(46)","G"]
["HTVFSS","BANK KEB HANA ANK  ","RBU","SEL301475KE  ","USD",18900,18900,25641630,"2023-09-11","2023-11-29","BE1",10650,"002-060970-842",3,"FIT","KOEX","KRCK","tst202-81idn","FNI",2,"RBUSEL301475KE  ","2038-05-10",-5276,"",null,null,"금융업(64)","K"]
["HTVFSS","BANK KEB HANA ANK  ","RBU","SEL354606KE  ","USD",65608.399999999994,65608.399999999994,89010916,"2023-09-11","2024-02-27","BE1",10650,"002-060970-842",3,"FIT","KOEX","KRCK","tst202-81idn","FNI",2,"RBUSEL354606KE  ","2038-05-13",-5189,"",null,null,"금융업(64)","K"]
["HTVFSS","BANK KEB HANA ANK  ","RBU","SEL354608KE  ","USD",1685054.76,1685054.76,2286113793,"2023-09-11","2024-02-26","BE1",10650,"002-060970-842",3,"FIT","KOEX","KRCK","tst202-81idn","FNI",2,"RBUSEL354608KE  ","2038-05-15",-5192,"",null,null,"금융업(64)","K"]
["HTVFSS","K    WOORI BAN     ","RBU","SEL354613CB  ","USD",14305.49,14305.49,19408258,"2023-09-11","2024-02-08","BE1",10650,"002-060863-842",3,"FIT","CBOK","KRSL","tst201-81idn","FNI",2,"RBUSEL354613CB  ","2038-05-20",-5215,"",null,null,"금융업(64)","K"]
["HTVFSS","BANK KEB HANA ANK  ","RBU","SEL354620KE  ","USD",1319700,1319700,1790436990,"2023-09-11","2024-09-05","BE1",10650,"002-060970-842",3,"FIT","KOEX","KRCK","tst202-81idn","FNI",2,"RBUSEL354620KE  ","2038-05-26",-5011,"",null,null,"금융업(64)","K"]
["HTVFSS","TALENHANWHA TOALENE","BAC","SEL354648DDD ","USD",440880,440880,598141896,"2023-09-12","2023-12-11","C13",4232,"002-826974-847",3,"EXC","WXCB","CNAH","tst316-81idn","FNI",2,"BACSEL354648DDD ","2038-05-30",-5284,"",null,null,"코크스, 연탄 및 석유정제품 제조업(19)","C"]
["HTVFSS","MICALLOTTE CHEICAL ","FOT","SEL301500DDFD","USD",49200,49200,66749640,"2023-09-18","2024-01-09","C13",4240,"002-565583-847",3,"   ","BKCB","THAC","tst118 81idn","FNI",2,"FOTSEL301500DDFD","2038-06-06",-5262,"",null,null,"화학물질 및 화학제품 제조업(의약품 제외)(20)","C"]
["HTVFSS","MICALLOTTE CHEICAL ","FOT","SEL354598DDFD","USD",30150,30150,40904505,"2023-09-20","2023-11-06","C13",4240,"002-565583-847",3,"   ","WNZL","NZWT","tst118 81idn","FNI",2,"FOTSEL354598DDFD","2038-06-09",-5329,"",null,null,"화학물질 및 화학제품 제조업(의약품 제외)(20)","C"]
["HTVFSS","TALENHANWHA TOALENE","FOT","SEL354631DDFD","USD",60456,60456,82020655,"2023-09-12","2023-12-12","C13",4232,"002-826974-847",3,"   ","DSBL","HKIS","tst316-81idn","FNI",2,"FOTSEL354631DDFD","2038-06-14",-5298,"",null,null,"코크스, 연탄 및 석유정제품 제조업(19)","C"]
["HTVFSS","ANK CKOOKMIN BNK CO","RBU","SEL301467CT  ","USD",29700,29700,40293990,"2023-09-12","2024-09-06","BE1",10650,"002-060855-842",3,"FIT","CTZN","KRSE","tst201-81idn","FNI",2,"RBUSEL301467CT  ","2038-06-19",-5034,"",null,null,"금융업(64)","K"]
["HTVFSS","L BANINDUSTRIA BANK","RBU","SEL301488MD  ","USD",39794.92,39794.92,53989768,"2023-09-12","2024-09-06","BK4",10650,"002-060921-842"," ","FIT","MDDY","KRSL","tst202-81idn","FNI",2,"RBUSEL301488MD  ","2038-06-24",-5039,"",null,null,"금융업(64)","K"]
["HTVFSS","BANK KEB HANA ANK  ","RBU","SEL301493KE  ","USD",98060,98060,133038002,"2023-09-12","2024-09-06","BE1",10650,"002-060970-842",3,"FIT","KOEX","KRCK","tst202-81idn","FNI",2,"RBUSEL301493KE  ","2038-06-26",-5041,"",null,null,"금융업(64)","K"]
["HTVFSS","BANK KEB HANA ANK  ","RBU","SEL354661KE  ","USD",712079.34,712079.34,966078041,"2023-09-12","2023-12-11","BE1",10650,"002-060970-842",3,"FIT","KOEX","KRCK","tst202-81idn","FNI",2,"RBUSEL354661KE  ","2038-07-04",-5319,"",null,null,"금융업(64)","K"]
["HTVFSS","K    WOORI BAN     ","RBU","SEL354645CB  ","USD",1497602.83,1497602.83,2031797759,"2023-09-12","2023-11-15","BE1",10650,"002-060863-842",3,"FIT","CBOK","KRSL","tst201-81idn","FNI",2,"RBUSEL354645CB  ","2038-07-09",-5350,"",null,null,"금융업(64)","K"]
["HTVFSS","&T COSAMSUNG CT COR","FOT","SEL301503DDFD","USD",1278050.95,1278050.95,1733931724,"2023-09-13","2024-02-20","C13",7510,"002-000934-847",3,"   ","ABSF","SAAL","tst202-81idn","FNI",2,"FOTSEL301503DDFD","2038-07-13",-5257,"",null,null,"도매 및 상품중개업(46)","G"]
["HTVFSS","MICALLOTTE CHEICAL ","FOT","SEL354635DDFD","USD",517500,517500,702092250,"2023-09-26","2023-12-08","C13",4240,"002-565583-847",3,"   ","BACP","CNNK","tst118 81idn","FNI",2,"FOTSEL354635DDFD","2038-07-14",-5332,"",null,null,"화학물질 및 화학제품 제조업(의약품 제외)(20)","C"]
["HTVFSS","BANK KEB HANA ANK  ","RBU","SEL301487KE  ","USD",21000,21000,28490700,"2023-09-13","2024-02-13","BE1",10650,"002-060970-842",3,"FIT","KOEX","KRCK","tst202-81idn","FNI",2,"RBUSEL301487KE  ","2038-07-19",-5270,"",null,null,"금융업(64)","K"]
["HTVFSS","BANK KEB HANA ANK  ","RBU","SEL354665KE  ","USD",524900,524900,712131830,"2023-09-13","2024-02-13","BE1",10650,"002-060970-842",3,"FIT","KOEX","KRCK","tst202-81idn","FNI",2,"RBUSEL354665KE  ","2038-07-26",-5277,"",null,null,"금융업(64)","K"]
["HTVFSS","BANK KEB HANA ANK  ","RBU","SEL354676KE  ","USD",1680497.68,1680497.68,2279931202,"2023-09-13","2024-02-28","BE1",10650,"002-060970-842",3,"FIT","KOEX","KRCK","tst202-81idn","FNI",2,"RBUSEL354676KE  ","2038-07-29",-5265,"",null,null,"금융업(64)","K"]
["HTVFSS","K    WOORI BAN     ","RBU","SEL354686CB  ","USD",1298855.32,1298855.32,1762157013,"2023-09-13","2023-12-12","BE1",10650,"002-060863-842",3,"FIT","CBOK","KRSL","tst201-81idn","FNI",2,"RBUSEL354686CB  ","2038-08-02",-5347,"",null,null,"금융업(64)","K"]
["HTVFSS","ANK CSHINHAN BNK CO","RBU","SEL301456SH  ","USD",1733.47,1733.47,2351799,"2023-09-14","2024-03-12","BE1",10650,"002-061061-842",3,"FIT","SHIB","KRSE","tst202-81idn","FNI",2,"RBUSEL301456SH  ","2038-08-08",-5262,"",null,null,"금융업(64)","K"]
["HTVFSS","BANK KEB HANA ANK  ","RBU","SEL354692KE  ","USD",221771.41,221771.41,300877272,"2023-09-14","2024-09-09","BE1",10650,"002-060970-842",3,"FIT","KOEX","KRCK","tst202-81idn","FNI",2,"RBUSEL354692KE  ","2038-08-13",-5086,"",null,null,"금융업(64)","K"]
["HTVFSS","&T COSAMSUNG CT COR","FOT","SEL301511DDFD","EUR",651064.19999999995,651064.19999999995,931173595,"2023-09-18","2023-11-27","C13",7510,"002-000934-847",3,"   ","BCII","ITMI","tst202-81idn","FNI",2,"FOTSEL301511DDFD","2038-08-19",-5379,"",null,null,"도매 및 상품중개업(46)","G"]
["HTVFSS","BANK KEB HANA ANK  ","RBU","SEL354638KE  ","USD",116427.84,116427.84,157957651,"2023-09-15","2024-03-13","BE1",10650,"002-060970-842",3,"FIT","KOEX","KRCK","tst202-81idn","FNI",2,"RBUSEL354638KE  ","2038-08-23",-5276,"",null,null,"금융업(64)","K"]
["HTVFSS","K    WOORI BAN     ","RBU","SEL354695CB  ","SGD",288471.2,288471.2,284890903,"2023-09-15","2023-12-18","BE1",10650,"002-060863-842",3,"FIT","CBOK","KRSL","tst201-81idn","FNI",2,"RBUSEL354695CB  ","2038-08-26",-5365,"",null,null,"금융업(64)","K"]
["HTVFSS","BANK KEB HANA ANK  ","RBU","SEL354712KE  ","USD",3039.56,3039.56,4123771,"2023-09-15","2023-12-14","BE1",10650,"002-060970-842",3,"FIT","KOEX","KRCK","tst202-81idn","FNI",2,"RBUSEL354712KE  ","2038-09-02",-5376,"",null,null,"금융업(64)","K"]
["HTVFSS","BANK KEB HANA ANK  ","RBU","SEL354720KE  ","USD",123833.5,123833.5,168004909,"2023-09-15","2024-09-09","BE1",10650,"002-060970-842",3,"FIT","KOEX","KRCK","tst202-81idn","FNI",2,"RBUSEL354720KE  ","2038-09-07",-5111,"",null,null,"금융업(64)","K"]
["HTVFSS","&T COSAMSUNG CT COR","FOT","SEL301514DDFD","EUR",533716,533716,763338311,"2023-09-19","2023-12-04","C13",7510,"002-000934-847",3,"   ","CRIT","ITMI","tst202-81idn","FNI",2,"FOTSEL301514DDFD","2038-09-08",-5392,"",null,null,"도매 및 상품중개업(46)","G"]
["HTVFSS","BANK KEB HANA ANK  ","RBU","SEL354723KE  ","USD",272500,272500,369700750,"2023-09-18","2023-12-18","BE1",10650,"002-060970-842",3,"FIT","KOEX","KRCK","tst202-81idn","FNI",2,"RBUSEL354723KE  ","2038-09-12",-5382,"",null,null,"금융업(64)","K"]
["HTVFSS","BANK NONGHYUP ANK  ","RBU","SEL354729NA  ","CNY",3319496.01,3319496.01,614480769,"2023-09-18","2024-01-16","BE1",10650,"002-061045-842",3,"FIT","NACF","KRSE","tst104-86idn","FNI",2,"RBUSEL354729NA  ","2038-09-17",-5358,"",null,null,"금융업(64)","K"]
["HTVFSS","&T COSAMSUNG CT COR","FOT","SEL301520DDFD","USD",17280,17280,23443776,"2023-09-20","2023-12-18","C13",7510,"002-000934-847",3,"   ","BDAI","IDKS","tst202-81idn","FNI",2,"FOTSEL301520DDFD","2038-09-25",-5395,"",null,null,"도매 및 상품중개업(46)","G"]
["HTVFSS","I XITHD HYUNDA XITE","FOT","SEL354640DDFD","USD",235200,235200,319095840,"2023-09-22","2024-02-26","C13",4290,"002-055030-847"," ","   ","BBME","MNM ","tst493-81idn","FNI",2,"FOTSEL354640DDFD","2038-09-27",-5327,"",null,null,"기타 기계 및 장비 제조업(29)","C"]
["HTVFSS","I CONHD HYUNDA CONS","FOT","SEL354753DDFD","USD",156520,156520,212350684,"2023-09-27","2024-03-14","C13",4290,"002-284786-847",3,"   ","UNBU","UYMO","tst528-88idn","FNI",2,"FOTSEL354753DDFD","2038-10-02",-5315,"",null,null,"기타 기계 및 장비 제조업(29)","C"]
["HTVFSS","L BANINDUSTRIA BANK","RBU","SEL301517MD  ","USD",39000,39000,52911300,"2023-09-19","2024-09-13","BK4",10650,"002-060921-842"," ","FIT","MDDY","KRSL","tst202-81idn","FNI",2,"RBUSEL301517MD  ","2038-10-07",-5137,"",null,null,"금융업(64)","K"]
["HTVFSS","BANK KEB HANA ANK  ","RBU","SEL354751KE  ","USD",51060,51060,69273102,"2023-09-19","2024-03-18","BE1",10650,"002-060970-842",3,"FIT","KOEX","KRCK","tst202-81idn","FNI",2,"RBUSEL354751KE  ","2038-10-12",-5321,"",null,null,"금융업(64)","K"]
["HTVFSS","BANK KEB HANA ANK  ","RBU","SEL354757KE  ","USD",140960.4,140960.4,191240975,"2023-09-19","2024-09-13","BE1",10650,"002-060970-842",3,"FIT","KOEX","KRCK","tst202-81idn","FNI",2,"RBUSEL354757KE  ","2038-10-15",-5145,"",null,null,"금융업(64)","K"]
["HTVFSS","MICALLOTTE CHEICAL ","FOT","SEL354756DDFD","USD",19040,19040,25831568,"2023-10-04","2023-12-18","C13",4240,"002-565583-847",3,"   ","VTCJ","VNHO","tst118 81idn","FNI",2,"FOTSEL354756DDFD","2038-10-22",-5422,"",null,null,"화학물질 및 화학제품 제조업(의약품 제외)(20)","C"]
["HTVFSS","TALENHANWHA TOALENE","FOT","SEL354773DDFD","EUR",326700,326700,467257167,"2023-09-21","2023-12-18","C13",4232,"002-826974-847",3,"   ","BOEJ","ESMI","tst316-81idn","FNI",2,"FOTSEL354773DDFD","2038-10-26",-5426,"",null,null,"코크스, 연탄 및 석유정제품 제조업(19)","C"]
["HTVFSS","BANK KEB HANA ANK  ","RBU","SEL354761KE  ","USD",26460,26460,35898282,"2023-09-20","2023-12-15","BE1",10650,"002-060970-842",3,"FIT","KOEX","KRCK","tst202-81idn","FNI",2,"RBUSEL354761KE  ","2038-11-01",-5435,"",null,null,"금융업(64)","K"]
["HTVFSS","L BANINDUSTRIA BANK","RBU","SEL354771MD  ","USD",7102,7102,9635283,"2023-09-20","2024-09-19","BK4",10650,"002-060921-842"," ","FIT","MDDY","KRSL","tst202-81idn","FNI",2,"RBUSEL354771MD  ","2038-11-06",-5161,"",null,null,"금융업(64)","K"]
["HTVFSS","TALENHANWHA TOALENE","BAC","SEL354781DDD ","USD",113520,113520,154012584,"2023-09-21","2023-12-19","C13",4232,"002-826974-847",3,"EXC","ZHCB","CNNI","tst316-81idn","FNI",2,"BACSEL354781DDD ","2038-11-08",-5438,"",null,null,"코크스, 연탄 및 석유정제품 제조업(19)","C"]
["HTVFSS","L BANINDUSTRIA BANK","RBU","SEL301518MD  ","NZD",507900,507900,401140898,"2023-09-21","2024-03-19","BK4",10650,"002-060921-842"," ","FIT","MDDY","KRSL","tst202-81idn","FNI",2,"RBUSEL301518MD  ","2038-11-11",-5350,"",null,null,"금융업(64)","K"]
["HTVFSS","L BANINDUSTRIA BANK","RBU","SEL354779MD  ","JPY",19584,19584,17742054,"2023-09-21","2023-10-20","BK4",10650,"002-060921-842"," ","FIT","MDDY","KRSL","tst202-81idn","FNI",2,"RBUSEL354779MD  ","2038-11-16",-5506,"",null,null,"금융업(64)","K"]
["HTVFSS","ANK CSHINHAN BNK CO","RBU","SEL354794SH  ","USD",237178.5,237178.5,321780071,"2023-09-21","2024-01-19","BE1",10650,"002-061061-842",3,"FIT","SHIB","KRSA","tst202-81idn","FNI",2,"RBUSEL354794SH  ","2038-11-21",-5420,"",null,null,"금융업(64)","K"]
["HTVFSS","&T COSAMSUNG CT COR","FOT","SEL301538DDFD","EUR",24628,24628,35223782,"2023-09-25","2023-12-18","C13",7510,"002-000934-847",3,"   ","CABZ","ITPA","tst202-81idn","FNI",2,"FOTSEL301538DDFD","2038-11-26",-5457,"",null,null,"도매 및 상품중개업(46)","G"]
["HTVFSS","L BANINDUSTRIA BANK","RBU","SEL301535MD  ","USD",318490,318490,432095383,"2023-09-22","2024-09-19","BK4",10650,"002-060921-842"," ","FIT","MDDY","KRSL","tst202-81idn","FNI",2,"RBUSEL301535MD  ","2038-12-02",-5187,"",null,null,"금융업(64)","K"]
["HTVFSS","K    WOORI BAN     ","RBU","SEL354811CB  ","USD",241893.12,241893.12,328176396,"2023-09-22","2024-07-31","BE1",10650,"002-060863-842",3,"FIT","CBOK","KRSL","tst201-81idn","FNI",2,"RBUSEL354811CB  ","2038-12-06",-5241,"",null,null,"금융업(64)","K"]
["HTVFSS","L BANINDUSTRIA BANK","RBU","SEL354818MD  ","USD",681000,681000,923912700,"2023-09-22","2024-09-19","BK4",10650,"002-060921-842"," ","FIT","MDDY","KRSL","tst202-81idn","FNI",2,"RBUSEL354818MD  ","2038-12-11",-5196,"",null,null,"금융업(64)","K"]
["HTVFSS","T-IMPTHE EXPOR-IMPO","RBU","SEL354832EI  ","USD",358000,358000,485698600,"2023-09-22","2024-09-19","C15",10650,"002-015925-842",3,"FIT","EIBK","KRYD","tst116-82idn","FNI",2,"RBUSEL354832EI  ","2038-12-15",-5200,"",null,null,"금융업(64)","K"]
["HTVFSS","MICALLOTTE CHEICAL ","FOT","SEL354825DDFD","USD",100320,100320,136104144,"2023-10-04","2023-11-21","C13",4240,"002-565583-847",3,"   ","CGDD","PTAA","tst118 81idn","FNI",2,"FOTSEL354825DDFD","2038-12-21",-5509,"",null,null,"화학물질 및 화학제품 제조업(의약품 제외)(20)","C"]
["HTVFSS","L BANINDUSTRIA BANK","RBU","SEL301540MD  ","USD",62920,62920,85363564,"2023-09-25","2024-09-19","BK4",10650,"002-060921-842"," ","FIT","MDDY","KRSL","tst202-81idn","FNI",2,"RBUSEL301540MD  ","2038-12-26",-5211,"",null,null,"금융업(64)","K"]
["HTVFSS","ANK CKOOKMIN BNK CO","RBU","SEL301553CT  ","USD",140252,140252,190279888,"2023-09-25","2024-09-19","BE1",10650,"002-060855-842",3,"FIT","CTZN","KRSE","tst201-81idn","FNI",2,"RBUSEL301553CT  ","2038-12-31",-5216,"",null,null,"금융업(64)","K"]
["HTVFSS","BANK NONGHYUP ANK  ","RBU","SEL354836NA  ","CNY",613091.63,613091.63,113491029,"2023-09-25","2024-01-23","BE1",10650,"002-061045-842",3,"FIT","NACF","KRSE","tst104-86idn","FNI",2,"RBUSEL354836NA  ","2039-01-05",-5461,"",null,null,"금융업(64)","K"]
["HTVFSS","BANK KEB HANA ANK  ","RBU","SEL354839KE  ","USD",30694.560000000001,30694.560000000001,41643310,"2023-09-25","2023-12-26","BE1",10650,"002-060970-842",3,"FIT","KOEX","KRCK","tst202-81idn","FNI",2,"RBUSEL354839KE  ","2039-01-08",-5492,"",null,null,"금융업(64)","K"]
["HTVFSS","L BANINDUSTRIA BANK","RBU","SEL354842MD  ","USD",241730,241730,327955091,"2023-09-25","2024-09-19","BK4",10650,"002-060921-842"," ","FIT","MDDY","KRSL","tst202-81idn","FNI",2,"RBUSEL354842MD  ","2039-01-10",-5226,"",null,null,"금융업(64)","K"]
["HTVFSS","L BANINDUSTRIA BANK","RBU","SEL354849MD  ","USD",75280,75280,102132376,"2023-09-25","2024-09-19","BK4",10650,"002-060921-842"," ","FIT","MDDY","KRSL","tst202-81idn","FNI",2,"RBUSEL354849MD  ","2039-01-15",-5231,"",null,null,"금융업(64)","K"]
["HTVFSS","&T COSAMSUNG CT COR","FOT","SEL301559DDFD","EUR",391317.08,391317.08,559674656,"2023-09-27","2023-12-19","C13",7510,"002-000934-847",3,"   ","BCII","ITMI","tst202-81idn","FNI",2,"FOTSEL301559DDFD","2039-01-20",-5511,"",null,null,"도매 및 상품중개업(46)","G"]
["HTVFSS","I INFHD HYUNDA INFR","FOT","SEL354827DDFD","USD",329998.19,329998.19,447708544,"2023-10-06","2023-12-11","C13",4290,"002-210741-847",3,"   ","NOBK","SAJE","tst121-81idn","FNI",2,"FOTSEL354827DDFD","2039-01-25",-5524,"",null,null,"기타 기계 및 장비 제조업(29)","C"]
["HTVFSS","MICALLOTTE CHEICAL ","FOT","SEL354862DDFD","USD",1398503.21,1398503.21,1897349305,"2023-10-10","2024-01-05","C13",4240,"002-565583-847",3,"   ","AGBC","CNNN","tst118 81idn","FNI",2,"FOTSEL354862DDFD","2039-02-01",-5506,"",null,null,"화학물질 및 화학제품 제조업(의약품 제외)(20)","C"]
["HTVFSS","MICALLOTTE CHEICAL ","FOT","SEL354868DDFD","USD",93720,93720,127149924,"2023-10-04","2023-12-21","C13",4240,"002-565583-847",3,"   ","BOCG","PTLI","tst118 81idn","FNI",2,"FOTSEL354868DDFD","2039-02-04",-5524,"",null,null,"화학물질 및 화학제품 제조업(의약품 제외)(20)","C"]
["HTVFSS","K    WOORI BAN     ","RBU","SEL301542CB  ","USD",63882,63882,86668709,"2023-09-26","2023-12-26","BE1",10650,"002-060863-842",3,"FIT","CBOK","KRSL","tst201-81idn","FNI",2,"RBUSEL301542CB  ","2039-02-09",-5524,"",null,null,"금융업(64)","K"]
["HTVFSS","BANK NONGHYUP ANK  ","RBU","SEL354866NA  ","CNY",654487.91,654487.91,121154005,"2023-09-26","2024-03-25","BE1",10650,"002-061045-842",3,"FIT","NACF","KRSE","tst104-86idn","FNI",2,"RBUSEL354866NA  ","2039-02-14",-5439,"",null,null,"금융업(64)","K"]
["HTVFSS","&T COSAMSUNG CT COR","FOT","SEL301561DDFD","USD",132480,132480,179735616,"2023-09-27","2023-12-27","C13",7510,"002-000934-847",3,"   ","PTNB","IDJR","tst202-81idn","FNI",2,"FOTSEL301561DDFD","2039-02-19",-5533,"",null,null,"도매 및 상품중개업(46)","G"]
["HTVFSS","C COMKOREA ZIN COMP","FOT","SEL301576DDFD","USD",199260.72,199260.72,270337019,"2023-09-27","2023-12-18","MFS",4272,"002-248510-847"," ","   ","HDFC","INND","tst610-85idn","FNI",2,"FOTSEL301576DDFD","2039-02-21",-5544,"",null,null,"제1차 금속제조업(24)","C"]
["HTVFSS","I XITHD HYUNDA XITE","FOT","SEL354879DDFD","USD",180559,180559,244964395,"2023-10-05","2024-04-02","C13",4290,"002-055030-847"," ","   ","KIWI","NZWI","tst493-81idn","FNI",2,"FOTSEL354879DDFD","2039-03-01",-5446,"",null,null,"기타 기계 및 장비 제조업(29)","C"]
["HTVFSS","L BANINDUSTRIA BANK","RBU","SEL301565MD  ","USD",28690,28690,38923723,"2023-09-27","2024-09-23","BK4",10650,"002-060921-842"," ","FIT","MDDY","KRSL","tst202-81idn","FNI",2,"RBUSEL301565MD  ","2039-03-06",-5277,"",null,null,"금융업(64)","K"]
["HTVFSS","K    WOORI BAN     ","RBU","SEL354883CB  ","CHF",705192.58,705192.58,1064102741,"2023-09-27","2023-12-29","BE1",10650,"002-060863-842",3,"FIT","CBOK","KRSL","tst201-81idn","FNI",2,"RBUSEL354883CB  ","2039-03-10",-5550,"",null,null,"금융업(64)","K"]
["HTVFSS","ANK CKOOKMIN BNK CO","RBU","SEL354884CT  ","CHF",38006,38006,57349283,"2023-09-27","2024-01-02","BE1",10650,"002-060855-842",3,"FIT","CTZN","KRSE","tst201-81idn","FNI",2,"RBUSEL354884CT  ","2039-03-11",-5547,"",null,null,"금융업(64)","K"]
["HTVFSS","ANK CKOOKMIN BNK CO","RBU","SEL354897CT  ","USD",123520,123520,167579584,"2023-09-27","2024-09-23","BE1",10650,"002-060855-842",3,"FIT","CTZN","KRSE","tst201-81idn","FNI",2,"RBUSEL354897CT  ","2039-03-17",-5288,"",null,null,"금융업(64)","K"]
["HTVFSS","MICALLOTTE CHEICAL ","FOT","SEL301590DDFD","USD",56640,56640,76843488,"2023-10-11","2023-10-27","C13",4240,"002-565583-847",3,"   ","HSBC","JAK ","tst118 81idn","FNI",2,"FOTSEL301590DDFD","2039-03-21",-5624,"",null,null,"화학물질 및 화학제품 제조업(의약품 제외)(20)","C"]
["HTVFSS","MICALLOTTE CHEICAL ","FOT","SEL354907DDFD","USD",918000,918000,1245450600,"2023-10-13","2023-12-26","C13",4240,"002-565583-847",3,"   ","AGBC","CNSU","tst118 81idn","FNI",2,"FOTSEL354907DDFD","2039-03-26",-5569,"",null,null,"화학물질 및 화학제품 제조업(의약품 제외)(20)","C"]
["HTVFSS","TALENHANWHA TOALENE","FOT","SEL354944DDFD","USD",110880,110880,150430896,"2023-10-05","2023-12-22","C13",4232,"002-826974-847",3,"   ","BKCZ","IDJK","tst316-81idn","FNI",2,"FOTSEL354944DDFD","2039-03-30",-5577,"",null,null,"코크스, 연탄 및 석유정제품 제조업(19)","C"]
["HTVFSS","TALENHANWHA TOALENE","FOT","SEL354975DDFD","USD",102850,102850,139536595,"2023-10-05","2023-12-28","C13",4232,"002-826974-847",3,"   ","CJVN","CNAA","tst316-81idn","FNI",2,"FOTSEL354975DDFD","2039-04-05",-5577,"",null,null,"코크스, 연탄 및 석유정제품 제조업(19)","C"]
["HTVFSS","L BANINDUSTRIA BANK","RBU","SEL301557MD  ","USD",126520,126520,171649684,"2023-10-04","2024-09-30","BK4",10650,"002-060921-842"," ","FIT","MDDY","KRSL","tst202-81idn","FNI",2,"RBUSEL301557MD  ","2039-04-10",-5305,"",null,null,"금융업(64)","K"]
["HTVFSS","BANK KEB HANA ANK  ","RBU","SEL354920KE  ","USD",809007.84,809007.84,1097580937,"2023-10-04","2024-03-04","BE1",10650,"002-060970-842",3,"FIT","KOEX","KRCK","tst202-81idn","FNI",2,"RBUSEL354920KE  ","2039-04-16",-5521,"",null,null,"금융업(64)","K"]
["HTVFSS","BANK NONGHYUP ANK  ","RBU","SEL354926NA  ","USD",184682,184682,250558069,"2023-10-04","2024-09-30","BE1",10650,"002-061045-842",3,"FIT","NACF","KRSE","tst104-86idn","FNI",2,"RBUSEL354926NA  ","2039-04-20",-5315,"",null,null,"금융업(64)","K"]
["HTVFSS","BANK KEB HANA ANK  ","RBU","SEL354932KE  ","USD",75817.5,75817.5,102861602,"2023-10-04","2024-01-02","BE1",10650,"002-060970-842",3,"FIT","KOEX","KRCK","tst202-81idn","FNI",2,"RBUSEL354932KE  ","2039-04-23",-5590,"",null,null,"금융업(64)","K"]
["HTVFSS","L BANINDUSTRIA BANK","RBU","SEL354988MD  ","CAD",44061.760000000002,44061.760000000002,43551355,"2023-10-04","2023-11-03","BK4",10650,"002-060921-842"," ","FIT","MDDY","KRSL","tst202-81idn","FNI",2,"RBUSEL354988MD  ","2039-04-30",-5657,"",null,null,"금융업(64)","K"]
["HTVFSS","&T COSAMSUNG CT COR","FOT","SEL301607DDFD","USD",398197.8,398197.8,540234955,"2023-10-06","2023-12-20","C13",7510,"002-000934-847",3,"   ","SBOI","INTC","tst202-81idn","FNI",2,"FOTSEL301607DDFD","2039-05-05",-5615,"",null,null,"도매 및 상품중개업(46)","G"]
["HTVFSS","MICALLOTTE CHEICAL ","FOT","SEL354968DDFD","USD",231660,231660,314293122,"2023-10-16","2023-12-29","C13",4240,"002-565583-847",3,"   ","BOCG","PTLI","tst118 81idn","FNI",2,"FOTSEL354968DDFD","2039-05-06",-5607,"",null,null,"화학물질 및 화학제품 제조업(의약품 제외)(20)","C"]
["HTVFSS","TALENHANWHA TOALENE","FOT","SEL354982DDFD","USD",144760,144760,196395892,"2023-10-05","2023-12-28","C13",4232,"002-826974-847",3,"   ","BACP","CNHE","tst316-81idn","FNI",2,"FOTSEL354982DDFD","2039-05-10",-5612,"",null,null,"코크스, 연탄 및 석유정제품 제조업(19)","C"]
["HTVFSS","MICALLOTTE CHEICAL ","FOT","SEL355009DDFD","USD",125400,125400,170130180,"2023-10-13","2023-12-29","C13",4240,"002-565583-847",3,"   ","BOCG","PTLI","tst118 81idn","FNI",2,"FOTSEL355009DDFD","2039-05-17",-5618,"",null,null,"화학물질 및 화학제품 제조업(의약품 제외)(20)","C"]
["HTVFSS","BANK KEB HANA ANK  ","RBU","SEL301603KE  ","USD",51585,51585,69985370,"2023-10-05","2023-12-04","BE1",10650,"002-060970-842",3,"FIT","KOEX","KRCK","tst202-81idn","FNI",2,"RBUSEL301603KE  ","2039-05-20",-5646,"",null,null,"금융업(64)","K"]
["HTVFSS","ANK CSHINHAN BNK CO","RBU","SEL354934SH  ","USD",170649,170649,231519498,"2023-10-05","2024-02-02","BE1",10650,"002-061061-842",3,"FIT","SHIB","KRSA","tst202-81idn","FNI",2,"RBUSEL354934SH  ","2039-05-25",-5591,"",null,null,"금융업(64)","K"]
["HTVFSS","ANK CKOOKMIN BNK CO","RBU","SEL354950CT  ","USD",100000,100000,135670000,"2023-10-05","2024-09-30","BE1",10650,"002-060855-842",3,"FIT","CTZN","KRSE","tst201-81idn","FNI",2,"RBUSEL354950CT  ","2039-05-30",-5355,"",null,null,"금융업(64)","K"]
["HTVFSS","BANK NONGHYUP ANK  ","RBU","SEL354959NA  ","USD",107286,107286,145554916,"2023-10-05","2024-01-03","BE1",10650,"002-061045-842",3,"FIT","NACF","KRSE","tst104-86idn","FNI",2,"RBUSEL354959NA  ","2039-06-04",-5631,"",null,null,"금융업(64)","K"]
["HTVFSS","ANK CKOOKMIN BNK CO","RBU","SEL354986CT  ","USD",1297899,1297899,1760859573,"2023-10-05","2024-09-30","BE1",10650,"002-060855-842",3,"FIT","CTZN","KRSE","tst201-81idn","FNI",2,"RBUSEL354986CT  ","2039-06-09",-5365,"",null,null,"금융업(64)","K"]
["HTVFSS","K    WOORI BAN     ","RBU","SEL354948CB  ","USD",363920,363920,493730264,"2023-10-05","2024-09-30","BE1",10650,"002-060863-842",3,"FIT","CBOK","KRSL","tst201-81idn","FNI",2,"RBUSEL354948CB  ","2039-06-12",-5368,"",null,null,"금융업(64)","K"]
["HTVFSS","MICALLOTTE CHEICAL ","FOT","SEL301623DDFD","USD",382720,382720,519236224,"2023-10-12","2024-01-29","C13",4240,"002-565583-847",3,"   ","BNBS","ZAJA","tst118 81idn","FNI",2,"FOTSEL301623DDFD","2039-06-19",-5620,"",null,null,"화학물질 및 화학제품 제조업(의약품 제외)(20)","C"]
["HTVFSS","MICALLOTTE CHEICAL ","FOT","SEL355012DDFD","USD",113300,113300,153714110,"2023-10-13","2023-12-29","C13",4240,"002-565583-847",3,"   ","BOCG","PTLI","tst118 81idn","FNI",2,"FOTSEL355012DDFD","2039-06-23",-5655,"",null,null,"화학물질 및 화학제품 제조업(의약품 제외)(20)","C"]
["HTVFSS","L BANINDUSTRIA BANK","RBU","SEL301591MD  ","USD",224000,224000,303900800,"2023-10-06","2024-09-30","BK4",10650,"002-060921-842"," ","FIT","MDDY","KRSL","tst202-81idn","FNI",2,"RBUSEL301591MD  ","2039-06-29",-5385,"",null,null,"금융업(64)","K"]
["HTVFSS","BANK KEB HANA ANK  ","RBU","SEL301605KE  ","EUR",35453.46,35453.46,50706713,"2023-10-06","2024-02-05","BE1",10650,"002-060970-842",3,"FIT","KOEX","KRCK","tst202-81idn","FNI",2,"RBUSEL301605KE  ","2039-07-04",-5628,"",null,null,"금융업(64)","K"]
["HTVFSS","BANK NONGHYUP ANK  ","RBU","SEL354924NA  ","GBP",35160.050000000003,35160.050000000003,57876400,"2023-10-06","2024-03-04","BE1",10650,"002-061045-842",3,"FIT","NACF","KRSE","tst104-86idn","FNI",2,"RBUSEL354924NA  ","2039-07-06",-5602,"",null,null,"금융업(64)","K"]
["HTVFSS","ANK CKOOKMIN BNK CO","RBU","SEL354955CT  ","USD",29920,29920,40592464,"2023-10-06","2024-09-30","BE1",10650,"002-060855-842",3,"FIT","CTZN","KRSE","tst201-81idn","FNI",2,"RBUSEL354955CT  ","2039-07-09",-5395,"",null,null,"금융업(64)","K"]
["HTVFSS","BANK KEB HANA ANK  ","RBU","SEL355006KE  ","USD",41150,41150,55828205,"2023-10-06","2024-01-04","BE1",10650,"002-060970-842",3,"FIT","KOEX","KRCK","tst202-81idn","FNI",2,"RBUSEL355006KE  ","2039-07-17",-5673,"",null,null,"금융업(64)","K"]
["HTVFSS","ANK CSHINHAN BNK CO","RBU","SEL355016SH  ","USD",176000,176000,238779200,"2023-10-06","2023-12-06","BE1",10650,"002-061061-842",3,"FIT","SHIB","KRSE","tst202-81idn","FNI",2,"RBUSEL355016SH  ","2039-07-19",-5704,"",null,null,"금융업(64)","K"]
["HTVFSS","BANK KEB HANA ANK  ","RBU","SEL355032KE  ","USD",1140991.6399999999,1140991.6399999999,1547983358,"2023-10-06","2024-03-25","BE1",10650,"002-060970-842",3,"FIT","KOEX","KRCK","tst202-81idn","FNI",2,"RBUSEL355032KE  ","2039-07-24",-5599,"",null,null,"금융업(64)","K"]
["HTVFSS","&T COSAMSUNG CT COR","FOT","SEL301632DDFD","EUR",18135.68,18135.68,25938251,"2023-10-11","2023-12-27","C13",7510,"002-000934-847",3,"   ","CRIT","ITMP","tst202-81idn","FNI",2,"FOTSEL301632DDFD","2039-07-30",-5694,"",null,null,"도매 및 상품중개업(46)","G"]
["HTVFSS","MICALLOTTE CHEICAL ","FOT","SEL355027DDFD","USD",13065,13065,17725286,"2023-10-16","2023-11-27","C13",4240,"002-565583-847",3,"   ","WNZL","NZWT","tst118 81idn","FNI",2,"FOTSEL355027DDFD","2039-08-03",-5728,"",null,null,"화학물질 및 화학제품 제조업(의약품 제외)(20)","C"]
["HTVFSS","MICALLOTTE CHEICAL ","FOT","SEL355053DDFD","USD",59400,59400,80587980,"2023-10-13","2023-11-28","C13",4240,"002-565583-847",3,"   ","HKBA","SYD ","tst118 81idn","FNI",2,"FOTSEL355053DDFD","2039-08-08",-5732,"",null,null,"화학물질 및 화학제품 제조업(의약품 제외)(20)","C"]
["HTVFSS","ANK CSHINHAN BNK CO","RBU","SEL301569SH  ","USD",235257,235257,319173172,"2023-10-10","2024-02-26","BE1",10650,"002-061061-842",3,"FIT","SHIB","KRSE","tst202-81idn","FNI",2,"RBUSEL301569SH  ","2039-08-11",-5645,"",null,null,"금융업(64)","K"]
["HTVFSS","ANK CSHINHAN BNK CO","RBU","SEL301570SH  ","USD",107761.5,107761.5,146200027,"2023-10-10","2024-02-26","BE1",10650,"002-061061-842",3,"FIT","SHIB","KRSE","tst202-81idn","FNI",2,"RBUSEL301570SH  ","2039-08-12",-5646,"",null,null,"금융업(64)","K"]
["HTVFSS","ANK CSHINHAN BNK CO","RBU","SEL301571SH  ","USD",112167,112167,152176969,"2023-10-10","2024-02-26","BE1",10650,"002-061061-842",3,"FIT","SHIB","KRSE","tst202-81idn","FNI",2,"RBUSEL301571SH  ","2039-08-13",-5647,"",null,null,"금융업(64)","K"]
["HTVFSS","ANK CSHINHAN BNK CO","RBU","SEL301573SH  ","USD",225978.5,225978.5,306585031,"2023-10-10","2024-03-04","BE1",10650,"002-061061-842",3,"FIT","SHIB","KRSE","tst202-81idn","FNI",2,"RBUSEL301573SH  ","2039-08-14",-5641,"",null,null,"금융업(64)","K"]
["HTVFSS","ANK CSHINHAN BNK CO","RBU","SEL301574SH  ","USD",229614,229614,311517314,"2023-10-10","2024-03-04","BE1",10650,"002-061061-842",3,"FIT","SHIB","KRSE","tst202-81idn","FNI",2,"RBUSEL301574SH  ","2039-08-15",-5642,"",null,null,"금융업(64)","K"]
["HTVFSS","L BANINDUSTRIA BANK","RBU","SEL301580MD  ","USD",199435,199435,270573465,"2023-10-10","2024-10-04","BK4",10650,"002-060921-842"," ","FIT","MDDY","KRSL","tst202-81idn","FNI",2,"RBUSEL301580MD  ","2039-08-16",-5429,"",null,null,"금융업(64)","K"]
["HTVFSS","K    WOORI BAN     ","RBU","SEL301594CB  ","USD",46126.080000000002,46126.080000000002,62579253,"2023-10-10","2024-01-08","BE1",10650,"002-060863-842",3,"FIT","CBOK","KRSL","tst201-81idn","FNI",2,"RBUSEL301594CB  ","2039-08-17",-5700,"",null,null,"금융업(64)","K"]
["HTVFSS"," DEVETHE KOREADEVEL","RBU","SEL301612KD  ","USD",75350.97,75350.97,102228661,"2023-10-10","2024-04-08","BK6",10650,"002-060962-842",3,"FIT","KODB","KRSE","tst101-82idn","FNI",2,"RBUSEL301612KD  ","2039-08-18",-5610,"",null,null,"금융업(64)","K"]
["HTVFSS","K    WOORI BAN     ","RBU","SEL301620CB  ","USD",28157.119999999999,28157.119999999999,38200765,"2023-10-10","2024-01-08","BE1",10650,"002-060863-842",3,"FIT","CBOK","KRSL","tst201-81idn","FNI",2,"RBUSEL301620CB  ","2039-08-19",-5702,"",null,null,"금융업(64)","K"]
["HTVFSS","ANK CSHINHAN BNK CO","RBU","SEL354885SH  ","USD",105649.5,105649.5,143334677,"2023-10-10","2024-02-13","BE1",10650,"002-061061-842",3,"FIT","SHIB","KRSE","tst202-81idn","FNI",2,"RBUSEL354885SH  ","2039-08-20",-5667,"",null,null,"금융업(64)","K"]
["HTVFSS","BANK NONGHYUP ANK  ","RBU","SEL354916NA  ","CNY",422782.4,422782.4,78262379,"2023-10-10","2024-02-16","BE1",10650,"002-061045-842",3,"FIT","NACF","KRSE","tst104-86idn","FNI",2,"RBUSEL354916NA  ","2039-08-21",-5665,"",null,null,"금융업(64)","K"]
["HTVFSS","BANK NONGHYUP ANK  ","RBU","SEL354918NA  ","CNY",49373.17,49373.17,9139599,"2023-10-10","2024-04-08","BE1",10650,"002-061045-842",3,"FIT","NACF","KRSE","tst104-86idn","FNI",2,"RBUSEL354918NA  ","2039-08-22",-5614,"",null,null,"금융업(64)","K"]
["HTVFSS","BANK NONGHYUP ANK  ","RBU","SEL354933NA  ","CNY",2609751.63,2609751.63,483098092,"2023-10-10","2024-02-07","BE1",10650,"002-061045-842",3,"FIT","NACF","KRSE","tst104-86idn","FNI",2,"RBUSEL354933NA  ","2039-08-23",-5676,"",null,null,"금융업(64)","K"]
["HTVFSS","BANK NONGHYUP ANK  ","RBU","SEL354935NA  ","CNY",186093.98,186093.98,34448354,"2023-10-10","2024-04-08","BE1",10650,"002-061045-842",3,"FIT","NACF","KRSE","tst104-86idn","FNI",2,"RBUSEL354935NA  ","2039-08-24",-5616,"",null,null,"금융업(64)","K"]
["HTVFSS","ANK CKOOKMIN BNK CO","RBU","SEL354952CT  ","USD",119920,119920,162695464,"2023-10-10","2024-10-04","BE1",10650,"002-060855-842",3,"FIT","CTZN","KRSE","tst201-81idn","FNI",2,"RBUSEL354952CT  ","2039-08-25",-5438,"",null,null,"금융업(64)","K"]
["HTVFSS","K    WOORI BAN     ","RBU","SEL354964CB  ","AUD",37836.720000000001,37836.720000000001,32357806,"2023-10-10","2024-01-08","BE1",10650,"002-060863-842",3,"FIT","CBOK","KRSL","tst201-81idn","FNI",2,"RBUSEL354964CB  ","2039-08-26",-5709,"",null,null,"금융업(64)","K"]
["HTVFSS","K    WOORI BAN     ","RBU","SEL355029CB  ","USD",168750,168750,228943125,"2023-10-10","2024-02-07","BE1",10650,"002-060863-842",3,"FIT","CBOK","KRSL","tst201-81idn","FNI",2,"RBUSEL355029CB  ","2039-08-27",-5680,"",null,null,"금융업(64)","K"]
["HTVFSS","L BANINDUSTRIA BANK","RBU","SEL355043MD  ","USD",33174.959999999999,33174.959999999999,45008468,"2023-10-10","2024-01-08","BK4",10650,"002-060921-842"," ","FIT","MDDY","KRSL","tst202-81idn","FNI",2,"RBUSEL355043MD  ","2039-08-28",-5711,"",null,null,"금융업(64)","K"]
["HTVFSS","K    WOORI BAN     ","RBU","SEL355045CB  ","AUD",40051.129999999997,40051.129999999997,34251560,"2023-10-10","2024-01-08","BE1",10650,"002-060863-842",3,"FIT","CBOK","KRSL","tst201-81idn","FNI",2,"RBUSEL355045CB  ","2039-08-29",-5712,"",null,null,"금융업(64)","K"]
["HTVFSS","L BANINDUSTRIA BANK","RBU","SEL355059MD  ","AUD",65456.61,65456.61,55978221,"2023-10-10","2024-01-08","BK4",10650,"002-060921-842"," ","FIT","MDDY","KRSL","tst202-81idn","FNI",2,"RBUSEL355059MD  ","2039-08-30",-5713,"",null,null,"금융업(64)","K"]
["HTVFSS","BANK NONGHYUP ANK  ","RBU","SEL355060NA  ","CNY",13318761.85,13318761.85,2465471567,"2023-10-10","2023-11-20","BE1",10650,"002-061045-842",3,"FIT","NACF","KRSE","tst104-86idn","FNI",2,"RBUSEL355060NA  ","2039-08-31",-5763,"",null,null,"금융업(64)","K"]
["HTVFSS","BANK KEB HANA ANK  ","RBU","SEL355061KE  ","USD",8033237.7999999998,8033237.7999999998,10898693723,"2023-10-10","2023-12-20","BE1",10650,"002-060970-842",3,"FIT","KOEX","KRCK","tst202-81idn","FNI",2,"RBUSEL355061KE  ","2039-09-01",-5734,"",null,null,"금융업(64)","K"]
["HTVFSS","BANK NONGHYUP ANK  ","RBU","SEL355062NA  ","CNY",1317314.1599999999,1317314.1599999999,243851541,"2023-10-10","2024-02-07","BE1",10650,"002-061045-842",3,"FIT","NACF","KRSE","tst104-86idn","FNI",2,"RBUSEL355062NA  ","2039-09-02",-5686,"",null,null,"금융업(64)","K"]
["HTVFSS","K    WOORI BAN     ","RBU","SEL355066CB  ","USD",113990,113990,154650233,"2023-10-10","2024-01-08","BE1",10650,"002-060863-842",3,"FIT","CBOK","KRSL","tst201-81idn","FNI",2,"RBUSEL355066CB  ","2039-09-03",-5717,"",null,null,"금융업(64)","K"]
["HTVFSS","BANK NONGHYUP ANK  ","RBU","SEL355067NA  ","CNY",2340141.15,2340141.15,433189776,"2023-10-10","2024-02-07","BE1",10650,"002-061045-842",3,"FIT","NACF","KRSE","tst104-86idn","FNI",2,"RBUSEL355067NA  ","2039-09-04",-5688,"",null,null,"금융업(64)","K"]
["HTVFSS","BANK KEB HANA ANK  ","RBU","SEL355103KE  ","USD",40000,40000,54268000,"2023-10-10","2024-10-04","BE1",10650,"002-060970-842",3,"FIT","KOEX","KRCK","tst202-81idn","FNI",2,"RBUSEL355103KE  ","2039-09-05",-5449,"",null,null,"금융업(64)","K"]
["HTVFSS","LOVISHYUNDAI GOVIS ","BAP","SEL301645DDD ","USD",4282892.37,4282892.37,5810600078,"2023-10-11","2023-12-27","C13",7500,"002-060029-847",3,"EXC","KOEX","IDJA","tst106-81idn","FNI",2,"BAPSEL301645DDD ","2039-09-06",-5732,"",null,null,"자동차 및 부품 판매업(45)","G"]
["HTVFSS","&T COSAMSUNG CT COR","FOT","SEL301633DDFD","EUR",230044.79999999999,230044.79999999999,329017697,"2023-10-11","2024-01-25","C13",7510,"002-000934-847",3,"   ","PASC","ITMN","tst202-81idn","FNI",2,"FOTSEL301633DDFD","2039-09-07",-5704,"",null,null,"도매 및 상품중개업(46)","G"]
["HTVFSS","&T COSAMSUNG CT COR","FOT","SEL301647DDUD","EUR",109674.88,109674.88,156860648,"2023-10-11","2023-12-27","C13",7510,"002-000934-847",3,"   ","HSBC","HHO ","tst202-81idn","FNI",2,"FOTSEL301647DDUD","2039-09-08",-5734,"",null,null,"도매 및 상품중개업(46)","G"]
["HTVFSS","MICALLOTTE CHEICAL ","FOT","SEL355098DDFD","USD",15150,15150,20554005,"2023-10-17","2023-12-04","C13",4240,"002-565583-847",3,"   ","HKBA","SYD ","tst118 81idn","FNI",2,"FOTSEL355098DDFD","2039-09-09",-5758,"",null,null,"화학물질 및 화학제품 제조업(의약품 제외)(20)","C"]
["HTVFSS","MICALLOTTE CHEICAL ","FOT","SEL355099DDFD","USD",15750,15750,21368025,"2023-10-17","2023-12-04","C13",4240,"002-565583-847",3,"   ","HKBA","SYD ","tst118 81idn","FNI",2,"FOTSEL355099DDFD","2039-09-10",-5759,"",null,null,"화학물질 및 화학제품 제조업(의약품 제외)(20)","C"]
["HTVFSS","MICALLOTTE CHEICAL ","FOT","SEL355102DDFD","USD",170720,170720,231615824,"2023-10-13","2024-01-08","C13",4240,"002-565583-847",3,"   ","BKID","VNHA","tst118 81idn","FNI",2,"FOTSEL355102DDFD","2039-09-11",-5725,"",null,null,"화학물질 및 화학제품 제조업(의약품 제외)(20)","C"]
["HTVFSS","MICALLOTTE CHEICAL ","FOT","SEL355125DDFD","USD",75000,75000,101752500,"2023-10-18","2024-02-01","C13",4240,"002-565583-847",3,"   ","CITI","INBO","tst118 81idn","FNI",2,"FOTSEL355125DDFD","2039-09-12",-5702,"",null,null,"화학물질 및 화학제품 제조업(의약품 제외)(20)","C"]
["HTVFSS","ANK CSHINHAN BNK CO","RBU","SEL301572SH  ","USD",236742,236742,321187871,"2023-10-11","2024-03-04","BE1",10650,"002-061061-842",3,"FIT","SHIB","KRSE","tst202-81idn","FNI",2,"RBUSEL301572SH  ","2039-09-13",-5671,"",null,null,"금융업(64)","K"]
["HTVFSS","BANK KEB HANA ANK  ","RBU","SEL301592KE  ","USD",25222.75,25222.75,34219705,"2023-10-11","2024-01-09","BE1",10650,"002-060970-842",3,"FIT","KOEX","KRCK","tst202-81idn","FNI",2,"RBUSEL301592KE  ","2039-09-14",-5727,"",null,null,"금융업(64)","K"]
["HTVFSS","L BANINDUSTRIA BANK","RBU","SEL301596MD  ","USD",29700,29700,40293990,"2023-10-11","2024-10-07","BK4",10650,"002-060921-842"," ","FIT","MDDY","KRSL","tst202-81idn","FNI",2,"RBUSEL301596MD  ","2039-09-15",-5456,"",null,null,"금융업(64)","K"]
["HTVFSS","BANK KEB HANA ANK  ","RBU","SEL301601KE  ","USD",24155.55,24155.55,32771835,"2023-10-11","2024-01-09","BE1",10650,"002-060970-842",3,"FIT","KOEX","KRCK","tst202-81idn","FNI",2,"RBUSEL301601KE  ","2039-09-16",-5729,"",null,null,"금융업(64)","K"]
["HTVFSS","BANK KEB HANA ANK  ","RBU","SEL301602KE  ","USD",24773.91,24773.91,33610764,"2023-10-11","2024-01-09","BE1",10650,"002-060970-842",3,"FIT","KOEX","KRCK","tst202-81idn","FNI",2,"RBUSEL301602KE  ","2039-09-17",-5730,"",null,null,"금융업(64)","K"]
["HTVFSS","ANK CSHINHAN BNK CO","RBU","SEL354930SH  ","USD",106188.5,106188.5,144065938,"2023-10-11","2024-03-04","BE1",10650,"002-061061-842",3,"FIT","SHIB","KRSE","tst202-81idn","FNI",2,"RBUSEL354930SH  ","2039-09-18",-5676,"",null,null,"금융업(64)","K"]
["HTVFSS","ANK CSHINHAN BNK CO","RBU","SEL355033SH  ","USD",5233467.95,5233467.95,7100245968,"2023-10-11","2024-09-20","BE1",10650,"002-061061-842",3,"FIT","SHIB","KRSA","tst202-81idn","FNI",2,"RBUSEL355033SH  ","2039-09-19",-5477,"",null,null,"금융업(64)","K"]
["HTVFSS","L BANINDUSTRIA BANK","RBU","SEL355046MD  ","USD",1227320,1227320,1665105044,"2023-10-11","2024-10-07","BK4",10650,"002-060921-842"," ","FIT","MDDY","KRSL","tst202-81idn","FNI",2,"RBUSEL355046MD  ","2039-09-20",-5461,"",null,null,"금융업(64)","K"]
["HTVFSS","BANK NONGHYUP ANK  ","RBU","SEL355064NA  ","CNY",155011.15,155011.15,28694528,"2023-10-11","2023-12-19","BE1",10650,"002-061045-842",3,"FIT","NACF","KRSE","tst104-86idn","FNI",2,"RBUSEL355064NA  ","2039-09-21",-5755,"",null,null,"금융업(64)","K"]
["HTVFSS","BANK KEB HANA ANK  ","RBU","SEL355068KE  ","USD",103450,103450,140350615,"2023-10-11","2024-01-09","BE1",10650,"002-060970-842",3,"FIT","KOEX","KRCK","tst202-81idn","FNI",2,"RBUSEL355068KE  ","2039-09-22",-5735,"",null,null,"금융업(64)","K"]
["HTVFSS","BANK NONGHYUP ANK  ","RBU","SEL355069NA  ","USD",148771.79999999999,148771.79999999999,201838701,"2023-10-11","2024-01-09","BE1",10650,"002-061045-842",3,"FIT","NACF","KRSE","tst104-86idn","FNI",2,"RBUSEL355069NA  ","2039-09-23",-5736,"",null,null,"금융업(64)","K"]
["HTVFSS","K    WOORI BAN     ","RBU","SEL355071CB  ","USD",77640,77640,105334188,"2023-10-11","2024-01-09","BE1",10650,"002-060863-842",3,"FIT","CBOK","KRSL","tst201-81idn","FNI",2,"RBUSEL355071CB  ","2039-09-24",-5737,"",null,null,"금융업(64)","K"]
["HTVFSS","BANK KEB HANA ANK  ","RBU","SEL355075KE  ","USD",39200,39200,53182640,"2023-10-11","2024-01-09","BE1",10650,"002-060970-842",3,"FIT","KOEX","KRCK","tst202-81idn","FNI",2,"RBUSEL355075KE  ","2039-09-25",-5738,"",null,null,"금융업(64)","K"]
["HTVFSS","BANK KEB HANA ANK  ","RBU","SEL355076KE  ","USD",404820,404820,549219294,"2023-10-11","2024-10-07","BE1",10650,"002-060970-842",3,"FIT","KOEX","KRCK","tst202-81idn","FNI",2,"RBUSEL355076KE  ","2039-09-26",-5467,"",null,null,"금융업(64)","K"]
["HTVFSS","BANK KEB HANA ANK  ","RBU","SEL355077KE  ","USD",839429.48,839429.48,1138853976,"2023-10-11","2023-11-28","BE1",10650,"002-060970-842",3,"FIT","KOEX","KRCK","tst202-81idn","FNI",2,"RBUSEL355077KE  ","2039-09-27",-5782,"",null,null,"금융업(64)","K"]
["HTVFSS","ANK CSHINHAN BNK CO","RBU","SEL355078SH  ","USD",45252.75,45252.75,61394406,"2023-10-11","2024-02-08","BE1",10650,"002-061061-842",3,"FIT","SHIB","KRSA","tst202-81idn","FNI",2,"RBUSEL355078SH  ","2039-09-28",-5711,"",null,null,"금융업(64)","K"]
["HTVFSS","K    WOORI BAN     ","RBU","SEL355081CB  ","USD",116645,116645,158252272,"2023-10-11","2024-01-09","BE1",10650,"002-060863-842",3,"FIT","CBOK","KRSL","tst201-81idn","FNI",2,"RBUSEL355081CB  ","2039-09-29",-5742,"",null,null,"금융업(64)","K"]
["HTVFSS","K    WOORI BAN     ","RBU","SEL355082CB  ","USD",14441.48,14441.48,19592756,"2023-10-11","2023-11-21","BE1",10650,"002-060863-842",3,"FIT","CBOK","KRSL","tst201-81idn","FNI",2,"RBUSEL355082CB  ","2039-09-30",-5792,"",null,null,"금융업(64)","K"]
["HTVFSS","BANK KEB HANA ANK  ","RBU","SEL355083KE  ","USD",35000,35000,47484500,"2023-10-11","2024-01-09","BE1",10650,"002-060970-842",3,"FIT","KOEX","KRCK","tst202-81idn","FNI",2,"RBUSEL355083KE  ","2039-10-01",-5744,"",null,null,"금융업(64)","K"]
["HTVFSS","BANK KEB HANA ANK  ","RBU","SEL355084KE  ","USD",120281.4,120281.4,163185775,"2023-10-11","2023-11-29","BE1",10650,"002-060970-842",3,"FIT","KOEX","KRCK","tst202-81idn","FNI",2,"RBUSEL355084KE  ","2039-10-02",-5786,"",null,null,"금융업(64)","K"]
["HTVFSS","BANK NONGHYUP ANK  ","RBU","SEL355086NA  ","CNY",457138.59,457138.59,84622145,"2023-10-11","2024-04-08","BE1",10650,"002-061045-842",3,"FIT","NACF","KRSE","tst104-86idn","FNI",2,"RBUSEL355086NA  ","2039-10-03",-5656,"",null,null,"금융업(64)","K"]
["HTVFSS","BANK NONGHYUP ANK  ","RBU","SEL355088NA  ","CNY",2268541.15,2268541.15,419935709,"2023-10-11","2024-02-08","BE1",10650,"002-061045-842",3,"FIT","NACF","KRSE","tst104-86idn","FNI",2,"RBUSEL355088NA  ","2039-10-04",-5717,"",null,null,"금융업(64)","K"]
["HTVFSS","BANK NONGHYUP ANK  ","RBU","SEL355089NA  ","CNY",171925.15,171925.15,31825524,"2023-10-11","2024-02-08","BE1",10650,"002-061045-842",3,"FIT","NACF","KRSE","tst104-86idn","FNI",2,"RBUSEL355089NA  ","2039-10-05",-5718,"",null,null,"금융업(64)","K"]
["HTVFSS","L BANINDUSTRIA BANK","RBU","SEL355095MD  ","USD",1301410,1301410,1765622947,"2023-10-11","2024-10-07","BK4",10650,"002-060921-842"," ","FIT","MDDY","KRSL","tst202-81idn","FNI",2,"RBUSEL355095MD  ","2039-10-06",-5477,"",null,null,"금융업(64)","K"]
["HTVFSS","K    WOORI BAN     ","RBU","SEL355101CB  ","AUD",39173.58,39173.58,33501083,"2023-10-11","2024-01-09","BE1",10650,"002-060863-842",3,"FIT","CBOK","KRSL","tst201-81idn","FNI",2,"RBUSEL355101CB  ","2039-10-07",-5750,"",null,null,"금융업(64)","K"]
["HTVFSS","ANK CKOOKMIN BNK CO","RBU","SEL355111CT  ","USD",6607920,6607920,8964965064,"2023-10-11","2024-03-11","BE1",10650,"002-060855-842",3,"FIT","CTZN","KRSE","tst201-81idn","FNI",2,"RBUSEL355111CT  ","2039-10-08",-5689,"",null,null,"금융업(64)","K"]
["HTVFSS","L BANINDUSTRIA BANK","RBU","SEL355115MD  ","AUD",140444.9,140444.9,120107896,"2023-10-11","2023-11-10","BK4",10650,"002-060921-842"," ","FIT","MDDY","KRSL","tst202-81idn","FNI",2,"RBUSEL355115MD  ","2039-10-09",-5812,"",null,null,"금융업(64)","K"]
["HTVFSS","BANK NONGHYUP ANK  ","RBU","SEL355113NA  ","CNY",738760.94,738760.94,136754010,"2023-10-11","2023-11-20","BE1",10650,"002-061045-842",3,"FIT","NACF","KRSE","tst104-86idn","FNI",2,"RBUSEL355113NA  ","2039-10-10",-5803,"",null,null,"금융업(64)","K"]
["HTVFSS","ANK CSHINHAN BNK CO","RBU","SEL355114SH  ","CNY",661055.9,661055.9,122369823,"2023-10-11","2023-12-11","BE1",10650,"002-061061-842",3,"FIT","SHIB","KRSE","tst202-81idn","FNI",2,"RBUSEL355114SH  ","2039-10-11",-5783,"",null,null,"금융업(64)","K"]
["HTVFSS","&T COSAMSUNG CT COR","FOT","SEL301650DDFD","USD",51840,51840,70331328,"2023-10-12","2024-01-02","C13",7510,"002-000934-847",3,"   ","PTNB","IDJR","tst202-81idn","FNI",2,"FOTSEL301650DDFD","2039-10-12",-5762,"",null,null,"도매 및 상품중개업(46)","G"]
["HTVFSS","&T COSAMSUNG CT COR","FOT","SEL301651DDFD","USD",51840,51840,70331328,"2023-10-12","2024-01-02","C13",7510,"002-000934-847",3,"   ","PTNB","IDJR","tst202-81idn","FNI",2,"FOTSEL301651DDFD","2039-10-13",-5763,"",null,null,"도매 및 상품중개업(46)","G"]
["HTVFSS","C COMKOREA ZIN COMP","FOT","SEL301659DDFD","USD",190840.19,190840.19,258912886,"2023-10-19","2023-12-27","MFS",4272,"002-248510-847"," ","   ","RIBA","SARH","tst610-85idn","FNI",2,"FOTSEL301659DDFD","2039-10-14",-5770,"",null,null,"제1차 금속제조업(24)","C"]
["HTVFSS","BANK KEB HANA ANK  ","RBU","SEL301611KE  ","USD",33000,33000,44771100,"2023-10-12","2024-10-07","BE1",10650,"002-060970-842",3,"FIT","KOEX","KRCK","tst202-81idn","FNI",2,"RBUSEL301611KE  ","2039-10-15",-5486,"",null,null,"금융업(64)","K"]
["HTVFSS","L BANINDUSTRIA BANK","RBU","SEL301634MD  ","USD",19102,19102,25915683,"2023-10-12","2024-10-07","BK4",10650,"002-060921-842"," ","FIT","MDDY","KRSL","tst202-81idn","FNI",2,"RBUSEL301634MD  ","2039-10-16",-5487,"",null,null,"금융업(64)","K"]
["HTVFSS","L BANINDUSTRIA BANK","RBU","SEL301635MD  ","USD",9541,9541,12944275,"2023-10-12","2024-10-07","BK4",10650,"002-060921-842"," ","FIT","MDDY","KRSL","tst202-81idn","FNI",2,"RBUSEL301635MD  ","2039-10-17",-5488,"",null,null,"금융업(64)","K"]
["HTVFSS"," DEVETHE KOREADEVEL","RBU","SEL301636KD  ","CNY",2249250,2249250,416364673,"2023-10-12","2024-10-07","BK6",10650,"002-060962-842",3,"FIT","KODB","KRSE","tst101-82idn","FNI",2,"RBUSEL301636KD  ","2039-10-18",-5489,"",null,null,"금융업(64)","K"]
["HTVFSS","L BANINDUSTRIA BANK","RBU","SEL301637MD  ","USD",149920,149920,203396464,"2023-10-12","2024-10-07","BK4",10650,"002-060921-842"," ","FIT","MDDY","KRSL","tst202-81idn","FNI",2,"RBUSEL301637MD  ","2039-10-19",-5490,"",null,null,"금융업(64)","K"]
["HTVFSS","L BANINDUSTRIA BANK","RBU","SEL301638MD  ","USD",249920,249920,339066464,"2023-10-12","2024-10-07","BK4",10650,"002-060921-842"," ","FIT","MDDY","KRSL","tst202-81idn","FNI",2,"RBUSEL301638MD  ","2039-10-20",-5491,"",null,null,"금융업(64)","K"]
["HTVFSS","L BANINDUSTRIA BANK","RBU","SEL301642MD  ","USD",109860,109860,149047062,"2023-10-12","2024-10-07","BK4",10650,"002-060921-842"," ","FIT","MDDY","KRSL","tst202-81idn","FNI",2,"RBUSEL301642MD  ","2039-10-21",-5492,"",null,null,"금융업(64)","K"]
["HTVFSS","BANK KEB HANA ANK  ","RBU","SEL301643KE  ","USD",24146.85,24146.85,32760031,"2023-10-12","2024-01-10","BE1",10650,"002-060970-842",3,"FIT","KOEX","KRCK","tst202-81idn","FNI",2,"RBUSEL301643KE  ","2039-10-22",-5764,"",null,null,"금융업(64)","K"]
["HTVFSS","BANK KEB HANA ANK  ","RBU","SEL301644KE  ","USD",118000,118000,160090600,"2023-10-12","2024-10-07","BE1",10650,"002-060970-842",3,"FIT","KOEX","KRCK","tst202-81idn","FNI",2,"RBUSEL301644KE  ","2039-10-23",-5494,"",null,null,"금융업(64)","K"]
["HTVFSS","BANK KEB HANA ANK  ","RBU","SEL301646KE  ","USD",18260.12,18260.12,24773505,"2023-10-12","2024-03-11","BE1",10650,"002-060970-842",3,"FIT","KOEX","KRCK","tst202-81idn","FNI",2,"RBUSEL301646KE  ","2039-10-24",-5705,"",null,null,"금융업(64)","K"]
["HTVFSS","ANK CKOOKMIN BNK CO","RBU","SEL354936CT  ","USD",24899.78,24899.78,33781532,"2023-10-12","2024-08-29","BE1",10650,"002-060855-842",3,"FIT","CTZN","KRSE","tst201-81idn","FNI",2,"RBUSEL354936CT  ","2039-10-25",-5535,"",null,null,"금융업(64)","K"]
["HTVFSS","BANK NONGHYUP ANK  ","RBU","SEL355063NA  ","CNY",568005.5,568005.5,105145015,"2023-10-12","2024-02-16","BE1",10650,"002-061045-842",3,"FIT","NACF","KRSE","tst104-86idn","FNI",2,"RBUSEL355063NA  ","2039-10-26",-5731,"",null,null,"금융업(64)","K"]
["HTVFSS","BANK NONGHYUP ANK  ","RBU","SEL355065NA  ","CNY",76106.929999999993,76106.929999999993,14088357,"2023-10-12","2024-04-09","BE1",10650,"002-061045-842",3,"FIT","NACF","KRSE","tst104-86idn","FNI",2,"RBUSEL355065NA  ","2039-10-27",-5679,"",null,null,"금융업(64)","K"]
["HTVFSS","BANK KEB HANA ANK  ","RBU","SEL355072KE  ","USD",22680,22680,30769956,"2023-10-12","2023-12-29","BE1",10650,"002-060970-842",3,"FIT","KOEX","KRCK","tst202-81idn","FNI",2,"RBUSEL355072KE  ","2039-10-28",-5782,"",null,null,"금융업(64)","K"]
["HTVFSS","BANK NONGHYUP ANK  ","RBU","SEL355073NA  ","USD",227411.45,227411.45,308529114,"2023-10-12","2024-01-10","BE1",10650,"002-061045-842",3,"FIT","NACF","KRSE","tst104-86idn","FNI",2,"RBUSEL355073NA  ","2039-10-29",-5771,"",null,null,"금융업(64)","K"]
["HTVFSS","BANK KEB HANA ANK  ","RBU","SEL355074KE  ","USD",94631.9,94631.9,128387099,"2023-10-12","2024-10-07","BE1",10650,"002-060970-842",3,"FIT","KOEX","KRCK","tst202-81idn","FNI",2,"RBUSEL355074KE  ","2039-10-30",-5501,"",null,null,"금융업(64)","K"]
["HTVFSS","BANK NONGHYUP ANK  ","RBU","SEL355085NA  ","CNY",1214766.1499999999,1214766.1499999999,224868605,"2023-10-12","2024-02-16","BE1",10650,"002-061045-842",3,"FIT","NACF","KRSE","tst104-86idn","FNI",2,"RBUSEL355085NA  ","2039-10-31",-5736,"",null,null,"금융업(64)","K"]
["HTVFSS","BANK NONGHYUP ANK  ","RBU","SEL355087NA  ","CNY",243432,243432,45062347,"2023-10-12","2024-02-16","BE1",10650,"002-061045-842",3,"FIT","NACF","KRSE","tst104-86idn","FNI",2,"RBUSEL355087NA  ","2039-11-01",-5737,"",null,null,"금융업(64)","K"]
["HTVFSS","BANK NONGHYUP ANK  ","RBU","SEL355090NA  ","CNY",119450.59,119450.59,22111818,"2023-10-12","2023-12-21","BE1",10650,"002-061045-842",3,"FIT","NACF","KRSE","tst104-86idn","FNI",2,"RBUSEL355090NA  ","2039-11-02",-5795,"",null,null,"금융업(64)","K"]
["HTVFSS","L BANINDUSTRIA BANK","RBU","SEL355094MD  ","USD",678461.22,678461.22,920468337,"2023-10-12","2024-10-07","BK4",10650,"002-060921-842"," ","FIT","MDDY","KRSL","tst202-81idn","FNI",2,"RBUSEL355094MD  ","2039-11-03",-5505,"",null,null,"금융업(64)","K"]
["HTVFSS","L BANINDUSTRIA BANK","RBU","SEL355097MD  ","USD",652200,652200,884839740,"2023-10-12","2024-10-07","BK4",10650,"002-060921-842"," ","FIT","MDDY","KRSL","tst202-81idn","FNI",2,"RBUSEL355097MD  ","2039-11-04",-5506,"",null,null,"금융업(64)","K"]
["HTVFSS","K    WOORI BAN     ","RBU","SEL355100CB  ","USD",45448.9,45448.9,61660523,"2023-10-12","2024-01-10","BE1",10650,"002-060863-842",3,"FIT","CBOK","KRSL","tst201-81idn","FNI",2,"RBUSEL355100CB  ","2039-11-05",-5778,"",null,null,"금융업(64)","K"]
["HTVFSS","ANK CKOOKMIN BNK CO","RBU","SEL355109CT  ","USD",6493.18,6493.18,8809297,"2023-10-12","2024-10-07","BE1",10650,"002-060855-842",3,"FIT","CTZN","KRSE","tst201-81idn","FNI",2,"RBUSEL355109CT  ","2039-11-06",-5508,"",null,null,"금융업(64)","K"]
["HTVFSS","ANK CKOOKMIN BNK CO","RBU","SEL355110CT  ","USD",127705.01,127705.01,173257387,"2023-10-12","2024-10-07","BE1",10650,"002-060855-842",3,"FIT","CTZN","KRSE","tst201-81idn","FNI",2,"RBUSEL355110CT  ","2039-11-07",-5509,"",null,null,"금융업(64)","K"]
["HTVFSS","BANK KEB HANA ANK  ","RBU","SEL355112KE  ","USD",121912.5,121912.5,165398689,"2023-10-12","2023-10-31","BE1",10650,"002-060970-842",3,"FIT","KOEX","KRCK","tst202-81idn","FNI",2,"RBUSEL355112KE  ","2039-11-08",-5852,"",null,null,"금융업(64)","K"]
["HTVFSS","BANK KEB HANA ANK  ","RBU","SEL355119KE  ","USD",326150,326150,442487705,"2023-10-12","2024-10-07","BE1",10650,"002-060970-842",3,"FIT","KOEX","KRCK","tst202-81idn","FNI",2,"RBUSEL355119KE  ","2039-11-09",-5511,"",null,null,"금융업(64)","K"]
["HTVFSS","BANK KEB HANA ANK  ","RBU","SEL355120KE  ","USD",2527383.7400000002,2527383.7400000002,3428901520,"2023-10-12","2024-03-27","BE1",10650,"002-060970-842",3,"FIT","KOEX","KRCK","tst202-81idn","FNI",2,"RBUSEL355120KE  ","2039-11-10",-5706,"",null,null,"금융업(64)","K"]
["HTVFSS","BANK KEB HANA ANK  ","RBU","SEL355121KE  ","USD",398635.96,398635.96,540829407,"2023-10-12","2024-03-27","BE1",10650,"002-060970-842",3,"FIT","KOEX","KRCK","tst202-81idn","FNI",2,"RBUSEL355121KE  ","2039-11-11",-5707,"",null,null,"금융업(64)","K"]
["HTVFSS","TRUMETEXAS INSRUMEN","RFE","SEL301660TIK ","KRW",2706.07,2706.07,270607,"2023-10-12","2023-11-10","C13",7510,"002-716630-848",3,"EXC","HSBC","SEL ","tst120-81idn","FNI",2,"RFESEL301660TIK ","2039-11-12",-5846,"",null,null,"도매 및 상품중개업(46)","G"]
["HTVFSS","&T COSAMSUNG CT COR","FOT","SEL301661DDFD","USD",212160,212160,287837472,"2023-10-13","2024-01-09","C13",7510,"002-000934-847",3,"   ","BDAI","IDKS","tst202-81idn","FNI",2,"FOTSEL301661DDFD","2039-11-13",-5787,"",null,null,"도매 및 상품중개업(46)","G"]
["HTVFSS","&T COSAMSUNG CT COR","FOT","SEL301664DDFD","USD",196647.62,196647.62,266791826,"2023-10-13","2023-12-04","C13",7510,"002-000934-847",3,"   ","SBOI","INEV","tst202-81idn","FNI",2,"FOTSEL301664DDFD","2039-11-14",-5824,"",null,null,"도매 및 상품중개업(46)","G"]
["HTVFSS","&T COSAMSUNG CT COR","FOT","SEL301670DDFD","USD",1117894.1499999999,1117894.1499999999,1516646993,"2023-10-16","2024-03-22","C13",7510,"002-000934-847",3,"   ","BOCI","CLSG","tst202-81idn","FNI",2,"FOTSEL301670DDFD","2039-11-15",-5716,"",null,null,"도매 및 상품중개업(46)","G"]
["HTVFSS","I INFHD HYUNDA INFR","FOT","SEL301679DDFD","USD",352000,352000,477558400,"2023-10-19","2024-02-27","C13",4290,"002-210741-847",3,"   ","AUBB","BHMA","tst121-81idn","FNI",2,"FOTSEL301679DDFD","2039-11-16",-5741,"",null,null,"기타 기계 및 장비 제조업(29)","C"]
["HTVFSS","MICALLOTTE CHEICAL ","FOT","SEL355142DDFD","USD",595856.25,595856.25,808398174,"2023-10-19","2024-01-02","C13",4240,"002-565583-847",3,"   ","ICBA","CNCA","tst118 81idn","FNI",2,"FOTSEL355142DDFD","2039-11-17",-5798,"",null,null,"화학물질 및 화학제품 제조업(의약품 제외)(20)","C"]
["HTVFSS","L BANINDUSTRIA BANK","RBU","SEL301653MD  ","USD",119840,119840,162586928,"2023-10-13","2024-10-07","BK4",10650,"002-060921-842"," ","FIT","MDDY","KRSL","tst202-81idn","FNI",2,"RBUSEL301653MD  ","2039-11-18",-5520,"",null,null,"금융업(64)","K"]
["HTVFSS","L BANINDUSTRIA BANK","RBU","SEL355096MD  ","USD",380010,380010,515559567,"2023-10-13","2024-10-07","BK4",10650,"002-060921-842"," ","FIT","MDDY","KRSL","tst202-81idn","FNI",2,"RBUSEL355096MD  ","2039-11-19",-5521,"",null,null,"금융업(64)","K"]
["HTVFSS","BANK NONGHYUP ANK  ","RBU","SEL355108NA  ","CNY",179344.03,179344.03,33198852,"2023-10-13","2024-02-20","BE1",10650,"002-061045-842",3,"FIT","NACF","KRSE","tst104-86idn","FNI",2,"RBUSEL355108NA  ","2039-11-20",-5752,"",null,null,"금융업(64)","K"]
["HTVFSS","BANK NONGHYUP ANK  ","RBU","SEL355116NA  ","CNY",7177344.5099999998,7177344.5099999998,1328617406,"2023-10-13","2024-02-16","BE1",10650,"002-061045-842",3,"FIT","NACF","KRSE","tst104-86idn","FNI",2,"RBUSEL355116NA  ","2039-11-21",-5757,"",null,null,"금융업(64)","K"]
["HTVFSS","BANK NONGHYUP ANK  ","RBU","SEL355118NA  ","CNY",879343.55,879343.55,162777632,"2023-10-13","2024-02-16","BE1",10650,"002-061045-842",3,"FIT","NACF","KRSE","tst104-86idn","FNI",2,"RBUSEL355118NA  ","2039-11-22",-5758,"",null,null,"금융업(64)","K"]
["HTVFSS","BANK KEB HANA ANK  ","RBU","SEL355122KE  ","USD",43167.65,43167.65,58565551,"2023-10-13","2024-01-11","BE1",10650,"002-060970-842",3,"FIT","KOEX","KRCK","tst202-81idn","FNI",2,"RBUSEL355122KE  ","2039-11-23",-5795,"",null,null,"금융업(64)","K"]
["HTVFSS","BANK KEB HANA ANK  ","RBU","SEL355138KE  ","USD",138150,138150,187428105,"2023-10-13","2024-10-07","BE1",10650,"002-060970-842",3,"FIT","KOEX","KRCK","tst202-81idn","FNI",2,"RBUSEL355138KE  ","2039-11-24",-5526,"",null,null,"금융업(64)","K"]
["HTVFSS","ANK CSHINHAN BNK CO","RBU","SEL355139SH  ","USD",99894.3,99894.3,135526597,"2023-10-13","2024-10-07","BE1",10650,"002-061061-842",3,"FIT","SHIB","KRSE","tst202-81idn","FNI",2,"RBUSEL355139SH  ","2039-11-25",-5527,"",null,null,"금융업(64)","K"]
["HTVFSS","BANK KEB HANA ANK  ","RBU","SEL355140KE  ","USD",233246,233246,316444848,"2023-10-13","2024-10-07","BE1",10650,"002-060970-842",3,"FIT","KOEX","KRCK","tst202-81idn","FNI",2,"RBUSEL355140KE  ","2039-11-26",-5528,"",null,null,"금융업(64)","K"]
["HTVFSS","BANK KEB HANA ANK  ","RBU","SEL355146KE  ","USD",208545.12,208545.12,282933164,"2023-10-13","2024-03-11","BE1",10650,"002-060970-842",3,"FIT","KOEX","KRCK","tst202-81idn","FNI",2,"RBUSEL355146KE  ","2039-11-27",-5739,"",null,null,"금융업(64)","K"]
["HTVFSS","BANK NONGHYUP ANK  ","RBU","SEL355152NA  ","USD",61160,61160,82975772,"2023-10-13","2024-01-11","BE1",10650,"002-061045-842",3,"FIT","NACF","KRSE","tst104-86idn","FNI",2,"RBUSEL355152NA  ","2039-11-28",-5800,"",null,null,"금융업(64)","K"]
["HTVFSS","BANK KEB HANA ANK  ","RBU","SEL355153KE  ","USD",53354.9,53354.9,72386593,"2023-10-13","2024-01-11","BE1",10650,"002-060970-842",3,"FIT","KOEX","KRCK","tst202-81idn","FNI",2,"RBUSEL355153KE  ","2039-11-29",-5801,"",null,null,"금융업(64)","K"]
["HTVFSS","K    WOORI BAN     ","RBU","SEL301657CB  ","USD",617500,617500,837762250,"2023-10-13","2024-09-23","BE1",10650,"002-060863-842",3,"FIT","CBOK","KRSL","tst201-81idn","FNI",2,"RBUSEL301657CB  ","2039-11-30",-5546,"",null,null,"금융업(64)","K"]
["HTVFSS","BANK KEB HANA ANK  ","RBU","SEL301658KE  ","USD",25202.45,25202.45,34192164,"2023-10-13","2024-01-11","BE1",10650,"002-060970-842",3,"FIT","KOEX","KRCK","tst202-81idn","FNI",2,"RBUSEL301658KE  ","2039-12-01",-5803,"",null,null,"금융업(64)","K"]
["HTVFSS","BANK NONGHYUP ANK  ","RBU","SEL355123NA  ","USD",358830,358830,486824661,"2023-10-13","2024-10-07","BE1",10650,"002-061045-842",3,"FIT","NACF","KRSE","tst104-86idn","FNI",2,"RBUSEL355123NA  ","2039-12-02",-5534,"",null,null,"금융업(64)","K"]
["HTVFSS","BANK KEB HANA ANK  ","RBU","SEL355124KE  ","USD",39195.360000000001,39195.360000000001,53176345,"2023-10-13","2024-01-11","BE1",10650,"002-060970-842",3,"FIT","KOEX","KRCK","tst202-81idn","FNI",2,"RBUSEL355124KE  ","2039-12-03",-5805,"",null,null,"금융업(64)","K"]
["HTVFSS","BANK KEB HANA ANK  ","RBU","SEL355126KE  ","USD",480100,480100,651351670,"2023-10-13","2024-10-07","BE1",10650,"002-060970-842",3,"FIT","KOEX","KRCK","tst202-81idn","FNI",2,"RBUSEL355126KE  ","2039-12-04",-5536,"",null,null,"금융업(64)","K"]
["HTVFSS","BANK KEB HANA ANK  ","RBU","SEL355127KE  ","USD",171096.9,171096.9,232127164,"2023-10-13","2023-11-29","BE1",10650,"002-060970-842",3,"FIT","KOEX","KRCK","tst202-81idn","FNI",2,"RBUSEL355127KE  ","2039-12-05",-5850,"",null,null,"금융업(64)","K"]
["HTVFSS","BANK KEB HANA ANK  ","RBU","SEL355132KE  ","USD",64820,64820,87941294,"2023-10-13","2024-10-07","BE1",10650,"002-060970-842",3,"FIT","KOEX","KRCK","tst202-81idn","FNI",2,"RBUSEL355132KE  ","2039-12-06",-5538,"",null,null,"금융업(64)","K"]
["HTVFSS","BANK KEB HANA ANK  ","RBU","SEL355133KE  ","USD",46820,46820,63520694,"2023-10-13","2024-10-07","BE1",10650,"002-060970-842",3,"FIT","KOEX","KRCK","tst202-81idn","FNI",2,"RBUSEL355133KE  ","2039-12-07",-5539,"",null,null,"금융업(64)","K"]
["HTVFSS","BANK KEB HANA ANK  ","RBU","SEL355135KE  ","USD",169213,169213,229571277,"2023-10-13","2023-12-04","BE1",10650,"002-060970-842",3,"FIT","KOEX","KRCK","tst202-81idn","FNI",2,"RBUSEL355135KE  ","2039-12-08",-5848,"",null,null,"금융업(64)","K"]
["HTVFSS","BANK NONGHYUP ANK  ","RBU","SEL355137NA  ","USD",71781,71781,97385283,"2023-10-13","2024-10-07","BE1",10650,"002-061045-842",3,"FIT","NACF","KRSE","tst104-86idn","FNI",2,"RBUSEL355137NA  ","2039-12-09",-5541,"",null,null,"금융업(64)","K"]
["HTVFSS","K    WOORI BAN     ","RBU","SEL355155CB  ","USD",4183327.07,4183327.07,5675519836,"2023-10-13","2023-12-12","BE1",10650,"002-060863-842",3,"FIT","CBOK","KRSL","tst201-81idn","FNI",2,"RBUSEL355155CB  ","2039-12-10",-5842,"",null,null,"금융업(64)","K"]
["HTVFSS","ANK CSHINHAN BNK CO","RBU","SEL355156SH  ","CNY",727021.01,727021.01,134580800,"2023-10-13","2023-12-13","BE1",10650,"002-061061-842",3,"FIT","SHIB","KRSE","tst202-81idn","FNI",2,"RBUSEL355156SH  ","2039-12-11",-5842,"",null,null,"금융업(64)","K"]
["HTVFSS","&T COSAMSUNG CT COR","FOT","SEL301665DDFD","USD",103680,103680,140662656,"2023-10-16","2024-01-02","C13",7510,"002-000934-847",3,"   ","PTNB","IDJR","tst202-81idn","FNI",2,"FOTSEL301665DDFD","2039-12-12",-5823,"",null,null,"도매 및 상품중개업(46)","G"]
["HTVFSS","&T COSAMSUNG CT COR","FOT","SEL301666DDFD","USD",103680,103680,140662656,"2023-10-16","2024-01-02","C13",7510,"002-000934-847",3,"   ","PTNB","IDJA","tst202-81idn","FNI",2,"FOTSEL301666DDFD","2039-12-13",-5824,"",null,null,"도매 및 상품중개업(46)","G"]
["HTVFSS","&T COSAMSUNG CT COR","FOT","SEL301669DDFD","USD",120960,120960,164106432,"2023-10-16","2024-01-02","C13",7510,"002-000934-847",3,"   ","PTNB","IDJS","tst202-81idn","FNI",2,"FOTSEL301669DDFD","2039-12-14",-5825,"",null,null,"도매 및 상품중개업(46)","G"]
["HTVFSS","&T COSAMSUNG CT COR","FOT","SEL301682DDFD","EUR",870640.33,870640.33,1245218653,"2023-10-17","2023-12-27","C13",7510,"002-000934-847",3,"   ","CABZ","ITPA","tst202-81idn","FNI",2,"FOTSEL301682DDFD","2039-12-15",-5832,"",null,null,"도매 및 상품중개업(46)","G"]
["HTVFSS","L BANINDUSTRIA BANK","RBU","SEL301641MD  ","USD",79825.210000000006,79825.210000000006,108298862,"2023-10-16","2024-10-10","BK4",10650,"002-060921-842"," ","FIT","MDDY","KRSL","tst202-81idn","FNI",2,"RBUSEL301641MD  ","2039-12-16",-5545,"",null,null,"금융업(64)","K"]
["HTVFSS"," DEVETHE KOREADEVEL","RBU","SEL301654KD  ","USD",13143.03,13143.03,17831149,"2023-10-16","2024-04-15","BK6",10650,"002-060962-842",3,"FIT","KODB","KRSE","tst101-82idn","FNI",2,"RBUSEL301654KD  ","2039-12-17",-5724,"",null,null,"금융업(64)","K"]
["HTVFSS"," DEVETHE KOREADEVEL","RBU","SEL301656KD  ","USD",9073.5,9073.5,12310017,"2023-10-16","2024-04-15","BK6",10650,"002-060962-842",3,"FIT","KODB","KRSE","tst101-82idn","FNI",2,"RBUSEL301656KD  ","2039-12-18",-5725,"",null,null,"금융업(64)","K"]
["HTVFSS","K    WOORI BAN     ","RBU","SEL355070CB  ","USD",202384,202384,274574373,"2023-10-16","2023-11-07","BE1",10650,"002-060863-842",3,"FIT","CBOK","KRSL","tst201-81idn","FNI",2,"RBUSEL355070CB  ","2039-12-19",-5886,"",null,null,"금융업(64)","K"]
["HTVFSS","BANK KEB HANA ANK  ","RBU","SEL355134KE  ","USD",4197636,4197636,5694932761,"2023-10-16","2023-11-27","BE1",10650,"002-060970-842",3,"FIT","KOEX","KRCK","tst202-81idn","FNI",2,"RBUSEL355134KE  ","2039-12-20",-5867,"",null,null,"금융업(64)","K"]
["HTVFSS","BANK KEB HANA ANK  ","RBU","SEL355145KE  ","USD",130208.25,130208.25,176653533,"2023-10-16","2024-02-13","BE1",10650,"002-060970-842",3,"FIT","KOEX","KRCK","tst202-81idn","FNI",2,"RBUSEL355145KE  ","2039-12-21",-5790,"",null,null,"금융업(64)","K"]
["HTVFSS","ANK CKOOKMIN BNK CO","RBU","SEL355147CT  ","USD",1461997,1461997,1983491330,"2023-10-16","2024-10-10","BE1",10650,"002-060855-842",3,"FIT","CTZN","KRSE","tst201-81idn","FNI",2,"RBUSEL355147CT  ","2039-12-22",-5551,"",null,null,"금융업(64)","K"]
["HTVFSS","ANK CSHINHAN BNK CO","RBU","SEL355157SH  ","USD",1386226.6,1386226.6,1880693628,"2023-10-16","2024-10-04","BE1",10650,"002-061061-842",3,"FIT","SHIB","KRSE","tst202-81idn","FNI",2,"RBUSEL355157SH  ","2039-12-23",-5558,"",null,null,"금융업(64)","K"]
["HTVFSS","K    WOORI BAN     ","RBU","SEL355161CB  ","USD",16364.92,16364.92,22202287,"2023-10-16","2024-02-13","BE1",10650,"002-060863-842",3,"FIT","CBOK","KRSL","tst201-81idn","FNI",2,"RBUSEL355161CB  ","2039-12-24",-5793,"",null,null,"금융업(64)","K"]
["HTVFSS","L BANINDUSTRIA BANK","RBU","SEL355167MD  ","USD",160377,160377,217583476,"2023-10-16","2024-01-16","BK4",10650,"002-060921-842"," ","FIT","MDDY","KRSL","tst202-81idn","FNI",2,"RBUSEL355167MD  ","2039-12-25",-5822,"",null,null,"금융업(64)","K"]
["HTVFSS","BANK NONGHYUP ANK  ","RBU","SEL355169NA  ","CNY",175631.32,175631.32,32511583,"2023-10-16","2024-02-16","BE1",10650,"002-061045-842",3,"FIT","NACF","KRSE","tst104-86idn","FNI",2,"RBUSEL355169NA  ","2039-12-26",-5792,"",null,null,"금융업(64)","K"]
["HTVFSS","K    WOORI BAN     ","RBU","SEL355170CB  ","USD",41582.81,41582.81,56415398,"2023-10-16","2024-03-14","BE1",10650,"002-060863-842",3,"FIT","CBOK","KRSL","tst201-81idn","FNI",2,"RBUSEL355170CB  ","2039-12-27",-5766,"",null,null,"금융업(64)","K"]
["HTVFSS","K    WOORI BAN     ","RBU","SEL355175CB  ","USD",68901.740000000005,68901.740000000005,93478991,"2023-10-16","2024-01-16","BE1",10650,"002-060863-842",3,"FIT","CBOK","KRSL","tst201-81idn","FNI",2,"RBUSEL355175CB  ","2039-12-28",-5825,"",null,null,"금융업(64)","K"]
["HTVFSS","BANK KEB HANA ANK  ","RBU","SEL355176KE  ","USD",2007.6,2007.6,2723711,"2023-10-16","2024-01-16","BE1",10650,"002-060970-842",3,"FIT","KOEX","KRCK","tst202-81idn","FNI",2,"RBUSEL355176KE  ","2039-12-29",-5826,"",null,null,"금융업(64)","K"]
["HTVFSS","K    WOORI BAN     ","RBU","SEL355177CB  ","USD",32250,32250,43753575,"2023-10-16","2024-02-13","BE1",10650,"002-060863-842",3,"FIT","CBOK","KRSL","tst201-81idn","FNI",2,"RBUSEL355177CB  ","2039-12-30",-5799,"",null,null,"금융업(64)","K"]
["HTVFSS","K    WOORI BAN     ","RBU","SEL355179CB  ","USD",88235.98,88235.98,119709754,"2023-10-16","2024-01-16","BE1",10650,"002-060863-842",3,"FIT","CBOK","KRSL","tst201-81idn","FNI",2,"RBUSEL355179CB  ","2039-12-31",-5828,"",null,null,"금융업(64)","K"]
["HTVFSS","BANK KEB HANA ANK  ","RBU","SEL355181KE  ","USD",115950,115950,157309365,"2023-10-16","2024-10-10","BE1",10650,"002-060970-842",3,"FIT","KOEX","KRCK","tst202-81idn","FNI",2,"RBUSEL355181KE  ","2040-01-01",-5561,"",null,null,"금융업(64)","K"]
["HTVFSS","K    WOORI BAN     ","RBU","SEL355183CB  ","USD",84950,84950,115251665,"2023-10-16","2024-03-21","BE1",10650,"002-060863-842",3,"FIT","CBOK","KRSL","tst201-81idn","FNI",2,"RBUSEL355183CB  ","2040-01-02",-5765,"",null,null,"금융업(64)","K"]
["HTVFSS","BANK KEB HANA ANK  ","RBU","SEL355185KE  ","USD",347850,347850,471928095,"2023-10-16","2024-10-10","BE1",10650,"002-060970-842",3,"FIT","KOEX","KRCK","tst202-81idn","FNI",2,"RBUSEL355185KE  ","2040-01-03",-5563,"",null,null,"금융업(64)","K"]
["HTVFSS","BANK NONGHYUP ANK  ","RBU","SEL355190NA  ","CNY",3519343.07,3519343.07,651474992,"2023-10-16","2024-02-16","BE1",10650,"002-061045-842",3,"FIT","NACF","KRSE","tst104-86idn","FNI",2,"RBUSEL355190NA  ","2040-01-04",-5801,"",null,null,"금융업(64)","K"]
["HTVFSS","BANK KEB HANA ANK  ","RBU","SEL355191KE  ","USD",123850,123850,168027295,"2023-10-16","2024-10-10","BE1",10650,"002-060970-842",3,"FIT","KOEX","KRCK","tst202-81idn","FNI",2,"RBUSEL355191KE  ","2040-01-05",-5565,"",null,null,"금융업(64)","K"]
["HTVFSS","ANK CKOOKMIN BNK CO","RBU","SEL355195CT  ","USD",32540,32540,44147018,"2023-10-16","2024-10-10","BE1",10650,"002-060855-842",3,"FIT","CTZN","KRSE","tst201-81idn","FNI",2,"RBUSEL355195CT  ","2040-01-06",-5566,"",null,null,"금융업(64)","K"]
["HTVFSS","BANK KEB HANA ANK  ","RBU","SEL355200KE  ","USD",55400,55400,75161180,"2023-10-16","2024-10-10","BE1",10650,"002-060970-842",3,"FIT","KOEX","KRCK","tst202-81idn","FNI",2,"RBUSEL355200KE  ","2040-01-07",-5567,"",null,null,"금융업(64)","K"]
["HTVFSS","BANK NONGHYUP ANK  ","RBU","SEL355158NA  ","USD",897110,897110,1217109137,"2023-10-16","2024-10-10","BE1",10650,"002-061045-842",3,"FIT","NACF","KRSE","tst104-86idn","FNI",2,"RBUSEL355158NA  ","2040-01-08",-5568,"",null,null,"금융업(64)","K"]
["HTVFSS","K    WOORI BAN     ","RBU","SEL355194CB  ","USD",738241,738241,1001571565,"2023-10-16","2024-10-10","BE1",10650,"002-060863-842",3,"FIT","CBOK","KRSL","tst201-81idn","FNI",2,"RBUSEL355194CB  ","2040-01-09",-5569,"",null,null,"금융업(64)","K"]
["HTVFSS","&T COSAMSUNG CT COR","FOT","SEL301681DDFD","USD",53280,53280,72284976,"2023-10-17","2024-01-10","C13",7510,"002-000934-847",3,"   ","BKCZ","IDJK","tst202-81idn","FNI",2,"FOTSEL301681DDFD","2040-01-10",-5844,"",null,null,"도매 및 상품중개업(46)","G"]
["HTVFSS","BANK KEB HANA ANK  ","RBU","SEL301652KE  ","USD",72200,72200,97953740,"2023-10-17","2024-10-11","BE1",10650,"002-060970-842",3,"FIT","KOEX","KRCK","tst202-81idn","FNI",2,"RBUSEL301652KE  ","2040-01-11",-5570,"",null,null,"금융업(64)","K"]
["HTVFSS","BANK KEB HANA ANK  ","RBU","SEL301655KE  ","USD",81500,81500,110571050,"2023-10-17","2024-10-11","BE1",10650,"002-060970-842",3,"FIT","KOEX","KRCK","tst202-81idn","FNI",2,"RBUSEL301655KE  ","2040-01-12",-5571,"",null,null,"금융업(64)","K"]
["HTVFSS","L BANINDUSTRIA BANK","RBU","SEL301675MD  ","USD",25000,25000,33917500,"2023-10-17","2024-10-11","BK4",10650,"002-060921-842"," ","FIT","MDDY","KRSL","tst202-81idn","FNI",2,"RBUSEL301675MD  ","2040-01-13",-5572,"",null,null,"금융업(64)","K"]
["HTVFSS","K    WOORI BAN     ","RBU","SEL354967CB  ","USD",20000,20000,27134000,"2023-10-17","2024-10-11","BE1",10650,"002-060863-842",3,"FIT","CBOK","KRSL","tst201-81idn","FNI",2,"RBUSEL354967CB  ","2040-01-14",-5573,"",null,null,"금융업(64)","K"]
["HTVFSS","ANK CSHINHAN BNK CO","RBU","SEL355117SH  ","USD",317840,317840,431213528,"2023-10-17","2024-02-14","BE1",10650,"002-061061-842",3,"FIT","SHIB","KRSE","tst202-81idn","FNI",2,"RBUSEL355117SH  ","2040-01-15",-5814,"",null,null,"금융업(64)","K"]
["HTVFSS","BANK NONGHYUP ANK  ","RBU","SEL355136NA  ","CNY",243432,243432,45062347,"2023-10-17","2024-02-16","BE1",10650,"002-061045-842",3,"FIT","NACF","KRSE","tst104-86idn","FNI",2,"RBUSEL355136NA  ","2040-01-16",-5813,"",null,null,"금융업(64)","K"]
["HTVFSS","BANK NONGHYUP ANK  ","RBU","SEL355144NA  ","AUD",54074.11,54074.11,46243954,"2023-10-17","2024-04-15","BE1",10650,"002-061045-842",3,"FIT","NACF","KRSE","tst104-86idn","FNI",2,"RBUSEL355144NA  ","2040-01-17",-5755,"",null,null,"금융업(64)","K"]
["HTVFSS","BANK NONGHYUP ANK  ","RBU","SEL355151NA  ","CNY",113643.07,113643.07,21036772,"2023-10-17","2024-02-16","BE1",10650,"002-061045-842",3,"FIT","NACF","KRSE","tst104-86idn","FNI",2,"RBUSEL355151NA  ","2040-01-18",-5815,"",null,null,"금융업(64)","K"]
["HTVFSS","K    WOORI BAN     ","RBU","SEL355178CB  ","USD",81762,81762,110926505,"2023-10-17","2024-10-11","BE1",10650,"002-060863-842",3,"FIT","CBOK","KRSL","tst201-81idn","FNI",2,"RBUSEL355178CB  ","2040-01-19",-5578,"",null,null,"금융업(64)","K"]
["HTVFSS","BANK NONGHYUP ANK  ","RBU","SEL355187NA  ","CNY",1523222.11,1523222.11,281967712,"2023-10-17","2024-02-16","BE1",10650,"002-061045-842",3,"FIT","NACF","KRSE","tst104-86idn","FNI",2,"RBUSEL355187NA  ","2040-01-20",-5817,"",null,null,"금융업(64)","K"]
["HTVFSS","BANK NONGHYUP ANK  ","RBU","SEL355188NA  ","CNY",2639343.0699999998,2639343.0699999998,488575843,"2023-10-17","2024-02-16","BE1",10650,"002-061045-842",3,"FIT","NACF","KRSE","tst104-86idn","FNI",2,"RBUSEL355188NA  ","2040-01-21",-5818,"",null,null,"금융업(64)","K"]
["HTVFSS","L BANINDUSTRIA BANK","RBU","SEL355198MD  ","AUD",74344.22,74344.22,63578868,"2023-10-17","2024-03-25","BK4",10650,"002-060921-842"," ","FIT","MDDY","KRSL","tst202-81idn","FNI",2,"RBUSEL355198MD  ","2040-01-22",-5781,"",null,null,"금융업(64)","K"]
["HTVFSS","L BANINDUSTRIA BANK","RBU","SEL355199MD  ","AUD",98351.35,98351.35,84109666,"2023-10-17","2024-01-15","BK4",10650,"002-060921-842"," ","FIT","MDDY","KRSL","tst202-81idn","FNI",2,"RBUSEL355199MD  ","2040-01-23",-5852,"",null,null,"금융업(64)","K"]
["HTVFSS","K    WOORI BAN     ","RBU","SEL355201CB  ","USD",143700,143700,194957790,"2023-10-17","2024-01-16","BE1",10650,"002-060863-842",3,"FIT","CBOK","KRSL","tst201-81idn","FNI",2,"RBUSEL355201CB  ","2040-01-24",-5852,"",null,null,"금융업(64)","K"]
["HTVFSS","ANK CKOOKMIN BNK CO","RBU","SEL355211CT  ","USD",266639.53000000003,266639.53000000003,361749850,"2023-10-17","2024-10-11","BE1",10650,"002-060855-842",3,"FIT","CTZN","KRSE","tst201-81idn","FNI",2,"RBUSEL355211CT  ","2040-01-25",-5584,"",null,null,"금융업(64)","K"]
["HTVFSS","ANK CKOOKMIN BNK CO","RBU","SEL355218CT  ","USD",217430,217430,294987281,"2023-10-17","2024-10-11","BE1",10650,"002-060855-842",3,"FIT","CTZN","KRSE","tst201-81idn","FNI",2,"RBUSEL355218CT  ","2040-01-26",-5585,"",null,null,"금융업(64)","K"]
["HTVFSS","BANK NONGHYUP ANK  ","RBU","SEL355220NA  ","USD",66273.600000000006,66273.600000000006,89913393,"2023-10-17","2023-12-18","BE1",10650,"002-061045-842",3,"FIT","NACF","KRSE","tst104-86idn","FNI",2,"RBUSEL355220NA  ","2040-01-27",-5884,"",null,null,"금융업(64)","K"]
["HTVFSS","BANK KEB HANA ANK  ","RBU","SEL355221KE  ","USD",80450,80450,109146515,"2023-10-17","2024-10-11","BE1",10650,"002-060970-842",3,"FIT","KOEX","KRCK","tst202-81idn","FNI",2,"RBUSEL355221KE  ","2040-01-28",-5587,"",null,null,"금융업(64)","K"]
["HTVFSS","BANK KEB HANA ANK  ","RBU","SEL355222KE  ","USD",108200,108200,146794940,"2023-10-17","2024-10-11","BE1",10650,"002-060970-842",3,"FIT","KOEX","KRCK","tst202-81idn","FNI",2,"RBUSEL355222KE  ","2040-01-29",-5588,"",null,null,"금융업(64)","K"]
["HTVFSS","BANK KEB HANA ANK  ","RBU","SEL355227KE  ","USD",97810,97810,132698827,"2023-10-17","2024-01-16","BE1",10650,"002-060970-842",3,"FIT","KOEX","KRCK","tst202-81idn","FNI",2,"RBUSEL355227KE  ","2040-01-30",-5858,"",null,null,"금융업(64)","K"]
["HTVFSS","BANK KEB HANA ANK  ","RBU","SEL355228KE  ","USD",779543.19,779543.19,1057606246,"2023-10-17","2024-07-31","BE1",10650,"002-060970-842",3,"FIT","KOEX","KRCK","tst202-81idn","FNI",2,"RBUSEL355228KE  ","2040-01-31",-5662,"",null,null,"금융업(64)","K"]
["HTVFSS","ANK CKOOKMIN BNK CO","RBU","SEL355229CT  ","USD",3027.18,3027.18,4106975,"2023-10-17","2024-10-11","BE1",10650,"002-060855-842",3,"FIT","CTZN","KRSE","tst201-81idn","FNI",2,"RBUSEL355229CT  ","2040-02-01",-5591,"",null,null,"금융업(64)","K"]
["HTVFSS","BANK KEB HANA ANK  ","RBU","SEL355230KE  ","USD",4027329.23,4027329.23,5463877566,"2023-10-17","2024-04-05","BE1",10650,"002-060970-842",3,"FIT","KOEX","KRCK","tst202-81idn","FNI",2,"RBUSEL355230KE  ","2040-02-02",-5781,"",null,null,"금융업(64)","K"]
["HTVFSS","BANK NONGHYUP ANK  ","RBU","SEL355239NA  ","USD",51411.68,51411.68,69750226,"2023-10-17","2024-01-16","BE1",10650,"002-061045-842",3,"FIT","NACF","KRSE","tst104-86idn","FNI",2,"RBUSEL355239NA  ","2040-02-03",-5862,"",null,null,"금융업(64)","K"]
["HTVFSS","K    WOORI BAN     ","RBU","SEL301621CB  ","USD",178730.99,178730.99,242484334,"2023-10-17","2024-02-14","BE1",10650,"002-060863-842",3,"FIT","CBOK","KRSL","tst201-81idn","FNI",2,"RBUSEL301621CB  ","2040-02-04",-5834,"",null,null,"금융업(64)","K"]
["HTVFSS","BANK NONGHYUP ANK  ","RBU","SEL301684NA  ","USD",47910.19,47910.19,64999755,"2023-10-17","2024-04-15","BE1",10650,"002-061045-842",3,"FIT","NACF","KRSE","tst104-86idn","FNI",2,"RBUSEL301684NA  ","2040-02-05",-5774,"",null,null,"금융업(64)","K"]
["HTVFSS","BANK NONGHYUP ANK  ","RBU","SEL301689NA  ","USD",102707.04,102707.04,139342641,"2023-10-17","2024-04-15","BE1",10650,"002-061045-842",3,"FIT","NACF","KRSE","tst104-86idn","FNI",2,"RBUSEL301689NA  ","2040-02-06",-5775,"",null,null,"금융업(64)","K"]
["HTVFSS","ANK CKOOKMIN BNK CO","RBU","SEL355186CT  ","USD",1193599,1193599,1619355763,"2023-10-17","2024-10-11","BE1",10650,"002-060855-842",3,"FIT","CTZN","KRSE","tst201-81idn","FNI",2,"RBUSEL355186CT  ","2040-02-07",-5597,"",null,null,"금융업(64)","K"]
["HTVFSS","L BANINDUSTRIA BANK","RBU","SEL355197MD  ","USD",18020.98,18020.98,24449064,"2023-10-17","2024-01-16","BK4",10650,"002-060921-842"," ","FIT","MDDY","KRSL","tst202-81idn","FNI",2,"RBUSEL355197MD  ","2040-02-08",-5867,"",null,null,"금융업(64)","K"]
["HTVFSS","C COMKOREA ZIN COMP","FOT","SEL301694DDFD","USD",761937.17,761937.17,1033720159,"2023-10-18","2024-01-16","MFS",4272,"002-248510-847"," ","   ","UOBL","SGSG","tst610-85idn","FNI",2,"FOTSEL301694DDFD","2040-02-09",-5868,"",null,null,"제1차 금속제조업(24)","C"]
["HTVFSS","C COMKOREA ZIN COMP","FOT","SEL301695DDFD","USD",507092.68,507092.68,687972639,"2023-10-18","2024-01-16","MFS",4272,"002-248510-847"," ","   ","UOBL","SGTS","tst610-85idn","FNI",2,"FOTSEL301695DDFD","2040-02-10",-5869,"",null,null,"제1차 금속제조업(24)","C"]
["HTVFSS","ANK CSHINHAN BNK CO","RBU","SEL301610SH  ","USD",471823,471823,640122264,"2023-10-18","2024-01-03","BE1",10650,"002-061061-842",3,"FIT","SHIB","KRSE","tst202-81idn","FNI",2,"RBUSEL301610SH  ","2040-02-11",-5883,"",null,null,"금융업(64)","K"]
["HTVFSS","K    WOORI BAN     ","RBU","SEL301640CB  ","SEK",685650,685650,84231335,"2023-10-18","2024-04-15","BE1",10650,"002-060863-842",3,"FIT","CBOK","KRSL","tst201-81idn","FNI",2,"RBUSEL301640CB  ","2040-02-12",-5781,"",null,null,"금융업(64)","K"]
["HTVFSS","BANK KEB HANA ANK  ","RBU","SEL301673KE  ","USD",931565.17,931565.17,1263854466,"2023-10-18","2024-03-18","BE1",10650,"002-060970-842",3,"FIT","KOEX","KRCK","tst202-81idn","FNI",2,"RBUSEL301673KE  ","2040-02-13",-5810,"",null,null,"금융업(64)","K"]
["HTVFSS","L BANINDUSTRIA BANK","RBU","SEL301685MD  ","USD",60860,60860,82568762,"2023-10-18","2024-10-15","BK4",10650,"002-060921-842"," ","FIT","MDDY","KRSL","tst202-81idn","FNI",2,"RBUSEL301685MD  ","2040-02-14",-5600,"",null,null,"금융업(64)","K"]
["HTVFSS","L BANINDUSTRIA BANK","RBU","SEL301687MD  ","USD",100000,100000,135670000,"2023-10-18","2024-10-15","BK4",10650,"002-060921-842"," ","FIT","MDDY","KRSL","tst202-81idn","FNI",2,"RBUSEL301687MD  ","2040-02-15",-5601,"",null,null,"금융업(64)","K"]
["HTVFSS","L BANINDUSTRIA BANK","RBU","SEL301692MD  ","USD",134500,134500,182476150,"2023-10-18","2024-10-15","BK4",10650,"002-060921-842"," ","FIT","MDDY","KRSL","tst202-81idn","FNI",2,"RBUSEL301692MD  ","2040-02-16",-5602,"",null,null,"금융업(64)","K"]
["HTVFSS","K    WOORI BAN     ","RBU","SEL355180CB  ","USD",47299.46,47299.46,64171177,"2023-10-18","2024-09-19","BE1",10650,"002-060863-842",3,"FIT","CBOK","KRSL","tst201-81idn","FNI",2,"RBUSEL355180CB  ","2040-02-17",-5629,"",null,null,"금융업(64)","K"]
["HTVFSS","BANK NONGHYUP ANK  ","RBU","SEL355184NA  ","CNY",18332.32,18332.32,3393545,"2023-10-18","2024-02-16","BE1",10650,"002-061045-842",3,"FIT","NACF","KRSE","tst104-86idn","FNI",2,"RBUSEL355184NA  ","2040-02-18",-5846,"",null,null,"금융업(64)","K"]
["HTVFSS","L BANINDUSTRIA BANK","RBU","SEL355189MD  ","AUD",87112.25,87112.25,74498035,"2023-10-18","2024-02-15","BK4",10650,"002-060921-842"," ","FIT","MDDY","KRSL","tst202-81idn","FNI",2,"RBUSEL355189MD  ","2040-02-19",-5848,"",null,null,"금융업(64)","K"]
["HTVFSS","BANK NONGHYUP ANK  ","RBU","SEL355219NA  ","CNY",289226.11,289226.11,53539417,"2023-10-18","2024-02-05","BE1",10650,"002-061045-842",3,"FIT","NACF","KRSE","tst104-86idn","FNI",2,"RBUSEL355219NA  ","2040-02-20",-5859,"",null,null,"금융업(64)","K"]
["HTVFSS","L BANINDUSTRIA BANK","RBU","SEL355236MD  ","AUD",82327.240000000005,82327.240000000005,70405914,"2023-10-18","2024-04-02","BK4",10650,"002-060921-842"," ","FIT","MDDY","KRSL","tst202-81idn","FNI",2,"RBUSEL355236MD  ","2040-02-21",-5803,"",null,null,"금융업(64)","K"]
["HTVFSS","L BANINDUSTRIA BANK","RBU","SEL355237MD  ","USD",58220,58220,78987074,"2023-10-18","2024-10-15","BK4",10650,"002-060921-842"," ","FIT","MDDY","KRSL","tst202-81idn","FNI",2,"RBUSEL355237MD  ","2040-02-22",-5608,"",null,null,"금융업(64)","K"]
["HTVFSS","K    WOORI BAN     ","RBU","SEL355238CB  ","USD",40791.480000000003,40791.480000000003,55341801,"2023-10-18","2024-04-15","BE1",10650,"002-060863-842",3,"FIT","CBOK","KRSL","tst201-81idn","FNI",2,"RBUSEL355238CB  ","2040-02-23",-5792,"",null,null,"금융업(64)","K"]
["HTVFSS","K    WOORI BAN     ","RBU","SEL355240CB  ","AUD",49475.25,49475.25,42311028,"2023-10-18","2024-01-16","BE1",10650,"002-060863-842",3,"FIT","CBOK","KRSL","tst201-81idn","FNI",2,"RBUSEL355240CB  ","2040-02-24",-5883,"",null,null,"금융업(64)","K"]
["HTVFSS","L BANINDUSTRIA BANK","RBU","SEL355241MD  ","AUD",103813.03,103813.03,88780472,"2023-10-18","2024-03-18","BK4",10650,"002-060921-842"," ","FIT","MDDY","KRSL","tst202-81idn","FNI",2,"RBUSEL355241MD  ","2040-02-25",-5822,"",null,null,"금융업(64)","K"]
["HTVFSS","BANK KEB HANA ANK  ","RBU","SEL355246KE  ","USD",1249220,1249220,1694816774,"2023-10-18","2024-10-15","BE1",10650,"002-060970-842",3,"FIT","KOEX","KRCK","tst202-81idn","FNI",2,"RBUSEL355246KE  ","2040-02-26",-5612,"",null,null,"금융업(64)","K"]
["HTVFSS","BANK KEB HANA ANK  ","RBU","SEL355248KE  ","USD",461820,461820,626551194,"2023-10-18","2024-10-15","BE1",10650,"002-060970-842",3,"FIT","KOEX","KRCK","tst202-81idn","FNI",2,"RBUSEL355248KE  ","2040-02-27",-5613,"",null,null,"금융업(64)","K"]
["HTVFSS","BANK KEB HANA ANK  ","RBU","SEL355249KE  ","USD",55447,55447,75224945,"2023-10-18","2024-02-15","BE1",10650,"002-060970-842",3,"FIT","KOEX","KRCK","tst202-81idn","FNI",2,"RBUSEL355249KE  ","2040-02-28",-5857,"",null,null,"금융업(64)","K"]
["HTVFSS","BANK KEB HANA ANK  ","RBU","SEL355251KE  ","USD",44762,44762,60728605,"2023-10-18","2024-01-16","BE1",10650,"002-060970-842",3,"FIT","KOEX","KRCK","tst202-81idn","FNI",2,"RBUSEL355251KE  ","2040-02-29",-5888,"",null,null,"금융업(64)","K"]
["HTVFSS","BANK KEB HANA ANK  ","RBU","SEL355254KE  ","USD",62000,62000,84115400,"2023-10-18","2024-10-15","BE1",10650,"002-060970-842",3,"FIT","KOEX","KRCK","tst202-81idn","FNI",2,"RBUSEL355254KE  ","2040-03-01",-5616,"",null,null,"금융업(64)","K"]
["HTVFSS","BANK KEB HANA ANK  ","RBU","SEL355271KE  ","USD",132933,132933,180350201,"2023-10-18","2024-02-15","BE1",10650,"002-060970-842",3,"FIT","KOEX","KRCK","tst202-81idn","FNI",2,"RBUSEL355271KE  ","2040-03-02",-5860,"",null,null,"금융업(64)","K"]
["HTVFSS","TRUMETEXAS INSRUMEN","RFE","SEL301697TIK ","KRW",2252.87,2252.87,225287,"2023-10-18","2023-11-16","C13",7510,"002-716630-848",3,"EXC","HSBC","SEL ","tst120-81idn","FNI",2,"RFESEL301697TIK ","2040-03-03",-5952,"",null,null,"도매 및 상품중개업(46)","G"]
["HTVFSS","TALENHANWHA TOALENE","FOT","SEL355259DDFD","USD",1139600,1139600,1546095320,"2023-10-19","2024-01-16","C13",4232,"002-826974-847",3,"   ","BKAI","VNHN","tst316-81idn","FNI",2,"FOTSEL355259DDFD","2040-03-04",-5892,"",null,null,"코크스, 연탄 및 석유정제품 제조업(19)","C"]
["HTVFSS","TALENHANWHA TOALENE","FOT","SEL355261DDFD","USD",223156,223156,302755745,"2023-10-19","2024-01-10","C13",4232,"002-826974-847",3,"   ","FUJI","INND","tst316-81idn","FNI",2,"FOTSEL355261DDFD","2040-03-05",-5899,"",null,null,"코크스, 연탄 및 석유정제품 제조업(19)","C"]
["HTVFSS","K    WOORI BAN     ","RBU","SEL301671CB  ","USD",46126.080000000002,46126.080000000002,62579253,"2023-10-19","2024-01-17","BE1",10650,"002-060863-842",3,"FIT","CBOK","KRSL","tst201-81idn","FNI",2,"RBUSEL301671CB  ","2040-03-06",-5893,"",null,null,"금융업(64)","K"]
["HTVFSS","BANK NONGHYUP ANK  ","RBU","SEL301672NA  ","CNY",520019.77,520019.77,96262248,"2023-10-19","2024-02-01","BE1",10650,"002-061045-842",3,"FIT","NACF","KRSE","tst104-86idn","FNI",2,"RBUSEL301672NA  ","2040-03-07",-5879,"",null,null,"금융업(64)","K"]
["HTVFSS","L BANINDUSTRIA BANK","RBU","SEL301674MD  ","USD",205920,205920,279371664,"2023-10-19","2024-10-15","BK4",10650,"002-060921-842"," ","FIT","MDDY","KRSL","tst202-81idn","FNI",2,"RBUSEL301674MD  ","2040-03-08",-5623,"",null,null,"금융업(64)","K"]
["HTVFSS","BANK NONGHYUP ANK  ","RBU","SEL301693NA  ","USD",51239.6,51239.6,69516765,"2023-10-19","2024-04-16","BE1",10650,"002-061045-842",3,"FIT","NACF","KRSE","tst104-86idn","FNI",2,"RBUSEL301693NA  ","2040-03-09",-5806,"",null,null,"금융업(64)","K"]
["HTVFSS","L BANINDUSTRIA BANK","RBU","SEL301700MD  ","USD",206000,206000,279480200,"2023-10-19","2024-10-15","BK4",10650,"002-060921-842"," ","FIT","MDDY","KRSL","tst202-81idn","FNI",2,"RBUSEL301700MD  ","2040-03-10",-5625,"",null,null,"금융업(64)","K"]
["HTVFSS","K    WOORI BAN     ","RBU","SEL301701CB  ","USD",107442.86,107442.86,145767728,"2023-10-19","2024-01-17","BE1",10650,"002-060863-842",3,"FIT","CBOK","KRSL","tst201-81idn","FNI",2,"RBUSEL301701CB  ","2040-03-11",-5898,"",null,null,"금융업(64)","K"]
["HTVFSS","K    WOORI BAN     ","RBU","SEL301706CB  ","USD",168670,168670,228834589,"2023-10-19","2024-02-16","BE1",10650,"002-060863-842",3,"FIT","CBOK","KRSL","tst201-81idn","FNI",2,"RBUSEL301706CB  ","2040-03-12",-5869,"",null,null,"금융업(64)","K"]
["HTVFSS","K    WOORI BAN     ","RBU","SEL355196CB  ","USD",842718,842718,1143315511,"2023-10-19","2024-10-15","BE1",10650,"002-060863-842",3,"FIT","CBOK","KRSL","tst201-81idn","FNI",2,"RBUSEL355196CB  ","2040-03-13",-5628,"",null,null,"금융업(64)","K"]
["HTVFSS","BANK KEB HANA ANK  ","RBU","SEL355231KE  ","USD",763031.27,763031.27,1035204524,"2023-10-19","2024-04-03","BE1",10650,"002-060970-842",3,"FIT","KOEX","KRCK","tst202-81idn","FNI",2,"RBUSEL355231KE  ","2040-03-14",-5824,"",null,null,"금융업(64)","K"]
["HTVFSS","ANK CKOOKMIN BNK CO","RBU","SEL355244CT  ","USD",55670.5,55670.5,75528167,"2023-10-19","2024-10-15","BE1",10650,"002-060855-842",3,"FIT","CTZN","KRSE","tst201-81idn","FNI",2,"RBUSEL355244CT  ","2040-03-15",-5630,"",null,null,"금융업(64)","K"]
["HTVFSS","BANK KEB HANA ANK  ","RBU","SEL355250KE  ","USD",36500,36500,49519550,"2023-10-19","2024-02-16","BE1",10650,"002-060970-842",3,"FIT","KOEX","KRCK","tst202-81idn","FNI",2,"RBUSEL355250KE  ","2040-03-16",-5873,"",null,null,"금융업(64)","K"]
["HTVFSS","BANK KEB HANA ANK  ","RBU","SEL355252KE  ","USD",424820,424820,576353294,"2023-10-19","2024-10-15","BE1",10650,"002-060970-842",3,"FIT","KOEX","KRCK","tst202-81idn","FNI",2,"RBUSEL355252KE  ","2040-03-17",-5632,"",null,null,"금융업(64)","K"]
["HTVFSS","BANK KEB HANA ANK  ","RBU","SEL355253KE  ","USD",302735,302735,410720575,"2023-10-19","2024-10-15","BE1",10650,"002-060970-842",3,"FIT","KOEX","KRCK","tst202-81idn","FNI",2,"RBUSEL355253KE  ","2040-03-18",-5633,"",null,null,"금융업(64)","K"]
["HTVFSS","L BANINDUSTRIA BANK","RBU","SEL355260MD  ","USD",1300000,1300000,1763710000,"2023-10-19","2024-10-15","BK4",10650,"002-060921-842"," ","FIT","MDDY","KRSL","tst202-81idn","FNI",2,"RBUSEL355260MD  ","2040-03-19",-5634,"",null,null,"금융업(64)","K"]
["HTVFSS","K    WOORI BAN     ","RBU","SEL355262CB  ","USD",234950,234950,318756665,"2023-10-19","2024-04-05","BE1",10650,"002-060863-842",3,"FIT","CBOK","KRSL","tst201-81idn","FNI",2,"RBUSEL355262CB  ","2040-03-20",-5828,"",null,null,"금융업(64)","K"]
["HTVFSS","L BANINDUSTRIA BANK","RBU","SEL355264MD  ","USD",249748,249748,338833112,"2023-10-19","2024-10-15","BK4",10650,"002-060921-842"," ","FIT","MDDY","KRSL","tst202-81idn","FNI",2,"RBUSEL355264MD  ","2040-03-21",-5636,"",null,null,"금융업(64)","K"]
["HTVFSS","BANK NONGHYUP ANK  ","RBU","SEL355267NA  ","USD",380500,380500,516224350,"2023-10-19","2024-10-15","BE1",10650,"002-061045-842",3,"FIT","NACF","KRSE","tst104-86idn","FNI",2,"RBUSEL355267NA  ","2040-03-22",-5637,"",null,null,"금융업(64)","K"]
["HTVFSS","BANK NONGHYUP ANK  ","RBU","SEL355269NA  ","USD",66647.58,66647.58,90420772,"2023-10-19","2024-01-17","BE1",10650,"002-061045-842",3,"FIT","NACF","KRSE","tst104-86idn","FNI",2,"RBUSEL355269NA  ","2040-03-23",-5910,"",null,null,"금융업(64)","K"]
["HTVFSS","T-IMPTHE EXPOR-IMPO","RBU","SEL355270EI  ","USD",358000,358000,485698600,"2023-10-19","2024-10-15","C15",10650,"002-015925-842",3,"FIT","EIBK","KRYD","tst116-82idn","FNI",2,"RBUSEL355270EI  ","2040-03-24",-5639,"",null,null,"금융업(64)","K"]
["HTVFSS","BANK KEB HANA ANK  ","RBU","SEL355273KE  ","USD",71421.8,71421.8,96897956,"2023-10-19","2024-01-17","BE1",10650,"002-060970-842",3,"FIT","KOEX","KRCK","tst202-81idn","FNI",2,"RBUSEL355273KE  ","2040-03-25",-5912,"",null,null,"금융업(64)","K"]
["HTVFSS","BANK NONGHYUP ANK  ","RBU","SEL355274NA  ","CNY",959341.63,959341.63,177586291,"2023-10-19","2024-02-16","BE1",10650,"002-061045-842",3,"FIT","NACF","KRSE","tst104-86idn","FNI",2,"RBUSEL355274NA  ","2040-03-26",-5883,"",null,null,"금융업(64)","K"]
["HTVFSS","K    WOORI BAN     ","RBU","SEL355276CB  ","USD",245061.95,245061.95,332475548,"2023-10-19","2024-02-28","BE1",10650,"002-060863-842",3,"FIT","CBOK","KRSL","tst201-81idn","FNI",2,"RBUSEL355276CB  ","2040-03-27",-5872,"",null,null,"금융업(64)","K"]
["HTVFSS","BANK KEB HANA ANK  ","RBU","SEL355284KE  ","USD",25182.15,25182.15,34164623,"2023-10-19","2024-01-17","BE1",10650,"002-060970-842",3,"FIT","KOEX","KRCK","tst202-81idn","FNI",2,"RBUSEL355284KE  ","2040-03-28",-5915,"",null,null,"금융업(64)","K"]
["TSCRFFRFI"," AND SAMSUNG CAND T","RFI","HTP306511SEL ","USD",2737897.67,-273789767,3714505769,"2023-09-13","2023-10-31","C13",7510,"002-000934-838",3,"IMP","HSBC","SEL ","tst202-81idn","FIO",2,"RFIHTP306511SEL ","2040-03-29",-5994,"",null,null,"도매 및 상품중개업(46)","G"]
["TSCRFFRFI"," KONGFIH (HONGKONG)","RFI","SEM306297DDD ","USD",3398476.8,-339847680,4610713475,"2023-08-30","2023-10-26","C11",7510,"002-160467-838",4,"IMP","HSBC","SEL ","tst300300idn","FIO",2,"RFISEM306297DDD ","2040-03-30",-6000,"",null,null,"도매 및 상품중개업(46)","G"]
["TSCRFFRFI"," KONGFIH (HONGKONG)","RFI","SEM306964DDD ","USD",3577344,-357734400,4853382605,"2023-09-26","2023-11-09","C11",7510,"002-160467-838",4,"IMP","HSBC","SEL ","tst300300idn","FIO",2,"RFISEM306964DDD ","2040-03-31",-5987,"",null,null,"도매 및 상품중개업(46)","G"]
["TSCRFFRFI"," KONGFIH (HONGKONG)","RFI","SEM306968DDD ","USD",3860084.6,-386008460,5236976777,"2023-09-26","2023-11-16","C11",7510,"002-160467-838",4,"IMP","HSBC","SEL ","tst300300idn","FIO",2,"RFISEM306968DDD ","2040-04-01",-5981,"",null,null,"도매 및 상품중개업(46)","G"]
["TSCRFFRFI"," KONGFIH (HONGKONG)","RFI","SEM306294DDD ","USD",4113945.6,-411394560,5581389996,"2023-08-30","2023-10-26","C11",7510,"002-160467-838",4,"IMP","HSBC","SEL ","tst300300idn","FIO",2,"RFISEM306294DDD ","2040-04-02",-6003,"",null,null,"도매 및 상품중개업(46)","G"]
["TSCRFFRFI"," KONGFIH (HONGKONG)","RFI","SEM306961DDD ","USD",3756211.2,-375621120,5096051735,"2023-09-26","2023-11-02","C11",7510,"002-160467-838",4,"IMP","HSBC","SEL ","tst300300idn","FIO",2,"RFISEM306961DDD ","2040-04-03",-5997,"",null,null,"도매 및 상품중개업(46)","G"]
["TSCRFFRFI"," KONGFIH (HONGKONG)","RFI","SEM306967DDD ","USD",6618086.4000000004,-661808640,8978757819,"2023-09-26","2023-11-09","C11",7510,"002-160467-838",4,"IMP","HSBC","SEL ","tst300300idn","FIO",2,"RFISEM306967DDD ","2040-04-04",-5991,"",null,null,"도매 및 상품중개업(46)","G"]
["TSCRFFRFI"," KONGFIH (HONGKONG)","RFI","SEM306295DDD ","USD",2146406.3999999999,-214640640,2912029563,"2023-08-30","2023-10-26","C11",7510,"002-160467-838",4,"IMP","HSBC","SEL ","tst300300idn","FIO",2,"RFISEM306295DDD ","2040-04-05",-6006,"",null,null,"도매 및 상품중개업(46)","G"]
["TSCRFFRFI"," KONGFIH (HONGKONG)","RFI","SEM306296DDD ","USD",894336,-89433600,1213345651,"2023-08-30","2023-10-26","C11",7510,"002-160467-838",4,"IMP","HSBC","SEL ","tst300300idn","FIO",2,"RFISEM306296DDD ","2040-04-06",-6007,"",null,null,"도매 및 상품중개업(46)","G"]
["TSCRFFRFI"," KONGFIH (HONGKONG)","RFI","SEM306963DDD ","USD",357734.40000000002,-35773440,485338260,"2023-09-26","2023-11-09","C11",7510,"002-160467-838",4,"IMP","HSBC","SEL ","tst300300idn","FIO",2,"RFISEM306963DDD ","2040-04-07",-5994,"",null,null,"도매 및 상품중개업(46)","G"]
["TSCRFFRFI"," KONGFIH (HONGKONG)","RFI","SEM306966DDD ","USD",894336,-89433600,1213345651,"2023-09-26","2023-11-09","C11",7510,"002-160467-838",4,"IMP","HSBC","SEL ","tst300300idn","FIO",2,"RFISEM306966DDD ","2040-04-08",-5995,"",null,null,"도매 및 상품중개업(46)","G"]
["TSCRFFRFI"," KONGFIH (HONGKONG)","RFI","SEM306970DDD ","USD",1598054.3999999999,-159805440,2168080404,"2023-09-26","2023-11-16","C11",7510,"002-160467-838",4,"IMP","HSBC","SEL ","tst300300idn","FIO",2,"RFISEM306970DDD ","2040-04-09",-5989,"",null,null,"도매 및 상품중개업(46)","G"]
["TSCRFFRFI"," AND SAMSUNG CAND T","RFI","HTP307238SEL ","USD",3001000,-300100000,4071456700,"2023-09-27","2023-12-13","C13",7510,"002-000934-838",3,"IMP","HSBC","SEL ","tst202-81idn","FNI",2,"RFIHTP307238SEL ","2040-04-10",-5963,"",null,null,"도매 및 상품중개업(46)","G"]
["TSCRFFRFI"," KONGFIH (HONGKONG)","RFI","SEM306298DDD ","USD",2056972.8,-205697280,2790694998,"2023-08-30","2023-10-26","C11",7510,"002-160467-838",4,"IMP","HSBC","SEL ","tst300300idn","FNI",2,"RFISEM306298DDD ","2040-04-11",-6012,"",null,null,"도매 및 상품중개업(46)","G"]
["TSCRFFRFI"," KONGFIH (HONGKONG)","RFI","SEM306965DDD ","USD",179443.20000000001,-17944320,243450589,"2023-09-26","2023-11-09","C11",7510,"002-160467-838",4,"IMP","HSBC","SEL ","tst300300idn","FNI",2,"RFISEM306965DDD ","2040-04-12",-5999,"",null,null,"도매 및 상품중개업(46)","G"]
["TSCRFFRFI"," KONGFIH (HONGKONG)","RFI","SEM306971DDD ","USD",1242931.2,-124293120,1686284759,"2023-09-26","2023-11-16","C11",7510,"002-160467-838",4,"IMP","HSBC","SEL ","tst300300idn","FNI",2,"RFISEM306971DDD ","2040-04-13",-5993,"",null,null,"도매 및 상품중개업(46)","G"]
["TSCRFFRFI"," AND SAMSUNG CAND T","RFI","HTP306512SEL ","USD",2966268.28,-296626828,4024336175,"2023-09-13","2023-11-21","C13",7510,"002-000934-838",3,"IMP","HSBC","SEL ","tst202-81idn","FNI",2,"RFIHTP306512SEL ","2040-04-14",-5989,"",null,null,"도매 및 상품중개업(46)","G"]
["TSCRFFRFI"," KONGFIH (HONGKONG)","RFI","SEM306962DDD ","USD",2966214.4,-296621440,4024263076,"2023-09-26","2023-11-02","C11",7510,"002-160467-838",4,"IMP","HSBC","SEL ","tst300300idn","FNI",2,"RFISEM306962DDD ","2040-04-15",-6009,"",null,null,"도매 및 상품중개업(46)","G"]
["TSCRFFRFI"," KONGFIH (HONGKONG)","RFI","SEM306969DDD ","USD",887808,-88780800,1204489114,"2023-09-26","2023-11-16","C11",7510,"002-160467-838",4,"IMP","HSBC","SEL ","tst300300idn","FNI",2,"RFISEM306969DDD ","2040-04-16",-5996,"",null,null,"도매 및 상품중개업(46)","G"]

{"sheet":"Logic","index":2,"n_rows":5,"n_cols":23,"rows_kept":5,"cut":false,"hidden":false,"merged":[]}
["B2209","D8","D9","D10","D11","D24","D25","D30","D31","D39","D40","D52","D53","D60","D61","D63","D64","D65","D70","D109","D110","D111","D116"]
["1: PF","In the “Temp” sheet, when C(Product Code) is OAV and E(Currency) is KRW, calculate the total of H(LCY Amount) (in millions, rounded down).","Same as D8","Same as the condition in D8,\nbut only include cases where T (Size of Turnover) = 2.\nCalculate the total amount of H (LCY Amount), in millions (rounded down).","Same as the condition in D8,\nbut only include cases where T (Size of Turnover) = 1.\nCalculate the total amount of H (LCY Amount), in millions (rounded down).","When C (Product Code) is OAV or OAM,\nand T (Size of Turnover) = 2,\nand E (Currency) is not KRW,\ncalculate the total of H (LCY Amount) (in millions, rounded down).","When C (Product Code) is OAV or OAM,\nand T (Size of Turnover) = 1,\nand E (Currency) is not KRW,\ncalculate the total of H (LCY Amount) (in millions, rounded down).",null,null,null,null,null,null,null,null,"sum of D64, D69, D70","sum of D65, D66","=+D10+D24-D25+D27-D28+D30-D31+D33-D34+D36-D37+D39-D40+D42-D43+D50-D51+D52-D53+D60-D61-D70",null,"=+D110+D115+D116","=+D111+D112","=+D65"]
["2: IMP","In the “Temp” sheet, when C(Product Code) is LAI and E(Currency) is KRW, calculate the total of H(LCY Amount) (in millions, rounded down).","Same as D8","Same as the condition in D8,\nbut only include cases where T (Size of Turnover) = 2.\nCalculate the total amount of H (LCY Amount), in millions (rounded down).","Same as the condition in D8,\nbut only include cases where T (Size of Turnover) = 1.\nCalculate the total amount of H (LCY Amount), in millions (rounded down).","When C (Product Code) is CIL, LAI, PNP, or YBZ,\nand T (Size of Turnover) = 2,\nand E (Currency) is not KRW,\ncalculate the total of H (LCY Amount) (in millions, rounded down).","When C (Product Code) is CIL, LAI, PNP, or YBZ,\nand T (Size of Turnover) = 1,\nand E (Currency) is not KRW,\ncalculate the total of H (LCY Amount) (in millions, rounded down).","When C(Product Code) is BDU, and T(Size of Turnover) = 2, regardless of E(Currency), calculate the total of H(LCY Amount) (in millions, rounded down).","When C(Product Code) is BDU, and T(Size of Turnover) = 1, regardless of E(Currency), calculate the total of H(LCY Amount) (in millions, rounded down).",null,null,null,null,"When C(Product Code) is BR/DPB/SGT/AWR/SDN/SDC/SDG, and T(Size of Turnover) = 2, calculate the total of H(LCY Amount) (in millions, rounded down).","When C(Product Code) is BR/DPB/SGT/AWR/SDN/SDC/SDG, and T(Size of Turnover) = 1, calculate the total of H(LCY Amount) (in millions, rounded down).","sum of D64, D69, D70","sum of D65, D66","=+D10+D24-D25+D27-D28+D30-D31+D33-D34+D36-D37+D39-D40+D42-D43+D50-D51+D52-D53+D60-D61-D70","When C(Product Code) is CIL, LAI, or PNP,\nfor cases where E(Currency) <> KRW,\ncalculate the total amount of H(LCY)\nfor those where S(Central Classification) is “GMC” (in millions, truncated).","=+D110+D115+D116","=+D111+D112","=+D65","For cases where C(Product Code) is CIL/LAI/PNP, and E(Currency) <> KRW,\nthe total amount of H(LCY) for those where S(Central Classification) is \"GMC\" (in millions, truncated), or get the value =D70."]
["3: GTE",null,null,null,null,null,null,null,null,null,null,null,null,"When C(Product Code) is APG/CGA/CGB/CGC/CGI/CGJ/GOV/LEG/PEB/REB/TEB, and T(Size of Turnover) = 2, calculate the total of H(LCY Amount) (in millions, rounded down).","When C(Product Code) is APG/CGA/CGB/CGC/CGI/CGJ/GOV/LEG/PEB/REB/TEB, and T(Size of Turnover) = 1, calculate the total of H(LCY Amount) (in millions, rounded down).","sum of D64, D69, D70","sum of D65, D66","=+D10+D24-D25+D27-D28+D30-D31+D33-D34+D36-D37+D39-D40+D42-D43+D50-D51+D52-D53+D60-D61-D70",null,"=+D110+D115+D116","=+D111+D112","=+D65"," "]
["4: EXP","In the “Temp” sheet, when C(Product Code) is XBZ or LAE and E(Currency) is KRW, calculate the total of H(LCY Amount) (in millions, rounded down).","Same as D8","Same as the condition in D8,\nbut only include cases where T (Size of Turnover) = 2.\nCalculate the total amount of H (LCY Amount), in millions (rounded down).","Same as the condition in D8,\nbut only include cases where T (Size of Turnover) = 1.\nCalculate the total amount of H (LCY Amount), in millions (rounded down).","When C (Product Code) is XBZ or LAE,\nand T (Size of Turnover) = 2,\nand E (Currency) is not KRW,\ncalculate the total of H (LCY Amount) (in millions, rounded down).","When C (Product Code) is XBZ or LAE,\nand T (Size of Turnover) = 1,\nand E (Currency) is not KRW,\ncalculate the total of H (LCY Amount) (in millions, rounded down).",null,null,"When C(Product Code) is ABD/BAC/BAP/BPC/BPP/FOT/NRD/OAE/OBC/REN, and T(Size of Turnover) = 2, calculate the total of H(LCY Amount) (in millions, rounded down).","When C(Product Code) is ABD/BAC/BAP/BPC/BPP/FOT/NRD/OAE/OBC/REN, and T(Size of Turnover) = 1, calculate the total of H(LCY Amount) (in millions, rounded down).","When C(Product Code) is RFI/RFE/RFP, and T(Size of Turnover) = 2, calculate the total of H(LCY Amount) (in millions, rounded down).","When C(Product Code) is RFI/RFE/RFP, and T(Size of Turnover) = 1, calculate the total of H(LCY Amount) (in millions, rounded down).",null,null,"sum of D64, D69, D70","sum of D65, D66","=+D10+D24-D25+D27-D28+D30-D31+D33-D34+D36-D37+D39-D40+D42-D43+D50-D51+D52-D53+D60-D61-D70",null,"=+D110+D115+D116","=+D111+D112","=+D65"]

{"sheet":"Static","index":3,"n_rows":77,"n_cols":13,"rows_kept":77,"cut":false,"hidden":false,"merged":[]}
["Control Product",null,"Team","Account","Product Code",null,"Code","Class","Class Description","Superior \nClass",null,"Report Tag","Team"]
["APG",null,"ADV",null,"CGH",null,314,"B07","Non-metallic mineral mining (excluding fuel) (07)","B",null,1,"PF"]
["CGA",null,"ADV",null,"CTP",null,1000,"A","A_Agriculture, Forestry and Fishing","A",null,2,"IMP"]
["CGB",null,"ADV",null,"DCA",null,1010,"A01","Agriculture (01)","A",null,3,"GTE"]
["CGC",null,"EXP","Foreign Exchange Purchase","ABD",null,1020,"A02","Forestry (02)","A",null,4,"EXP"]
["CGI",null,"EXP","Foreign Exchange Purchase","BAC",null,2000,"A03","Fishing (03)","A",null,5,"ADV"]
["CGJ",null,"EXP","Foreign Exchange Purchase","BAP",null,3000,"B","B_Mining","B"]
["COV",null,"EXP","Foreign Exchange Purchase","BPC",null,3100,"B05","Coal, crude oil, and natural gas mining (05)","B"]
["DC",null,"EXP","Foreign Exchange Purchase","BPP",null,3110,"B05","Coal, crude oil, and natural gas mining (05)","B"]
["DPC",null,"EXP","Foreign Exchange Purchase","FOT",null,3120,"B05","Coal, crude oil, and natural gas mining (05)","B"]
["LEG",null,"EXP","Loan","LAE",null,3130,"B06","Metal mining (06)","B"]
["PEB",null,"EXP","Foreign Exchange Purchase","NRD",null,4000,"C","C_Manufacturing","C"]
["REB",null,"EXP","Foreign Exchange Purchase","OAE",null,4150,"C10","Food manufacturing (10)","C"]
["SDC",null,"EXP","Foreign Exchange Purchase","OBC",null,4160,"C12","Tobacco manufacturing (12)","C"]
["SDG",null,"EXP","Interbank Foreign Currency Loan","RBU",null,4170,"C13","Textile manufacturing (excluding apparel) (13)","C"]
["SDN",null,"EXP","Foreign Exchange Purchase","REN",null,4180,"C14","Apparel, accessories, and fur product manufacturing (14)","C"]
["TEB",null,"EXP","Factoring","RFE",null,4190,"C15","Leather, bags, and footwear manufacturing (15)","C"]
[null,null,"EXP","Factoring","RFI",null,4200,"C16","Wood and wood products manufacturing (excluding furniture) (16)","C"]
[null,null,"EXP","Factoring","RFP",null,4210,"C17","Pulp, paper, and paper products manufacturing (17)","C"]
[null,null,"EXP","Interbank Foreign Currency Loan","SBN",null,4220,"C18","Printing and recorded media reproduction (18)","C"]
[null,null,"EXP","Interbank Foreign Currency Loan","SXX",null,4230,"C19","Coke, briquette, and petroleum refining (19)","C"]
[null,null,"EXP","Loan","XBZ",null,4232,"C19","Coke, briquette, and petroleum refining (19)","C"]
[null,null,"GTE","Confirmed Payment Guarantee","APG",null,4240,"C20","Chemical and chemical products manufacturing (excluding pharmaceuticals) (20)","C"]
[null,null,"GTE","Confirmed Payment Guarantee","CGA",null,4243,"C21","Pharmaceutical and medicinal manufacturing (21)","C"]
[null,null,"GTE","Confirmed Payment Guarantee","CGB",null,4250,"C22","Rubber and plastic products manufacturing (22)","C"]
[null,null,"GTE","Confirmed Payment Guarantee","CGC",null,4260,"C23","Non-metallic mineral products manufacturing (23)","C"]
[null,null,"GTE","Confirmed Payment Guarantee","CGI",null,4270,"C24","Primary metal manufacturing (24)","C"]
[null,null,"GTE","Confirmed Payment Guarantee","CGJ",null,4271,"C24","Primary metal manufacturing (24)","C"]
[null,null,"GTE","Confirmed Payment Guarantee","GOV",null,4272,"C24","Primary metal manufacturing (24)","C"]
[null,null,"GTE","Confirmed Payment Guarantee","LEG",null,4280,"C25","Fabricated metal products manufacturing (excluding machinery and furniture) (25)","C"]
[null,null,"GTE","Confirmed Payment Guarantee","PEB",null,4290,"C29","Other machinery and equipment manufacturing (29)","C"]
[null,null,"GTE","Confirmed Payment Guarantee","REB",null,4300,"C28","Electrical equipment manufacturing (28)","C"]
[null,null,"GTE","Confirmed Payment Guarantee","TEB",null,4310,"C28","Electrical equipment manufacturing (28))","C"]
[null,null,"IMP","Confirmed Payment Guarantee","AWR",null,4320,"C26","Electronic components, computers, audio, video, and communication equipment manufacturing (26)","C"]
[null,null,"IMP","Loan","BDU",null,4330,"C27","Medical, precision, optical instruments, and watch manufacturing (27)","C"]
[null,null,"IMP","Confirmed Payment Guarantee","BR",null,4340,"C30","Motor vehicle and trailer manufacturing (30)","C"]
[null,null,"IMP","Loan","CIL",null,4350,"C31","Other transport equipment manufacturing (31)","C"]
[null,null,"IMP","Unconfirmed Payment Guarantee","DC",null,4351,"C31","Other transport equipment manufacturing (31)","C"]
[null,null,"IMP","Confirmed Payment Guarantee","DPB",null,4360,"C32","Furniture manufacturing (32)","C"]
[null,null,"IMP","Unconfirmed Payment Guarantee","DPC",null,4370,"C33","Other product manufacturing (33)","C"]
[null,null,"IMP","Loan","LAI",null,5000,"D","D_Electricity, gas, steam, and water supply","D"]
[null,null,"IMP","Loan","PNP",null,5400,"D35","Electricity, gas, steam, and air conditioning supply (35)","D"]
[null,null,"IMP","Confirmed Payment Guarantee","SDC",null,5410,"D36","Water supply (36)","D"]
[null,null,"IMP","Confirmed Payment Guarantee","SDG",null,6000,"F","F_Construction","F"]
[null,null,"IMP","Confirmed Payment Guarantee","SDN",null,6450,"F41","General construction (41)","F"]
[null,null,"IMP","Confirmed Payment Guarantee","SGT",null,6460,"F42","Specialized construction (42)","F"]
[null,null,"IMP","Loan","YBZ",null,7000,"G","G_Wholesale and retail trade","G"]
[null,null,"PF","Loan","OAM",null,7500,"G45","Motor vehicle and parts sales (45)","G"]
[null,null,"PF","Loan","OAV",null,7510,"G46","Wholesale and brokerage trade (46))","G"]
[null,null,null,null,null,null,7520,"G47","Retail trade (excluding motor vehicles) (47)","G"]
[null,null,null,null,null,null,8000,"I","I_Accommodation and food services","I"]
[null,null,null,null,null,null,9000,"H","H_Transportation","H"]
[null,null,null,null,null,null,9600,"H49","Land and pipeline transport (49)","H"]
[null,null,null,null,null,null,9610,"H50","Water transport (50)","H"]
[null,null,null,null,null,null,9620,"H51","Air transport (51))","H"]
[null,null,null,null,null,null,9630,"H52","Warehousing and transportation support services (52)","H"]
[null,null,null,null,null,null,9640,"J","J_Publishing, video, broadcasting, and information services","J"]
[null,null,null,null,null,null,10000,"K","K_Financial and insurance services","K"]
[null,null,null,null,null,null,10650,"K64","Financial services (64)","K"]
[null,null,null,null,null,null,10660,"K65","Insurance and pension services (65)","K"]
[null,null,null,null,null,null,10670,"K66","Financial and insurance-related services (66)","K"]
[null,null,null,null,null,null,11000,"L","L_Real estate and leasing services","L"]
[null,null,null,null,null,null,11700,"L68","Real estate activities (68)","L"]
[null,null,null,null,null,null,11710,null,"Real estate activities (68)"]
[null,null,null,null,null,null,11720,"J62","Computer programming, systems integration, and management (62)","J"]
[null,null,null,null,null,null,11730]
[null,null,null,null,null,null,11740,"M75","Business support services (75)","M"]
[null,null,null,null,null,null,12000,"O","O_Public administration, defense, and social security","O"]
[null,null,null,null,null,null,13000,"P","P_Education services","P"]
[null,null,null,null,null,null,14000,"Q","Q_Health and social welfare services","Q"]
[null,null,null,null,null,null,14860,"Q87","Social welfare services (87))","Q"]
[null,null,null,null,null,null,15000,"R","R_Arts, sports, and leisure services","R"]
[null,null,null,null,null,null,15870]
[null,null,null,null,null,null,15880]
[null,null,null,null,null,null,16000,"S","S_Associations, repair, and other personal services","S"]
[null,null,null,null,null,null,16910,"S94","Associations and organizations (94)","S"]
[null,null,null,null,null,null,16930,"S96","Other personal services (96)","S"]

{"sheet":"SSIFSEP","index":4,"n_rows":7996,"n_cols":46,"rows_kept":2250,"cut":true,"hidden":false,"merged":[],"bounds":{"rows_first":1000,"rows_last":250,"rows_between":1000,"halvings":1}}
[null,null,null,null,null,null,null,null,null,null,null,null,null,null,null,null,null,{"$f":"SUBTOTAL(9,R2:R9190)","v":1968003206.6411197},"(JPY,KWD(/1000),OMR(/1000),VND)"]
["SICTCD","SIGMAB","SIACB","SIACS","SIACX","Account No.","SIRREF","SIPRIE","Account Title","Account Title","SICYCD","SIGHCL","SICRR","SIELBD","SISTG","SIAMT1","Mar rate","KRW B&D","SIRLIN","SIDLNO","SICLTP","SIULTV","SIMKS1","SINATY","SICTRS","SIGAV1","SIMTC1","SIPDB","SIWRI","SISSCD","SIGAVP","SIMTCD","SIDLUP","SITLUP","SIPDDF","SILGD","SIVLOC","SIRREF",null,null,null,"GTRF product","계정과목","ROUND\nKRW B&D","Matched with Local data(GTRF)","GTRF\nREMARKS"]
["KR","HSBC",2,38909,226,null,"","FLN","Foreign Currency Corporate Loan","COP Foreign Currency Corporate Loan","USD","C13",4.3,0,"2A",14344335,{"$f":"VLOOKUP(K3,[1]EXRATE!C$3:F$43,4,0)","v":1344.8},{"$f":"+P3*Q3/100","v":192902617.08000001},"",163,"",0,0,"","","","","","W","HLS","080","J",20230926,160849,0.91,56.15,"CIBM              AI80184"]
["KR","HSBC",2,184984,276,null,"","FLN","KRW Corporate Loan","COP KRW Corporate Loan","KRW","C13",4.2,0,"1",115451695,{"$f":"VLOOKUP(K4,[1]EXRATE!C$3:F$43,4,0)","v":1},{"$f":"+P4*Q4","v":115451695},"",159,"",0,0,"","","","","","W","HLS","120","H",20230926,160849,0.22,53.69,"CIBM              AI80184"]
["KR","HSBC",2,533669,276,null,"","FLN","KRW Corporate Loan","COP KRW Corporate Loan","KRW","C13",4.2,0,"1",64851023,{"$f":"VLOOKUP(K5,[1]EXRATE!C$3:F$43,4,0)","v":1},{"$f":"+P5*Q5","v":64851023},"",159,"",0,0,"","","","","","W","HLS","120","G",20230926,160849,0.22,51.51,"CIBM              AI80184"]
["KR","HSBC",2,708360,276,null,"","FLN","KRW Corporate Loan","COP KRW Corporate Loan","KRW","C13",4.2,0,"2A",59590970,{"$f":"VLOOKUP(K6,[1]EXRATE!C$3:F$43,4,0)","v":1},{"$f":"+P6*Q6","v":59590970},"",160,"",0,0,"","","","","","W","HLS","120","F",20230926,160849,0.22,48.25,"CIBM              AI80184"]
["KR","HSBC",2,111201,226,null,"","FLN","Offshore Foreign Currency Loan","Offshore Foreign Currency Loan","USD","C11",4.0999999999999996,0,"1",4000872,{"$f":"VLOOKUP(K7,[1]EXRATE!C$3:F$43,4,0)","v":1344.8},{"$f":"+P7*Q7/100","v":53803726.655999996},"",157,"",0,0,"","","","","","W","HLS","120","G",20230926,160849,0.17,54.48,"CIBM              AI80184"]
["KR","HSBC",2,198133,277,null,"","FLN","KRW Corporate Loan","COP KRW Corporate Loan","KRW","C13",4.2,0,"1",52842186,{"$f":"VLOOKUP(K8,[1]EXRATE!C$3:F$43,4,0)","v":1},{"$f":"+P8*Q8","v":52842186},"",159,"",0,0,"","","","","","W","HLS","120","G",20230926,160849,0.22,51.414999999999999,"CIBM              AI80184"]
["KR","HSBC",2,111201,313,null,"","ILN","Offshore Foreign Currency Loan","Offshore Foreign Currency Loan","USD","C11",4.0999999999999996,0,"1",3012758,{"$f":"VLOOKUP(K9,[1]EXRATE!C$3:F$43,4,0)","v":1344.8},{"$f":"+P9*Q9/100","v":40515569.583999999},"",168,"",1.2338,0,"","","","","","W","HLS","080","J",20230926,160849,0.17,46.284999999999997,"CIBM              AI80184"]
["KR","HSBC",2,669190,226,null,"","FLN","Foreign Currency Corporate Loan","COP Foreign Currency Corporate Loan","USD","C13",4.2,0,"2A",2608255,{"$f":"VLOOKUP(K10,[1]EXRATE!C$3:F$43,4,0)","v":1344.8},{"$f":"+P10*Q10/100","v":35075813.240000002},"",163,"",0,0,"","","","","","W","HLS","120","D",20230926,160849,0.22,54.88,"CIBM              AI80184"]
["KR","HSBC",2,708360,311,null,"","ILN","Foreign Currency Corporate Loan","COP Foreign Currency Corporate Loan","EUR","C13",4.2,0,"2A",2451409,{"$f":"VLOOKUP(K11,[1]EXRATE!C$3:F$43,4,0)","v":1421.7225599999999},{"$f":"+P11*Q11/100","v":34852234.790870398},"",170,"",0,0,"","","","","","W","HLS","120","H",20230926,160849,0.45,51.51,"CIBM              AI80184"]
["KR","HSBC",2,111201,312,null,"","ILN","Offshore Foreign Currency Loan","Offshore Foreign Currency Loan","USD","C11",4.0999999999999996,0,"1",2516781,{"$f":"VLOOKUP(K12,[1]EXRATE!C$3:F$43,4,0)","v":1344.8},{"$f":"+P12*Q12/100","v":33845670.887999997},"",168,"",1.0389999999999999,0,"","","","","","W","HLS","080","J",20230926,160849,0.17,44.17,"CIBM              AI80184"]
["KR","HSBC",2,198133,226,null,"","FLN","Foreign Currency Corporate Loan","COP Foreign Currency Corporate Loan","USD","C13",4.2,0,"1",2374423,{"$f":"VLOOKUP(K13,[1]EXRATE!C$3:F$43,4,0)","v":1344.8},{"$f":"+P13*Q13/100","v":31931240.504000001},"",162,"",0,0,"","","","","","W","HLS","120","H",20230926,160849,0.22,54.96,"CIBM              AI80184"]
["KR","HSBC",2,902062,1,null,"","CBK",{"$f":"VLOOKUP(H14,[2]SSIFSEP!$H$2:$I$7593,2,0)","v":"예치금"},"Deposit","KRW","CBL",0.1,0,"1",19203976,{"$f":"VLOOKUP(K14,[1]EXRATE!C$3:F$43,4,0)","v":1},{"$f":"+P14*Q14","v":19203976},"",17,"",0,0,"","","","","","W","HUB","","",20230926,160849,0.01,40.29,"CIBM              AA10202"]
["KR","HSBC",2,240299,226,null,"","UCD",{"$f":"VLOOKUP(H15,[2]SSIFSEP!$H$2:$I$7593,2,0)","v":"미사용약정"},"Unused Credit Line","USD","C11",4.2,0,"2L",1422163,{"$f":"VLOOKUP(K15,[1]EXRATE!C$3:F$43,4,0)","v":1344.8},{"$f":"+P15*Q15/100","v":19125248.024},"",318,"",0,0,"","","","","","W","HLS","120","F",20230926,160849,0.22,40.854999999999997,"CIBM              MG30180",null,null,null,null,"GTRF IMP","Unused Credit Line",{"$f":"R15","v":19125248.024},"Matched with Local data"]
["KR","HSBC",2,111201,316,null,"","ILN","Offshore Foreign Currency Loan","Offshore Foreign Currency Loan","USD","C11",4.0999999999999996,0,"1",1376644,{"$f":"VLOOKUP(K16,[1]EXRATE!C$3:F$43,4,0)","v":1344.8},18513108.512000002,"",168,"",1.2338,0,"","","","","","W","HLS","080","J",20230926,160849,0.17,46.284999999999997,"CIBM              AI80184"]
["KR","HSBC",2,111201,921,null,"","ILN","Offshore Foreign Currency Loan","Offshore Foreign Currency Loan","USD","C11",4.0999999999999996,0,"1",1327340,{"$f":"VLOOKUP(K17,[1]EXRATE!C$3:F$43,4,0)","v":1344.8},17850068.32,"",168,"",1.2338,0,"","","","","","W","HLS","080","J",20230926,160849,0.17,46.284999999999997,"CIBM              AI80184"]
["KR","HSBC",2,111201,933,null,"","ILN","Offshore Foreign Currency Loan","Offshore Foreign Currency Loan","USD","C11",4.0999999999999996,0,"1",1235286,{"$f":"VLOOKUP(K18,[1]EXRATE!C$3:F$43,4,0)","v":1344.8},16612126.127999999,"",168,"",1.2338,0,"","","","","","W","HLS","080","J",20230926,160849,0.17,46.284999999999997,"CIBM              AI80184"]
["KR","HSBC",2,111201,315,null,"","ILN","Offshore Foreign Currency Loan","Offshore Foreign Currency Loan","USD","C11",4.0999999999999996,0,"1",1150013,{"$f":"VLOOKUP(K19,[1]EXRATE!C$3:F$43,4,0)","v":1344.8},15465374.823999999,"",168,"",1.0389999999999999,0,"","","","","","W","HLS","080","J",20230926,160849,0.17,44.17,"CIBM              AI80184"]
["KR","HSBC",2,111201,927,null,"","ILN","Offshore Foreign Currency Loan","Offshore Foreign Currency Loan","USD","C11",4.0999999999999996,0,"1",1141233,{"$f":"VLOOKUP(K20,[1]EXRATE!C$3:F$43,4,0)","v":1344.8},15347301.383999998,"",168,"",1.2338,0,"","","","","","W","HLS","080","J",20230926,160849,0.17,46.284999999999997,"CIBM              AI80184"]
["KR","HSBC",2,56646,314,null,"","ILN","Offshore Foreign Currency Loan","Offshore Foreign Currency Loan","USD","C11",1.2,0,"2L",1128204,{"$f":"VLOOKUP(K21,[1]EXRATE!C$3:F$43,4,0)","v":1344.8},15172087.392000001,"",169,"",0.93189999999999995,0,"","","","","","W","HLS","080","J",20230926,160849,1.06,43.36,"CIBM              AI80184"]
["KR","HSBC",2,111201,920,null,"","ILN","Offshore Foreign Currency Loan","Offshore Foreign Currency Loan","USD","C11",4.0999999999999996,0,"1",1108826,{"$f":"VLOOKUP(K22,[1]EXRATE!C$3:F$43,4,0)","v":1344.8},14911492.048,"",168,"",1.0389999999999999,0,"","","","","","W","HLS","080","J",20230926,160849,0.17,44.17,"CIBM              AI80184"]
["KR","HSBC",2,111201,319,null,"","ILN","Offshore Foreign Currency Loan","Offshore Foreign Currency Loan","USD","C11",4.0999999999999996,0,"1",1088365,{"$f":"VLOOKUP(K23,[1]EXRATE!C$3:F$43,4,0)","v":1344.8},14636332.52,"",168,"",1.2338,0,"","","","","","W","HLS","080","J",20230926,160849,0.17,46.284999999999997,"CIBM              AI80184"]
["KR","HSBC",2,56646,311,null,"","ILN","Offshore Foreign Currency Loan","Offshore Foreign Currency Loan","USD","C11",1.2,0,"2L",1086160,{"$f":"VLOOKUP(K24,[1]EXRATE!C$3:F$43,4,0)","v":1344.8},14606679.68,"",169,"",0.93189999999999995,0,"","","","","","W","HLS","080","J",20230926,160849,1.06,43.36,"CIBM              AI80184"]
["KR","HSBC",2,111201,932,null,"","ILN","Offshore Foreign Currency Loan","Offshore Foreign Currency Loan","USD","C11",4.0999999999999996,0,"1",1031926,{"$f":"VLOOKUP(K25,[1]EXRATE!C$3:F$43,4,0)","v":1344.8},13877340.847999999,"",168,"",1.0389999999999999,0,"","","","","","W","HLS","080","J",20230926,160849,0.17,44.17,"CIBM              AI80184"]
["KR","HSBC",2,17135,226,null,"","FLN","Foreign Currency Corporate Loan","COP Foreign Currency Corporate Loan","USD","C13",2.2000000000000002,0,"1",978422,{"$f":"VLOOKUP(K26,[1]EXRATE!C$3:F$43,4,0)","v":1344.8},13157819.056,"",162,"",0,0,"","","","","","W","HLS","080","I",20230926,160849,0.02,54.27,"CIBM              AI80184"]
["KR","HSBC",2,111201,924,null,"","ILN","Offshore Foreign Currency Loan","Offshore Foreign Currency Loan","USD","C11",4.0999999999999996,0,"1",965703,{"$f":"VLOOKUP(K27,[1]EXRATE!C$3:F$43,4,0)","v":1344.8},12986773.943999998,"",168,"",1.2338,0,"","","","","","W","HLS","080","J",20230926,160849,0.17,46.284999999999997,"CIBM              AI80184"]
["KR","HSBC",2,111201,926,null,"","ILN","Offshore Foreign Currency Loan","Offshore Foreign Currency Loan","USD","C11",4.0999999999999996,0,"1",953357,{"$f":"VLOOKUP(K28,[1]EXRATE!C$3:F$43,4,0)","v":1344.8},12820744.935999999,"",168,"",1.0389999999999999,0,"","","","","","W","HLS","080","J",20230926,160849,0.17,44.17,"CIBM              AI80184"]
["KR","HSBC",2,111201,318,null,"","ILN","Offshore Foreign Currency Loan","Offshore Foreign Currency Loan","USD","C11",4.0999999999999996,0,"1",909192,{"$f":"VLOOKUP(K29,[1]EXRATE!C$3:F$43,4,0)","v":1344.8},12226814.015999999,"",168,"",1.0389999999999999,0,"","","","","","W","HLS","080","J",20230926,160849,0.17,44.17,"CIBM              AI80184"]
["KR","HSBC",2,111201,930,null,"","ILN","Offshore Foreign Currency Loan","Offshore Foreign Currency Loan","USD","C11",4.0999999999999996,0,"1",875313,{"$f":"VLOOKUP(K30,[1]EXRATE!C$3:F$43,4,0)","v":1344.8},11771209.223999999,"",168,"",1.2338,0,"","","","","","W","HLS","080","J",20230926,160849,0.17,46.284999999999997,"CIBM              AI80184"]
["KR","HSBC",2,56646,313,null,"","ILN","Offshore Foreign Currency Loan","Offshore Foreign Currency Loan","USD","C11",1.2,0,"2L",809438,{"$f":"VLOOKUP(K31,[1]EXRATE!C$3:F$43,4,0)","v":1344.8},10885322.223999999,"",169,"",0.93189999999999995,0,"","","","","","W","HLS","080","J",20230926,160849,1.06,43.36,"CIBM              AI80184"]
["KR","HSBC",2,111201,923,null,"","ILN","Offshore Foreign Currency Loan","Offshore Foreign Currency Loan","USD","C11",4.0999999999999996,0,"1",806724,{"$f":"VLOOKUP(K32,[1]EXRATE!C$3:F$43,4,0)","v":1344.8},10848824.352,"",168,"",1.0389999999999999,0,"","","","","","W","HLS","080","J",20230926,160849,0.17,44.17,"CIBM              AI80184"]
["KR","HSBC",2,2285,276,null,"","FLN","KRW Corporate Loan","COP KRW Corporate Loan","KRW","C13",3.1,0,"1",10592696,{"$f":"VLOOKUP(K33,[1]EXRATE!C$3:F$43,4,0)","v":1},{"$f":"+P33*Q33","v":10592696},"",159,"",0,0,"","","","","","W","HLS","080","I",20230926,160849,0.04,51.51,"CIBM              AI80184"]
["KR","HSBC",2,111201,929,null,"","ILN","Offshore Foreign Currency Loan","Offshore Foreign Currency Loan","USD","C11",4.0999999999999996,0,"1",731214,{"$f":"VLOOKUP(K34,[1]EXRATE!C$3:F$43,4,0)","v":1344.8},{"$f":"+P34*Q34/100","v":9833365.8719999995},"",168,"",1.0389999999999999,0,"","","","","","W","HLS","080","J",20230926,160849,0.17,44.17,"CIBM              AI80184"]
["KR","HSBC",2,56646,312,null,"","ILN","Offshore Foreign Currency Loan","Offshore Foreign Currency Loan","USD","C11",1.2,0,"2L",712491,{"$f":"VLOOKUP(K35,[1]EXRATE!C$3:F$43,4,0)","v":1344.8},{"$f":"+P35*Q35/100","v":9581578.9680000003},"",169,"",0.93189999999999995,0,"","","","","","W","HLS","080","J",20230926,160849,1.06,43.36,"CIBM              AI80184"]
["KR","HSBC",2,111201,311,null,"","ILN","Offshore Foreign Currency Loan","Offshore Foreign Currency Loan","USD","C11",4.0999999999999996,0,"1",706451,{"$f":"VLOOKUP(K36,[1]EXRATE!C$3:F$43,4,0)","v":1344.8},{"$f":"+P36*Q36/100","v":9500353.0480000004},"",168,"",0.98699999999999999,0,"","","","","","W","HLS","080","J",20230926,160849,0.17,43.384999999999998,"CIBM              AI80184"]
["KR","HSBC",2,1865,276,null,"","FLN","KRW Corporate Loan","COP KRW Corporate Loan","KRW","MFS",5.3,0,"1",8771541,{"$f":"VLOOKUP(K37,[1]EXRATE!C$3:F$43,4,0)","v":1},{"$f":"+P37*Q37","v":8771541},"",165,"",0,0,"","","","","","W","HLS","120","G",20230926,160849,0.52,51.51,"CIBM              AI80184"]
["KR","HSBC",2,900306,630,null,"","AOC",{"$f":"VLOOKUP(H38,[2]SSIFSEP!$H$2:$I$7593,2,0)","v":"예치금"},"Deposit","CNH","CNH",1.2,0,"1",4593219,184.26999873814515,{"$f":"+P38*Q38/100","v":8463924.5933402423},"",57,"",0,0,"","","","","","W","HUB","","",20230926,160849,0.16,17.585000000000001,"CC                AF80350"]
["KR","HSBC",2,647162,312,null,"","ILN","Offshore Foreign Currency Loan","Offshore Foreign Currency Loan","USD","C11",3.2,0,"1",614020,{"$f":"VLOOKUP(K39,[1]EXRATE!C$3:F$43,4,0)","v":1344.8},{"$f":"+P39*Q39/100","v":8257340.96},"",168,"",0.81489999999999996,0,"","","","","","W","HLS","080","I",20230926,160849,0.09,43.524999999999999,"CIBM              AI80184"]
["KR","HSBC",2,900256,620,null,"","AOC",{"$f":"VLOOKUP(H40,[2]SSIFSEP!$H$2:$I$7593,2,0)","v":"예치금"},"Deposit","CNY","BNK",1.1000000000000001,0,"1",4298168,{"$f":"VLOOKUP(K40,[1]EXRATE!C$3:F$43,4,0)","v":184.26999873814515},{"$f":"+P40*Q40/100","v":7920234.1193633582},"",53,"",0,0,"","","","","","W","HUB","","",20230926,160849,0.04,17.585000000000001,"CC                AF80350"]
["KR","HSBC",2,156,276,null,"","FLN","KRW Corporate Loan","COP KRW Corporate Loan","KRW","C13",2.1,0,"1",7904436,{"$f":"VLOOKUP(K41,[1]EXRATE!C$3:F$43,4,0)","v":1},{"$f":"+P41*Q41","v":7904436},"",159,"",0,0,"","","","","","W","HLS","120","H",20230926,160849,0.01,50.53,"CIBM              AI80184"]
["KR","HSBC",2,647162,311,null,"","ILN","Offshore Foreign Currency Loan","Offshore Foreign Currency Loan","USD","C11",3.2,0,"1",579953,{"$f":"VLOOKUP(K42,[1]EXRATE!C$3:F$43,4,0)","v":1344.8},{"$f":"+P42*Q42/100","v":7799207.9440000001},"",168,"",0.81489999999999996,0,"","","","","","W","HLS","080","I",20230926,160849,0.09,43.524999999999999,"CIBM              AI80184"]
["KR","HSBC",2,1170,276,null,"","FLN","KRW Corporate Loan","COP KRW Corporate Loan","KRW","C12",2.1,0,"1",7432607,{"$f":"VLOOKUP(K43,[1]EXRATE!C$3:F$43,4,0)","v":1},{"$f":"+P43*Q43","v":7432607},"",158,"",0,0,"","","","","","W","HLS","990","I",20230926,160849,0.01,51.314999999999998,"CIBM              AI80184"]
["KR","HSBC",2,55119,276,null,"","FLN","KRW Corporate Loan","COP KRW Corporate Loan","KRW","C12",2.1,0,"1",7384096,{"$f":"VLOOKUP(K44,[1]EXRATE!C$3:F$43,4,0)","v":1},{"$f":"+P44*Q44","v":7384096},"",158,"",0,0,"","","","","","W","HLS","990","H",20230926,160849,0.01,50.93,"CIBM              AI80184"]
["KR","HSBC",2,56646,315,null,"","ILN","Offshore Foreign Currency Loan","Offshore Foreign Currency Loan","USD","C11",1.2,0,"2L",542900,{"$f":"VLOOKUP(K45,[1]EXRATE!C$3:F$43,4,0)","v":1344.8},{"$f":"+P45*Q45/100","v":7300919.2000000002},"",169,"",0.93189999999999995,0,"","","","","","W","HLS","080","J",20230926,160849,1.06,43.36,"CIBM              AI80184"]
["KR","HSBC",2,79911,296,null,"","SVR",{"$f":"VLOOKUP(H46,[2]SSIFSEP!$H$2:$I$7593,2,0)","v":"원화기업대출"},"COP KRW Corporate Loan","KRW","MFS",3.2,0,"1",7035210,{"$f":"VLOOKUP(K46,[1]EXRATE!C$3:F$43,4,0)","v":1},{"$f":"+P46*Q46","v":7035210},"",120,"",0,0,"","","","","","W","HUB","120","A",20230926,160849,0.09,44.19,"CIBM              AI80170"]
["KR","HSBC",2,472066,1,null,"","CUA","KRW Corporate Loan","COP KRW Corporate Loan","KRW","C13",3.3,0,"1",6974046,{"$f":"VLOOKUP(K47,[1]EXRATE!C$3:F$43,4,0)","v":1},{"$f":"+P47*Q47","v":6974046},"",115,"",0,0,"","","","","","W","HUB","120","A",20230926,160849,0.14000000000000001,44.905000000000001,"CIBM              AI80170"]
["KR","HSBC",2,902070,940,null,"","CBK",{"$f":"VLOOKUP(H48,[2]SSIFSEP!$H$2:$I$7593,2,0)","v":"예치금"},"Deposit","USD","CBL",1.1000000000000001,0,"1",502596,{"$f":"VLOOKUP(K48,[1]EXRATE!C$3:F$43,4,0)","v":1344.8},{"$f":"+P48*Q48/100","v":6758911.0079999994},"",18,"",0,0,"","","","","","W","HUB","","",20230926,160849,0.02,40.29,"CIBM              AA10202"]
["KR","HSBC",2,17135,311,null,"","ILN","Foreign Currency Corporate Loan","COP Foreign Currency Corporate Loan","USD","C13",2.2000000000000002,0,"1",490822,{"$f":"VLOOKUP(K49,[1]EXRATE!C$3:F$43,4,0)","v":1344.8},{"$f":"+P49*Q49/100","v":6600574.2560000001},"",172,"",0,0,"","","","","","W","HLS","080","J",20230926,160849,0.02,54.48,"CIBM              AI80184"]
["KR","HSBC",2,479,226,null,"","FLN","Foreign Currency Corporate Loan","COP Foreign Currency Corporate Loan","USD","C13",2.2000000000000002,0,"1",482026,{"$f":"VLOOKUP(K50,[1]EXRATE!C$3:F$43,4,0)","v":1344.8},{"$f":"+P50*Q50/100","v":6482285.6479999991},"",162,"",0,0,"","","","","","W","HLS","120","H",20230926,160849,0.02,53.875,"CIBM              AI80184"]
["KR","HSBC",2,94043,276,null,"","FLN","KRW Corporate Loan","COP KRW Corporate Loan","KRW","C13",2.2000000000000002,0,"1",4554969,{"$f":"VLOOKUP(K51,[1]EXRATE!C$3:F$43,4,0)","v":1},{"$f":"+P51*Q51","v":4554969},"",159,"",0,0,"","","","","","W","HLS","120","G",20230926,160849,0.02,51.71,"CIBM              AI80184"]
["KR","HSBC",2,56646,317,null,"","ILN","Offshore Foreign Currency Loan","Offshore Foreign Currency Loan","USD","C11",1.2,0,"2L",324578,{"$f":"VLOOKUP(K52,[1]EXRATE!C$3:F$43,4,0)","v":1344.8},{"$f":"+P52*Q52/100","v":4364924.9440000001},"",169,"",0.93189999999999995,0,"","","","","","W","HLS","080","J",20230926,160849,1.06,43.36,"CIBM              AI80184"]
["KR","HSBC",2,111201,314,null,"","ILN","Offshore Foreign Currency Loan","Offshore Foreign Currency Loan","USD","C11",4.0999999999999996,0,"1",322804,{"$f":"VLOOKUP(K53,[1]EXRATE!C$3:F$43,4,0)","v":1344.8},4341068.1919999998,"",168,"",0.98699999999999999,0,"","","","","","W","HLS","080","J",20230926,160849,0.17,43.384999999999998,"CIBM              AI80184"]
["KR","HSBC",2,111201,320,null,"","ILN","Offshore Foreign Currency Loan","Offshore Foreign Currency Loan","USD","C11",4.0999999999999996,0,"1",311243,{"$f":"VLOOKUP(K54,[1]EXRATE!C$3:F$43,4,0)","v":1344.8},4185595.8639999996,"",168,"",0.98699999999999999,0,"","","","","","W","HLS","080","J",20230926,160849,0.17,43.384999999999998,"CIBM              AI80184"]
["KR","HSBC",2,111201,931,null,"","ILN","Offshore Foreign Currency Loan","Offshore Foreign Currency Loan","USD","C11",4.0999999999999996,0,"1",289658,{"$f":"VLOOKUP(K55,[1]EXRATE!C$3:F$43,4,0)","v":1344.8},3895320.784,"",168,"",0.98699999999999999,0,"","","","","","W","HLS","080","J",20230926,160849,0.17,43.384999999999998,"CIBM              AI80184"]
["KR","HSBC",2,111201,925,null,"","ILN","Offshore Foreign Currency Loan","Offshore Foreign Currency Loan","USD","C11",4.0999999999999996,0,"1",267604,{"$f":"VLOOKUP(K56,[1]EXRATE!C$3:F$43,4,0)","v":1344.8},3598738.5919999997,"",168,"",0.98699999999999999,0,"","","","","","W","HLS","080","J",20230926,160849,0.17,43.384999999999998,"CIBM              AI80184"]
["KR","HSBC",2,111201,317,null,"","ILN","Offshore Foreign Currency Loan","Offshore Foreign Currency Loan","USD","C11",4.0999999999999996,0,"1",255207,{"$f":"VLOOKUP(K57,[1]EXRATE!C$3:F$43,4,0)","v":1344.8},3432023.7359999996,"",168,"",0.98699999999999999,0,"","","","","","W","HLS","080","J",20230926,160849,0.17,43.384999999999998,"CIBM              AI80184"]
["KR","HSBC",2,111201,922,null,"","ILN","Offshore Foreign Currency Loan","Offshore Foreign Currency Loan","USD","C11",4.0999999999999996,0,"1",226444,{"$f":"VLOOKUP(K58,[1]EXRATE!C$3:F$43,4,0)","v":1344.8},3045218.912,"",168,"",0.98699999999999999,0,"","","","","","W","HLS","080","J",20230926,160849,0.17,43.384999999999998,"CIBM              AI80184"]
["KR","HSBC",2,111201,928,null,"","ILN","Offshore Foreign Currency Loan","Offshore Foreign Currency Loan","USD","C11",4.0999999999999996,0,"1",205249,{"$f":"VLOOKUP(K59,[1]EXRATE!C$3:F$43,4,0)","v":1344.8},2760188.5519999997,"",168,"",0.98699999999999999,0,"","","","","","W","HLS","080","J",20230926,160849,0.17,43.384999999999998,"CIBM              AI80184"]
["KR","HSBC",2,110849,277,null,"","FLN","KRW Corporate Loan","COP KRW Corporate Loan","KRW","C12",2.2000000000000002,0,"1",2654570,{"$f":"VLOOKUP(K60,[1]EXRATE!C$3:F$43,4,0)","v":1},{"$f":"+P60*Q60","v":2654570},"",158,"",0,0,"","","","","","W","HLS","120","H",20230926,160849,0.02,52.4,"CIBM              AI80184"]
["KR","HSBC",2,54096,277,null,"","FLN","KRW Corporate Loan","COP KRW Corporate Loan","KRW","MFS",4.2,0,"1",2293803,{"$f":"VLOOKUP(K61,[1]EXRATE!C$3:F$43,4,0)","v":1},2293803,"",165,"",0,0,"","","","","","W","HLS","120","G",20230926,160849,0.22,53.49,"CIBM              AI80184"]
["KR","HSBC",2,96386,783,null,"","SV7",{"$f":"VLOOKUP(H62,[2]SSIFSEP!$H$2:$I$7593,2,0)","v":"원화기업대출"},"COP KRW Corporate Loan","KRW","C13",3.2,0,"1",2024640,{"$f":"VLOOKUP(K62,[1]EXRATE!C$3:F$43,4,0)","v":1},2024640,"",118,"",0,0,"","","","","","W","HUB","120","A",20230926,160849,0.09,40.854999999999997,"CIBM              AI80170"]
["KR","HSBC",2,707248,278,null,"","FLN","KRW Corporate Loan","COP KRW Corporate Loan","KRW","C22",2.2000000000000002,0,"1",1942871,{"$f":"VLOOKUP(K63,[1]EXRATE!C$3:F$43,4,0)","v":1},1942871,"",164,"",0,0,"","","","","","W","HLS","120","F",20230926,160849,0.02,50.12,"CIBM              AI80184"]
["KR","HSBC",2,18182,276,null,"","FLN","KRW Corporate Loan","COP KRW Corporate Loan","KRW","C13",5.3,0,"2L",1501689,{"$f":"VLOOKUP(K64,[1]EXRATE!C$3:F$43,4,0)","v":1},1501689,"",161,"",0,0,"","","","","","W","HLS","120","C",20230926,160849,0.52,50.244999999999997,"CIBM              AI80184"]
["KR","HSBC",2,707248,277,null,"","FLN","KRW Corporate Loan","COP KRW Corporate Loan","KRW","C22",2.2000000000000002,0,"1",1501086,{"$f":"VLOOKUP(K65,[1]EXRATE!C$3:F$43,4,0)","v":1},1501086,"",164,"",0,0,"","","","","","W","HLS","120","F",20230926,160849,0.02,51.314999999999998,"CIBM              AI80184"]
["KR","HSBC",2,112688,276,null,"","FLN","KRW Corporate Loan","COP KRW Corporate Loan","KRW","MFS",3.1,0,"1",1468692,{"$f":"VLOOKUP(K66,[1]EXRATE!C$3:F$43,4,0)","v":1},1468692,"",165,"",0,0,"","","","","","W","HLS","120","G",20230926,160849,0.04,51.414999999999999,"CIBM              AI80184"]
["KR","HSBC",2,56646,319,null,"","ILN","Offshore Foreign Currency Loan","Offshore Foreign Currency Loan","USD","C11",1.2,0,"2L",103816,{"$f":"VLOOKUP(K67,[1]EXRATE!C$3:F$43,4,0)","v":1344.8},{"$f":"+P67*Q67/100","v":1396117.5679999997},"",169,"",0.93189999999999995,0,"","","","","","W","HLS","080","J",20230926,160849,1.06,43.36,"CIBM              AI80184"]
["KR","HSBC",2,57115,929,null,"","ILN","KRW Corporate Loan","COP KRW Corporate Loan","KRW","C13",2.2000000000000002,0,"1",1281799,{"$f":"VLOOKUP(K68,[1]EXRATE!C$3:F$43,4,0)","v":1},{"$f":"+P68*Q68","v":1281799},"",171,"",0,0,"","","","","","W","HLS","080","J",20230926,160849,0.02,50.93,"CIBM              AI80184"]
["KR","HSBC",2,57115,928,null,"","ILN","KRW Corporate Loan","COP KRW Corporate Loan","KRW","C13",2.2000000000000002,0,"1",1281232,{"$f":"VLOOKUP(K69,[1]EXRATE!C$3:F$43,4,0)","v":1},1281232,"",171,"",0,0,"","","","","","W","HLS","080","J",20230926,160849,0.02,50.93,"CIBM              AI80184"]
["KR","HSBC",2,38909,277,null,"","FLN","KRW Corporate Loan","COP KRW Corporate Loan","KRW","C13",4.3,0,"2A",1272791,{"$f":"VLOOKUP(K70,[1]EXRATE!C$3:F$43,4,0)","v":1},1272791,"",160,"",0,0,"","","","","","W","HLS","","",20230926,160849,0.25,51.414999999999999,"CIBM              AI80184"]
["KR","HSBC",2,57115,330,null,"","ILN","KRW Corporate Loan","COP KRW Corporate Loan","KRW","C13",2.2000000000000002,0,"1",1249199,{"$f":"VLOOKUP(K71,[1]EXRATE!C$3:F$43,4,0)","v":1},1249199,"",171,"",0,0,"","","","","","W","HLS","080","J",20230926,160849,0.02,50.93,"CIBM              AI80184"]
["KR","HSBC",2,384410,296,null,"","SVR",{"$f":"VLOOKUP(H72,[2]SSIFSEP!$H$2:$I$7593,2,0)","v":"원화기업대출"},"COP KRW Corporate Loan","KRW","MFS",5.2,0,"1",1223073,{"$f":"VLOOKUP(K72,[1]EXRATE!C$3:F$43,4,0)","v":1},1223073,"",120,"",0,0,"","","","","","W","HUB","120","A",20230926,160849,0.33,48.155000000000001,"CIBM              AI80170"]
["KR","HSBC",2,57115,329,null,"","ILN","KRW Corporate Loan","COP KRW Corporate Loan","KRW","C13",2.2000000000000002,0,"1",1217168,{"$f":"VLOOKUP(K73,[1]EXRATE!C$3:F$43,4,0)","v":1},1217168,"",171,"",0,0,"","","","","","W","HLS","080","J",20230926,160849,0.02,50.93,"CIBM              AI80184"]
["KR","HSBC",2,2285,277,null,"","UCD",{"$f":"VLOOKUP(H74,[2]SSIFSEP!$H$2:$I$7593,2,0)","v":"미사용약정"},"Unused Credit Line","KRW","C13",3.1,0,"1",1208548,{"$f":"VLOOKUP(K74,[1]EXRATE!C$3:F$43,4,0)","v":1},1208548,"",320,"",0,0,"","","","","","W","HLS","120","I",20230926,160849,0.04,40.854999999999997,"CIBM              MG30180"]
["KR","HSBC",2,57115,328,null,"","ILN","KRW Corporate Loan","COP KRW Corporate Loan","KRW","C13",2.2000000000000002,0,"1",1185139,{"$f":"VLOOKUP(K75,[1]EXRATE!C$3:F$43,4,0)","v":1},1185139,"",171,"",0,0,"","","","","","W","HLS","080","J",20230926,160849,0.02,50.93,"CIBM              AI80184"]
["KR","HSBC",2,57115,327,null,"","ILN","KRW Corporate Loan","COP KRW Corporate Loan","KRW","C13",2.2000000000000002,0,"1",1153098,{"$f":"VLOOKUP(K76,[1]EXRATE!C$3:F$43,4,0)","v":1},1153098,"",171,"",0,0,"","","","","","W","HLS","080","J",20230926,160849,0.02,50.93,"CIBM              AI80184"]
["KR","HSBC",2,57115,326,null,"","ILN","KRW Corporate Loan","COP KRW Corporate Loan","KRW","C13",2.2000000000000002,0,"1",1121073,{"$f":"VLOOKUP(K77,[1]EXRATE!C$3:F$43,4,0)","v":1},1121073,"",171,"",0,0,"","","","","","W","HLS","080","J",20230926,160849,0.02,50.93,"CIBM              AI80184"]
["KR","HSBC",2,57115,325,null,"","ILN","KRW Corporate Loan","COP KRW Corporate Loan","KRW","C13",2.2000000000000002,0,"1",1089041,{"$f":"VLOOKUP(K78,[1]EXRATE!C$3:F$43,4,0)","v":1},1089041,"",171,"",0,0,"","","","","","W","HLS","080","J",20230926,160849,0.02,50.93,"CIBM              AI80184"]
["KR","HSBC",2,56646,316,null,"","ILN","Offshore Foreign Currency Loan","Offshore Foreign Currency Loan","USD","C11",1.2,0,"2L",80324,{"$f":"VLOOKUP(K79,[1]EXRATE!C$3:F$43,4,0)","v":1344.8},{"$f":"+P79*Q79/100","v":1080197.152},"",169,"",0.93189999999999995,0,"","","","","","W","HLS","080","J",20230926,160849,1.06,43.36,"CIBM              AI80184"]
["KR","HSBC",2,57115,324,null,"","ILN","KRW Corporate Loan","COP KRW Corporate Loan","KRW","C13",2.2000000000000002,0,"1",1057005,{"$f":"VLOOKUP(K80,[1]EXRATE!C$3:F$43,4,0)","v":1},{"$f":"+P80*Q80","v":1057005},"",171,"",0,0,"","","","","","W","HLS","080","J",20230926,160849,0.02,50.93,"CIBM              AI80184"]
["KR","HSBC",2,57115,323,null,"","ILN","KRW Corporate Loan","COP KRW Corporate Loan","KRW","C13",2.2000000000000002,0,"1",1024985,{"$f":"VLOOKUP(K81,[1]EXRATE!C$3:F$43,4,0)","v":1},{"$f":"+P81*Q81","v":1024985},"",171,"",0,0,"","","","","","W","HLS","080","J",20230926,160849,0.02,50.93,"CIBM              AI80184"]
["KR","HSBC",2,57115,322,null,"","ILN","KRW Corporate Loan","COP KRW Corporate Loan","KRW","C13",2.2000000000000002,0,"1",992952,{"$f":"VLOOKUP(K82,[1]EXRATE!C$3:F$43,4,0)","v":1},{"$f":"+P82*Q82","v":992952},"",171,"",0,0,"","","","","","W","HLS","080","I",20230926,160849,0.02,50.93,"CIBM              AI80184"]
["KR","HSBC",2,57115,321,null,"","ILN","KRW Corporate Loan","COP KRW Corporate Loan","KRW","C13",2.2000000000000002,0,"1",960915,{"$f":"VLOOKUP(K83,[1]EXRATE!C$3:F$43,4,0)","v":1},{"$f":"+P83*Q83","v":960915},"",171,"",0,0,"","","","","","W","HLS","080","I",20230926,160849,0.02,50.93,"CIBM              AI80184"]
["KR","HSBC",2,56646,318,null,"","ILN","Offshore Foreign Currency Loan","Offshore Foreign Currency Loan","USD","C11",1.2,0,"2L",71438,{"$f":"VLOOKUP(K84,[1]EXRATE!C$3:F$43,4,0)","v":1344.8},{"$f":"+P84*Q84/100","v":960698.22399999993},"",169,"",0.93189999999999995,0,"","","","","","W","HLS","080","J",20230926,160849,1.06,43.36,"CIBM              AI80184"]
["KR","HSBC",2,71652,1,null,"","CUA","KRW Corporate Loan","COP KRW Corporate Loan","KRW","C13",3.1,0,"1",936444,{"$f":"VLOOKUP(K85,[1]EXRATE!C$3:F$43,4,0)","v":1},{"$f":"+P85*Q85","v":936444},"",115,"",0,0,"","","","","","W","HUB","120","A",20230926,160849,0.04,50.92,"CIBM              AI80170"]
["KR","HSBC",2,702843,276,null,"","UCD",{"$f":"VLOOKUP(H86,[2]SSIFSEP!$H$2:$I$7593,2,0)","v":"미사용약정"},"Unused Credit Line","KRW","C12",2.2000000000000002,0,"1",749679,{"$f":"VLOOKUP(K86,[1]EXRATE!C$3:F$43,4,0)","v":1},{"$f":"+P86*Q86","v":749679},"",319,"",0,0,"","","","","","W","HLS","120","H",20230926,160849,0.02,40.854999999999997,"CIBM              MG30180"]
["KR","HSBC",2,70852,277,null,"","FLN","KRW Corporate Loan","COP KRW Corporate Loan","KRW","C12",1.1000000000000001,0,"1",737421,{"$f":"VLOOKUP(K87,[1]EXRATE!C$3:F$43,4,0)","v":1},{"$f":"+P87*Q87","v":737421},"",158,"",0,0,"","","","","","W","HLS","080","I",20230926,160849,0.01,51.13,"CIBM              AI80184"]
["KR","HSBC",2,267078,1,null,"","CUA","KRW Corporate Loan","COP KRW Corporate Loan","KRW","C13",2.2000000000000002,0,"1",690882,{"$f":"VLOOKUP(K88,[1]EXRATE!C$3:F$43,4,0)","v":1},{"$f":"+P88*Q88","v":690882},"",115,"",0,0,"","","","","","W","HUB","120","A",20230926,160849,0.02,44.494999999999997,"CIBM              AI80170"]
["KR","HSBC",2,81479,226,null,"","FLN","Offshore Foreign Currency Loan","Offshore Foreign Currency Loan","EUR","C11",2.2000000000000002,0,"1",41832,{"$f":"VLOOKUP(K89,[1]EXRATE!C$3:F$43,4,0)","v":1421.7225599999999},{"$f":"+P89*Q89/100","v":594734.98129919998},"",156,"",0,0,"","","","","","W","HLS","120","E",20230926,160849,0.02,51.41,"CIBM              AI80184"]
["KR","HSBC",2,18182,276,null,"","UCD",{"$f":"VLOOKUP(H90,[2]SSIFSEP!$H$2:$I$7593,2,0)","v":"미사용약정"},"Unused Credit Line","KRW","C13",5.3,0,"2L",564293,{"$f":"VLOOKUP(K90,[1]EXRATE!C$3:F$43,4,0)","v":1},{"$f":"+P90*Q90","v":564293},"",286,"",0,0,"","","","","","W","HLS","120","C",20230926,160849,0.52,50.244999999999997,"CIBM              MG30100"]
["KR","HSBC",2,700821,1,null,"","CUA","KRW Corporate Loan","COP KRW Corporate Loan","KRW","C22",2.2000000000000002,0,"2J",554497,{"$f":"VLOOKUP(K91,[1]EXRATE!C$3:F$43,4,0)","v":1},{"$f":"+P91*Q91","v":554497},"",116,"",0,0,"","","","","","W","HUB","120","A",20230926,160849,0.02,42.024999999999999,"CIBM              AI80170"]
["KR","HSBC",2,20584,276,null,"","UCD",{"$f":"VLOOKUP(H92,[2]SSIFSEP!$H$2:$I$7593,2,0)","v":"미사용약정"},"Unused Credit Line","KRW","C12",2.2000000000000002,0,"1",534018,{"$f":"VLOOKUP(K92,[1]EXRATE!C$3:F$43,4,0)","v":1},{"$f":"+P92*Q92","v":534018},"",314,"",0,0,"","","","","","W","HLS","120","G",20230926,160849,0.02,40.854999999999997,"CIBM              MG30120"]
["KR","HSBC",2,64145,276,null,"","FLN","KRW Corporate Loan","COP KRW Corporate Loan","KRW","C12",1.1000000000000001,0,"1",463553,{"$f":"VLOOKUP(K93,[1]EXRATE!C$3:F$43,4,0)","v":1},{"$f":"+P93*Q93","v":463553},"",158,"",0,0,"","","","","","W","HLS","080","J",20230926,160849,0.01,51.71,"CIBM              AI80184"]
["KR","HSBC",2,81479,227,null,"","FLN","Offshore Foreign Currency Loan","Offshore Foreign Currency Loan","EUR","C11",2.2000000000000002,0,"1",27857,{"$f":"VLOOKUP(K94,[1]EXRATE!C$3:F$43,4,0)","v":1421.7225599999999},{"$f":"+P94*Q94/100","v":396049.2535392},"",156,"",0,0,"","","","","","W","HLS","120","E",20230926,160849,0.02,51.414999999999999,"CIBM              AI80184"]
["KR","HSBC",2,900322,620,null,"","AOC",{"$f":"VLOOKUP(H95,[2]SSIFSEP!$H$2:$I$7593,2,0)","v":"예치금"},"Deposit","CNY","XXX",1.1000000000000001,0,"1",195260,{"$f":"VLOOKUP(K95,[1]EXRATE!C$3:F$43,4,0)","v":184.26999873814515},{"$f":"+P95*Q95/100","v":359805.59953610221},"",58,"",0,0,"","","","","","W","HUB","","",20230926,160849,0.04,17.585000000000001,"CC                AF80350"]
["KR","HSBC",2,111201,313,null,"","UCD",{"$f":"VLOOKUP(H96,[2]SSIFSEP!$H$2:$I$7593,2,0)","v":"미사용약정"},"Unused Credit Line","USD","C11",4.0999999999999996,0,"1",24566,{"$f":"VLOOKUP(K96,[1]EXRATE!C$3:F$43,4,0)","v":1344.8},{"$f":"+P96*Q96/100","v":330363.56799999997},"",317,"",1.2338,0,"","","","","","W","HLS","080","J",20230926,160849,0.17,46.284999999999997,"CIBM              MG30180"]
["KR","HSBC",2,259687,313,null,"","ILN","Offshore Foreign Currency Loan","Offshore Foreign Currency Loan","USD","C11",3.1,0,"1",22300,{"$f":"VLOOKUP(K97,[1]EXRATE!C$3:F$43,4,0)","v":1344.8},{"$f":"+P97*Q97/100","v":299890.40000000002},"",168,"",1.0214000000000001,0,"","","","","","W","HLS","080","G",20230926,160849,0.04,42.79,"CIBM              AI80184"]
["KR","HSBC",2,707248,277,null,"","UCD",{"$f":"VLOOKUP(H98,[2]SSIFSEP!$H$2:$I$7593,2,0)","v":"미사용약정"},"Unused Credit Line","KRW","C22",2.2000000000000002,0,"1",299858,{"$f":"VLOOKUP(K98,[1]EXRATE!C$3:F$43,4,0)","v":1},{"$f":"+P98*Q98","v":299858},"",291,"",0,0,"","","","","","W","HLS","120","F",20230926,160849,0.02,51.314999999999998,"CIBM              MG30100"]
["KR","HSBC",2,282721,276,null,"","UCD",{"$f":"VLOOKUP(H99,[2]SSIFSEP!$H$2:$I$7593,2,0)","v":"미사용약정"},"Unused Credit Line","KRW","C12",1.1000000000000001,0,"1",280122,{"$f":"VLOOKUP(K99,[1]EXRATE!C$3:F$43,4,0)","v":1},{"$f":"+P99*Q99","v":280122},"",319,"",0,0,"","","","","","W","HLS","080","G",20230926,160849,0.01,50.615000000000002,"CIBM              MG30180"]
["KR","HSBC",2,111201,312,null,"","UCD",{"$f":"VLOOKUP(H100,[2]SSIFSEP!$H$2:$I$7593,2,0)","v":"미사용약정"},"Unused Credit Line","USD","C11",4.0999999999999996,0,"1",20561,{"$f":"VLOOKUP(K100,[1]EXRATE!C$3:F$43,4,0)","v":1344.8},{"$f":"+P100*Q100/100","v":276504.32799999998},"",317,"",1.0389999999999999,0,"","","","","","W","HLS","080","J",20230926,160849,0.17,44.17,"CIBM              MG30180"]
["KR","HSBC",2,707248,278,null,"","UCD",{"$f":"VLOOKUP(H101,[2]SSIFSEP!$H$2:$I$7593,2,0)","v":"미사용약정"},"Unused Credit Line","KRW","C22",2.2000000000000002,0,"1",255844,{"$f":"VLOOKUP(K101,[1]EXRATE!C$3:F$43,4,0)","v":1},{"$f":"+P101*Q101","v":255844},"",291,"",0,0,"","","","","","W","HLS","120","F",20230926,160849,0.02,50.12,"CIBM              MG30100"]
["KR","HSBC",2,579597,1,null,"","CUA","KRW Corporate Loan","COP KRW Corporate Loan","KRW","C13",3.1,0,"1",218149,{"$f":"VLOOKUP(K102,[1]EXRATE!C$3:F$43,4,0)","v":1},{"$f":"+P102*Q102","v":218149},"",115,"",0,0,"","","","","","W","HUB","120","A",20230926,160849,0.04,44.4,"CIBM              AI80170"]
["KR","HSBC",2,69060,277,null,"","UCD",{"$f":"VLOOKUP(H103,[2]SSIFSEP!$H$2:$I$7593,2,0)","v":"미사용약정"},"Unused Credit Line","KRW","C12",1.2,0,"1",202515,{"$f":"VLOOKUP(K103,[1]EXRATE!C$3:F$43,4,0)","v":1},{"$f":"+P103*Q103","v":202515},"",314,"",0,0,"","","","","","W","HLS","120","G",20230926,160849,0.01,40.854999999999997,"CIBM              MG30120"]
["KR","HSBC",2,282721,276,null,"","FLN","KRW Corporate Loan","COP KRW Corporate Loan","KRW","C12",1.1000000000000001,0,"1",200755,{"$f":"VLOOKUP(K104,[1]EXRATE!C$3:F$43,4,0)","v":1},{"$f":"+P104*Q104","v":200755},"",158,"",0,0,"","","","","","W","HLS","080","G",20230926,160849,0.01,50.615000000000002,"CIBM              AI80184"]
["KR","HSBC",2,111201,316,null,"","UCD",{"$f":"VLOOKUP(H105,[2]SSIFSEP!$H$2:$I$7593,2,0)","v":"미사용약정"},"Unused Credit Line","USD","C11",4.0999999999999996,0,"1",11225,{"$f":"VLOOKUP(K105,[1]EXRATE!C$3:F$43,4,0)","v":1344.8},{"$f":"+P105*Q105/100","v":150953.79999999999},"",317,"",1.2338,0,"","","","","","W","HLS","080","J",20230926,160849,0.17,46.284999999999997,"CIBM              MG30180"]
["KR","HSBC",2,900256,940,null,"","AOC",{"$f":"VLOOKUP(H106,[2]SSIFSEP!$H$2:$I$7593,2,0)","v":"예치금"},"Deposit","USD","XXX",1.1000000000000001,0,"1",11203,{"$f":"VLOOKUP(K106,[1]EXRATE!C$3:F$43,4,0)","v":1344.8},150657.94400000002,"",73,"",0,0,"","","","","","W","HUB","","",20230926,160849,0.04,17.585000000000001,"CC                AF80350"]
["KR","HSBC",2,111201,921,null,"","UCD",{"$f":"VLOOKUP(H107,[2]SSIFSEP!$H$2:$I$7593,2,0)","v":"미사용약정"},"Unused Credit Line","USD","C11",4.0999999999999996,0,"1",10823,{"$f":"VLOOKUP(K107,[1]EXRATE!C$3:F$43,4,0)","v":1344.8},145547.704,"",317,"",1.2338,0,"","","","","","W","HLS","080","J",20230926,160849,0.17,46.284999999999997,"CIBM              MG30180"]
["KR","HSBC",2,111201,933,null,"","UCD",{"$f":"VLOOKUP(H108,[2]SSIFSEP!$H$2:$I$7593,2,0)","v":"미사용약정"},"Unused Credit Line","USD","C11",4.0999999999999996,0,"1",10072,{"$f":"VLOOKUP(K108,[1]EXRATE!C$3:F$43,4,0)","v":1344.8},135448.25599999999,"",317,"",1.2338,0,"","","","","","W","HLS","080","J",20230926,160849,0.17,46.284999999999997,"CIBM              MG30180"]
["KR","HSBC",2,111201,315,null,"","UCD",{"$f":"VLOOKUP(H109,[2]SSIFSEP!$H$2:$I$7593,2,0)","v":"미사용약정"},"Unused Credit Line","USD","C11",4.0999999999999996,0,"1",9395,{"$f":"VLOOKUP(K109,[1]EXRATE!C$3:F$43,4,0)","v":1344.8},126343.96,"",317,"",1.0389999999999999,0,"","","","","","W","HLS","080","J",20230926,160849,0.17,44.17,"CIBM              MG30180"]
["KR","HSBC",2,111201,927,null,"","UCD",{"$f":"VLOOKUP(H110,[2]SSIFSEP!$H$2:$I$7593,2,0)","v":"미사용약정"},"Unused Credit Line","USD","C11",4.0999999999999996,0,"1",9305,{"$f":"VLOOKUP(K110,[1]EXRATE!C$3:F$43,4,0)","v":1344.8},125133.64,"",317,"",1.2338,0,"","","","","","W","HLS","080","J",20230926,160849,0.17,46.284999999999997,"CIBM              MG30180"]
["KR","HSBC",2,111201,920,null,"","UCD",{"$f":"VLOOKUP(H111,[2]SSIFSEP!$H$2:$I$7593,2,0)","v":"미사용약정"},"Unused Credit Line","USD","C11",4.0999999999999996,0,"1",9059,{"$f":"VLOOKUP(K111,[1]EXRATE!C$3:F$43,4,0)","v":1344.8},121825.43199999999,"",317,"",1.0389999999999999,0,"","","","","","W","HLS","080","J",20230926,160849,0.17,44.17,"CIBM              MG30180"]
["KR","HSBC",2,111201,319,null,"","UCD",{"$f":"VLOOKUP(H112,[2]SSIFSEP!$H$2:$I$7593,2,0)","v":"미사용약정"},"Unused Credit Line","USD","C11",4.0999999999999996,0,"1",8874,{"$f":"VLOOKUP(K112,[1]EXRATE!C$3:F$43,4,0)","v":1344.8},119337.552,"",317,"",1.2338,0,"","","","","","W","HLS","080","J",20230926,160849,0.17,46.284999999999997,"CIBM              MG30180"]
["KR","HSBC",2,111201,932,null,"","UCD",{"$f":"VLOOKUP(H113,[2]SSIFSEP!$H$2:$I$7593,2,0)","v":"미사용약정"},"Unused Credit Line","USD","C11",4.0999999999999996,0,"1",8430,{"$f":"VLOOKUP(K113,[1]EXRATE!C$3:F$43,4,0)","v":1344.8},113366.64,"",317,"",1.0389999999999999,0,"","","","","","W","HLS","080","J",20230926,160849,0.17,44.17,"CIBM              MG30180"]
["KR","HSBC",2,900256,800,null,"","AOC",{"$f":"VLOOKUP(H114,[2]SSIFSEP!$H$2:$I$7593,2,0)","v":"예치금"},"Deposit","JPY","XXX",1.1000000000000001,0,"1",12120,{"$f":"VLOOKUP(K114,[1]EXRATE!C$3:F$43,4,0)","v":9.0221730233806312},{"$f":"+P114*Q114","v":109348.73704337324},"",63,"",0,0,"","","","","","W","HUB","","",20230926,160849,0.04,17.585000000000001,"CC                AF80350"]
["KR","HSBC",2,665495,276,null,"","UCD",{"$f":"VLOOKUP(H115,[2]SSIFSEP!$H$2:$I$7593,2,0)","v":"미사용약정"},"Unused Credit Line","KRW","MFS",2.2000000000000002,0,"1",109197,{"$f":"VLOOKUP(K115,[1]EXRATE!C$3:F$43,4,0)","v":1},{"$f":"+P115*Q115","v":109197},"",297,"",0,0,"","","","","","W","HLS","120","G",20230926,160849,0.02,53.284999999999997,"CIBM              MG30100"]
["KR","HSBC",2,705275,1,null,"","CUA","KRW Corporate Loan","COP KRW Corporate Loan","KRW","C13",2.2000000000000002,0,"1",107484,{"$f":"VLOOKUP(K116,[1]EXRATE!C$3:F$43,4,0)","v":1},{"$f":"+P116*Q116","v":107484},"",115,"",0,0,"","","","","","W","HUB","120","A",20230926,160849,0.02,42.515000000000001,"CIBM              AI80170"]
["KR","HSBC",2,111201,924,null,"","UCD",{"$f":"VLOOKUP(H117,[2]SSIFSEP!$H$2:$I$7593,2,0)","v":"미사용약정"},"Unused Credit Line","USD","C11",4.0999999999999996,0,"1",7874,{"$f":"VLOOKUP(K117,[1]EXRATE!C$3:F$43,4,0)","v":1344.8},{"$f":"+P117*Q117/100","v":105889.552},"",317,"",1.2338,0,"","","","","","W","HLS","080","J",20230926,160849,0.17,46.284999999999997,"CIBM              MG30180"]
["KR","HSBC",2,111201,926,null,"","UCD",{"$f":"VLOOKUP(H118,[2]SSIFSEP!$H$2:$I$7593,2,0)","v":"미사용약정"},"Unused Credit Line","USD","C11",4.0999999999999996,0,"1",7789,{"$f":"VLOOKUP(K118,[1]EXRATE!C$3:F$43,4,0)","v":1344.8},{"$f":"+P118*Q118/100","v":104746.47199999999},"",317,"",1.0389999999999999,0,"","","","","","W","HLS","080","J",20230926,160849,0.17,44.17,"CIBM              MG30180"]
["KR","HSBC",2,111201,318,null,"","UCD",{"$f":"VLOOKUP(H119,[2]SSIFSEP!$H$2:$I$7593,2,0)","v":"미사용약정"},"Unused Credit Line","USD","C11",4.0999999999999996,0,"1",7428,{"$f":"VLOOKUP(K119,[1]EXRATE!C$3:F$43,4,0)","v":1344.8},{"$f":"+P119*Q119/100","v":99891.744000000006},"",317,"",1.0389999999999999,0,"","","","","","W","HLS","080","J",20230926,160849,0.17,44.17,"CIBM              MG30180"]
["KR","HSBC",2,111201,930,null,"","UCD",{"$f":"VLOOKUP(H120,[2]SSIFSEP!$H$2:$I$7593,2,0)","v":"미사용약정"},"Unused Credit Line","USD","C11",4.0999999999999996,0,"1",7137,{"$f":"VLOOKUP(K120,[1]EXRATE!C$3:F$43,4,0)","v":1344.8},{"$f":"+P120*Q120/100","v":95978.375999999989},"",317,"",1.2338,0,"","","","","","W","HLS","080","J",20230926,160849,0.17,46.284999999999997,"CIBM              MG30180"]
["KR","HSBC",2,111201,923,null,"","UCD",{"$f":"VLOOKUP(H121,[2]SSIFSEP!$H$2:$I$7593,2,0)","v":"미사용약정"},"Unused Credit Line","USD","C11",4.0999999999999996,0,"1",6591,{"$f":"VLOOKUP(K121,[1]EXRATE!C$3:F$43,4,0)","v":1344.8},{"$f":"+P121*Q121/100","v":88635.767999999982},"",317,"",1.0389999999999999,0,"","","","","","W","HLS","080","J",20230926,160849,0.17,44.17,"CIBM              MG30180"]
["KR","HSBC",2,32159,2,null,"","CUA","KRW Corporate Loan","COP KRW Corporate Loan","KRW","C13",1.2,0,"1",84776,{"$f":"VLOOKUP(K122,[1]EXRATE!C$3:F$43,4,0)","v":1},{"$f":"+P122*Q122","v":84776},"",115,"",0,0,"","","","","","W","HUB","120","A",20230926,160849,0.01,42.825000000000003,"CIBM              AI80170"]
["KR","HSBC",2,111201,929,null,"","UCD",{"$f":"VLOOKUP(H123,[2]SSIFSEP!$H$2:$I$7593,2,0)","v":"미사용약정"},"Unused Credit Line","USD","C11",4.0999999999999996,0,"1",5974,{"$f":"VLOOKUP(K123,[1]EXRATE!C$3:F$43,4,0)","v":1344.8},{"$f":"+P123*Q123/100","v":80338.351999999999},"",317,"",1.0389999999999999,0,"","","","","","W","HLS","080","J",20230926,160849,0.17,44.17,"CIBM              MG30180"]
["KR","HSBC",2,111201,311,null,"","UCD",{"$f":"VLOOKUP(H124,[2]SSIFSEP!$H$2:$I$7593,2,0)","v":"미사용약정"},"Unused Credit Line","USD","C11",4.0999999999999996,0,"1",5776,{"$f":"VLOOKUP(K124,[1]EXRATE!C$3:F$43,4,0)","v":1344.8},{"$f":"+P124*Q124/100","v":77675.648000000001},"",317,"",0.98699999999999999,0,"","","","","","W","HLS","080","J",20230926,160849,0.17,43.384999999999998,"CIBM              MG30180"]
["KR","HSBC",2,38974,276,null,"","FLN","KRW Corporate Loan","COP KRW Corporate Loan","KRW","C13",2.1,0,"1",69616,{"$f":"VLOOKUP(K125,[1]EXRATE!C$3:F$43,4,0)","v":1},{"$f":"+P125*Q125","v":69616},"",159,"",0,0,"","","","","","W","HLS","120","C",20230926,160849,0.01,50.734999999999999,"CIBM              AI80184"]
["KR","HSBC",2,664423,783,null,"","SV7",{"$f":"VLOOKUP(H126,[2]SSIFSEP!$H$2:$I$7593,2,0)","v":"원화기업대출"},"COP KRW Corporate Loan","KRW","C13",2.1,0,"1",65305,{"$f":"VLOOKUP(K126,[1]EXRATE!C$3:F$43,4,0)","v":1},{"$f":"+P126*Q126","v":65305},"",118,"",0,0,"","","","","","W","HUB","120","A",20230926,160849,0.01,40.854999999999997,"CIBM              AI80170"]
["KR","HSBC",2,900256,410,null,"","AOC",{"$f":"VLOOKUP(H127,[2]SSIFSEP!$H$2:$I$7593,2,0)","v":"예치금"},"Deposit","EUR","XXX",1.1000000000000001,0,"1",4484,{"$f":"VLOOKUP(K127,[1]EXRATE!C$3:F$43,4,0)","v":1421.7225599999999},{"$f":"+P127*Q127/100","v":63750.039590400003},"",60,"",0,0,"","","","","","W","HUB","","",20230926,160849,0.04,17.585000000000001,"CC                AF80350"]
["KR","HSBC",3,353364,1,null,"","CUA","KRW Corporate Loan","COP KRW Corporate Loan","KRW","MFS",4.0999999999999996,0,"1",57046,{"$f":"VLOOKUP(K128,[1]EXRATE!C$3:F$43,4,0)","v":1},{"$f":"+P128*Q128","v":57046},"",121,"",0,0,"","","","","","W","HUB","120","A",20230926,160849,0.17,47.155000000000001,"CIBM              AI80170"]
["KR","HSBC",2,900264,940,null,"","AOC",{"$f":"VLOOKUP(H129,[2]SSIFSEP!$H$2:$I$7593,2,0)","v":"예치금"},"Deposit","USD","BE1",1.1000000000000001,0,"1",4105,{"$f":"VLOOKUP(K129,[1]EXRATE!C$3:F$43,4,0)","v":1344.8},{"$f":"+P129*Q129/100","v":55204.04},"",52,"",0,0,"","","","","","W","HUB","","",20230926,160849,0.04,17.585000000000001,"CC                AF80350"]
["KR","HSBC",2,901023,532,null,"","OCB",{"$f":"VLOOKUP(H130,[2]SSIFSEP!$H$2:$I$7593,2,0)","v":"예치금"},"Deposit","CHF","BKN",2.2000000000000002,0,"1",3297,{"$f":"VLOOKUP(K130,[1]EXRATE!C$3:F$43,4,0)","v":1468.7636522498908},{"$f":"+P130*Q130/100","v":48425.137614678897},"",75,"",0,0,"","","","","","W","HUB","","",20230926,160849,0.16,16.425000000000001,"CC                AF80350"]
["KR","HSBC",2,900280,940,null,"","AOC",{"$f":"VLOOKUP(H131,[2]SSIFSEP!$H$2:$I$7593,2,0)","v":"예치금"},"Deposit","USD","BE1",1.1000000000000001,0,"1",3216,{"$f":"VLOOKUP(K131,[1]EXRATE!C$3:F$43,4,0)","v":1344.8},{"$f":"+P131*Q131/100","v":43248.767999999996},"",52,"",0,0,"","","","","","W","HUB","","",20230926,160849,0.04,17.585000000000001,"CC                AF80350"]
["KR","HSBC",2,200285,277,null,"","FLN","KRW Corporate Loan","COP KRW Corporate Loan","KRW","C13",1.2,0,"1",40914,{"$f":"VLOOKUP(K132,[1]EXRATE!C$3:F$43,4,0)","v":1},{"$f":"+P132*Q132","v":40914},"",159,"",0,0,"","","","","","W","HLS","120","A",20230926,160849,0.01,49.924999999999997,"CIBM              AI80184"]
["KR","HSBC",2,111201,314,null,"","UCD",{"$f":"VLOOKUP(H133,[2]SSIFSEP!$H$2:$I$7593,2,0)","v":"미사용약정"},"Unused Credit Line","USD","C11",4.0999999999999996,0,"1",2639,{"$f":"VLOOKUP(K133,[1]EXRATE!C$3:F$43,4,0)","v":1344.8},{"$f":"+P133*Q133/100","v":35489.271999999997},"",317,"",0.98699999999999999,0,"","","","","","W","HLS","080","J",20230926,160849,0.17,43.384999999999998,"CIBM              MG30180"]
["KR","HSBC",2,111201,320,null,"","UCD",{"$f":"VLOOKUP(H134,[2]SSIFSEP!$H$2:$I$7593,2,0)","v":"미사용약정"},"Unused Credit Line","USD","C11",4.0999999999999996,0,"1",2545,{"$f":"VLOOKUP(K134,[1]EXRATE!C$3:F$43,4,0)","v":1344.8},{"$f":"+P134*Q134/100","v":34225.160000000003},"",317,"",0.98699999999999999,0,"","","","","","W","HLS","080","J",20230926,160849,0.17,43.384999999999998,"CIBM              MG30180"]
["KR","HSBC",2,111201,931,null,"","UCD",{"$f":"VLOOKUP(H135,[2]SSIFSEP!$H$2:$I$7593,2,0)","v":"미사용약정"},"Unused Credit Line","USD","C11",4.0999999999999996,0,"1",2368,{"$f":"VLOOKUP(K135,[1]EXRATE!C$3:F$43,4,0)","v":1344.8},{"$f":"+P135*Q135/100","v":31844.863999999998},"",317,"",0.98699999999999999,0,"","","","","","W","HLS","080","J",20230926,160849,0.17,43.384999999999998,"CIBM              MG30180"]
["KR","HSBC",2,148435,1,null,"","CUA","KRW Corporate Loan","COP KRW Corporate Loan","KRW","MFS",1.2,0,"1",29918,{"$f":"VLOOKUP(K136,[1]EXRATE!C$3:F$43,4,0)","v":1},{"$f":"+P136*Q136","v":29918},"",117,"",0,0,"","","","","","W","HUB","120","A",20230926,160849,0.01,43.03,"CIBM              AI80170"]
["KR","HSBC",2,111201,925,null,"","UCD",{"$f":"VLOOKUP(H137,[2]SSIFSEP!$H$2:$I$7593,2,0)","v":"미사용약정"},"Unused Credit Line","USD","C11",4.0999999999999996,0,"1",2188,{"$f":"VLOOKUP(K137,[1]EXRATE!C$3:F$43,4,0)","v":1344.8},{"$f":"+P137*Q137/100","v":29424.223999999998},"",317,"",0.98699999999999999,0,"","","","","","W","HLS","080","J",20230926,160849,0.17,43.384999999999998,"CIBM              MG30180"]
["KR","HSBC",2,148252,1,null,"","CUA","KRW Corporate Loan","COP KRW Corporate Loan","KRW","C13",1.2,0,"1",28253,{"$f":"VLOOKUP(K138,[1]EXRATE!C$3:F$43,4,0)","v":1},{"$f":"+P138*Q138","v":28253},"",115,"",0,0,"","","","","","W","HUB","120","A",20230926,160849,0.01,43.61,"CIBM              AI80170"]
["KR","HSBC",2,111201,317,null,"","UCD",{"$f":"VLOOKUP(H139,[2]SSIFSEP!$H$2:$I$7593,2,0)","v":"미사용약정"},"Unused Credit Line","USD","C11",4.0999999999999996,0,"1",2087,{"$f":"VLOOKUP(K139,[1]EXRATE!C$3:F$43,4,0)","v":1344.8},{"$f":"+P139*Q139/100","v":28065.976000000002},"",317,"",0.98699999999999999,0,"","","","","","W","HLS","080","J",20230926,160849,0.17,43.384999999999998,"CIBM              MG30180"]
["KR","HSBC",2,54096,277,null,"","UCD",{"$f":"VLOOKUP(H140,[2]SSIFSEP!$H$2:$I$7593,2,0)","v":"미사용약정"},"Unused Credit Line","KRW","MFS",4.2,0,"1",24958,{"$f":"VLOOKUP(K140,[1]EXRATE!C$3:F$43,4,0)","v":1},{"$f":"+P140*Q140","v":24958},"",297,"",0,0,"","","","","","W","HLS","120","G",20230926,160849,0.22,53.49,"CIBM              MG30100"]
["KR","HSBC",2,111201,922,null,"","UCD",{"$f":"VLOOKUP(H141,[2]SSIFSEP!$H$2:$I$7593,2,0)","v":"미사용약정"},"Unused Credit Line","USD","C11",4.0999999999999996,0,"1",1851,{"$f":"VLOOKUP(K141,[1]EXRATE!C$3:F$43,4,0)","v":1344.8},{"$f":"+P141*Q141/100","v":24892.248},"",317,"",0.98699999999999999,0,"","","","","","W","HLS","080","J",20230926,160849,0.17,43.384999999999998,"CIBM              MG30180"]
["KR","HSBC",2,111201,928,null,"","UCD",{"$f":"VLOOKUP(H142,[2]SSIFSEP!$H$2:$I$7593,2,0)","v":"미사용약정"},"Unused Credit Line","USD","C11",4.0999999999999996,0,"1",1678,{"$f":"VLOOKUP(K142,[1]EXRATE!C$3:F$43,4,0)","v":1344.8},{"$f":"+P142*Q142/100","v":22565.743999999999},"",317,"",0.98699999999999999,0,"","","","","","W","HLS","080","J",20230926,160849,0.17,43.384999999999998,"CIBM              MG30180"]
["KR","HSBC",2,900322,410,null,"","AOC",{"$f":"VLOOKUP(H143,[2]SSIFSEP!$H$2:$I$7593,2,0)","v":"예치금"},"Deposit","EUR","XXX",1.1000000000000001,0,"1",1510,{"$f":"VLOOKUP(K143,[1]EXRATE!C$3:F$43,4,0)","v":1421.7225599999999},{"$f":"+P143*Q143/100","v":21468.010655999999},"",60,"",0,0,"","","","","","W","HUB","","",20230926,160849,0.04,17.585000000000001,"CC                AF80350"]
["KR","HSBC",2,900256,820,null,"","AOC",{"$f":"VLOOKUP(H144,[2]SSIFSEP!$H$2:$I$7593,2,0)","v":"예치금"},"Deposit","HKD","XXX",1.1000000000000001,0,"1",10603,{"$f":"VLOOKUP(K144,[1]EXRATE!C$3:F$43,4,0)","v":171.94512280881204},{"$f":"+P144*Q144/100","v":18231.341371418341},"",62,"",0,0,"","","","","","W","HUB","","",20230926,160849,0.04,17.585000000000001,"CC                AF80350"]
["KR","HSBC",2,900264,410,null,"","AOC",{"$f":"VLOOKUP(H145,[2]SSIFSEP!$H$2:$I$7593,2,0)","v":"예치금"},"Deposit","EUR","BE1",1.1000000000000001,0,"1",1260,{"$f":"VLOOKUP(K145,[1]EXRATE!C$3:F$43,4,0)","v":1421.7225599999999},{"$f":"+P145*Q145/100","v":17913.704256000001},"",50,"",0,0,"","","","","","W","HUB","","",20230926,160849,0.04,17.585000000000001,"CC                AF80350"]
["KR","HSBC",2,900280,1,null,"","AOC",{"$f":"VLOOKUP(H146,[2]SSIFSEP!$H$2:$I$7593,2,0)","v":"예치금"},"Deposit","KRW","BE1",1.1000000000000001,0,"1",17055,{"$f":"VLOOKUP(K146,[1]EXRATE!C$3:F$43,4,0)","v":1},{"$f":"+P146*Q146","v":17055},"",51,"",0,0,"","","","","","W","HUB","","",20230926,160849,0.04,17.585000000000001,"CC                AF80350"]
["KR","HSBC",2,900256,920,null,"","AOC",{"$f":"VLOOKUP(H147,[2]SSIFSEP!$H$2:$I$7593,2,0)","v":"예치금"},"Deposit","GBP","XXX",1.1000000000000001,0,"1",1041,{"$f":"VLOOKUP(K147,[1]EXRATE!C$3:F$43,4,0)","v":1634.5371599999999},{"$f":"+P147*Q147/100","v":17015.531835599999},"",61,"",0,0,"","","","","","W","HUB","","",20230926,160849,0.04,17.585000000000001,"CC                AF80350"]
["KR","HSBC",2,900314,940,null,"","AOC",{"$f":"VLOOKUP(H148,[2]SSIFSEP!$H$2:$I$7593,2,0)","v":"예치금"},"Deposit","USD","XXX",1.1000000000000001,0,"1",1178,{"$f":"VLOOKUP(K148,[1]EXRATE!C$3:F$43,4,0)","v":1344.8},{"$f":"+P148*Q148/100","v":15841.743999999999},"",73,"",0,0,"","","","","","W","HUB","","",20230926,160849,0.04,17.585000000000001,"CC                AF80350"]
["KR","HSBC",2,900322,920,null,"","AOC",{"$f":"VLOOKUP(H149,[2]SSIFSEP!$H$2:$I$7593,2,0)","v":"예치금"},"Deposit","GBP","XXX",1.1000000000000001,0,"1",927,{"$f":"VLOOKUP(K149,[1]EXRATE!C$3:F$43,4,0)","v":1634.5371599999999},{"$f":"+P149*Q149/100","v":15152.159473199998},"",61,"",0,0,"","","","","","W","HUB","","",20230926,160849,0.04,17.585000000000001,"CC                AF80350"]
["KR","HSBC",2,901031,150,null,"","OCB",{"$f":"VLOOKUP(H150,[2]SSIFSEP!$H$2:$I$7593,2,0)","v":"예치금"},"Deposit","SAR","XXX",2.2000000000000002,0,"1",3892,{"$f":"VLOOKUP(K150,[1]EXRATE!C$3:F$43,4,0)","v":358.48905712686269},{"$f":"+P150*Q150/100","v":13952.394103377497},"",78,"",0,0,"","","","","","W","HUB","","",20230926,160849,0.09,24.375,"CC                AF80350"]
["KR","HSBC",2,900256,1,null,"","AOC",{"$f":"VLOOKUP(H151,[2]SSIFSEP!$H$2:$I$7593,2,0)","v":"예치금"},"Deposit","KRW","XXX",1.1000000000000001,0,"1",11134,{"$f":"VLOOKUP(K151,[1]EXRATE!C$3:F$43,4,0)","v":1},{"$f":"+P151*Q151","v":11134},"",64,"",0,0,"","","","","","W","HUB","","",20230926,160849,0.04,17.585000000000001,"CC                AF80350"]
["KR","HSBC",2,900256,780,null,"","AOC",{"$f":"VLOOKUP(H152,[2]SSIFSEP!$H$2:$I$7593,2,0)","v":"예치금"},"Deposit","AUD","XXX",1.1000000000000001,0,"1",1277,{"$f":"VLOOKUP(K152,[1]EXRATE!C$3:F$43,4,0)","v":859.99959999999987},{"$f":"+P152*Q152/100","v":10982.194892},"",54,"",0,0,"","","","","","W","HUB","","",20230926,160849,0.04,17.585000000000001,"CC                AF80350"]
["KR","HSBC",2,900256,840,null,"","AOC",{"$f":"VLOOKUP(H153,[2]SSIFSEP!$H$2:$I$7593,2,0)","v":"예치금"},"Deposit","SGD","XXX",1.1000000000000001,0,"1",1072,{"$f":"VLOOKUP(K153,[1]EXRATE!C$3:F$43,4,0)","v":982.07178588381339},{"$f":"+P153*Q153/100","v":10527.809544674479},"",71,"",0,0,"","","","","","W","HUB","","",20230926,160849,0.04,17.585000000000001,"CC                AF80350"]
["KR","HSBC",2,900256,511,null,"","AOC",{"$f":"VLOOKUP(H154,[2]SSIFSEP!$H$2:$I$7593,2,0)","v":"예치금"},"Deposit","NZD","XXX",1.1000000000000001,0,"1",1214,{"$f":"VLOOKUP(K154,[1]EXRATE!C$3:F$43,4,0)","v":799.75256000000002},{"$f":"+P154*Q154/100","v":9708.9960784000014},"",67,"",0,0,"","","","","","W","HUB","","",20230926,160849,0.04,17.585000000000001,"CC                AF80350"]
["KR","HSBC",2,162212,1,null,"","CUA","KRW Corporate Loan","COP KRW Corporate Loan","KRW","MFS",2.2000000000000002,0,"1",8751,{"$f":"VLOOKUP(K155,[1]EXRATE!C$3:F$43,4,0)","v":1},{"$f":"+P155*Q155","v":8751},"",117,"",0,0,"","","","","","W","HUB","120","A",20230926,160849,0.02,45.075000000000003,"CIBM              AI80170"]
["KR","HSBC",2,901155,911,null,"","OCB",{"$f":"VLOOKUP(H156,[2]SSIFSEP!$H$2:$I$7593,2,0)","v":"예치금"},"Deposit","NOK","XXX",2.2000000000000002,0,"1",6467,{"$f":"VLOOKUP(K156,[1]EXRATE!C$3:F$43,4,0)","v":124.2607924305145},{"$f":"+P156*Q156/100","v":8035.9454464813725},"",77,"",0,0,"","","","","","W","HUB","","",20230926,160849,0.12,14,"CC                AF80350"]
["KR","HSBC",5,152087,291,null,"","HML",{"$f":"VLOOKUP(H157,[2]SSIFSEP!$H$2:$I$7593,2,0)","v":"가계대출"},"Household Loan","KRW","PRS",0,0,"1",7729,{"$f":"VLOOKUP(K157,[1]EXRATE!C$3:F$43,4,0)","v":1},{"$f":"+P157*Q157","v":7729},"N",99,"",4.6399999999999997E-2,0,"","","","","","R","HLS","140","J",20230926,160849,0.25,0,"PFS               AI80160   9998"]
["KR","HSBC",5,162375,291,null,"","HML",{"$f":"VLOOKUP(H158,[2]SSIFSEP!$H$2:$I$7593,2,0)","v":"가계대출"},"Household Loan","KRW","PRS",0,0,"1",7698,{"$f":"VLOOKUP(K158,[1]EXRATE!C$3:F$43,4,0)","v":1},7698,"N",99,"",5.2699999999999997E-2,0,"","","","","","R","HLS","141","J",20230926,160849,0.25,0,"PFS               AI80160   9998"]
["KR","HSBC",5,125307,291,null,"","HML",{"$f":"VLOOKUP(H159,[2]SSIFSEP!$H$2:$I$7593,2,0)","v":"가계대출"},"Household Loan","KRW","PRS",0,0,"1",7385,{"$f":"VLOOKUP(K159,[1]EXRATE!C$3:F$43,4,0)","v":1},7385,"N",99,"",6.6600000000000006E-2,0,"","","","","","R","HLS","141","J",20230926,160849,0.25,0,"PFS               AI80160   9998"]
["KR","HSBC",2,188886,291,null,"","HML",{"$f":"VLOOKUP(H160,[2]SSIFSEP!$H$2:$I$7593,2,0)","v":"가계대출"},"Household Loan","KRW","PRS",0,0,"1",6850,{"$f":"VLOOKUP(K160,[1]EXRATE!C$3:F$43,4,0)","v":1},6850,"N",88,"",0.1641,0,"","","","","","R","HLS","140","J",20230926,160849,0.25,0,"PFS               AI80160   9998"]
["KR","HSBC",2,200285,277,null,"","UCD",{"$f":"VLOOKUP(H161,[2]SSIFSEP!$H$2:$I$7593,2,0)","v":"미사용약정"},"Unused Credit Line","KRW","C13",1.2,0,"1",6772,{"$f":"VLOOKUP(K161,[1]EXRATE!C$3:F$43,4,0)","v":1},6772,"",283,"",0,0,"","","","","","W","HLS","120","A",20230926,160849,0.01,49.924999999999997,"CIBM              MG30100"]
["KR","HSBC",2,216893,291,null,"","HML",{"$f":"VLOOKUP(H162,[2]SSIFSEP!$H$2:$I$7593,2,0)","v":"가계대출"},"Household Loan","KRW","PRS",0,0,"1",6084,{"$f":"VLOOKUP(K162,[1]EXRATE!C$3:F$43,4,0)","v":1},6084,"N",88,"",0.14630000000000001,0,"","","","","","R","HLS","141","J",20230926,160849,0.25,0,"PFS               AI80160   9998"]
["KR","HSBC",2,279362,292,null,"","HML",{"$f":"VLOOKUP(H163,[2]SSIFSEP!$H$2:$I$7593,2,0)","v":"가계대출"},"Household Loan","KRW","PRS",0,0,"1",6008,{"$f":"VLOOKUP(K163,[1]EXRATE!C$3:F$43,4,0)","v":1},6008,"N",88,"",0.1023,0,"","","","","","R","HLS","141","J",20230926,160849,0.25,0,"PFS               AI80160   9998"]
["KR","HSBC",2,45995,291,null,"","HML",{"$f":"VLOOKUP(H164,[2]SSIFSEP!$H$2:$I$7593,2,0)","v":"가계대출"},"Household Loan","KRW","PRS",0,0,"1",5970,{"$f":"VLOOKUP(K164,[1]EXRATE!C$3:F$43,4,0)","v":1},5970,"N",88,"",5.6800000000000003E-2,0,"","","","","","R","HLS","141","J",20230926,160849,0.25,0,"PFS               AI80160   9998"]
["KR","HSBC",2,900256,521,null,"","AOC",{"$f":"VLOOKUP(H165,[2]SSIFSEP!$H$2:$I$7593,2,0)","v":"예치금"},"Deposit","CAD","XXX",1.1000000000000001,0,"1",600,{"$f":"VLOOKUP(K165,[1]EXRATE!C$3:F$43,4,0)","v":994.56421255038265},{"$f":"+P165*Q165/100","v":5967.3852753022957},"",55,"",0,0,"","","","","","W","HUB","","",20230926,160849,0.04,17.585000000000001,"CC                AF80350"]
["KR","HSBC",2,38974,276,null,"","UCD",{"$f":"VLOOKUP(H166,[2]SSIFSEP!$H$2:$I$7593,2,0)","v":"미사용약정"},"Unused Credit Line","KRW","C13",2.1,0,"1",5966,{"$f":"VLOOKUP(K166,[1]EXRATE!C$3:F$43,4,0)","v":1},{"$f":"+P166*Q166","v":5966},"",283,"",0,0,"","","","","","W","HLS","120","C",20230926,160849,0.01,50.734999999999999,"CIBM              MG30100"]
["KR","HSBC",2,33785,291,null,"","HML",{"$f":"VLOOKUP(H167,[2]SSIFSEP!$H$2:$I$7593,2,0)","v":"가계대출"},"Household Loan","KRW","PRS",0,0,"1",5696,{"$f":"VLOOKUP(K167,[1]EXRATE!C$3:F$43,4,0)","v":1},{"$f":"+P167*Q167","v":5696},"N",88,"",5.2200000000000003E-2,0,"","","","","","R","HLS","141","J",20230926,160849,0.25,0,"PFS               AI80160   9998"]
["KR","HSBC",2,900322,521,null,"","AOC",{"$f":"VLOOKUP(H168,[2]SSIFSEP!$H$2:$I$7593,2,0)","v":"예치금"},"Deposit","CAD","XXX",1.1000000000000001,0,"1",545,{"$f":"VLOOKUP(K168,[1]EXRATE!C$3:F$43,4,0)","v":994.56421255038265},{"$f":"+P168*Q168/100","v":5420.374958399585},"",55,"",0,0,"","","","","","W","HUB","","",20230926,160849,0.04,17.585000000000001,"CC                AF80350"]
["KR","HSBC",2,440048,277,null,"","FLN","KRW Corporate Loan","COP KRW Corporate Loan","KRW","C13",1.1000000000000001,0,"1",5337,{"$f":"VLOOKUP(K169,[1]EXRATE!C$3:F$43,4,0)","v":1},{"$f":"+P169*Q169","v":5337},"",159,"",0,0,"","","","","","W","HLS","120","D",20230926,160849,0.01,51.13,"CIBM              AI80184"]
["KR","HSBC",2,900322,531,null,"","AOC",{"$f":"VLOOKUP(H170,[2]SSIFSEP!$H$2:$I$7593,2,0)","v":"예치금"},"Deposit","CHF","XXX",1.1000000000000001,0,"1",349,{"$f":"VLOOKUP(K170,[1]EXRATE!C$3:F$43,4,0)","v":1468.7636522498908},{"$f":"+P170*Q170/100","v":5125.985146352119},"",56,"",0,0,"","","","","","W","HUB","","",20230926,160849,0.04,17.585000000000001,"CC                AF80350"]
["KR","HSBC",2,667368,292,null,"","HML",{"$f":"VLOOKUP(H171,[2]SSIFSEP!$H$2:$I$7593,2,0)","v":"가계대출"},"Household Loan","KRW","PRS",0,0,"1",5092,{"$f":"VLOOKUP(K171,[1]EXRATE!C$3:F$43,4,0)","v":1},{"$f":"+P171*Q171","v":5092},"N",88,"",0.1071,0,"","","","","","R","HLS","141","J",20230926,160849,0.25,0,"PFS               AI80160   9998"]
["KR","HSBC",2,38974,279,null,"","FLN","KRW Corporate Loan","COP KRW Corporate Loan","KRW","C13",2.1,0,"1",4885,{"$f":"VLOOKUP(K172,[1]EXRATE!C$3:F$43,4,0)","v":1},4885,"",159,"",0,0,"","","","","","W","HLS","120","C",20230926,160849,0.01,50.734999999999999,"CIBM              AI80184"]
["KR","HSBC",2,439198,291,null,"","HML",{"$f":"VLOOKUP(H173,[2]SSIFSEP!$H$2:$I$7593,2,0)","v":"가계대출"},"Household Loan","KRW","PRS",0,0,"1",4696,{"$f":"VLOOKUP(K173,[1]EXRATE!C$3:F$43,4,0)","v":1},4696,"N",88,"",0.2898,0,"","","","","","R","HLS","141","J",20230926,160849,0.25,0,"PFS               AI80160   9998"]
["KR","HSBC",2,674430,291,null,"","HML",{"$f":"VLOOKUP(H174,[2]SSIFSEP!$H$2:$I$7593,2,0)","v":"가계대출"},"Household Loan","KRW","PRS",0,0,"1",4633,{"$f":"VLOOKUP(K174,[1]EXRATE!C$3:F$43,4,0)","v":1},4633,"N",88,"",4.9700000000000001E-2,0,"","","","","","R","HLS","140","J",20230926,160849,0.25,0,"PFS               AI80160   9998"]
["KR","HSBC",2,12292,291,null,"","HML",{"$f":"VLOOKUP(H175,[2]SSIFSEP!$H$2:$I$7593,2,0)","v":"가계대출"},"Household Loan","KRW","PRS",0,0,"1",4468,{"$f":"VLOOKUP(K175,[1]EXRATE!C$3:F$43,4,0)","v":1},4468,"N",88,"",0.17549999999999999,0,"","","","","","R","HLS","141","J",20230926,160849,0.25,0,"PFS               AI80160   9998"]
["KR","HSBC",2,11823,291,null,"","HML",{"$f":"VLOOKUP(H176,[2]SSIFSEP!$H$2:$I$7593,2,0)","v":"가계대출"},"Household Loan","KRW","PRS",0,0,"1",4219,{"$f":"VLOOKUP(K176,[1]EXRATE!C$3:F$43,4,0)","v":1},4219,"N",88,"",5.62E-2,0,"","","","","","R","HLS","140","J",20230926,160849,0.25,0,"PFS               AI80160   9998"]
["KR","HSBC",2,900322,721,null,"","AOC",{"$f":"VLOOKUP(H177,[2]SSIFSEP!$H$2:$I$7593,2,0)","v":"예치금"},"Deposit","DKK","XXX",1.1000000000000001,0,"1",2016,{"$f":"VLOOKUP(K177,[1]EXRATE!C$3:F$43,4,0)","v":190.66252676052343},{"$f":"+P177*Q177/100","v":3843.7565394921526},"",59,"",0,0,"","","","","","W","HUB","","",20230926,160849,0.04,17.585000000000001,"CC                AF80350"]
["KR","HSBC",2,629160,291,null,"","HML",{"$f":"VLOOKUP(H178,[2]SSIFSEP!$H$2:$I$7593,2,0)","v":"가계대출"},"Household Loan","KRW","PRS",0,0,"1",3755,{"$f":"VLOOKUP(K178,[1]EXRATE!C$3:F$43,4,0)","v":1},{"$f":"+P178*Q178","v":3755},"N",88,"",3.09E-2,0,"","","","","","R","HLS","140","J",20230926,160849,0.25,0,"PFS               AI80160   9998"]
["KR","HSBC",2,38974,277,null,"","FLN","KRW Corporate Loan","COP KRW Corporate Loan","KRW","C13",2.1,0,"1",3664,{"$f":"VLOOKUP(K179,[1]EXRATE!C$3:F$43,4,0)","v":1},{"$f":"+P179*Q179","v":3664},"",159,"",0,0,"","","","","","W","HLS","120","C",20230926,160849,0.01,50.734999999999999,"CIBM              AI80184"]
["KR","HSBC",2,900256,531,null,"","AOC",{"$f":"VLOOKUP(H180,[2]SSIFSEP!$H$2:$I$7593,2,0)","v":"예치금"},"Deposit","CHF","XXX",1.1000000000000001,0,"1",227,{"$f":"VLOOKUP(K180,[1]EXRATE!C$3:F$43,4,0)","v":1468.7636522498908},{"$f":"+P180*Q180/100","v":3334.0934906072521},"",56,"",0,0,"","","","","","W","HUB","","",20230926,160849,0.04,17.585000000000001,"CC                AF80350"]
["KR","HSBC",2,604817,291,null,"","HML",{"$f":"VLOOKUP(H181,[2]SSIFSEP!$H$2:$I$7593,2,0)","v":"가계대출"},"Household Loan","KRW","PRS",0,0,"1",3268,{"$f":"VLOOKUP(K181,[1]EXRATE!C$3:F$43,4,0)","v":1},{"$f":"+P181*Q181","v":3268},"N",88,"",0.1183,0,"","","","","","R","HLS","141","J",20230926,160849,0.25,0,"PFS               AI80160   9998"]
["KR","HSBC",2,900322,800,null,"","AOC",{"$f":"VLOOKUP(H182,[2]SSIFSEP!$H$2:$I$7593,2,0)","v":"예치금"},"Deposit","JPY","XXX",1.1000000000000001,0,"1",353,{"$f":"VLOOKUP(K182,[1]EXRATE!C$3:F$43,4,0)","v":9.0221730233806312},{"$f":"+P182*Q182","v":3184.8270772533629},"",63,"",0,0,"","","","","","W","HUB","","",20230926,160849,0.04,17.585000000000001,"CC                AF80350"]
["KR","HSBC",2,900322,840,null,"","AOC",{"$f":"VLOOKUP(H183,[2]SSIFSEP!$H$2:$I$7593,2,0)","v":"예치금"},"Deposit","SGD","XXX",1.1000000000000001,0,"1",310,{"$f":"VLOOKUP(K183,[1]EXRATE!C$3:F$43,4,0)","v":982.07178588381339},{"$f":"+P183*Q183/100","v":3044.4225362398215},"",71,"",0,0,"","","","","","W","HUB","","",20230926,160849,0.04,17.585000000000001,"CC                AF80350"]
["KR","HSBC",2,900256,721,null,"","AOC",{"$f":"VLOOKUP(H184,[2]SSIFSEP!$H$2:$I$7593,2,0)","v":"예치금"},"Deposit","DKK","XXX",1.1000000000000001,0,"1",1545,{"$f":"VLOOKUP(K184,[1]EXRATE!C$3:F$43,4,0)","v":190.66252676052343},{"$f":"+P184*Q184/100","v":2945.7360384500871},"",59,"",0,0,"","","","","","W","HUB","","",20230926,160849,0.04,17.585000000000001,"CC                AF80350"]
["KR","HSBC",2,38974,280,null,"","FLN","KRW Corporate Loan","COP KRW Corporate Loan","KRW","C13",2.1,0,"1",2443,{"$f":"VLOOKUP(K185,[1]EXRATE!C$3:F$43,4,0)","v":1},{"$f":"+P185*Q185","v":2443},"",159,"",0,0,"","","","","","W","HLS","120","C",20230926,160849,0.01,50.734999999999999,"CIBM              AI80184"]
["KR","HSBC",2,38974,278,null,"","FLN","KRW Corporate Loan","COP KRW Corporate Loan","KRW","C13",2.1,0,"1",2321,{"$f":"VLOOKUP(K186,[1]EXRATE!C$3:F$43,4,0)","v":1},{"$f":"+P186*Q186","v":2321},"",159,"",0,0,"","","","","","W","HLS","120","C",20230926,160849,0.01,50.734999999999999,"CIBM              AI80184"]
["KR","HSBC",2,901072,721,null,"","OCB",{"$f":"VLOOKUP(H187,[2]SSIFSEP!$H$2:$I$7593,2,0)","v":"예치금"},"Deposit","DKK","BKN",1.2,0,"1",1024,{"$f":"VLOOKUP(K187,[1]EXRATE!C$3:F$43,4,0)","v":190.66252676052343},{"$f":"+P187*Q187/100","v":1952.3842740277601},"",76,"",0,0,"","","","","","W","HUB","","",20230926,160849,0.04,14,"CC                AF80350"]
["KR","HSBC",2,900322,780,null,"","AOC",{"$f":"VLOOKUP(H188,[2]SSIFSEP!$H$2:$I$7593,2,0)","v":"예치금"},"Deposit","AUD","XXX",1.1000000000000001,0,"1",213,{"$f":"VLOOKUP(K188,[1]EXRATE!C$3:F$43,4,0)","v":859.99959999999987},1831.7991479999996,"",54,"",0,0,"","","","","","W","HUB","","",20230926,160849,0.04,17.585000000000001,"CC                AF80350"]
["KR","HSBC",2,900256,911,null,"","AOC",{"$f":"VLOOKUP(H189,[2]SSIFSEP!$H$2:$I$7593,2,0)","v":"예치금"},"Deposit","NOK","XXX",1.1000000000000001,0,"1",1390,{"$f":"VLOOKUP(K189,[1]EXRATE!C$3:F$43,4,0)","v":124.2607924305145},1727.2250147841517,"",66,"",0,0,"","","","","","W","HUB","","",20230926,160849,0.04,17.585000000000001,"CC                AF80350"]
["KR","HSBC",2,900256,741,null,"","AOC",{"$f":"VLOOKUP(H190,[2]SSIFSEP!$H$2:$I$7593,2,0)","v":"예치금"},"Deposit","SEK","XXX",1.1000000000000001,0,"1",1391,{"$f":"VLOOKUP(K190,[1]EXRATE!C$3:F$43,4,0)","v":122.27566579681944},1700.8545112337586,"",70,"",0,0,"","","","","","W","HUB","","",20230926,160849,0.04,17.585000000000001,"CC                AF80350"]
["KR","HSBC",2,259687,311,null,"","ILN","Offshore Foreign Currency Loan","Offshore Foreign Currency Loan","USD","C11",3.1,0,"1",119,{"$f":"VLOOKUP(K191,[1]EXRATE!C$3:F$43,4,0)","v":1344.8},1600.3119999999999,"",168,"",1.0214000000000001,0,"","","","","","W","HLS","080","G",20230926,160849,0.04,42.79,"CIBM              AI80184"]
["KR","HSBC",2,900256,150,null,"","AOC",{"$f":"VLOOKUP(H192,[2]SSIFSEP!$H$2:$I$7593,2,0)","v":"예치금"},"Deposit","SAR","XXX",1.1000000000000001,0,"1",427,{"$f":"VLOOKUP(K192,[1]EXRATE!C$3:F$43,4,0)","v":358.48905712686269},1530.7482739317036,"",69,"",0,0,"","","","","","W","HUB","","",20230926,160849,0.04,17.585000000000001,"CC                AF80350"]
["KR","HSBC",2,900322,911,null,"","AOC",{"$f":"VLOOKUP(H193,[2]SSIFSEP!$H$2:$I$7593,2,0)","v":"예치금"},"Deposit","NOK","XXX",1.1000000000000001,0,"1",1217,{"$f":"VLOOKUP(K193,[1]EXRATE!C$3:F$43,4,0)","v":124.2607924305145},1512.2538438793615,"",66,"",0,0,"","","","","","W","HUB","","",20230926,160849,0.04,17.585000000000001,"CC                AF80350"]
["KR","HSBC",2,900256,661,null,"","AOC",{"$f":"VLOOKUP(H194,[2]SSIFSEP!$H$2:$I$7593,2,0)","v":"예치금"},"Deposit","KWD","XXX",1.1000000000000001,0,"1",341,{"$f":"VLOOKUP(K194,[1]EXRATE!C$3:F$43,4,0)","v":4349.9919133106914},{"$f":"+P194*Q194/1000","v":1483.3472424389456},"",65,"",0,0,"","","","","","W","HUB","","",20230926,160849,0.04,17.585000000000001,"CC                AF80350"]
["KR","HSBC",2,3234,291,null,"","HML",{"$f":"VLOOKUP(H195,[2]SSIFSEP!$H$2:$I$7593,2,0)","v":"가계대출"},"Household Loan","KRW","PRS",0,0,"1",1481,{"$f":"VLOOKUP(K195,[1]EXRATE!C$3:F$43,4,0)","v":1},{"$f":"+P195*Q195","v":1481},"N",88,"",2.3900000000000001E-2,0,"","","","","","R","HLS","140","H",20230926,160849,0.25,0,"PFS               AI80160   9998"]
["KR","HSBC",2,900256,370,null,"","AOC",{"$f":"VLOOKUP(H196,[2]SSIFSEP!$H$2:$I$7593,2,0)","v":"예치금"},"Deposit","THB","XXX",1.1000000000000001,0,"1",3427,{"$f":"VLOOKUP(K196,[1]EXRATE!C$3:F$43,4,0)","v":36.945054945054942},{"$f":"+P196*Q196/100","v":1266.1070329670329},"",72,"",0,0,"","","","","","W","HUB","","",20230926,160849,0.04,17.585000000000001,"CC                AF80350"]
["KR","HSBC",2,900322,511,null,"","AOC",{"$f":"VLOOKUP(H197,[2]SSIFSEP!$H$2:$I$7593,2,0)","v":"예치금"},"Deposit","NZD","XXX",1.1000000000000001,0,"1",119,{"$f":"VLOOKUP(K197,[1]EXRATE!C$3:F$43,4,0)","v":799.75256000000002},{"$f":"+P197*Q197/100","v":951.7055464},"",67,"",0,0,"","","","","","W","HUB","","",20230926,160849,0.04,17.585000000000001,"CC                AF80350"]
["KR","HSBC",2,901056,741,null,"","OCB",{"$f":"VLOOKUP(H198,[2]SSIFSEP!$H$2:$I$7593,2,0)","v":"예치금"},"Deposit","SEK","XXX",1.1000000000000001,0,"1",777,{"$f":"VLOOKUP(K198,[1]EXRATE!C$3:F$43,4,0)","v":122.27566579681944},{"$f":"+P198*Q198/100","v":950.08192324128697},"",79,"",0,0,"","","","","","W","HUB","","",20230926,160849,0.02,14,"CC                AF80350"]
["KR","HSBC",3,398930,883,null,"","HM1",{"$f":"VLOOKUP(H199,[2]SSIFSEP!$H$2:$I$7593,2,0)","v":"가계대출"},"Household Loan","KRW","PRS",0,0,"1",950,{"$f":"VLOOKUP(K199,[1]EXRATE!C$3:F$43,4,0)","v":1},{"$f":"+P199*Q199","v":950},"N",93,"",0,0,"","","","","","R","HLS","141","J",20230926,160849,0.25,0,"PFS               AI80160   9998"]
["KR","HSBC",2,259687,312,null,"","ILN","Offshore Foreign Currency Loan","Offshore Foreign Currency Loan","USD","C11",3.1,0,"1",56,{"$f":"VLOOKUP(K200,[1]EXRATE!C$3:F$43,4,0)","v":1344.8},{"$f":"+P200*Q200/100","v":753.08800000000008},"",168,"",1.0214000000000001,0,"","","","","","W","HLS","080","G",20230926,160849,0.04,42.79,"CIBM              AI80184"]
["KR","HSBC",2,38974,279,null,"","UCD",{"$f":"VLOOKUP(H201,[2]SSIFSEP!$H$2:$I$7593,2,0)","v":"미사용약정"},"Unused Credit Line","KRW","C13",2.1,0,"1",419,{"$f":"VLOOKUP(K201,[1]EXRATE!C$3:F$43,4,0)","v":1},{"$f":"+P201*Q201","v":419},"",283,"",0,0,"","","","","","W","HLS","120","C",20230926,160849,0.01,50.734999999999999,"CIBM              MG30100"]
["KR","HSBC",2,900306,1,null,"","AOC",{"$f":"VLOOKUP(H202,[2]SSIFSEP!$H$2:$I$7593,2,0)","v":"예치금"},"Deposit","KRW","XXX",2.2000000000000002,0,"1",418,{"$f":"VLOOKUP(K202,[1]EXRATE!C$3:F$43,4,0)","v":1},{"$f":"+P202*Q202","v":418},"",64,"",0,0,"","","","","","W","HUB","","",20230926,160849,0.26,17.585000000000001,"CC                AF80350"]
["KR","HSBC",2,900322,741,null,"","AOC",{"$f":"VLOOKUP(H203,[2]SSIFSEP!$H$2:$I$7593,2,0)","v":"예치금"},"Deposit","SEK","XXX",1.1000000000000001,0,"1",316,{"$f":"VLOOKUP(K203,[1]EXRATE!C$3:F$43,4,0)","v":122.27566579681944},{"$f":"+P203*Q203/100","v":386.39110391794947},"",70,"",0,0,"","","","","","W","HUB","","",20230926,160849,0.04,17.585000000000001,"CC                AF80350"]
["KR","HSBC",2,38974,277,null,"","UCD",{"$f":"VLOOKUP(H204,[2]SSIFSEP!$H$2:$I$7593,2,0)","v":"미사용약정"},"Unused Credit Line","KRW","C13",2.1,0,"1",314,{"$f":"VLOOKUP(K204,[1]EXRATE!C$3:F$43,4,0)","v":1},{"$f":"+P204*Q204","v":314},"",283,"",0,0,"","","","","","W","HLS","120","C",20230926,160849,0.01,50.734999999999999,"CIBM              MG30100"]
["KR","HSBC",2,900256,670,null,"","AOC",{"$f":"VLOOKUP(H205,[2]SSIFSEP!$H$2:$I$7593,2,0)","v":"예치금"},"Deposit","PLN","XXX",1.1000000000000001,0,"1",96,{"$f":"VLOOKUP(K205,[1]EXRATE!C$3:F$43,4,0)","v":308.46159139390323},{"$f":"+P205*Q205/100","v":296.1231277381471},"",68,"",0,0,"","","","","","W","HUB","","",20230926,160849,0.04,17.585000000000001,"CC                AF80350"]
["KR","HSBC",2,38974,280,null,"","UCD",{"$f":"VLOOKUP(H206,[2]SSIFSEP!$H$2:$I$7593,2,0)","v":"미사용약정"},"Unused Credit Line","KRW","C13",2.1,0,"1",209,{"$f":"VLOOKUP(K206,[1]EXRATE!C$3:F$43,4,0)","v":1},{"$f":"+P206*Q206","v":209},"",283,"",0,0,"","","","","","W","HLS","120","C",20230926,160849,0.01,50.734999999999999,"CIBM              MG30100"]
["KR","HSBC",2,38974,278,null,"","UCD",{"$f":"VLOOKUP(H207,[2]SSIFSEP!$H$2:$I$7593,2,0)","v":"미사용약정"},"Unused Credit Line","KRW","C13",2.1,0,"1",199,{"$f":"VLOOKUP(K207,[1]EXRATE!C$3:F$43,4,0)","v":1},199,"",283,"",0,0,"","","","","","W","HLS","120","C",20230926,160849,0.01,50.734999999999999,"CIBM              MG30100"]
["KR","HSBC",2,900264,2,null,"","AOC",{"$f":"VLOOKUP(H208,[2]SSIFSEP!$H$2:$I$7593,2,0)","v":"예치금"},"Deposit","KRW","BE1",1.1000000000000001,0,"1",41,{"$f":"VLOOKUP(K208,[1]EXRATE!C$3:F$43,4,0)","v":1},41,"",51,"",0,0,"","","","","","W","HUB","","",20230926,160849,0.04,17.585000000000001,"CC                AF80350"]
["KR","HSBC",2,701845,296,null,"","SVR",{"$f":"VLOOKUP(H209,[2]SSIFSEP!$H$2:$I$7593,2,0)","v":"원화기업대출"},"COP KRW Corporate Loan","KRW","C13",1.2,0,"1",21,{"$f":"VLOOKUP(K209,[1]EXRATE!C$3:F$43,4,0)","v":1},21,"",119,"",0,0,"","","","","","W","HUB","120","A",20230926,160849,0.01,42.34,"CIBM              AI80170"]
["KR","HSBC",2,0,0,null,"","BLK",{"$f":"VLOOKUP(H210,[2]SSIFSEP!$H$2:$I$7593,2,0)","v":"BLK"},"BLK","KRW","C13",4.3,0,"1",0,{"$f":"VLOOKUP(K210,[1]EXRATE!C$3:F$43,4,0)","v":1},0,"",1,"",0,0,"","","","","","W","ADJ","","",20230926,160848,0.25,99.61,"CC                A181102"]
["KR","HSBC",2,0,0,null,"","BLK",{"$f":"VLOOKUP(H211,[2]SSIFSEP!$H$2:$I$7593,2,0)","v":"BLK"},"BLK","KRW","C13",4.3,0,"1",0,{"$f":"VLOOKUP(K211,[1]EXRATE!C$3:F$43,4,0)","v":1},0,"",4,"",0,0,"","","","","","W","ADJ","","",20230926,160848,0.25,99.61,"CC                A181104"]
["KR","HSBC",2,0,0,null,"","BLK",{"$f":"VLOOKUP(H212,[2]SSIFSEP!$H$2:$I$7593,2,0)","v":"BLK"},"BLK","KRW","C13",4.3,0,"1",0,{"$f":"VLOOKUP(K212,[1]EXRATE!C$3:F$43,4,0)","v":1},0,"",8,"",0,0,"","","","","","W","ADJ","","",20230926,160848,0.25,99.61,"CC                A191103"]
["KR","HSBC",2,0,0,null,"","BLK",{"$f":"VLOOKUP(H213,[2]SSIFSEP!$H$2:$I$7593,2,0)","v":"BLK"},"BLK","KRW","C13",4.3,0,"1",0,{"$f":"VLOOKUP(K213,[1]EXRATE!C$3:F$43,4,0)","v":1},0,"",10,"",0,0,"","","","","","W","ADJ","","",20230926,160848,0.25,99.61,"CC                A191202"]
["KR","HSBC",2,0,0,null,"","BLK",{"$f":"VLOOKUP(H214,[2]SSIFSEP!$H$2:$I$7593,2,0)","v":"BLK"},"BLK","KRW","C13",4.3,0,"1",0,{"$f":"VLOOKUP(K214,[1]EXRATE!C$3:F$43,4,0)","v":1},0,"",15,"",0,0,"","","","","","W","ADJ","","",20230926,160848,0.25,99.61,"CC                A191203"]
["KR","HSBC",2,0,0,null,"","BLK",{"$f":"VLOOKUP(H215,[2]SSIFSEP!$H$2:$I$7593,2,0)","v":"BLK"},"BLK","KRW","BNK",2.2000000000000002,0,"1",0,{"$f":"VLOOKUP(K215,[1]EXRATE!C$3:F$43,4,0)","v":1},0,"",16,"",0,0,"","","","","","W","ADJ","","",20230926,160848,0.14000000000000001,40.29,"CC                AA10202"]
["KR","HSBC",2,0,0,null,"","BLK",{"$f":"VLOOKUP(H216,[2]SSIFSEP!$H$2:$I$7593,2,0)","v":"BLK"},"BLK","KRW","C13",4.3,0,"1",0,{"$f":"VLOOKUP(K216,[1]EXRATE!C$3:F$43,4,0)","v":1},0,"",19,"",0,0,"","","","","","W","ADJ","","",20230926,160848,0.25,51.075000000000003,"CC                AF80300"]
["KR","HSBC",2,0,0,null,"","BLK",{"$f":"VLOOKUP(H217,[2]SSIFSEP!$H$2:$I$7593,2,0)","v":"BLK"},"BLK","KRW","BNK",2.2000000000000002,0,"1",0,{"$f":"VLOOKUP(K217,[1]EXRATE!C$3:F$43,4,0)","v":1},0,"",20,"",0,0,"","","","","","W","ADJ","","",20230926,160848,0.26,17.585000000000001,"CC                AF80310"]
["KR","HSBC",2,0,0,null,"","BLK",{"$f":"VLOOKUP(H218,[2]SSIFSEP!$H$2:$I$7593,2,0)","v":"BLK"},"BLK","KRW","BNK",2.2000000000000002,0,"1",0,{"$f":"VLOOKUP(K218,[1]EXRATE!C$3:F$43,4,0)","v":1},0,"",21,"",0,0,"","","","","","W","ADJ","","",20230926,160848,0.26,17.585000000000001,"CC                AF80323"]
["KR","HSBC",2,0,0,null,"","BLK",{"$f":"VLOOKUP(H219,[2]SSIFSEP!$H$2:$I$7593,2,0)","v":"BLK"},"BLK","KRW","BNK",2.2000000000000002,0,"1",0,{"$f":"VLOOKUP(K219,[1]EXRATE!C$3:F$43,4,0)","v":1},0,"",22,"",0,0,"","","","","","W","ADJ","","",20230926,160848,0.26,17.585000000000001,"CC                AF80325"]
["KR","HSBC",2,0,0,null,"","BLK",{"$f":"VLOOKUP(H220,[2]SSIFSEP!$H$2:$I$7593,2,0)","v":"BLK"},"BLK","KRW","BNK",2.2000000000000002,0,"1",0,{"$f":"VLOOKUP(K220,[1]EXRATE!C$3:F$43,4,0)","v":1},0,"",23,"",0,0,"","","","","","W","ADJ","","",20230926,160848,0.14000000000000001,40.29,"CC                AF80326"]
["KR","HSBC",2,0,0,null,"","BLK",{"$f":"VLOOKUP(H221,[2]SSIFSEP!$H$2:$I$7593,2,0)","v":"BLK"},"BLK","KRW","BNK",2.2000000000000002,0,"1",0,{"$f":"VLOOKUP(K221,[1]EXRATE!C$3:F$43,4,0)","v":1},0,"",25,"",0,0,"","","","","","W","ADJ","","",20230926,160848,0.26,17.585000000000001,"CC                AF80327"]
["KR","HSBC",2,0,0,null,"","BLK",{"$f":"VLOOKUP(H222,[2]SSIFSEP!$H$2:$I$7593,2,0)","v":"BLK"},"BLK","KRW","BNK",2.2000000000000002,0,"1",0,{"$f":"VLOOKUP(K222,[1]EXRATE!C$3:F$43,4,0)","v":1},0,"",74,"",0,0,"","","","","","W","ADJ","","",20230926,160848,0.26,17.585000000000001,"CC                AF80350"]
["KR","HSBC",2,0,0,null,"","BLK",{"$f":"VLOOKUP(H223,[2]SSIFSEP!$H$2:$I$7593,2,0)","v":"BLK"},"BLK","KRW","BNK",2.2000000000000002,0,"1",0,{"$f":"VLOOKUP(K223,[1]EXRATE!C$3:F$43,4,0)","v":1},0,"",80,"",0,0,"","","","","","W","ADJ","","",20230926,160848,0.26,17.585000000000001,"CC                AF80405"]
["KR","HSBC",2,0,0,null,"","BLK",{"$f":"VLOOKUP(H224,[2]SSIFSEP!$H$2:$I$7593,2,0)","v":"BLK"},"BLK","KRW","C13",4.3,0,"1",0,{"$f":"VLOOKUP(K224,[1]EXRATE!C$3:F$43,4,0)","v":1},0,"",81,"",0,0,"","","","","","W","ADJ","","",20230926,160848,0.25,51.075000000000003,"CC                AI80150"]
["KR","HSBC",2,0,0,null,"","BLK",{"$f":"VLOOKUP(H225,[2]SSIFSEP!$H$2:$I$7593,2,0)","v":"BLK"},"BLK","KRW","C13",4.3,0,"1",0,{"$f":"VLOOKUP(K225,[1]EXRATE!C$3:F$43,4,0)","v":1},0,"",82,"",0,0,"","","","","","W","ADJ","","",20230926,160848,0.25,51.075000000000003,"PFS               AI80160"]
["KR","HSBC",2,0,0,null,"","BLK",{"$f":"VLOOKUP(H226,[2]SSIFSEP!$H$2:$I$7593,2,0)","v":"BLK"},"BLK","KRW","PRS",0,0,"1",0,{"$f":"VLOOKUP(K226,[1]EXRATE!C$3:F$43,4,0)","v":1},0,"N",83,"",0,0,"","","","","","R","ADJ","","",20230926,160848,0,0,"PFS               AI80160   9998"]
["KR","HSBC",2,0,0,null,"","BLK",{"$f":"VLOOKUP(H227,[2]SSIFSEP!$H$2:$I$7593,2,0)","v":"BLK"},"BLK","KRW","C13",4.3,0,"1",0,{"$f":"VLOOKUP(K227,[1]EXRATE!C$3:F$43,4,0)","v":1},0,"",113,"",0,0,"","","","","","W","ADJ","","",20230926,160848,0.25,51.075000000000003,"CC                AI80170"]
["KR","HSBC",2,0,0,null,"","BLK",{"$f":"VLOOKUP(H228,[2]SSIFSEP!$H$2:$I$7593,2,0)","v":"BLK"},"BLK","KRW","PRS",4.3,0,"1",0,{"$f":"VLOOKUP(K228,[1]EXRATE!C$3:F$43,4,0)","v":1},0,"",114,"",0,0,"","","","","","W","ADJ","","",20230926,160848,0.25,51.075000000000003,"CC                AI80170"]
["KR","HSBC",2,0,0,null,"","BLK",{"$f":"VLOOKUP(H229,[2]SSIFSEP!$H$2:$I$7593,2,0)","v":"BLK"},"BLK","KRW","PRS",4.3,0,"1",0,{"$f":"VLOOKUP(K229,[1]EXRATE!C$3:F$43,4,0)","v":1},0,"",122,"",0,0,"","","","","","W","ADJ","","",20230926,160848,0.25,51.075000000000003,"CC                AI80180"]
["KR","HSBC",2,0,0,null,"","BLK",{"$f":"VLOOKUP(H230,[2]SSIFSEP!$H$2:$I$7593,2,0)","v":"BLK"},"BLK","KRW","C13",4.3,0,"1",0,{"$f":"VLOOKUP(K230,[1]EXRATE!C$3:F$43,4,0)","v":1},0,"",126,"",0,0,"","","","","","W","ADJ","","",20230926,160848,0.25,51.075000000000003,"CC                AI80182"]
["KR","HSBC",2,0,0,null,"","BLK",{"$f":"VLOOKUP(H231,[2]SSIFSEP!$H$2:$I$7593,2,0)","v":"BLK"},"BLK","KRW","C13",4.3,0,"1",0,{"$f":"VLOOKUP(K231,[1]EXRATE!C$3:F$43,4,0)","v":1},0,"",150,"",0,0,"","","","","","W","ADJ","","",20230926,160848,0.25,51.075000000000003,"CC                AI80184"]
["KR","HSBC",2,0,0,null,"","BLK",{"$f":"VLOOKUP(H232,[2]SSIFSEP!$H$2:$I$7593,2,0)","v":"BLK"},"BLK","KRW","C13",4.3,0,"1",0,{"$f":"VLOOKUP(K232,[1]EXRATE!C$3:F$43,4,0)","v":1},0,"",204,"",0,0,"","","","","","W","ADJ","","",20230926,160848,0.25,51.075000000000003,"CC                AI80186"]
["KR","HSBC",2,0,0,null,"","BLK",{"$f":"VLOOKUP(H233,[2]SSIFSEP!$H$2:$I$7593,2,0)","v":"BLK"},"BLK","KRW","C13",4.3,0,"1",0,{"$f":"VLOOKUP(K233,[1]EXRATE!C$3:F$43,4,0)","v":1},0,"",205,"",0,0,"","","","","","W","ADJ","","",20230926,160848,0.25,51.075000000000003,"CC                AI80210"]
["KR","HSBC",2,0,0,null,"","BLK",{"$f":"VLOOKUP(H234,[2]SSIFSEP!$H$2:$I$7593,2,0)","v":"BLK"},"BLK","KRW","C13",4.3,0,"1",0,{"$f":"VLOOKUP(K234,[1]EXRATE!C$3:F$43,4,0)","v":1},0,"",206,"",0,0,"","","","","","W","ADJ","","",20230926,160848,0.25,51.075000000000003,"CC                AV89134"]
["KR","HSBC",2,0,0,null,"","BLK",{"$f":"VLOOKUP(H235,[2]SSIFSEP!$H$2:$I$7593,2,0)","v":"BLK"},"BLK","KRW","C13",4.3,0,"1",0,{"$f":"VLOOKUP(K235,[1]EXRATE!C$3:F$43,4,0)","v":1},0,"",208,"",0,0,"","","","","","W","ADJ","","",20230926,160848,0.25,51.075000000000003,"CC                AX80400"]
["KR","HSBC",2,0,0,null,"","BLK",{"$f":"VLOOKUP(H236,[2]SSIFSEP!$H$2:$I$7593,2,0)","v":"BLK"},"BLK","KRW","C13",4.3,0,"1",0,{"$f":"VLOOKUP(K236,[1]EXRATE!C$3:F$43,4,0)","v":1},0,"",209,"",0,0,"","","","","","W","ADJ","","",20230926,160848,0.25,51.075000000000003,"CC                MA20080"]
["KR","HSBC",2,0,0,null,"","BLK",{"$f":"VLOOKUP(H237,[2]SSIFSEP!$H$2:$I$7593,2,0)","v":"BLK"},"BLK","KRW","C13",4.3,0,"1",0,{"$f":"VLOOKUP(K237,[1]EXRATE!C$3:F$43,4,0)","v":1},0,"",212,"",0,0,"","","","","","W","ADJ","","",20230926,160848,0.25,51.075000000000003,"CC                MA20090"]
["KR","HSBC",2,0,0,null,"","BLK",{"$f":"VLOOKUP(H238,[2]SSIFSEP!$H$2:$I$7593,2,0)","v":"BLK"},"BLK","KRW","C13",4.3,0,"1",0,{"$f":"VLOOKUP(K238,[1]EXRATE!C$3:F$43,4,0)","v":1},{"$f":"+P238*Q238","v":0},"",213,"",0,0,"","","","","","W","ADJ","","",20230926,160848,0.25,51.075000000000003,"CC                MA20110"]
["KR","HSBC",2,0,0,null,"","BLK",{"$f":"VLOOKUP(H239,[2]SSIFSEP!$H$2:$I$7593,2,0)","v":"BLK"},"BLK","KRW","C13",4.3,0,"1",0,{"$f":"VLOOKUP(K239,[1]EXRATE!C$3:F$43,4,0)","v":1},0,"",214,"",0,0,"","","","","","W","ADJ","","",20230926,160848,0.25,51.075000000000003,"CC                MA21540"]
["KR","HSBC",2,0,0,null,"","BLK",{"$f":"VLOOKUP(H240,[2]SSIFSEP!$H$2:$I$7593,2,0)","v":"BLK"},"BLK","KRW","C13",4.3,0,"1",0,{"$f":"VLOOKUP(K240,[1]EXRATE!C$3:F$43,4,0)","v":1},0,"",248,"",0,0,"","","","","","W","ADJ","","",20230926,160848,0.25,51.075000000000003,"CC                MA21560"]
["KR","HSBC",2,0,0,null,"","BLK",{"$f":"VLOOKUP(H241,[2]SSIFSEP!$H$2:$I$7593,2,0)","v":"BLK"},"BLK","KRW","C13",4.3,0,"1",0,{"$f":"VLOOKUP(K241,[1]EXRATE!C$3:F$43,4,0)","v":1},0,"",268,"",0,0,"","","","","","W","ADJ","","",20230926,160848,0.25,51.075000000000003,"CC                MA21570"]
["KR","HSBC",2,0,0,null,"","UCD",{"$f":"VLOOKUP(H242,[2]SSIFSEP!$H$2:$I$7593,2,0)","v":"미사용약정"},"Unused Credit Line","KRW","C13",4.3,0,"1",0,{"$f":"VLOOKUP(K242,[1]EXRATE!C$3:F$43,4,0)","v":1},0,"",271,"",0,0,"","","","","","W","ADJ","","",20230926,160848,0.25,51.075000000000003,"CC                MG10320"]
["KR","HSBC",2,0,0,null,"","UCD",{"$f":"VLOOKUP(H243,[2]SSIFSEP!$H$2:$I$7593,2,0)","v":"미사용약정"},"Unused Credit Line","KRW","PRS",4.3,0,"1",0,{"$f":"VLOOKUP(K243,[1]EXRATE!C$3:F$43,4,0)","v":1},0,"",272,"",0,0,"","","","","","W","ADJ","","",20230926,160848,0.25,51.075000000000003,"CC                MG10320"]
["KR","HSBC",2,0,0,null,"","UCD",{"$f":"VLOOKUP(H244,[2]SSIFSEP!$H$2:$I$7593,2,0)","v":"미사용약정"},"Unused Credit Line","KRW","C13",4.3,0,"1",0,{"$f":"VLOOKUP(K244,[1]EXRATE!C$3:F$43,4,0)","v":1},0,"",275,"",0,0,"","","","","","W","ADJ","","",20230926,160848,0.25,51.075000000000003,"CC                MG11070"]
["KR","HSBC",2,0,0,null,"","UCD",{"$f":"VLOOKUP(H245,[2]SSIFSEP!$H$2:$I$7593,2,0)","v":"미사용약정"},"Unused Credit Line","KRW","PRS",4.3,0,"1",0,{"$f":"VLOOKUP(K245,[1]EXRATE!C$3:F$43,4,0)","v":1},0,"",276,"",0,0,"","","","","","W","ADJ","","",20230926,160848,0.25,51.075000000000003,"CC                MG11070"]
["KR","HSBC",2,0,0,null,"","UCD",{"$f":"VLOOKUP(H246,[2]SSIFSEP!$H$2:$I$7593,2,0)","v":"미사용약정"},"Unused Credit Line","KRW","C13",4.3,0,"1",0,{"$f":"VLOOKUP(K246,[1]EXRATE!C$3:F$43,4,0)","v":1},0,"",277,"",0,0,"","","","","","W","ADJ","","",20230926,160848,0.25,51.075000000000003,"CC                MG30050"]
["KR","HSBC",2,0,0,null,"","UCD",{"$f":"VLOOKUP(H247,[2]SSIFSEP!$H$2:$I$7593,2,0)","v":"미사용약정"},"Unused Credit Line","KRW","PRS",4.3,0,"1",0,{"$f":"VLOOKUP(K247,[1]EXRATE!C$3:F$43,4,0)","v":1},0,"",278,"",0,0,"","","","","","W","ADJ","","",20230926,160848,0.25,51.075000000000003,"CC                MG30050"]
["KR","HSBC",2,0,0,null,"","UCD",{"$f":"VLOOKUP(H248,[2]SSIFSEP!$H$2:$I$7593,2,0)","v":"미사용약정"},"Unused Credit Line","KRW","C13",4.3,0,"1",0,{"$f":"VLOOKUP(K248,[1]EXRATE!C$3:F$43,4,0)","v":1},0,"",283,"",0,0,"","","","","","W","ADJ","","",20230926,160848,0.25,51.075000000000003,"CC                MG30100"]
["KR","HSBC",2,0,0,null,"","UCD",{"$f":"VLOOKUP(H249,[2]SSIFSEP!$H$2:$I$7593,2,0)","v":"미사용약정"},"Unused Credit Line","KRW","PRS",4.3,0,"1",0,{"$f":"VLOOKUP(K249,[1]EXRATE!C$3:F$43,4,0)","v":1},0,"",303,"",0,0,"","","","","","W","ADJ","","",20230926,160848,0.25,51.075000000000003,"CC                MG30100"]
["KR","HSBC",2,0,0,null,"","UCD",{"$f":"VLOOKUP(H250,[2]SSIFSEP!$H$2:$I$7593,2,0)","v":"미사용약정"},"Unused Credit Line","KRW","C13",4.3,0,"1",0,{"$f":"VLOOKUP(K250,[1]EXRATE!C$3:F$43,4,0)","v":1},0,"",315,"",0,0,"","","","","","W","ADJ","","",20230926,160848,0.25,51.075000000000003,"CC                MG30120"]
["KR","HSBC",2,0,0,null,"","UCD",{"$f":"VLOOKUP(H251,[2]SSIFSEP!$H$2:$I$7593,2,0)","v":"미사용약정"},"Unused Credit Line","KRW","PRS",4.3,0,"1",0,{"$f":"VLOOKUP(K251,[1]EXRATE!C$3:F$43,4,0)","v":1},0,"",316,"",0,0,"","","","","","W","ADJ","","",20230926,160848,0.25,51.075000000000003,"CC                MG30120"]
["KR","HSBC",2,0,0,null,"","UCD",{"$f":"VLOOKUP(H252,[2]SSIFSEP!$H$2:$I$7593,2,0)","v":"미사용약정"},"Unused Credit Line","KRW","C13",4.3,0,"1",0,{"$f":"VLOOKUP(K252,[1]EXRATE!C$3:F$43,4,0)","v":1},0,"",320,"",0,0,"","","","","","W","ADJ","","",20230926,160848,0.25,51.075000000000003,"CC                MG30180"]
["KR","HSBC",2,0,0,null,"","UCD",{"$f":"VLOOKUP(H253,[2]SSIFSEP!$H$2:$I$7593,2,0)","v":"미사용약정"},"Unused Credit Line","KRW","PRS",4.3,0,"1",0,{"$f":"VLOOKUP(K253,[1]EXRATE!C$3:F$43,4,0)","v":1},0,"",321,"",0,0,"","","","","","W","ADJ","","",20230926,160848,0.25,51.075000000000003,"CC                MG30180"]
["KR","HSBC",1,6782,409,null,"","IIL",{"$f":"VLOOKUP(H254,[2]SSIFSEP!$H$2:$I$7593,2,0)","v":"가계대출"},"Household Loan","KRW","PRS",0,0,"1",0,{"$f":"VLOOKUP(K254,[1]EXRATE!C$3:F$43,4,0)","v":1},0,"N",145,"",0,0,"","","","","","R","HLS","020","H",20230926,160849,0,0,"PFS               AI80184   9998"]
["KR","HSBC",1,18266,809,null,"","AL3",{"$f":"VLOOKUP(H255,[2]SSIFSEP!$H$2:$I$7593,2,0)","v":"가계대출"},"Household Loan","KRW","PRS",0,0,"1",0,{"$f":"VLOOKUP(K255,[1]EXRATE!C$3:F$43,4,0)","v":1},0,"N",143,"",0,0,"","","","","","R","HLS","020","T",20230926,160849,0.25,0,"PFS               AI80184   9998"]
["KR","HSBC",1,20684,409,null,"","IIL",{"$f":"VLOOKUP(H256,[2]SSIFSEP!$H$2:$I$7593,2,0)","v":"가계대출"},"Household Loan","KRW","PRS",0,0,"1",0,{"$f":"VLOOKUP(K256,[1]EXRATE!C$3:F$43,4,0)","v":1},0,"N",145,"",0,0,"","","","","","R","HLS","020","T",20230926,160849,0.25,0,"PFS               AI80184   9998"]
["KR","HSBC",1,24678,409,null,"","IIL",{"$f":"VLOOKUP(H257,[2]SSIFSEP!$H$2:$I$7593,2,0)","v":"가계대출"},"Household Loan","KRW","PRS",0,0,"1",0,{"$f":"VLOOKUP(K257,[1]EXRATE!C$3:F$43,4,0)","v":1},0,"N",145,"",0,0,"","","","","","R","HLS","990","T",20230926,160849,0.25,0,"PFS               AI80184   9998"]
["KR","HSBC",1,26327,409,null,"","IIL",{"$f":"VLOOKUP(H258,[2]SSIFSEP!$H$2:$I$7593,2,0)","v":"가계대출"},"Household Loan","KRW","PRS",0,0,"1",0,{"$f":"VLOOKUP(K258,[1]EXRATE!C$3:F$43,4,0)","v":1},0,"N",145,"",0,0,"","","","","","R","HLS","020","G",20230926,160849,0,0,"PFS               AI80184   9998"]
["KR","HSBC",1,26327,900,null,"","IIL",{"$f":"VLOOKUP(H259,[2]SSIFSEP!$H$2:$I$7593,2,0)","v":"가계대출"},"Household Loan","KRW","PRS",0,0,"1",0,{"$f":"VLOOKUP(K259,[1]EXRATE!C$3:F$43,4,0)","v":1},0,"N",145,"",0,0,"","","","","","R","HLS","020","I",20230926,160849,0,0,"PFS               AI80184   9998"]
["KR","HSBC",1,26475,409,null,"","IIL",{"$f":"VLOOKUP(H260,[2]SSIFSEP!$H$2:$I$7593,2,0)","v":"가계대출"},"Household Loan","KRW","PRS",0,0,"1",0,{"$f":"VLOOKUP(K260,[1]EXRATE!C$3:F$43,4,0)","v":1},0,"N",145,"",0,0,"","","","","","R","HLS","020","T",20230926,160849,0.25,0,"PFS               AI80184   9998"]
["KR","HSBC",1,32135,208,null,"","AL4",{"$f":"VLOOKUP(H261,[2]SSIFSEP!$H$2:$I$7593,2,0)","v":"가계대출"},"Household Loan","KRW","PRS",0,0,"1",0,{"$f":"VLOOKUP(K261,[1]EXRATE!C$3:F$43,4,0)","v":1},0,"N",144,"",0,0,"","","","","","R","HLS","020","T",20230926,160849,0.25,0,"PFS               AI80184   9998"]
["KR","HSBC",1,33778,208,null,"","AL4",{"$f":"VLOOKUP(H262,[2]SSIFSEP!$H$2:$I$7593,2,0)","v":"가계대출"},"Household Loan","KRW","PRS",0,0,"1",0,{"$f":"VLOOKUP(K262,[1]EXRATE!C$3:F$43,4,0)","v":1},0,"N",144,"",0,0,"","","","","","R","HLS","020","T",20230926,160849,0.25,0,"PFS               AI80184   9998"]
["KR","HSBC",1,39767,649,null,"","ILO",{"$f":"VLOOKUP(H263,[2]SSIFSEP!$H$2:$I$7593,2,0)","v":"가계대출"},"Household Loan","KRW","PRS",0,0,"1",0,{"$f":"VLOOKUP(K263,[1]EXRATE!C$3:F$43,4,0)","v":1},0,"N",146,"",0,0,"","","","","","R","HLS","020","T",20230926,160849,0.25,0,"PFS               AI80184   9998"]
["KR","HSBC",1,45434,409,null,"","IIL",{"$f":"VLOOKUP(H264,[2]SSIFSEP!$H$2:$I$7593,2,0)","v":"가계대출"},"Household Loan","KRW","PRS",0,0,"1",0,{"$f":"VLOOKUP(K264,[1]EXRATE!C$3:F$43,4,0)","v":1},0,"N",145,"",0,0,"","","","","","R","HLS","020","T",20230926,160849,0.25,0,"PFS               AI80184   9998"]
["KR","HSBC",1,55441,714,null,"","ILS",{"$f":"VLOOKUP(H265,[2]SSIFSEP!$H$2:$I$7593,2,0)","v":"가계대출"},"Household Loan","KRW","PRS",0,0,"1",0,{"$f":"VLOOKUP(K265,[1]EXRATE!C$3:F$43,4,0)","v":1},0,"N",147,"",0,0,"","","","","","R","HLS","020","T",20230926,160849,0.25,0,"PFS               AI80184   9998"]
["KR","HSBC",1,62322,714,null,"","ILS",{"$f":"VLOOKUP(H266,[2]SSIFSEP!$H$2:$I$7593,2,0)","v":"가계대출"},"Household Loan","KRW","PRS",0,0,"1",0,{"$f":"VLOOKUP(K266,[1]EXRATE!C$3:F$43,4,0)","v":1},0,"N",147,"",0,0,"","","","","","R","HLS","020","T",20230926,160849,0.25,0,"PFS               AI80184   9998"]
["KR","HSBC",1,63684,409,null,"","IIL",{"$f":"VLOOKUP(H267,[2]SSIFSEP!$H$2:$I$7593,2,0)","v":"가계대출"},"Household Loan","KRW","PRS",0,0,"1",0,{"$f":"VLOOKUP(K267,[1]EXRATE!C$3:F$43,4,0)","v":1},0,"N",145,"",0,0,"","","","","","R","HLS","020","T",20230926,160849,0.25,0,"PFS               AI80184   9998"]
["KR","HSBC",1,86495,409,null,"","IIL",{"$f":"VLOOKUP(H268,[2]SSIFSEP!$H$2:$I$7593,2,0)","v":"가계대출"},"Household Loan","KRW","PRS",0,0,"1",0,{"$f":"VLOOKUP(K268,[1]EXRATE!C$3:F$43,4,0)","v":1},0,"N",145,"",0,0,"","","","","","R","HLS","020","T",20230926,160849,0.25,0,"PFS               AI80184   9998"]
["KR","HSBC",1,88855,409,null,"","IIL",{"$f":"VLOOKUP(H269,[2]SSIFSEP!$H$2:$I$7593,2,0)","v":"가계대출"},"Household Loan","KRW","PRS",0,0,"1",0,{"$f":"VLOOKUP(K269,[1]EXRATE!C$3:F$43,4,0)","v":1},0,"N",145,"",0,0,"","","","","","R","HLS","020","T",20230926,160849,0.25,0,"PFS               AI80184   9998"]
["KR","HSBC",1,91826,409,null,"","IIL",{"$f":"VLOOKUP(H270,[2]SSIFSEP!$H$2:$I$7593,2,0)","v":"가계대출"},"Household Loan","KRW","PRS",0,0,"1",0,{"$f":"VLOOKUP(K270,[1]EXRATE!C$3:F$43,4,0)","v":1},{"$f":"+P270*Q270","v":0},"N",145,"",0,0,"","","","","","R","HLS","020","T",20230926,160849,0.25,0,"PFS               AI80184   9998"]
["KR","HSBC",1,91925,409,null,"","IIL",{"$f":"VLOOKUP(H271,[2]SSIFSEP!$H$2:$I$7593,2,0)","v":"가계대출"},"Household Loan","KRW","PRS",0,0,"1",0,{"$f":"VLOOKUP(K271,[1]EXRATE!C$3:F$43,4,0)","v":1},0,"N",145,"",0,0,"","","","","","R","HLS","020","T",20230926,160849,0.25,0,"PFS               AI80184   9998"]
["KR","HSBC",1,93335,714,null,"","ILS",{"$f":"VLOOKUP(H272,[2]SSIFSEP!$H$2:$I$7593,2,0)","v":"가계대출"},"Household Loan","KRW","PRS",0,0,"1",0,{"$f":"VLOOKUP(K272,[1]EXRATE!C$3:F$43,4,0)","v":1},0,"N",147,"",0,0,"","","","","","R","HLS","020","T",20230926,160849,0.25,0,"PFS               AI80184   9998"]
["KR","HSBC",1,94127,409,null,"","IIL",{"$f":"VLOOKUP(H273,[2]SSIFSEP!$H$2:$I$7593,2,0)","v":"가계대출"},"Household Loan","KRW","PRS",0,0,"1",0,{"$f":"VLOOKUP(K273,[1]EXRATE!C$3:F$43,4,0)","v":1},0,"N",145,"",0,0,"","","","","","R","HLS","020","T",20230926,160849,0.25,0,"PFS               AI80184   9998"]
["KR","HSBC",1,100452,409,null,"","IIL",{"$f":"VLOOKUP(H274,[2]SSIFSEP!$H$2:$I$7593,2,0)","v":"가계대출"},"Household Loan","KRW","PRS",0,0,"1",0,{"$f":"VLOOKUP(K274,[1]EXRATE!C$3:F$43,4,0)","v":1},0,"N",145,"",0,0,"","","","","","R","HLS","020","T",20230926,160849,0.25,0,"PFS               AI80184   9998"]
["KR","HSBC",1,101690,409,null,"","IIL",{"$f":"VLOOKUP(H275,[2]SSIFSEP!$H$2:$I$7593,2,0)","v":"가계대출"},"Household Loan","KRW","PRS",0,0,"1",0,{"$f":"VLOOKUP(K275,[1]EXRATE!C$3:F$43,4,0)","v":1},0,"N",145,"",0,0,"","","","","","R","HLS","020","T",20230926,160849,0.25,0,"PFS               AI80184   9998"]
["KR","HSBC",1,105626,409,null,"","IIL",{"$f":"VLOOKUP(H276,[2]SSIFSEP!$H$2:$I$7593,2,0)","v":"가계대출"},"Household Loan","KRW","PRS",0,0,"1",0,{"$f":"VLOOKUP(K276,[1]EXRATE!C$3:F$43,4,0)","v":1},0,"N",145,"",0,0,"","","","","","R","HLS","020","T",20230926,160849,0.25,0,"PFS               AI80184   9998"]
["KR","HSBC",1,106855,900,null,"","IIL",{"$f":"VLOOKUP(H277,[2]SSIFSEP!$H$2:$I$7593,2,0)","v":"가계대출"},"Household Loan","KRW","PRS",0,0,"1",0,{"$f":"VLOOKUP(K277,[1]EXRATE!C$3:F$43,4,0)","v":1},0,"N",145,"",0,0,"","","","","","R","HLS","020","T",20230926,160849,0.25,0,"PFS               AI80184   9998"]
["KR","HSBC",1,109321,900,null,"","IIL",{"$f":"VLOOKUP(H278,[2]SSIFSEP!$H$2:$I$7593,2,0)","v":"가계대출"},"Household Loan","KRW","PRS",0,0,"1",0,{"$f":"VLOOKUP(K278,[1]EXRATE!C$3:F$43,4,0)","v":1},0,"N",145,"",0,0,"","","","","","R","HLS","020","T",20230926,160849,0.25,0,"PFS               AI80184   9998"]
["KR","HSBC",1,109875,409,null,"","IIL",{"$f":"VLOOKUP(H279,[2]SSIFSEP!$H$2:$I$7593,2,0)","v":"가계대출"},"Household Loan","KRW","PRS",0,0,"1",0,{"$f":"VLOOKUP(K279,[1]EXRATE!C$3:F$43,4,0)","v":1},0,"N",145,"",0,0,"","","","","","R","HLS","020","T",20230926,160849,0.25,0,"PFS               AI80184   9998"]
["KR","HSBC",1,111632,714,null,"","ILS",{"$f":"VLOOKUP(H280,[2]SSIFSEP!$H$2:$I$7593,2,0)","v":"가계대출"},"Household Loan","KRW","PRS",0,0,"1",0,{"$f":"VLOOKUP(K280,[1]EXRATE!C$3:F$43,4,0)","v":1},0,"N",147,"",0,0,"","","","","","R","HLS","020","C",20230926,160849,0,0,"PFS               AI80184   9998"]
["KR","HSBC",1,114099,208,null,"","AL4",{"$f":"VLOOKUP(H281,[2]SSIFSEP!$H$2:$I$7593,2,0)","v":"가계대출"},"Household Loan","KRW","PRS",0,0,"1",0,{"$f":"VLOOKUP(K281,[1]EXRATE!C$3:F$43,4,0)","v":1},0,"N",144,"",0,0,"","","","","","R","HLS","020","T",20230926,160849,0.25,0,"PFS               AI80184   9998"]
["KR","HSBC",1,123587,900,null,"","AL4",{"$f":"VLOOKUP(H282,[2]SSIFSEP!$H$2:$I$7593,2,0)","v":"가계대출"},"Household Loan","KRW","PRS",0,0,"1",0,{"$f":"VLOOKUP(K282,[1]EXRATE!C$3:F$43,4,0)","v":1},0,"N",144,"",0,0,"","","","","","R","HLS","020","T",20230926,160849,0.25,0,"PFS               AI80184   9998"]
["KR","HSBC",1,128123,714,null,"","ILS",{"$f":"VLOOKUP(H283,[2]SSIFSEP!$H$2:$I$7593,2,0)","v":"가계대출"},"Household Loan","KRW","PRS",0,0,"1",0,{"$f":"VLOOKUP(K283,[1]EXRATE!C$3:F$43,4,0)","v":1},0,"N",147,"",0,0,"","","","","","R","HLS","020","T",20230926,160849,0.25,0,"PFS               AI80184   9998"]
["KR","HSBC",1,130988,900,null,"","IIL",{"$f":"VLOOKUP(H284,[2]SSIFSEP!$H$2:$I$7593,2,0)","v":"가계대출"},"Household Loan","KRW","PRS",0,0,"1",0,{"$f":"VLOOKUP(K284,[1]EXRATE!C$3:F$43,4,0)","v":1},0,"N",145,"",0,0,"","","","","","R","HLS","020","T",20230926,160849,0.25,0,"PFS               AI80184   9998"]
["KR","HSBC",1,131036,409,null,"","IIL",{"$f":"VLOOKUP(H285,[2]SSIFSEP!$H$2:$I$7593,2,0)","v":"가계대출"},"Household Loan","KRW","PRS",0,0,"1",0,{"$f":"VLOOKUP(K285,[1]EXRATE!C$3:F$43,4,0)","v":1},0,"N",145,"",0,0,"","","","","","R","HLS","020","T",20230926,160849,0.25,0,"PFS               AI80184   9998"]
["KR","HSBC",1,134824,409,null,"","IIL",{"$f":"VLOOKUP(H286,[2]SSIFSEP!$H$2:$I$7593,2,0)","v":"가계대출"},"Household Loan","KRW","PRS",0,0,"1",0,{"$f":"VLOOKUP(K286,[1]EXRATE!C$3:F$43,4,0)","v":1},0,"N",145,"",0,0,"","","","","","R","HLS","020","T",20230926,160849,0.25,0,"PFS               AI80184   9998"]
["KR","HSBC",1,139310,208,null,"","AL4",{"$f":"VLOOKUP(H287,[2]SSIFSEP!$H$2:$I$7593,2,0)","v":"가계대출"},"Household Loan","KRW","PRS",0,0,"1",0,{"$f":"VLOOKUP(K287,[1]EXRATE!C$3:F$43,4,0)","v":1},0,"N",144,"",0,0,"","","","","","R","HLS","020","G",20230926,160849,0,0,"PFS               AI80184   9998"]
["KR","HSBC",1,140235,409,null,"","IIL",{"$f":"VLOOKUP(H288,[2]SSIFSEP!$H$2:$I$7593,2,0)","v":"가계대출"},"Household Loan","KRW","PRS",0,0,"1",0,{"$f":"VLOOKUP(K288,[1]EXRATE!C$3:F$43,4,0)","v":1},0,"N",145,"",0,0,"","","","","","R","HLS","020","T",20230926,160849,0.25,0,"PFS               AI80184   9998"]
["KR","HSBC",1,140813,900,null,"","IIL",{"$f":"VLOOKUP(H289,[2]SSIFSEP!$H$2:$I$7593,2,0)","v":"가계대출"},"Household Loan","KRW","PRS",0,0,"1",0,{"$f":"VLOOKUP(K289,[1]EXRATE!C$3:F$43,4,0)","v":1},0,"N",145,"",0,0,"","","","","","R","HLS","020","T",20230926,160849,0.25,0,"PFS               AI80184   9998"]
["KR","HSBC",1,143478,409,null,"","IIL",{"$f":"VLOOKUP(H290,[2]SSIFSEP!$H$2:$I$7593,2,0)","v":"가계대출"},"Household Loan","KRW","PRS",0,0,"1",0,{"$f":"VLOOKUP(K290,[1]EXRATE!C$3:F$43,4,0)","v":1},0,"N",145,"",0,0,"","","","","","R","HLS","020","F",20230926,160849,0,0,"PFS               AI80184   9998"]
["KR","HSBC",1,146455,409,null,"","IIL",{"$f":"VLOOKUP(H291,[2]SSIFSEP!$H$2:$I$7593,2,0)","v":"가계대출"},"Household Loan","KRW","PRS",0,0,"1",0,{"$f":"VLOOKUP(K291,[1]EXRATE!C$3:F$43,4,0)","v":1},0,"N",145,"",0,0,"","","","","","R","HLS","020","T",20230926,160849,0.25,0,"PFS               AI80184   9998"]
["KR","HSBC",1,147297,409,null,"","IIL",{"$f":"VLOOKUP(H292,[2]SSIFSEP!$H$2:$I$7593,2,0)","v":"가계대출"},"Household Loan","KRW","PRS",0,0,"1",0,{"$f":"VLOOKUP(K292,[1]EXRATE!C$3:F$43,4,0)","v":1},0,"N",145,"",0,0,"","","","","","R","HLS","020","T",20230926,160849,0.25,0,"PFS               AI80184   9998"]
["KR","HSBC",1,149293,409,null,"","IIL",{"$f":"VLOOKUP(H293,[2]SSIFSEP!$H$2:$I$7593,2,0)","v":"가계대출"},"Household Loan","KRW","PRS",0,0,"1",0,{"$f":"VLOOKUP(K293,[1]EXRATE!C$3:F$43,4,0)","v":1},0,"N",145,"",0,0,"","","","","","R","HLS","020","G",20230926,160849,0,0,"PFS               AI80184   9998"]
["KR","HSBC",1,159680,409,null,"","IIL",{"$f":"VLOOKUP(H294,[2]SSIFSEP!$H$2:$I$7593,2,0)","v":"가계대출"},"Household Loan","KRW","PRS",0,0,"1",0,{"$f":"VLOOKUP(K294,[1]EXRATE!C$3:F$43,4,0)","v":1},0,"N",145,"",0,0,"","","","","","R","HLS","020","G",20230926,160849,0,0,"PFS               AI80184   9998"]
["KR","HSBC",1,162528,714,null,"","ILS",{"$f":"VLOOKUP(H295,[2]SSIFSEP!$H$2:$I$7593,2,0)","v":"가계대출"},"Household Loan","KRW","PRS",0,0,"1",0,{"$f":"VLOOKUP(K295,[1]EXRATE!C$3:F$43,4,0)","v":1},0,"N",147,"",0,0,"","","","","","R","HLS","020","T",20230926,160849,0.25,0,"PFS               AI80184   9998"]
["KR","HSBC",1,162551,900,null,"","ILS",{"$f":"VLOOKUP(H296,[2]SSIFSEP!$H$2:$I$7593,2,0)","v":"가계대출"},"Household Loan","KRW","PRS",0,0,"1",0,{"$f":"VLOOKUP(K296,[1]EXRATE!C$3:F$43,4,0)","v":1},0,"N",147,"",0,0,"","","","","","R","HLS","020","T",20230926,160849,0.25,0,"PFS               AI80184   9998"]
["KR","HSBC",1,163120,714,null,"","ILS",{"$f":"VLOOKUP(H297,[2]SSIFSEP!$H$2:$I$7593,2,0)","v":"가계대출"},"Household Loan","KRW","PRS",0,0,"1",0,{"$f":"VLOOKUP(K297,[1]EXRATE!C$3:F$43,4,0)","v":1},0,"N",147,"",0,0,"","","","","","R","HLS","020","T",20230926,160849,0.25,0,"PFS               AI80184   9998"]
["KR","HSBC",1,163773,208,null,"","AL4",{"$f":"VLOOKUP(H298,[2]SSIFSEP!$H$2:$I$7593,2,0)","v":"가계대출"},"Household Loan","KRW","PRS",0,0,"1",0,{"$f":"VLOOKUP(K298,[1]EXRATE!C$3:F$43,4,0)","v":1},0,"N",144,"",0,0,"","","","","","R","HLS","020","T",20230926,160849,0.25,0,"PFS               AI80184   9998"]
["KR","HSBC",1,166644,714,null,"","ILS",{"$f":"VLOOKUP(H299,[2]SSIFSEP!$H$2:$I$7593,2,0)","v":"가계대출"},"Household Loan","KRW","PRS",0,0,"1",0,{"$f":"VLOOKUP(K299,[1]EXRATE!C$3:F$43,4,0)","v":1},0,"N",147,"",0,0,"","","","","","R","HLS","020","T",20230926,160849,0.25,0,"PFS               AI80184   9998"]
["KR","HSBC",1,166651,714,null,"","ILS",{"$f":"VLOOKUP(H300,[2]SSIFSEP!$H$2:$I$7593,2,0)","v":"가계대출"},"Household Loan","KRW","PRS",0,0,"1",0,{"$f":"VLOOKUP(K300,[1]EXRATE!C$3:F$43,4,0)","v":1},0,"N",147,"",0,0,"","","","","","R","HLS","020","T",20230926,160849,0.25,0,"PFS               AI80184   9998"]
["KR","HSBC",1,166958,208,null,"","AL4",{"$f":"VLOOKUP(H301,[2]SSIFSEP!$H$2:$I$7593,2,0)","v":"가계대출"},"Household Loan","KRW","PRS",0,0,"1",0,{"$f":"VLOOKUP(K301,[1]EXRATE!C$3:F$43,4,0)","v":1},0,"N",144,"",0,0,"","","","","","R","HLS","020","T",20230926,160849,0.25,0,"PFS               AI80184   9998"]
["KR","HSBC",1,167816,714,null,"","ILS",{"$f":"VLOOKUP(H302,[2]SSIFSEP!$H$2:$I$7593,2,0)","v":"가계대출"},"Household Loan","KRW","PRS",0,0,"1",0,{"$f":"VLOOKUP(K302,[1]EXRATE!C$3:F$43,4,0)","v":1},{"$f":"+P302*Q302","v":0},"N",147,"",0,0,"","","","","","R","HLS","020","T",20230926,160849,0.25,0,"PFS               AI80184   9998"]
["KR","HSBC",1,171131,809,null,"","AL3",{"$f":"VLOOKUP(H303,[2]SSIFSEP!$H$2:$I$7593,2,0)","v":"가계대출"},"Household Loan","KRW","PRS",0,0,"1",0,{"$f":"VLOOKUP(K303,[1]EXRATE!C$3:F$43,4,0)","v":1},0,"N",143,"",0,0,"","","","","","R","HLS","020","F",20230926,160849,0,0,"PFS               AI80184   9998"]
["KR","HSBC",1,178268,714,null,"","ILS",{"$f":"VLOOKUP(H304,[2]SSIFSEP!$H$2:$I$7593,2,0)","v":"가계대출"},"Household Loan","KRW","PRS",0,0,"1",0,{"$f":"VLOOKUP(K304,[1]EXRATE!C$3:F$43,4,0)","v":1},0,"N",147,"",0,0,"","","","","","R","HLS","020","T",20230926,160849,0.25,0,"PFS               AI80184   9998"]
["KR","HSBC",1,185255,208,null,"","AL4",{"$f":"VLOOKUP(H305,[2]SSIFSEP!$H$2:$I$7593,2,0)","v":"가계대출"},"Household Loan","KRW","PRS",0,0,"1",0,{"$f":"VLOOKUP(K305,[1]EXRATE!C$3:F$43,4,0)","v":1},0,"N",144,"",0,0,"","","","","","R","HLS","020","G",20230926,160849,0,0,"PFS               AI80184   9998"]
["KR","HSBC",1,187913,208,null,"","AL4",{"$f":"VLOOKUP(H306,[2]SSIFSEP!$H$2:$I$7593,2,0)","v":"가계대출"},"Household Loan","KRW","PRS",0,0,"1",0,{"$f":"VLOOKUP(K306,[1]EXRATE!C$3:F$43,4,0)","v":1},0,"N",144,"",0,0,"","","","","","R","HLS","020","I",20230926,160849,0,0,"PFS               AI80184   9998"]
["KR","HSBC",1,197094,208,null,"","AL4",{"$f":"VLOOKUP(H307,[2]SSIFSEP!$H$2:$I$7593,2,0)","v":"가계대출"},"Household Loan","KRW","PRS",0,0,"1",0,{"$f":"VLOOKUP(K307,[1]EXRATE!C$3:F$43,4,0)","v":1},0,"N",144,"",0,0,"","","","","","R","HLS","020","T",20230926,160849,0.25,0,"PFS               AI80184   9998"]
["KR","HSBC",1,197946,208,null,"","AL4",{"$f":"VLOOKUP(H308,[2]SSIFSEP!$H$2:$I$7593,2,0)","v":"가계대출"},"Household Loan","KRW","PRS",0,0,"1",0,{"$f":"VLOOKUP(K308,[1]EXRATE!C$3:F$43,4,0)","v":1},0,"N",144,"",0,0,"","","","","","R","HLS","020","T",20230926,160849,0.25,0,"PFS               AI80184   9998"]
["KR","HSBC",2,701,276,null,"","FLN","KRW Corporate Loan","COP KRW Corporate Loan","KRW","C12",3.3,0,"1",0,{"$f":"VLOOKUP(K309,[1]EXRATE!C$3:F$43,4,0)","v":1},0,"",158,"",0.41510000000000002,0,"","","","","","W","HLS","120","I",20230926,160849,0.13,0,"CIBM              AI80184"]
["KR","HSBC",2,6849,276,null,"","FLN","KRW Corporate Loan","COP KRW Corporate Loan","KRW","C08",3.3,0,"1",0,{"$f":"VLOOKUP(K310,[1]EXRATE!C$3:F$43,4,0)","v":1},0,"",155,"",0.2132,0,"","","","","","W","HLS","080","I",20230926,160849,0.13,0,"CC                AI80184"]
["KR","HSBC",2,7037,649,null,"","ILO",{"$f":"VLOOKUP(H311,[2]SSIFSEP!$H$2:$I$7593,2,0)","v":"가계대출"},"Household Loan","KRW","PRS",0,0,"1",0,{"$f":"VLOOKUP(K311,[1]EXRATE!C$3:F$43,4,0)","v":1},0,"N",173,"",0,0,"","","","","","R","HLS","020","T",20230926,160849,0.25,0,"PFS               AI80184   9998"]
["KR","HSBC",2,10684,409,null,"","IIL",{"$f":"VLOOKUP(H312,[2]SSIFSEP!$H$2:$I$7593,2,0)","v":"가계대출"},"Household Loan","KRW","PRS",0,0,"1",0,{"$f":"VLOOKUP(K312,[1]EXRATE!C$3:F$43,4,0)","v":1},0,"N",166,"",0,0,"","","","","","R","HLS","020","T",20230926,160849,0.25,0,"PFS               AI80184   9998"]
["KR","HSBC",2,11963,649,null,"","ILO",{"$f":"VLOOKUP(H313,[2]SSIFSEP!$H$2:$I$7593,2,0)","v":"가계대출"},"Household Loan","KRW","PRS",0,0,"1",0,{"$f":"VLOOKUP(K313,[1]EXRATE!C$3:F$43,4,0)","v":1},0,"N",173,"",0,0,"","","","","","R","HLS","020","T",20230926,160849,0.25,0,"PFS               AI80184   9998"]
["KR","HSBC",2,14157,649,null,"","ILO",{"$f":"VLOOKUP(H314,[2]SSIFSEP!$H$2:$I$7593,2,0)","v":"가계대출"},"Household Loan","KRW","PRS",0,0,"1",0,{"$f":"VLOOKUP(K314,[1]EXRATE!C$3:F$43,4,0)","v":1},0,"N",173,"",0,0,"","","","","","R","HLS","020","T",20230926,160849,0.25,0,"PFS               AI80184   9998"]
["KR","HSBC",2,14280,226,null,"","UCD",{"$f":"VLOOKUP(H315,[2]SSIFSEP!$H$2:$I$7593,2,0)","v":"미사용약정"},"Unused Credit Line","USD","BE1",1.1000000000000001,0,"1",0,{"$f":"VLOOKUP(K315,[1]EXRATE!C$3:F$43,4,0)","v":1344.8},{"$f":"+P315*Q315/100","v":0},"",313,"",0,0,"","","","","","W","HLS","120","G",20230926,160849,0.04,17.585000000000001,"CIBM              MG30120"]
["KR","HSBC",2,16038,649,null,"","ILO",{"$f":"VLOOKUP(H316,[2]SSIFSEP!$H$2:$I$7593,2,0)","v":"가계대출"},"Household Loan","KRW","PRS",0,0,"1",0,{"$f":"VLOOKUP(K316,[1]EXRATE!C$3:F$43,4,0)","v":1},{"$f":"+P316*Q316","v":0},"N",173,"",0,0,"","","","","","R","HLS","020","T",20230926,160849,0.25,0,"PFS               AI80184   9998"]
["KR","HSBC",2,21491,649,null,"","ILO",{"$f":"VLOOKUP(H317,[2]SSIFSEP!$H$2:$I$7593,2,0)","v":"가계대출"},"Household Loan","KRW","PRS",0,0,"1",0,{"$f":"VLOOKUP(K317,[1]EXRATE!C$3:F$43,4,0)","v":1},0,"N",173,"",0,0,"","","","","","R","HLS","020","T",20230926,160849,0.25,0,"PFS               AI80184   9998"]
["KR","HSBC",2,23612,413,null,"","PLL",{"$f":"VLOOKUP(H318,[2]SSIFSEP!$H$2:$I$7593,2,0)","v":"가계대출"},"Household Loan","KRW","PRS",0,0,"1",0,{"$f":"VLOOKUP(K318,[1]EXRATE!C$3:F$43,4,0)","v":1},0,"N",90,"",0,0,"","","","","","R","HLS","140","T",20230926,160849,0.25,0,"PFS               AI80160   9998"]
["KR","HSBC",2,28306,409,null,"","IIL",{"$f":"VLOOKUP(H319,[2]SSIFSEP!$H$2:$I$7593,2,0)","v":"가계대출"},"Household Loan","KRW","PRS",0,0,"1",0,{"$f":"VLOOKUP(K319,[1]EXRATE!C$3:F$43,4,0)","v":1},0,"N",166,"",0,0,"","","","","","R","HLS","020","T",20230926,160849,0.25,0,"PFS               AI80184   9998"]
["KR","HSBC",2,28520,900,null,"","AL4",{"$f":"VLOOKUP(H320,[2]SSIFSEP!$H$2:$I$7593,2,0)","v":"가계대출"},"Household Loan","KRW","PRS",0,0,"1",0,{"$f":"VLOOKUP(K320,[1]EXRATE!C$3:F$43,4,0)","v":1},0,"N",149,"",0,0,"","","","","","R","HLS","020","F",20230926,160849,0,0,"PFS               AI80184   9998"]
["KR","HSBC",2,30435,409,null,"","IIL",{"$f":"VLOOKUP(H321,[2]SSIFSEP!$H$2:$I$7593,2,0)","v":"가계대출"},"Household Loan","KRW","PRS",0,0,"1",0,{"$f":"VLOOKUP(K321,[1]EXRATE!C$3:F$43,4,0)","v":1},0,"N",166,"",0,0,"","","","","","R","HLS","990","T",20230926,160849,0.25,0,"PFS               AI80184   9998"]
["KR","HSBC",2,31003,409,null,"","IIL",{"$f":"VLOOKUP(H322,[2]SSIFSEP!$H$2:$I$7593,2,0)","v":"가계대출"},"Household Loan","KRW","PRS",0,0,"1",0,{"$f":"VLOOKUP(K322,[1]EXRATE!C$3:F$43,4,0)","v":1},0,"N",166,"",0,0,"","","","","","R","HLS","020","T",20230926,160849,0.25,0,"PFS               AI80184   9998"]
["KR","HSBC",2,31045,207,null,"","RML",{"$f":"VLOOKUP(H323,[2]SSIFSEP!$H$2:$I$7593,2,0)","v":"가계대출"},"Household Loan","KRW","PRS",0,0,"1",0,{"$f":"VLOOKUP(K323,[1]EXRATE!C$3:F$43,4,0)","v":1},0,"N",91,"",0,0,"","","","","","R","HLS","140","J",20230926,160849,0.25,0,"PFS               AI80160   9998"]
["KR","HSBC",2,34403,649,null,"","ILO",{"$f":"VLOOKUP(H324,[2]SSIFSEP!$H$2:$I$7593,2,0)","v":"가계대출"},"Household Loan","KRW","PRS",0,0,"1",0,{"$f":"VLOOKUP(K324,[1]EXRATE!C$3:F$43,4,0)","v":1},0,"N",173,"",0,0,"","","","","","R","HLS","020","T",20230926,160849,0.25,0,"PFS               AI80184   9998"]
["KR","HSBC",2,37125,882,null,"","HM1",{"$f":"VLOOKUP(H325,[2]SSIFSEP!$H$2:$I$7593,2,0)","v":"가계대출"},"Household Loan","KRW","PRS",0,0,"1",0,{"$f":"VLOOKUP(K325,[1]EXRATE!C$3:F$43,4,0)","v":1},0,"N",87,"",0,0,"","","","","","R","HLS","141","J",20230926,160849,0.25,0,"PFS               AI80160   9998"]
["KR","HSBC",2,40954,409,null,"","IIL",{"$f":"VLOOKUP(H326,[2]SSIFSEP!$H$2:$I$7593,2,0)","v":"가계대출"},"Household Loan","KRW","PRS",0,0,"1",0,{"$f":"VLOOKUP(K326,[1]EXRATE!C$3:F$43,4,0)","v":1},0,"N",166,"",0,0,"","","","","","R","HLS","020","F",20230926,160849,0,0,"PFS               AI80184   9998"]
["KR","HSBC",2,43602,208,null,"","AL4",{"$f":"VLOOKUP(H327,[2]SSIFSEP!$H$2:$I$7593,2,0)","v":"가계대출"},"Household Loan","KRW","PRS",0,0,"1",0,{"$f":"VLOOKUP(K327,[1]EXRATE!C$3:F$43,4,0)","v":1},0,"N",149,"",0,0,"","","","","","R","HLS","020","I",20230926,160849,0,0,"PFS               AI80184   9998"]
["KR","HSBC",2,46894,649,null,"","ILO",{"$f":"VLOOKUP(H328,[2]SSIFSEP!$H$2:$I$7593,2,0)","v":"가계대출"},"Household Loan","KRW","PRS",0,0,"1",0,{"$f":"VLOOKUP(K328,[1]EXRATE!C$3:F$43,4,0)","v":1},0,"N",173,"",0,0,"","","","","","R","HLS","020","T",20230926,160849,0.25,0,"PFS               AI80184   9998"]
["KR","HSBC",2,47439,900,null,"","IIL",{"$f":"VLOOKUP(H329,[2]SSIFSEP!$H$2:$I$7593,2,0)","v":"가계대출"},"Household Loan","KRW","PRS",0,0,"1",0,{"$f":"VLOOKUP(K329,[1]EXRATE!C$3:F$43,4,0)","v":1},0,"N",166,"",0,0,"","","","","","R","HLS","020","T",20230926,160849,0.25,0,"PFS               AI80184   9998"]
["KR","HSBC",2,51365,413,null,"","PLL",{"$f":"VLOOKUP(H330,[2]SSIFSEP!$H$2:$I$7593,2,0)","v":"가계대출"},"Household Loan","KRW","PRS",0,0,"1",0,{"$f":"VLOOKUP(K330,[1]EXRATE!C$3:F$43,4,0)","v":1},0,"N",90,"",0,0,"","","","","","R","HLS","141","J",20230926,160849,0.25,0,"PFS               AI80160   9998"]
["KR","HSBC",2,51456,208,null,"","AL4",{"$f":"VLOOKUP(H331,[2]SSIFSEP!$H$2:$I$7593,2,0)","v":"가계대출"},"Household Loan","KRW","PRS",0,0,"1",0,{"$f":"VLOOKUP(K331,[1]EXRATE!C$3:F$43,4,0)","v":1},0,"N",149,"",0,0,"","","","","","R","HLS","020","H",20230926,160849,0,0,"PFS               AI80184   9998"]
["KR","HSBC",2,54096,276,null,"","FLN","KRW Corporate Loan","COP KRW Corporate Loan","KRW","MFS",4.2,0,"1",0,{"$f":"VLOOKUP(K332,[1]EXRATE!C$3:F$43,4,0)","v":1},0,"",165,"",0,0,"","","","","","W","HLS","","",20230926,160849,0.22,53.494999999999997,"CIBM              AI80184"]
["KR","HSBC",2,54096,276,null,"","UCD",{"$f":"VLOOKUP(H333,[2]SSIFSEP!$H$2:$I$7593,2,0)","v":"미사용약정"},"Unused Credit Line","KRW","MFS",4.2,0,"1",0,{"$f":"VLOOKUP(K333,[1]EXRATE!C$3:F$43,4,0)","v":1},0,"",297,"",0,0,"","","","","","W","HLS","","",20230926,160849,0.22,53.494999999999997,"CIBM              MG30100"]
["KR","HSBC",2,54989,649,null,"","ILO",{"$f":"VLOOKUP(H334,[2]SSIFSEP!$H$2:$I$7593,2,0)","v":"가계대출"},"Household Loan","KRW","PRS",0,0,"1",0,{"$f":"VLOOKUP(K334,[1]EXRATE!C$3:F$43,4,0)","v":1},0,"N",173,"",0,0,"","","","","","R","HLS","020","T",20230926,160849,0.25,0,"PFS               AI80184   9998"]
["KR","HSBC",2,55051,649,null,"","ILO",{"$f":"VLOOKUP(H335,[2]SSIFSEP!$H$2:$I$7593,2,0)","v":"가계대출"},"Household Loan","KRW","PRS",0,0,"1",0,{"$f":"VLOOKUP(K335,[1]EXRATE!C$3:F$43,4,0)","v":1},0,"N",173,"",0,0,"","","","","","R","HLS","020","T",20230926,160849,0.25,0,"PFS               AI80184   9998"]
["KR","HSBC",2,55630,409,null,"","IIL",{"$f":"VLOOKUP(H336,[2]SSIFSEP!$H$2:$I$7593,2,0)","v":"가계대출"},"Household Loan","KRW","PRS",0,0,"1",0,{"$f":"VLOOKUP(K336,[1]EXRATE!C$3:F$43,4,0)","v":1},0,"N",166,"",0,0,"","","","","","R","HLS","020","T",20230926,160849,0.25,0,"PFS               AI80184   9998"]
["KR","HSBC",2,56000,809,null,"","AL3",{"$f":"VLOOKUP(H337,[2]SSIFSEP!$H$2:$I$7593,2,0)","v":"가계대출"},"Household Loan","KRW","PRS",0,0,"1",0,{"$f":"VLOOKUP(K337,[1]EXRATE!C$3:F$43,4,0)","v":1},0,"N",148,"",0,0,"","","","","","R","HLS","020","I",20230926,160849,0,0,"PFS               AI80184   9998"]
["KR","HSBC",2,56075,649,null,"","ILO",{"$f":"VLOOKUP(H338,[2]SSIFSEP!$H$2:$I$7593,2,0)","v":"가계대출"},"Household Loan","KRW","PRS",0,0,"1",0,{"$f":"VLOOKUP(K338,[1]EXRATE!C$3:F$43,4,0)","v":1},0,"N",173,"",0,0,"","","","","","R","HLS","020","T",20230926,160849,0.25,0,"PFS               AI80184   9998"]
["KR","HSBC",2,57602,208,null,"","AL4",{"$f":"VLOOKUP(H339,[2]SSIFSEP!$H$2:$I$7593,2,0)","v":"가계대출"},"Household Loan","KRW","PRS",0,0,"1",0,{"$f":"VLOOKUP(K339,[1]EXRATE!C$3:F$43,4,0)","v":1},0,"N",149,"",0,0,"","","","","","R","HLS","020","H",20230926,160849,0,0,"PFS               AI80184   9998"]
["KR","HSBC",2,60085,226,null,"","UCD",{"$f":"VLOOKUP(H340,[2]SSIFSEP!$H$2:$I$7593,2,0)","v":"미사용약정"},"Unused Credit Line","USD","BE1",1.1000000000000001,0,"1",0,{"$f":"VLOOKUP(K340,[1]EXRATE!C$3:F$43,4,0)","v":1344.8},{"$f":"+P340*Q340/100","v":0},"",313,"",0,0,"","","","","","W","HLS","120","G",20230926,160849,0.04,17.585000000000001,"CIBM              MG30120"]
["KR","HSBC",2,60283,226,null,"","UCD",{"$f":"VLOOKUP(H341,[2]SSIFSEP!$H$2:$I$7593,2,0)","v":"미사용약정"},"Unused Credit Line","USD","BE1",1.1000000000000001,0,"1",0,{"$f":"VLOOKUP(K341,[1]EXRATE!C$3:F$43,4,0)","v":1344.8},{"$f":"+P341*Q341/100","v":0},"",313,"",0,0,"","","","","","W","HLS","120","G",20230926,160849,0.04,17.585000000000001,"CIBM              MG30120"]
["KR","HSBC",2,61323,649,null,"","ILO",{"$f":"VLOOKUP(H342,[2]SSIFSEP!$H$2:$I$7593,2,0)","v":"가계대출"},"Household Loan","KRW","PRS",0,0,"1",0,{"$f":"VLOOKUP(K342,[1]EXRATE!C$3:F$43,4,0)","v":1},{"$f":"+P342*Q342","v":0},"N",173,"",0,0,"","","","","","R","HLS","020","T",20230926,160849,0.25,0,"PFS               AI80184   9998"]
["KR","HSBC",2,61364,409,null,"","IIL",{"$f":"VLOOKUP(H343,[2]SSIFSEP!$H$2:$I$7593,2,0)","v":"가계대출"},"Household Loan","KRW","PRS",0,0,"1",0,{"$f":"VLOOKUP(K343,[1]EXRATE!C$3:F$43,4,0)","v":1},0,"N",166,"",0,0,"","","","","","R","HLS","990","T",20230926,160849,0.25,0,"PFS               AI80184   9998"]
["KR","HSBC",2,63147,409,null,"","IIL",{"$f":"VLOOKUP(H344,[2]SSIFSEP!$H$2:$I$7593,2,0)","v":"가계대출"},"Household Loan","KRW","PRS",0,0,"1",0,{"$f":"VLOOKUP(K344,[1]EXRATE!C$3:F$43,4,0)","v":1},0,"N",166,"",0,0,"","","","","","R","HLS","020","T",20230926,160849,0.25,0,"PFS               AI80184   9998"]
["KR","HSBC",2,63808,900,null,"","IIL",{"$f":"VLOOKUP(H345,[2]SSIFSEP!$H$2:$I$7593,2,0)","v":"가계대출"},"Household Loan","KRW","PRS",0,0,"1",0,{"$f":"VLOOKUP(K345,[1]EXRATE!C$3:F$43,4,0)","v":1},0,"N",166,"",0,0,"","","","","","R","HLS","020","T",20230926,160849,0.25,0,"PFS               AI80184   9998"]
["KR","HSBC",2,69037,649,null,"","ILO",{"$f":"VLOOKUP(H346,[2]SSIFSEP!$H$2:$I$7593,2,0)","v":"가계대출"},"Household Loan","KRW","PRS",0,0,"1",0,{"$f":"VLOOKUP(K346,[1]EXRATE!C$3:F$43,4,0)","v":1},0,"N",173,"",0,0,"","","","","","R","HLS","020","T",20230926,160849,0.25,0,"PFS               AI80184   9998"]
["KR","HSBC",2,72114,208,null,"","AL4",{"$f":"VLOOKUP(H347,[2]SSIFSEP!$H$2:$I$7593,2,0)","v":"가계대출"},"Household Loan","KRW","PRS",0,0,"1",0,{"$f":"VLOOKUP(K347,[1]EXRATE!C$3:F$43,4,0)","v":1},0,"N",149,"",0,0,"","","","","","R","HLS","020","T",20230926,160849,0.25,0,"PFS               AI80184   9998"]
["KR","HSBC",2,72403,409,null,"","IIL",{"$f":"VLOOKUP(H348,[2]SSIFSEP!$H$2:$I$7593,2,0)","v":"가계대출"},"Household Loan","KRW","PRS",0,0,"1",0,{"$f":"VLOOKUP(K348,[1]EXRATE!C$3:F$43,4,0)","v":1},0,"N",166,"",0,0,"","","","","","R","HLS","020","C",20230926,160849,0,0,"PFS               AI80184   9998"]
["KR","HSBC",2,73302,649,null,"","ILO",{"$f":"VLOOKUP(H349,[2]SSIFSEP!$H$2:$I$7593,2,0)","v":"가계대출"},"Household Loan","KRW","PRS",0,0,"1",0,{"$f":"VLOOKUP(K349,[1]EXRATE!C$3:F$43,4,0)","v":1},0,"N",173,"",0,0,"","","","","","R","HLS","020","T",20230926,160849,0.25,0,"PFS               AI80184   9998"]
["KR","HSBC",2,75729,208,null,"","AL4",{"$f":"VLOOKUP(H350,[2]SSIFSEP!$H$2:$I$7593,2,0)","v":"가계대출"},"Household Loan","KRW","PRS",0,0,"1",0,{"$f":"VLOOKUP(K350,[1]EXRATE!C$3:F$43,4,0)","v":1},0,"N",149,"",0,0,"","","","","","R","HLS","020","F",20230926,160849,0,0,"PFS               AI80184   9998"]
["KR","HSBC",2,77337,409,null,"","IIL",{"$f":"VLOOKUP(H351,[2]SSIFSEP!$H$2:$I$7593,2,0)","v":"가계대출"},"Household Loan","KRW","PRS",0,0,"1",0,{"$f":"VLOOKUP(K351,[1]EXRATE!C$3:F$43,4,0)","v":1},0,"N",166,"",0,0,"","","","","","R","HLS","020","T",20230926,160849,0.25,0,"PFS               AI80184   9998"]
["KR","HSBC",2,79358,649,null,"","ILO",{"$f":"VLOOKUP(H352,[2]SSIFSEP!$H$2:$I$7593,2,0)","v":"가계대출"},"Household Loan","KRW","PRS",0,0,"1",0,{"$f":"VLOOKUP(K352,[1]EXRATE!C$3:F$43,4,0)","v":1},0,"N",173,"",0,0,"","","","","","R","HLS","020","T",20230926,160849,0.25,0,"PFS               AI80184   9998"]
["KR","HSBC",2,80539,900,null,"","RML",{"$f":"VLOOKUP(H353,[2]SSIFSEP!$H$2:$I$7593,2,0)","v":"가계대출"},"Household Loan","KRW","PRS",0,0,"1",0,{"$f":"VLOOKUP(K353,[1]EXRATE!C$3:F$43,4,0)","v":1},0,"N",91,"",0,0,"","","","","","R","HLS","140","T",20230926,160849,0.25,0,"PFS               AI80160   9998"]
["KR","HSBC",2,81230,649,null,"","ILO",{"$f":"VLOOKUP(H354,[2]SSIFSEP!$H$2:$I$7593,2,0)","v":"가계대출"},"Household Loan","KRW","PRS",0,0,"1",0,{"$f":"VLOOKUP(K354,[1]EXRATE!C$3:F$43,4,0)","v":1},0,"N",173,"",0,0,"","","","","","R","HLS","020","T",20230926,160849,0.25,0,"PFS               AI80184   9998"]
["KR","HSBC",2,81487,208,null,"","AL4",{"$f":"VLOOKUP(H355,[2]SSIFSEP!$H$2:$I$7593,2,0)","v":"가계대출"},"Household Loan","KRW","PRS",0,0,"1",0,{"$f":"VLOOKUP(K355,[1]EXRATE!C$3:F$43,4,0)","v":1},0,"N",149,"",0,0,"","","","","","R","HLS","020","J",20230926,160849,0,0,"PFS               AI80184   9998"]
["KR","HSBC",2,82600,226,null,"","UCD",{"$f":"VLOOKUP(H356,[2]SSIFSEP!$H$2:$I$7593,2,0)","v":"미사용약정"},"Unused Credit Line","USD","BE1",1.1000000000000001,0,"1",0,{"$f":"VLOOKUP(K356,[1]EXRATE!C$3:F$43,4,0)","v":1344.8},{"$f":"+P356*Q356/100","v":0},"",313,"",0,0,"","","","","","W","HLS","120","E",20230926,160849,0.04,17.585000000000001,"CIBM              MG30120"]
["KR","HSBC",2,82675,649,null,"","ILO",{"$f":"VLOOKUP(H357,[2]SSIFSEP!$H$2:$I$7593,2,0)","v":"가계대출"},"Household Loan","KRW","PRS",0,0,"1",0,{"$f":"VLOOKUP(K357,[1]EXRATE!C$3:F$43,4,0)","v":1},{"$f":"+P357*Q357","v":0},"N",173,"",0,0,"","","","","","R","HLS","020","T",20230926,160849,0.25,0,"PFS               AI80184   9998"]
["KR","HSBC",2,82832,649,null,"","ILO",{"$f":"VLOOKUP(H358,[2]SSIFSEP!$H$2:$I$7593,2,0)","v":"가계대출"},"Household Loan","KRW","PRS",0,0,"1",0,{"$f":"VLOOKUP(K358,[1]EXRATE!C$3:F$43,4,0)","v":1},0,"N",173,"",0,0,"","","","","","R","HLS","020","T",20230926,160849,0.25,0,"PFS               AI80184   9998"]
["KR","HSBC",2,82980,649,null,"","ILO",{"$f":"VLOOKUP(H359,[2]SSIFSEP!$H$2:$I$7593,2,0)","v":"가계대출"},"Household Loan","KRW","PRS",0,0,"1",0,{"$f":"VLOOKUP(K359,[1]EXRATE!C$3:F$43,4,0)","v":1},0,"N",173,"",0,0,"","","","","","R","HLS","020","T",20230926,160849,0.25,0,"PFS               AI80184   9998"]
["KR","HSBC",2,84275,208,null,"","AL4",{"$f":"VLOOKUP(H360,[2]SSIFSEP!$H$2:$I$7593,2,0)","v":"가계대출"},"Household Loan","KRW","PRS",0,0,"1",0,{"$f":"VLOOKUP(K360,[1]EXRATE!C$3:F$43,4,0)","v":1},0,"N",149,"",0,0,"","","","","","R","HLS","020","T",20230926,160849,0.25,0,"PFS               AI80184   9998"]
["KR","HSBC",2,88045,649,null,"","ILO",{"$f":"VLOOKUP(H361,[2]SSIFSEP!$H$2:$I$7593,2,0)","v":"가계대출"},"Household Loan","KRW","PRS",0,0,"1",0,{"$f":"VLOOKUP(K361,[1]EXRATE!C$3:F$43,4,0)","v":1},0,"N",173,"",0,0,"","","","","","R","HLS","020","T",20230926,160849,0.25,0,"PFS               AI80184   9998"]
["KR","HSBC",2,88979,649,null,"","ILO",{"$f":"VLOOKUP(H362,[2]SSIFSEP!$H$2:$I$7593,2,0)","v":"가계대출"},"Household Loan","KRW","PRS",0,0,"1",0,{"$f":"VLOOKUP(K362,[1]EXRATE!C$3:F$43,4,0)","v":1},0,"N",173,"",0,0,"","","","","","R","HLS","020","T",20230926,160849,0.25,0,"PFS               AI80184   9998"]
["KR","HSBC",2,89340,649,null,"","ILO",{"$f":"VLOOKUP(H363,[2]SSIFSEP!$H$2:$I$7593,2,0)","v":"가계대출"},"Household Loan","KRW","PRS",0,0,"1",0,{"$f":"VLOOKUP(K363,[1]EXRATE!C$3:F$43,4,0)","v":1},0,"N",173,"",0,0,"","","","","","R","HLS","020","T",20230926,160849,0.25,0,"PFS               AI80184   9998"]
["KR","HSBC",2,90173,409,null,"","IIL",{"$f":"VLOOKUP(H364,[2]SSIFSEP!$H$2:$I$7593,2,0)","v":"가계대출"},"Household Loan","KRW","PRS",0,0,"1",0,{"$f":"VLOOKUP(K364,[1]EXRATE!C$3:F$43,4,0)","v":1},0,"N",166,"",0,0,"","","","","","R","HLS","020","T",20230926,160849,0.25,0,"PFS               AI80184   9998"]
["KR","HSBC",2,91791,809,null,"","AL3",{"$f":"VLOOKUP(H365,[2]SSIFSEP!$H$2:$I$7593,2,0)","v":"가계대출"},"Household Loan","KRW","PRS",0,0,"1",0,{"$f":"VLOOKUP(K365,[1]EXRATE!C$3:F$43,4,0)","v":1},0,"N",148,"",0,0,"","","","","","R","HLS","020","T",20230926,160849,0.25,0,"PFS               AI80184   9998"]
["KR","HSBC",2,92229,413,null,"","PLL",{"$f":"VLOOKUP(H366,[2]SSIFSEP!$H$2:$I$7593,2,0)","v":"가계대출"},"Household Loan","KRW","PRS",0,0,"1",0,{"$f":"VLOOKUP(K366,[1]EXRATE!C$3:F$43,4,0)","v":1},0,"N",90,"",0,0,"","","","","","R","HLS","140","T",20230926,160849,0.25,0,"PFS               AI80160   9998"]
["KR","HSBC",2,93250,649,null,"","ILO",{"$f":"VLOOKUP(H367,[2]SSIFSEP!$H$2:$I$7593,2,0)","v":"가계대출"},"Household Loan","KRW","PRS",0,0,"1",0,{"$f":"VLOOKUP(K367,[1]EXRATE!C$3:F$43,4,0)","v":1},0,"N",173,"",0,0,"","","","","","R","HLS","020","T",20230926,160849,0.25,0,"PFS               AI80184   9998"]
["KR","HSBC",2,97616,900,null,"","IIL",{"$f":"VLOOKUP(H368,[2]SSIFSEP!$H$2:$I$7593,2,0)","v":"가계대출"},"Household Loan","KRW","PRS",0,0,"1",0,{"$f":"VLOOKUP(K368,[1]EXRATE!C$3:F$43,4,0)","v":1},0,"N",166,"",0,0,"","","","","","R","HLS","020","T",20230926,160849,0.25,0,"PFS               AI80184   9998"]
["KR","HSBC",2,97749,901,null,"","IIL",{"$f":"VLOOKUP(H369,[2]SSIFSEP!$H$2:$I$7593,2,0)","v":"가계대출"},"Household Loan","KRW","PRS",0,0,"1",0,{"$f":"VLOOKUP(K369,[1]EXRATE!C$3:F$43,4,0)","v":1},0,"N",166,"",0,0,"","","","","","R","HLS","020","T",20230926,160849,0.25,0,"PFS               AI80184   9998"]
["KR","HSBC",2,98226,809,null,"","AL3",{"$f":"VLOOKUP(H370,[2]SSIFSEP!$H$2:$I$7593,2,0)","v":"가계대출"},"Household Loan","KRW","PRS",0,0,"1",0,{"$f":"VLOOKUP(K370,[1]EXRATE!C$3:F$43,4,0)","v":1},0,"N",148,"",0,0,"","","","","","R","HLS","020","T",20230926,160849,0.25,0,"PFS               AI80184   9998"]
["KR","HSBC",2,99273,409,null,"","IIL",{"$f":"VLOOKUP(H371,[2]SSIFSEP!$H$2:$I$7593,2,0)","v":"가계대출"},"Household Loan","KRW","PRS",0,0,"1",0,{"$f":"VLOOKUP(K371,[1]EXRATE!C$3:F$43,4,0)","v":1},0,"N",166,"",0,0,"","","","","","R","HLS","020","T",20230926,160849,0.25,0,"PFS               AI80184   9998"]
["KR","HSBC",2,99711,414,null,"","PLL",{"$f":"VLOOKUP(H372,[2]SSIFSEP!$H$2:$I$7593,2,0)","v":"가계대출"},"Household Loan","KRW","PRS",0,0,"1",0,{"$f":"VLOOKUP(K372,[1]EXRATE!C$3:F$43,4,0)","v":1},0,"N",90,"",0,0,"","","","","","R","HLS","140","T",20230926,160849,0.25,0,"PFS               AI80160   9998"]
["KR","HSBC",2,100634,649,null,"","ILO",{"$f":"VLOOKUP(H373,[2]SSIFSEP!$H$2:$I$7593,2,0)","v":"가계대출"},"Household Loan","KRW","PRS",0,0,"1",0,{"$f":"VLOOKUP(K373,[1]EXRATE!C$3:F$43,4,0)","v":1},0,"N",173,"",0,0,"","","","","","R","HLS","020","T",20230926,160849,0.25,0,"PFS               AI80184   9998"]
["KR","HSBC",2,104271,207,null,"","RML",{"$f":"VLOOKUP(H374,[2]SSIFSEP!$H$2:$I$7593,2,0)","v":"가계대출"},"Household Loan","KRW","PRS",0,0,"1",0,{"$f":"VLOOKUP(K374,[1]EXRATE!C$3:F$43,4,0)","v":1},0,"N",91,"",0,0,"","","","","","R","HLS","141","J",20230926,160849,0.25,0,"PFS               AI80160   9998"]
["KR","HSBC",2,104495,208,null,"","AL4",{"$f":"VLOOKUP(H375,[2]SSIFSEP!$H$2:$I$7593,2,0)","v":"가계대출"},"Household Loan","KRW","PRS",0,0,"1",0,{"$f":"VLOOKUP(K375,[1]EXRATE!C$3:F$43,4,0)","v":1},0,"N",149,"",0,0,"","","","","","R","HLS","020","T",20230926,160849,0.25,0,"PFS               AI80184   9998"]
["KR","HSBC",2,105831,409,null,"","IIL",{"$f":"VLOOKUP(H376,[2]SSIFSEP!$H$2:$I$7593,2,0)","v":"가계대출"},"Household Loan","KRW","PRS",0,0,"1",0,{"$f":"VLOOKUP(K376,[1]EXRATE!C$3:F$43,4,0)","v":1},0,"N",166,"",0,0,"","","","","","R","HLS","020","F",20230926,160849,0,0,"PFS               AI80184   9998"]
["KR","HSBC",2,147015,413,null,"","PLL",{"$f":"VLOOKUP(H377,[2]SSIFSEP!$H$2:$I$7593,2,0)","v":"가계대출"},"Household Loan","KRW","PRS",0,0,"1",0,{"$f":"VLOOKUP(K377,[1]EXRATE!C$3:F$43,4,0)","v":1},0,"N",90,"",0,0,"","","","","","R","HLS","140","J",20230926,160849,0.25,0,"PFS               AI80160   9998"]
["KR","HSBC",2,148286,714,null,"","ILS",{"$f":"VLOOKUP(H378,[2]SSIFSEP!$H$2:$I$7593,2,0)","v":"가계대출"},"Household Loan","KRW","PRS",0,0,"1",0,{"$f":"VLOOKUP(K378,[1]EXRATE!C$3:F$43,4,0)","v":1},0,"N",174,"",0,0,"","","","","","R","HLS","020","T",20230926,160849,0.25,0,"PFS               AI80184   9998"]
["KR","HSBC",2,149078,882,null,"","HM1",{"$f":"VLOOKUP(H379,[2]SSIFSEP!$H$2:$I$7593,2,0)","v":"가계대출"},"Household Loan","KRW","PRS",0,0,"1",0,{"$f":"VLOOKUP(K379,[1]EXRATE!C$3:F$43,4,0)","v":1},0,"N",87,"",0,0,"","","","","","R","HLS","141","J",20230926,160849,0.25,0,"PFS               AI80160   9998"]
["KR","HSBC",2,154334,900,null,"","IIL",{"$f":"VLOOKUP(H380,[2]SSIFSEP!$H$2:$I$7593,2,0)","v":"가계대출"},"Household Loan","KRW","PRS",0,0,"1",0,{"$f":"VLOOKUP(K380,[1]EXRATE!C$3:F$43,4,0)","v":1},0,"N",166,"",0,0,"","","","","","R","HLS","020","T",20230926,160849,0.25,0,"PFS               AI80184   9998"]
["KR","HSBC",2,159242,208,null,"","AL4",{"$f":"VLOOKUP(H381,[2]SSIFSEP!$H$2:$I$7593,2,0)","v":"가계대출"},"Household Loan","KRW","PRS",0,0,"1",0,{"$f":"VLOOKUP(K381,[1]EXRATE!C$3:F$43,4,0)","v":1},0,"N",149,"",0,0,"","","","","","R","HLS","020","H",20230926,160849,0,0,"PFS               AI80184   9998"]
["KR","HSBC",2,162105,413,null,"","PLL",{"$f":"VLOOKUP(H382,[2]SSIFSEP!$H$2:$I$7593,2,0)","v":"가계대출"},"Household Loan","KRW","PRS",0,0,"1",0,{"$f":"VLOOKUP(K382,[1]EXRATE!C$3:F$43,4,0)","v":1},0,"N",90,"",0,0,"","","","","","R","HLS","141","H",20230926,160849,0.25,0,"PFS               AI80160   9998"]
["KR","HSBC",2,164507,207,null,"","RML",{"$f":"VLOOKUP(H383,[2]SSIFSEP!$H$2:$I$7593,2,0)","v":"가계대출"},"Household Loan","KRW","PRS",0,0,"1",0,{"$f":"VLOOKUP(K383,[1]EXRATE!C$3:F$43,4,0)","v":1},0,"N",91,"",0,0,"","","","","","R","HLS","140","J",20230926,160849,0.25,0,"PFS               AI80160   9998"]
["KR","HSBC",2,164796,409,null,"","IIL",{"$f":"VLOOKUP(H384,[2]SSIFSEP!$H$2:$I$7593,2,0)","v":"가계대출"},"Household Loan","KRW","PRS",0,0,"1",0,{"$f":"VLOOKUP(K384,[1]EXRATE!C$3:F$43,4,0)","v":1},0,"N",166,"",0,0,"","","","","","R","HLS","020","T",20230926,160849,0.25,0,"PFS               AI80184   9998"]
["KR","HSBC",2,165199,901,null,"","IIL",{"$f":"VLOOKUP(H385,[2]SSIFSEP!$H$2:$I$7593,2,0)","v":"가계대출"},"Household Loan","KRW","PRS",0,0,"1",0,{"$f":"VLOOKUP(K385,[1]EXRATE!C$3:F$43,4,0)","v":1},0,"N",166,"",0,0,"","","","","","R","HLS","020","T",20230926,160849,0.25,0,"PFS               AI80184   9998"]
["KR","HSBC",2,165413,409,null,"","IIL",{"$f":"VLOOKUP(H386,[2]SSIFSEP!$H$2:$I$7593,2,0)","v":"가계대출"},"Household Loan","KRW","PRS",0,0,"1",0,{"$f":"VLOOKUP(K386,[1]EXRATE!C$3:F$43,4,0)","v":1},0,"N",166,"",0,0,"","","","","","R","HLS","020","T",20230926,160849,0.25,0,"PFS               AI80184   9998"]
["KR","HSBC",2,166684,208,null,"","AL4",{"$f":"VLOOKUP(H387,[2]SSIFSEP!$H$2:$I$7593,2,0)","v":"가계대출"},"Household Loan","KRW","PRS",0,0,"1",0,{"$f":"VLOOKUP(K387,[1]EXRATE!C$3:F$43,4,0)","v":1},0,"N",149,"",0,0,"","","","","","R","HLS","020","T",20230926,160849,0.25,0,"PFS               AI80184   9998"]
["KR","HSBC",2,166734,409,null,"","IIL",{"$f":"VLOOKUP(H388,[2]SSIFSEP!$H$2:$I$7593,2,0)","v":"가계대출"},"Household Loan","KRW","PRS",0,0,"1",0,{"$f":"VLOOKUP(K388,[1]EXRATE!C$3:F$43,4,0)","v":1},0,"N",166,"",0,0,"","","","","","R","HLS","020","T",20230926,160849,0.25,0,"PFS               AI80184   9998"]
["KR","HSBC",2,167484,207,null,"","RML",{"$f":"VLOOKUP(H389,[2]SSIFSEP!$H$2:$I$7593,2,0)","v":"가계대출"},"Household Loan","KRW","PRS",0,0,"1",0,{"$f":"VLOOKUP(K389,[1]EXRATE!C$3:F$43,4,0)","v":1},0,"N",91,"",0,0,"","","","","","R","HLS","140","J",20230926,160849,0.25,0,"PFS               AI80160   9998"]
["KR","HSBC",2,168359,207,null,"","RML",{"$f":"VLOOKUP(H390,[2]SSIFSEP!$H$2:$I$7593,2,0)","v":"가계대출"},"Household Loan","KRW","PRS",0,0,"1",0,{"$f":"VLOOKUP(K390,[1]EXRATE!C$3:F$43,4,0)","v":1},0,"N",91,"",0,0,"","","","","","R","HLS","141","J",20230926,160849,0.25,0,"PFS               AI80160   9998"]
["KR","HSBC",2,174845,409,null,"","IIL",{"$f":"VLOOKUP(H391,[2]SSIFSEP!$H$2:$I$7593,2,0)","v":"가계대출"},"Household Loan","KRW","PRS",0,0,"1",0,{"$f":"VLOOKUP(K391,[1]EXRATE!C$3:F$43,4,0)","v":1},0,"N",166,"",0,0,"","","","","","R","HLS","020","T",20230926,160849,0.25,0,"PFS               AI80184   9998"]
["KR","HSBC",2,175784,413,null,"","PLL",{"$f":"VLOOKUP(H392,[2]SSIFSEP!$H$2:$I$7593,2,0)","v":"가계대출"},"Household Loan","KRW","PRS",0,0,"1",0,{"$f":"VLOOKUP(K392,[1]EXRATE!C$3:F$43,4,0)","v":1},0,"N",90,"",0,0,"","","","","","R","HLS","140","J",20230926,160849,0.25,0,"PFS               AI80160   9998"]
["KR","HSBC",2,183341,409,null,"","IIL",{"$f":"VLOOKUP(H393,[2]SSIFSEP!$H$2:$I$7593,2,0)","v":"가계대출"},"Household Loan","KRW","PRS",0,0,"1",0,{"$f":"VLOOKUP(K393,[1]EXRATE!C$3:F$43,4,0)","v":1},0,"N",166,"",0,0,"","","","","","R","HLS","020","T",20230926,160849,0.25,0,"PFS               AI80184   9998"]
["KR","HSBC",2,183838,409,null,"","IIL",{"$f":"VLOOKUP(H394,[2]SSIFSEP!$H$2:$I$7593,2,0)","v":"가계대출"},"Household Loan","KRW","PRS",0,0,"1",0,{"$f":"VLOOKUP(K394,[1]EXRATE!C$3:F$43,4,0)","v":1},0,"N",166,"",0,0,"","","","","","R","HLS","020","T",20230926,160849,0.25,0,"PFS               AI80184   9998"]
["KR","HSBC",2,186948,649,null,"","ILO",{"$f":"VLOOKUP(H395,[2]SSIFSEP!$H$2:$I$7593,2,0)","v":"가계대출"},"Household Loan","KRW","PRS",0,0,"1",0,{"$f":"VLOOKUP(K395,[1]EXRATE!C$3:F$43,4,0)","v":1},0,"N",173,"",0,0,"","","","","","R","HLS","020","T",20230926,160849,0.25,0,"PFS               AI80184   9998"]
["KR","HSBC",2,187037,413,null,"","PLL",{"$f":"VLOOKUP(H396,[2]SSIFSEP!$H$2:$I$7593,2,0)","v":"가계대출"},"Household Loan","KRW","PRS",0,0,"1",0,{"$f":"VLOOKUP(K396,[1]EXRATE!C$3:F$43,4,0)","v":1},0,"N",90,"",0,0,"","","","","","R","HLS","141","T",20230926,160849,0.25,0,"PFS               AI80160   9998"]
["KR","HSBC",2,188365,413,null,"","PLL",{"$f":"VLOOKUP(H397,[2]SSIFSEP!$H$2:$I$7593,2,0)","v":"가계대출"},"Household Loan","KRW","PRS",0,0,"1",0,{"$f":"VLOOKUP(K397,[1]EXRATE!C$3:F$43,4,0)","v":1},0,"N",90,"",0,0,"","","","","","R","HLS","140","J",20230926,160849,0.25,0,"PFS               AI80160   9998"]
["KR","HSBC",2,189397,649,null,"","ILO",{"$f":"VLOOKUP(H398,[2]SSIFSEP!$H$2:$I$7593,2,0)","v":"가계대출"},"Household Loan","KRW","PRS",0,0,"1",0,{"$f":"VLOOKUP(K398,[1]EXRATE!C$3:F$43,4,0)","v":1},0,"N",173,"",0,0,"","","","","","R","HLS","020","T",20230926,160849,0.25,0,"PFS               AI80184   9998"]
["KR","HSBC",2,191765,649,null,"","ILO",{"$f":"VLOOKUP(H399,[2]SSIFSEP!$H$2:$I$7593,2,0)","v":"가계대출"},"Household Loan","KRW","PRS",0,0,"1",0,{"$f":"VLOOKUP(K399,[1]EXRATE!C$3:F$43,4,0)","v":1},0,"N",173,"",0,0,"","","","","","R","HLS","020","T",20230926,160849,0.25,0,"PFS               AI80184   9998"]
["KR","HSBC",2,193035,649,null,"","ILO",{"$f":"VLOOKUP(H400,[2]SSIFSEP!$H$2:$I$7593,2,0)","v":"가계대출"},"Household Loan","KRW","PRS",0,0,"1",0,{"$f":"VLOOKUP(K400,[1]EXRATE!C$3:F$43,4,0)","v":1},0,"N",173,"",0,0,"","","","","","R","HLS","020","T",20230926,160849,0.25,0,"PFS               AI80184   9998"]
["KR","HSBC",2,196707,649,null,"","ILO",{"$f":"VLOOKUP(H401,[2]SSIFSEP!$H$2:$I$7593,2,0)","v":"가계대출"},"Household Loan","KRW","PRS",0,0,"1",0,{"$f":"VLOOKUP(K401,[1]EXRATE!C$3:F$43,4,0)","v":1},0,"N",173,"",0,0,"","","","","","R","HLS","020","T",20230926,160849,0.25,0,"PFS               AI80184   9998"]
["KR","HSBC",2,197184,649,null,"","ILO",{"$f":"VLOOKUP(H402,[2]SSIFSEP!$H$2:$I$7593,2,0)","v":"가계대출"},"Household Loan","KRW","PRS",0,0,"1",0,{"$f":"VLOOKUP(K402,[1]EXRATE!C$3:F$43,4,0)","v":1},0,"N",173,"",0,0,"","","","","","R","HLS","020","T",20230926,160849,0.25,0,"PFS               AI80184   9998"]
["KR","HSBC",2,197606,649,null,"","ILO",{"$f":"VLOOKUP(H403,[2]SSIFSEP!$H$2:$I$7593,2,0)","v":"가계대출"},"Household Loan","KRW","PRS",0,0,"1",0,{"$f":"VLOOKUP(K403,[1]EXRATE!C$3:F$43,4,0)","v":1},0,"N",173,"",0,0,"","","","","","R","HLS","020","T",20230926,160849,0.25,0,"PFS               AI80184   9998"]
["KR","HSBC",2,200541,882,null,"","HM1",{"$f":"VLOOKUP(H404,[2]SSIFSEP!$H$2:$I$7593,2,0)","v":"가계대출"},"Household Loan","KRW","PRS",0,0,"1",0,{"$f":"VLOOKUP(K404,[1]EXRATE!C$3:F$43,4,0)","v":1},0,"N",87,"",0,0,"","","","","","R","HLS","141","J",20230926,160849,0.25,0,"PFS               AI80160   9998"]
["KR","HSBC",2,201333,409,null,"","IIL",{"$f":"VLOOKUP(H405,[2]SSIFSEP!$H$2:$I$7593,2,0)","v":"가계대출"},"Household Loan","KRW","PRS",0,0,"1",0,{"$f":"VLOOKUP(K405,[1]EXRATE!C$3:F$43,4,0)","v":1},0,"N",166,"",0,0,"","","","","","R","HLS","020","C",20230926,160849,0,0,"PFS               AI80184   9998"]
["KR","HSBC",2,202232,714,null,"","ILS",{"$f":"VLOOKUP(H406,[2]SSIFSEP!$H$2:$I$7593,2,0)","v":"가계대출"},"Household Loan","KRW","PRS",0,0,"1",0,{"$f":"VLOOKUP(K406,[1]EXRATE!C$3:F$43,4,0)","v":1},0,"N",174,"",0,0,"","","","","","R","HLS","020","T",20230926,160849,0.25,0,"PFS               AI80184   9998"]
["KR","HSBC",2,203784,900,null,"","IIL",{"$f":"VLOOKUP(H407,[2]SSIFSEP!$H$2:$I$7593,2,0)","v":"가계대출"},"Household Loan","KRW","PRS",0,0,"1",0,{"$f":"VLOOKUP(K407,[1]EXRATE!C$3:F$43,4,0)","v":1},0,"N",166,"",0,0,"","","","","","R","HLS","020","T",20230926,160849,0.25,0,"PFS               AI80184   9998"]
["KR","HSBC",2,207397,649,null,"","ILO",{"$f":"VLOOKUP(H408,[2]SSIFSEP!$H$2:$I$7593,2,0)","v":"가계대출"},"Household Loan","KRW","PRS",0,0,"1",0,{"$f":"VLOOKUP(K408,[1]EXRATE!C$3:F$43,4,0)","v":1},0,"N",173,"",0,0,"","","","","","R","HLS","020","T",20230926,160849,0.25,0,"PFS               AI80184   9998"]
["KR","HSBC",2,211647,649,null,"","ILO",{"$f":"VLOOKUP(H409,[2]SSIFSEP!$H$2:$I$7593,2,0)","v":"가계대출"},"Household Loan","KRW","PRS",0,0,"1",0,{"$f":"VLOOKUP(K409,[1]EXRATE!C$3:F$43,4,0)","v":1},0,"N",173,"",0,0,"","","","","","R","HLS","020","T",20230926,160849,0.25,0,"PFS               AI80184   9998"]
["KR","HSBC",2,211738,649,null,"","ILO",{"$f":"VLOOKUP(H410,[2]SSIFSEP!$H$2:$I$7593,2,0)","v":"가계대출"},"Household Loan","KRW","PRS",0,0,"1",0,{"$f":"VLOOKUP(K410,[1]EXRATE!C$3:F$43,4,0)","v":1},0,"N",173,"",0,0,"","","","","","R","HLS","020","T",20230926,160849,0.25,0,"PFS               AI80184   9998"]
["KR","HSBC",2,216653,649,null,"","ILO",{"$f":"VLOOKUP(H411,[2]SSIFSEP!$H$2:$I$7593,2,0)","v":"가계대출"},"Household Loan","KRW","PRS",0,0,"1",0,{"$f":"VLOOKUP(K411,[1]EXRATE!C$3:F$43,4,0)","v":1},0,"N",173,"",0,0,"","","","","","R","HLS","020","T",20230926,160849,0.25,0,"PFS               AI80184   9998"]
["KR","HSBC",2,219491,207,null,"","RML",{"$f":"VLOOKUP(H412,[2]SSIFSEP!$H$2:$I$7593,2,0)","v":"가계대출"},"Household Loan","KRW","PRS",0,0,"1",0,{"$f":"VLOOKUP(K412,[1]EXRATE!C$3:F$43,4,0)","v":1},0,"N",91,"",0,0,"","","","","","R","HLS","140","J",20230926,160849,0.25,0,"PFS               AI80160   9998"]
["KR","HSBC",2,221737,649,null,"","ILO",{"$f":"VLOOKUP(H413,[2]SSIFSEP!$H$2:$I$7593,2,0)","v":"가계대출"},"Household Loan","KRW","PRS",0,0,"1",0,{"$f":"VLOOKUP(K413,[1]EXRATE!C$3:F$43,4,0)","v":1},0,"N",173,"",0,0,"","","","","","R","HLS","020","T",20230926,160849,0.25,0,"PFS               AI80184   9998"]
["KR","HSBC",2,222701,649,null,"","ILO",{"$f":"VLOOKUP(H414,[2]SSIFSEP!$H$2:$I$7593,2,0)","v":"가계대출"},"Household Loan","KRW","PRS",0,0,"1",0,{"$f":"VLOOKUP(K414,[1]EXRATE!C$3:F$43,4,0)","v":1},0,"N",173,"",0,0,"","","","","","R","HLS","020","T",20230926,160849,0.25,0,"PFS               AI80184   9998"]
["KR","HSBC",2,223964,649,null,"","ILO",{"$f":"VLOOKUP(H415,[2]SSIFSEP!$H$2:$I$7593,2,0)","v":"가계대출"},"Household Loan","KRW","PRS",0,0,"1",0,{"$f":"VLOOKUP(K415,[1]EXRATE!C$3:F$43,4,0)","v":1},0,"N",173,"",0,0,"","","","","","R","HLS","020","T",20230926,160849,0.25,0,"PFS               AI80184   9998"]
["KR","HSBC",2,226785,649,null,"","ILO",{"$f":"VLOOKUP(H416,[2]SSIFSEP!$H$2:$I$7593,2,0)","v":"가계대출"},"Household Loan","KRW","PRS",0,0,"1",0,{"$f":"VLOOKUP(K416,[1]EXRATE!C$3:F$43,4,0)","v":1},0,"N",173,"",0,0,"","","","","","R","HLS","020","T",20230926,160849,0.25,0,"PFS               AI80184   9998"]
["KR","HSBC",2,229375,649,null,"","ILO",{"$f":"VLOOKUP(H417,[2]SSIFSEP!$H$2:$I$7593,2,0)","v":"가계대출"},"Household Loan","KRW","PRS",0,0,"1",0,{"$f":"VLOOKUP(K417,[1]EXRATE!C$3:F$43,4,0)","v":1},0,"N",173,"",0,0,"","","","","","R","HLS","020","T",20230926,160849,0.25,0,"PFS               AI80184   9998"]
["KR","HSBC",2,233294,649,null,"","ILO",{"$f":"VLOOKUP(H418,[2]SSIFSEP!$H$2:$I$7593,2,0)","v":"가계대출"},"Household Loan","KRW","PRS",0,0,"1",0,{"$f":"VLOOKUP(K418,[1]EXRATE!C$3:F$43,4,0)","v":1},0,"N",173,"",0,0,"","","","","","R","HLS","020","T",20230926,160849,0.25,0,"PFS               AI80184   9998"]
["KR","HSBC",2,236974,409,null,"","IIL",{"$f":"VLOOKUP(H419,[2]SSIFSEP!$H$2:$I$7593,2,0)","v":"가계대출"},"Household Loan","KRW","PRS",0,0,"1",0,{"$f":"VLOOKUP(K419,[1]EXRATE!C$3:F$43,4,0)","v":1},0,"N",166,"",0,0,"","","","","","R","HLS","020","T",20230926,160849,0.25,0,"PFS               AI80184   9998"]
["KR","HSBC",2,237139,208,null,"","AL4",{"$f":"VLOOKUP(H420,[2]SSIFSEP!$H$2:$I$7593,2,0)","v":"가계대출"},"Household Loan","KRW","PRS",0,0,"1",0,{"$f":"VLOOKUP(K420,[1]EXRATE!C$3:F$43,4,0)","v":1},0,"N",149,"",0,0,"","","","","","R","HLS","020","T",20230926,160849,0.25,0,"PFS               AI80184   9998"]
["KR","HSBC",2,237774,900,null,"","IIL",{"$f":"VLOOKUP(H421,[2]SSIFSEP!$H$2:$I$7593,2,0)","v":"가계대출"},"Household Loan","KRW","PRS",0,0,"1",0,{"$f":"VLOOKUP(K421,[1]EXRATE!C$3:F$43,4,0)","v":1},{"$f":"+P421*Q421","v":0},"N",166,"",0,0,"","","","","","R","HLS","990","T",20230926,160849,0.25,0,"PFS               AI80184   9998"]
["KR","HSBC",2,238780,900,null,"","IIL",{"$f":"VLOOKUP(H422,[2]SSIFSEP!$H$2:$I$7593,2,0)","v":"가계대출"},"Household Loan","KRW","PRS",0,0,"1",0,{"$f":"VLOOKUP(K422,[1]EXRATE!C$3:F$43,4,0)","v":1},0,"N",166,"",0,0,"","","","","","R","HLS","020","T",20230926,160849,0.25,0,"PFS               AI80184   9998"]
["KR","HSBC",2,241289,882,null,"","HM1",{"$f":"VLOOKUP(H423,[2]SSIFSEP!$H$2:$I$7593,2,0)","v":"가계대출"},"Household Loan","KRW","PRS",0,0,"1",0,{"$f":"VLOOKUP(K423,[1]EXRATE!C$3:F$43,4,0)","v":1},0,"N",87,"",0,0,"","","","","","R","HLS","141","J",20230926,160849,0.25,0,"PFS               AI80160   9998"]
["KR","HSBC",2,242113,409,null,"","IIL",{"$f":"VLOOKUP(H424,[2]SSIFSEP!$H$2:$I$7593,2,0)","v":"가계대출"},"Household Loan","KRW","PRS",0,0,"1",0,{"$f":"VLOOKUP(K424,[1]EXRATE!C$3:F$43,4,0)","v":1},0,"N",166,"",0,0,"","","","","","R","HLS","990","T",20230926,160849,0.25,0,"PFS               AI80184   9998"]
["KR","HSBC",2,242113,900,null,"","IIL",{"$f":"VLOOKUP(H425,[2]SSIFSEP!$H$2:$I$7593,2,0)","v":"가계대출"},"Household Loan","KRW","PRS",0,0,"1",0,{"$f":"VLOOKUP(K425,[1]EXRATE!C$3:F$43,4,0)","v":1},0,"N",166,"",0,0,"","","","","","R","HLS","020","T",20230926,160849,0.25,0,"PFS               AI80184   9998"]
["KR","HSBC",2,242535,649,null,"","ILO",{"$f":"VLOOKUP(H426,[2]SSIFSEP!$H$2:$I$7593,2,0)","v":"가계대출"},"Household Loan","KRW","PRS",0,0,"1",0,{"$f":"VLOOKUP(K426,[1]EXRATE!C$3:F$43,4,0)","v":1},0,"N",173,"",0,0,"","","","","","R","HLS","020","T",20230926,160849,0.25,0,"PFS               AI80184   9998"]
["KR","HSBC",2,242675,409,null,"","IIL",{"$f":"VLOOKUP(H427,[2]SSIFSEP!$H$2:$I$7593,2,0)","v":"가계대출"},"Household Loan","KRW","PRS",0,0,"1",0,{"$f":"VLOOKUP(K427,[1]EXRATE!C$3:F$43,4,0)","v":1},0,"N",166,"",0,0,"","","","","","R","HLS","990","T",20230926,160849,0.25,0,"PFS               AI80184   9998"]
["KR","HSBC",2,245058,409,null,"","IIL",{"$f":"VLOOKUP(H428,[2]SSIFSEP!$H$2:$I$7593,2,0)","v":"가계대출"},"Household Loan","KRW","PRS",0,0,"1",0,{"$f":"VLOOKUP(K428,[1]EXRATE!C$3:F$43,4,0)","v":1},0,"N",166,"",0,0,"","","","","","R","HLS","990","T",20230926,160849,0.25,0,"PFS               AI80184   9998"]
["KR","HSBC",2,248227,649,null,"","ILO",{"$f":"VLOOKUP(H429,[2]SSIFSEP!$H$2:$I$7593,2,0)","v":"가계대출"},"Household Loan","KRW","PRS",0,0,"1",0,{"$f":"VLOOKUP(K429,[1]EXRATE!C$3:F$43,4,0)","v":1},0,"N",173,"",0,0,"","","","","","R","HLS","020","T",20230926,160849,0.25,0,"PFS               AI80184   9998"]
["KR","HSBC",2,249662,649,null,"","ILO",{"$f":"VLOOKUP(H430,[2]SSIFSEP!$H$2:$I$7593,2,0)","v":"가계대출"},"Household Loan","KRW","PRS",0,0,"1",0,{"$f":"VLOOKUP(K430,[1]EXRATE!C$3:F$43,4,0)","v":1},0,"N",173,"",0,0,"","","","","","R","HLS","020","T",20230926,160849,0.25,0,"PFS               AI80184   9998"]
["KR","HSBC",2,251411,649,null,"","ILO",{"$f":"VLOOKUP(H431,[2]SSIFSEP!$H$2:$I$7593,2,0)","v":"가계대출"},"Household Loan","KRW","PRS",0,0,"1",0,{"$f":"VLOOKUP(K431,[1]EXRATE!C$3:F$43,4,0)","v":1},0,"N",173,"",0,0,"","","","","","R","HLS","020","T",20230926,160849,0.25,0,"PFS               AI80184   9998"]
["KR","HSBC",2,253250,649,null,"","ILO",{"$f":"VLOOKUP(H432,[2]SSIFSEP!$H$2:$I$7593,2,0)","v":"가계대출"},"Household Loan","KRW","PRS",0,0,"1",0,{"$f":"VLOOKUP(K432,[1]EXRATE!C$3:F$43,4,0)","v":1},0,"N",173,"",0,0,"","","","","","R","HLS","020","T",20230926,160849,0.25,0,"PFS               AI80184   9998"]
["KR","HSBC",2,255347,409,null,"","IIL",{"$f":"VLOOKUP(H433,[2]SSIFSEP!$H$2:$I$7593,2,0)","v":"가계대출"},"Household Loan","KRW","PRS",0,0,"1",0,{"$f":"VLOOKUP(K433,[1]EXRATE!C$3:F$43,4,0)","v":1},0,"N",166,"",0,0,"","","","","","R","HLS","990","T",20230926,160849,0.25,0,"PFS               AI80184   9998"]
["KR","HSBC",2,256162,900,null,"","IIL",{"$f":"VLOOKUP(H434,[2]SSIFSEP!$H$2:$I$7593,2,0)","v":"가계대출"},"Household Loan","KRW","PRS",0,0,"1",0,{"$f":"VLOOKUP(K434,[1]EXRATE!C$3:F$43,4,0)","v":1},0,"N",166,"",0,0,"","","","","","R","HLS","020","F",20230926,160849,0,0,"PFS               AI80184   9998"]
["KR","HSBC",2,256667,413,null,"","PLL",{"$f":"VLOOKUP(H435,[2]SSIFSEP!$H$2:$I$7593,2,0)","v":"가계대출"},"Household Loan","KRW","PRS",0,0,"1",0,{"$f":"VLOOKUP(K435,[1]EXRATE!C$3:F$43,4,0)","v":1},0,"N",90,"",0,0,"","","","","","R","HLS","141","T",20230926,160849,0.25,0,"PFS               AI80160   9998"]
["KR","HSBC",2,257327,649,null,"","ILO",{"$f":"VLOOKUP(H436,[2]SSIFSEP!$H$2:$I$7593,2,0)","v":"가계대출"},"Household Loan","KRW","PRS",0,0,"1",0,{"$f":"VLOOKUP(K436,[1]EXRATE!C$3:F$43,4,0)","v":1},0,"N",173,"",0,0,"","","","","","R","HLS","020","T",20230926,160849,0.25,0,"PFS               AI80184   9998"]
["KR","HSBC",2,259638,649,null,"","ILO",{"$f":"VLOOKUP(H437,[2]SSIFSEP!$H$2:$I$7593,2,0)","v":"가계대출"},"Household Loan","KRW","PRS",0,0,"1",0,{"$f":"VLOOKUP(K437,[1]EXRATE!C$3:F$43,4,0)","v":1},0,"N",173,"",0,0,"","","","","","R","HLS","020","T",20230926,160849,0.25,0,"PFS               AI80184   9998"]
["KR","HSBC",2,262632,208,null,"","AL4",{"$f":"VLOOKUP(H438,[2]SSIFSEP!$H$2:$I$7593,2,0)","v":"가계대출"},"Household Loan","KRW","PRS",0,0,"1",0,{"$f":"VLOOKUP(K438,[1]EXRATE!C$3:F$43,4,0)","v":1},0,"N",149,"",0,0,"","","","","","R","HLS","020","T",20230926,160849,0.25,0,"PFS               AI80184   9998"]
["KR","HSBC",2,266286,649,null,"","ILO",{"$f":"VLOOKUP(H439,[2]SSIFSEP!$H$2:$I$7593,2,0)","v":"가계대출"},"Household Loan","KRW","PRS",0,0,"1",0,{"$f":"VLOOKUP(K439,[1]EXRATE!C$3:F$43,4,0)","v":1},0,"N",173,"",0,0,"","","","","","R","HLS","020","T",20230926,160849,0.25,0,"PFS               AI80184   9998"]
["KR","HSBC",2,270155,409,null,"","IIL",{"$f":"VLOOKUP(H440,[2]SSIFSEP!$H$2:$I$7593,2,0)","v":"가계대출"},"Household Loan","KRW","PRS",0,0,"1",0,{"$f":"VLOOKUP(K440,[1]EXRATE!C$3:F$43,4,0)","v":1},0,"N",166,"",0,0,"","","","","","R","HLS","020","T",20230926,160849,0.25,0,"PFS               AI80184   9998"]
["KR","HSBC",2,271104,409,null,"","IIL",{"$f":"VLOOKUP(H441,[2]SSIFSEP!$H$2:$I$7593,2,0)","v":"가계대출"},"Household Loan","KRW","PRS",0,0,"1",0,{"$f":"VLOOKUP(K441,[1]EXRATE!C$3:F$43,4,0)","v":1},0,"N",166,"",0,0,"","","","","","R","HLS","020","T",20230926,160849,0.25,0,"PFS               AI80184   9998"]
["KR","HSBC",2,275758,413,null,"","PLL",{"$f":"VLOOKUP(H442,[2]SSIFSEP!$H$2:$I$7593,2,0)","v":"가계대출"},"Household Loan","KRW","PRS",0,0,"1",0,{"$f":"VLOOKUP(K442,[1]EXRATE!C$3:F$43,4,0)","v":1},0,"N",90,"",0,0,"","","","","","R","HLS","140","G",20230926,160849,0.25,0,"PFS               AI80160   9998"]
["KR","HSBC",2,276764,409,null,"","IIL",{"$f":"VLOOKUP(H443,[2]SSIFSEP!$H$2:$I$7593,2,0)","v":"가계대출"},"Household Loan","KRW","PRS",0,0,"1",0,{"$f":"VLOOKUP(K443,[1]EXRATE!C$3:F$43,4,0)","v":1},0,"N",166,"",0,0,"","","","","","R","HLS","020","T",20230926,160849,0.25,0,"PFS               AI80184   9998"]
["KR","HSBC",2,277697,409,null,"","IIL",{"$f":"VLOOKUP(H444,[2]SSIFSEP!$H$2:$I$7593,2,0)","v":"가계대출"},"Household Loan","KRW","PRS",0,0,"1",0,{"$f":"VLOOKUP(K444,[1]EXRATE!C$3:F$43,4,0)","v":1},0,"N",166,"",0,0,"","","","","","R","HLS","020","T",20230926,160849,0.25,0,"PFS               AI80184   9998"]
["KR","HSBC",2,281756,649,null,"","ILO",{"$f":"VLOOKUP(H445,[2]SSIFSEP!$H$2:$I$7593,2,0)","v":"가계대출"},"Household Loan","KRW","PRS",0,0,"1",0,{"$f":"VLOOKUP(K445,[1]EXRATE!C$3:F$43,4,0)","v":1},0,"N",173,"",0,0,"","","","","","R","HLS","020","T",20230926,160849,0.25,0,"PFS               AI80184   9998"]
["KR","HSBC",2,281905,649,null,"","ILO",{"$f":"VLOOKUP(H446,[2]SSIFSEP!$H$2:$I$7593,2,0)","v":"가계대출"},"Household Loan","KRW","PRS",0,0,"1",0,{"$f":"VLOOKUP(K446,[1]EXRATE!C$3:F$43,4,0)","v":1},0,"N",173,"",0,0,"","","","","","R","HLS","020","T",20230926,160849,0.25,0,"PFS               AI80184   9998"]
["KR","HSBC",2,283976,649,null,"","ILO",{"$f":"VLOOKUP(H447,[2]SSIFSEP!$H$2:$I$7593,2,0)","v":"가계대출"},"Household Loan","KRW","PRS",0,0,"1",0,{"$f":"VLOOKUP(K447,[1]EXRATE!C$3:F$43,4,0)","v":1},0,"N",173,"",0,0,"","","","","","R","HLS","020","T",20230926,160849,0.25,0,"PFS               AI80184   9998"]
["KR","HSBC",2,284552,208,null,"","AL4",{"$f":"VLOOKUP(H448,[2]SSIFSEP!$H$2:$I$7593,2,0)","v":"가계대출"},"Household Loan","KRW","PRS",0,0,"1",0,{"$f":"VLOOKUP(K448,[1]EXRATE!C$3:F$43,4,0)","v":1},0,"N",149,"",0,0,"","","","","","R","HLS","020","T",20230926,160849,0.25,0,"PFS               AI80184   9998"]
["KR","HSBC",2,287985,900,null,"","IIL",{"$f":"VLOOKUP(H449,[2]SSIFSEP!$H$2:$I$7593,2,0)","v":"가계대출"},"Household Loan","KRW","PRS",0,0,"1",0,{"$f":"VLOOKUP(K449,[1]EXRATE!C$3:F$43,4,0)","v":1},0,"N",166,"",0,0,"","","","","","R","HLS","020","T",20230926,160849,0.25,0,"PFS               AI80184   9998"]
["KR","HSBC",2,289379,409,null,"","IIL",{"$f":"VLOOKUP(H450,[2]SSIFSEP!$H$2:$I$7593,2,0)","v":"가계대출"},"Household Loan","KRW","PRS",0,0,"1",0,{"$f":"VLOOKUP(K450,[1]EXRATE!C$3:F$43,4,0)","v":1},0,"N",166,"",0,0,"","","","","","R","HLS","020","T",20230926,160849,0.25,0,"PFS               AI80184   9998"]
["KR","HSBC",2,292258,413,null,"","PLL",{"$f":"VLOOKUP(H451,[2]SSIFSEP!$H$2:$I$7593,2,0)","v":"가계대출"},"Household Loan","KRW","PRS",0,0,"1",0,{"$f":"VLOOKUP(K451,[1]EXRATE!C$3:F$43,4,0)","v":1},0,"N",90,"",0,0,"","","","","","R","HLS","141","T",20230926,160849,0.25,0,"PFS               AI80160   9998"]
["KR","HSBC",2,293108,409,null,"","IIL",{"$f":"VLOOKUP(H452,[2]SSIFSEP!$H$2:$I$7593,2,0)","v":"가계대출"},"Household Loan","KRW","PRS",0,0,"1",0,{"$f":"VLOOKUP(K452,[1]EXRATE!C$3:F$43,4,0)","v":1},0,"N",166,"",0,0,"","","","","","R","HLS","020","T",20230926,160849,0.25,0,"PFS               AI80184   9998"]
["KR","HSBC",2,293827,409,null,"","IIL",{"$f":"VLOOKUP(H453,[2]SSIFSEP!$H$2:$I$7593,2,0)","v":"가계대출"},"Household Loan","KRW","PRS",0,0,"1",0,{"$f":"VLOOKUP(K453,[1]EXRATE!C$3:F$43,4,0)","v":1},0,"N",166,"",0,0,"","","","","","R","HLS","020","T",20230926,160849,0.25,0,"PFS               AI80184   9998"]
["KR","HSBC",2,295152,409,null,"","IIL",{"$f":"VLOOKUP(H454,[2]SSIFSEP!$H$2:$I$7593,2,0)","v":"가계대출"},"Household Loan","KRW","PRS",0,0,"1",0,{"$f":"VLOOKUP(K454,[1]EXRATE!C$3:F$43,4,0)","v":1},0,"N",166,"",0,0,"","","","","","R","HLS","020","T",20230926,160849,0.25,0,"PFS               AI80184   9998"]
["KR","HSBC",2,295905,409,null,"","IIL",{"$f":"VLOOKUP(H455,[2]SSIFSEP!$H$2:$I$7593,2,0)","v":"가계대출"},"Household Loan","KRW","PRS",0,0,"1",0,{"$f":"VLOOKUP(K455,[1]EXRATE!C$3:F$43,4,0)","v":1},0,"N",166,"",0,0,"","","","","","R","HLS","020","T",20230926,160849,0.25,0,"PFS               AI80184   9998"]
["KR","HSBC",2,296366,409,null,"","IIL",{"$f":"VLOOKUP(H456,[2]SSIFSEP!$H$2:$I$7593,2,0)","v":"가계대출"},"Household Loan","KRW","PRS",0,0,"1",0,{"$f":"VLOOKUP(K456,[1]EXRATE!C$3:F$43,4,0)","v":1},0,"N",166,"",0,0,"","","","","","R","HLS","020","T",20230926,160849,0.25,0,"PFS               AI80184   9998"]
["KR","HSBC",2,296846,649,null,"","ILO",{"$f":"VLOOKUP(H457,[2]SSIFSEP!$H$2:$I$7593,2,0)","v":"가계대출"},"Household Loan","KRW","PRS",0,0,"1",0,{"$f":"VLOOKUP(K457,[1]EXRATE!C$3:F$43,4,0)","v":1},0,"N",173,"",0,0,"","","","","","R","HLS","020","T",20230926,160849,0.25,0,"PFS               AI80184   9998"]
["KR","HSBC",2,301570,409,null,"","IIL",{"$f":"VLOOKUP(H458,[2]SSIFSEP!$H$2:$I$7593,2,0)","v":"가계대출"},"Household Loan","KRW","PRS",0,0,"1",0,{"$f":"VLOOKUP(K458,[1]EXRATE!C$3:F$43,4,0)","v":1},0,"N",166,"",0,0,"","","","","","R","HLS","020","T",20230926,160849,0.25,0,"PFS               AI80184   9998"]
["KR","HSBC",2,303758,207,null,"","RML",{"$f":"VLOOKUP(H459,[2]SSIFSEP!$H$2:$I$7593,2,0)","v":"가계대출"},"Household Loan","KRW","PRS",0,0,"1",0,{"$f":"VLOOKUP(K459,[1]EXRATE!C$3:F$43,4,0)","v":1},0,"N",91,"",0,0,"","","","","","R","HLS","140","G",20230926,160849,0.25,0,"PFS               AI80160   9998"]
["KR","HSBC",2,303873,409,null,"","IIL",{"$f":"VLOOKUP(H460,[2]SSIFSEP!$H$2:$I$7593,2,0)","v":"가계대출"},"Household Loan","KRW","PRS",0,0,"1",0,{"$f":"VLOOKUP(K460,[1]EXRATE!C$3:F$43,4,0)","v":1},0,"N",166,"",0,0,"","","","","","R","HLS","020","T",20230926,160849,0.25,0,"PFS               AI80184   9998"]
["KR","HSBC",2,303873,900,null,"","IIL",{"$f":"VLOOKUP(H461,[2]SSIFSEP!$H$2:$I$7593,2,0)","v":"가계대출"},"Household Loan","KRW","PRS",0,0,"1",0,{"$f":"VLOOKUP(K461,[1]EXRATE!C$3:F$43,4,0)","v":1},0,"N",166,"",0,0,"","","","","","R","HLS","020","T",20230926,160849,0.25,0,"PFS               AI80184   9998"]
["KR","HSBC",2,304442,409,null,"","IIL",{"$f":"VLOOKUP(H462,[2]SSIFSEP!$H$2:$I$7593,2,0)","v":"가계대출"},"Household Loan","KRW","PRS",0,0,"1",0,{"$f":"VLOOKUP(K462,[1]EXRATE!C$3:F$43,4,0)","v":1},0,"N",166,"",0,0,"","","","","","R","HLS","020","T",20230926,160849,0.25,0,"PFS               AI80184   9998"]
["KR","HSBC",2,305142,409,null,"","IIL",{"$f":"VLOOKUP(H463,[2]SSIFSEP!$H$2:$I$7593,2,0)","v":"가계대출"},"Household Loan","KRW","PRS",0,0,"1",0,{"$f":"VLOOKUP(K463,[1]EXRATE!C$3:F$43,4,0)","v":1},0,"N",166,"",0,0,"","","","","","R","HLS","020","T",20230926,160849,0.25,0,"PFS               AI80184   9998"]
["KR","HSBC",2,316362,900,null,"","IIL",{"$f":"VLOOKUP(H464,[2]SSIFSEP!$H$2:$I$7593,2,0)","v":"가계대출"},"Household Loan","KRW","PRS",0,0,"1",0,{"$f":"VLOOKUP(K464,[1]EXRATE!C$3:F$43,4,0)","v":1},0,"N",166,"",0,0,"","","","","","R","HLS","020","T",20230926,160849,0.25,0,"PFS               AI80184   9998"]
["KR","HSBC",2,318061,649,null,"","ILO",{"$f":"VLOOKUP(H465,[2]SSIFSEP!$H$2:$I$7593,2,0)","v":"가계대출"},"Household Loan","KRW","PRS",0,0,"1",0,{"$f":"VLOOKUP(K465,[1]EXRATE!C$3:F$43,4,0)","v":1},0,"N",173,"",0,0,"","","","","","R","HLS","020","T",20230926,160849,0.25,0,"PFS               AI80184   9998"]
["KR","HSBC",2,319127,649,null,"","ILO",{"$f":"VLOOKUP(H466,[2]SSIFSEP!$H$2:$I$7593,2,0)","v":"가계대출"},"Household Loan","KRW","PRS",0,0,"1",0,{"$f":"VLOOKUP(K466,[1]EXRATE!C$3:F$43,4,0)","v":1},0,"N",173,"",0,0,"","","","","","R","HLS","020","T",20230926,160849,0.25,0,"PFS               AI80184   9998"]
["KR","HSBC",2,319176,649,null,"","ILO",{"$f":"VLOOKUP(H467,[2]SSIFSEP!$H$2:$I$7593,2,0)","v":"가계대출"},"Household Loan","KRW","PRS",0,0,"1",0,{"$f":"VLOOKUP(K467,[1]EXRATE!C$3:F$43,4,0)","v":1},0,"N",173,"",0,0,"","","","","","R","HLS","020","T",20230926,160849,0.25,0,"PFS               AI80184   9998"]
["KR","HSBC",2,324507,409,null,"","IIL",{"$f":"VLOOKUP(H468,[2]SSIFSEP!$H$2:$I$7593,2,0)","v":"가계대출"},"Household Loan","KRW","PRS",0,0,"1",0,{"$f":"VLOOKUP(K468,[1]EXRATE!C$3:F$43,4,0)","v":1},0,"N",166,"",0,0,"","","","","","R","HLS","020","T",20230926,160849,0.25,0,"PFS               AI80184   9998"]
["KR","HSBC",2,324721,208,null,"","AL4",{"$f":"VLOOKUP(H469,[2]SSIFSEP!$H$2:$I$7593,2,0)","v":"가계대출"},"Household Loan","KRW","PRS",0,0,"1",0,{"$f":"VLOOKUP(K469,[1]EXRATE!C$3:F$43,4,0)","v":1},0,"N",149,"",0,0,"","","","","","R","HLS","020","T",20230926,160849,0.25,0,"PFS               AI80184   9998"]
["KR","HSBC",2,324739,409,null,"","IIL",{"$f":"VLOOKUP(H470,[2]SSIFSEP!$H$2:$I$7593,2,0)","v":"가계대출"},"Household Loan","KRW","PRS",0,0,"1",0,{"$f":"VLOOKUP(K470,[1]EXRATE!C$3:F$43,4,0)","v":1},0,"N",166,"",0,0,"","","","","","R","HLS","020","T",20230926,160849,0.25,0,"PFS               AI80184   9998"]
["KR","HSBC",2,325074,409,null,"","IIL",{"$f":"VLOOKUP(H471,[2]SSIFSEP!$H$2:$I$7593,2,0)","v":"가계대출"},"Household Loan","KRW","PRS",0,0,"1",0,{"$f":"VLOOKUP(K471,[1]EXRATE!C$3:F$43,4,0)","v":1},0,"N",166,"",0,0,"","","","","","R","HLS","020","T",20230926,160849,0.25,0,"PFS               AI80184   9998"]
["KR","HSBC",2,325488,409,null,"","IIL",{"$f":"VLOOKUP(H472,[2]SSIFSEP!$H$2:$I$7593,2,0)","v":"가계대출"},"Household Loan","KRW","PRS",0,0,"1",0,{"$f":"VLOOKUP(K472,[1]EXRATE!C$3:F$43,4,0)","v":1},0,"N",166,"",0,0,"","","","","","R","HLS","020","T",20230926,160849,0.25,0,"PFS               AI80184   9998"]
["KR","HSBC",2,325751,413,null,"","PLL",{"$f":"VLOOKUP(H473,[2]SSIFSEP!$H$2:$I$7593,2,0)","v":"가계대출"},"Household Loan","KRW","PRS",0,0,"1",0,{"$f":"VLOOKUP(K473,[1]EXRATE!C$3:F$43,4,0)","v":1},0,"N",90,"",0,0,"","","","","","R","HLS","150","T",20230926,160849,0.25,0,"PFS               AI80160   9998"]
["KR","HSBC",2,327385,409,null,"","IIL",{"$f":"VLOOKUP(H474,[2]SSIFSEP!$H$2:$I$7593,2,0)","v":"가계대출"},"Household Loan","KRW","PRS",0,0,"1",0,{"$f":"VLOOKUP(K474,[1]EXRATE!C$3:F$43,4,0)","v":1},0,"N",166,"",0,0,"","","","","","R","HLS","020","T",20230926,160849,0.25,0,"PFS               AI80184   9998"]
["KR","HSBC",2,331064,409,null,"","IIL",{"$f":"VLOOKUP(H475,[2]SSIFSEP!$H$2:$I$7593,2,0)","v":"가계대출"},"Household Loan","KRW","PRS",0,0,"1",0,{"$f":"VLOOKUP(K475,[1]EXRATE!C$3:F$43,4,0)","v":1},0,"N",166,"",0,0,"","","","","","R","HLS","020","F",20230926,160849,0,0,"PFS               AI80184   9998"]
["KR","HSBC",2,331445,413,null,"","PLL",{"$f":"VLOOKUP(H476,[2]SSIFSEP!$H$2:$I$7593,2,0)","v":"가계대출"},"Household Loan","KRW","PRS",0,0,"1",0,{"$f":"VLOOKUP(K476,[1]EXRATE!C$3:F$43,4,0)","v":1},0,"N",90,"",0,0,"","","","","","R","HLS","140","T",20230926,160849,0.25,0,"PFS               AI80160   9998"]
["KR","HSBC",2,332286,409,null,"","IIL",{"$f":"VLOOKUP(H477,[2]SSIFSEP!$H$2:$I$7593,2,0)","v":"가계대출"},"Household Loan","KRW","PRS",0,0,"1",0,{"$f":"VLOOKUP(K477,[1]EXRATE!C$3:F$43,4,0)","v":1},0,"N",166,"",0,0,"","","","","","R","HLS","020","T",20230926,160849,0.25,0,"PFS               AI80184   9998"]
["KR","HSBC",2,332898,409,null,"","IIL",{"$f":"VLOOKUP(H478,[2]SSIFSEP!$H$2:$I$7593,2,0)","v":"가계대출"},"Household Loan","KRW","PRS",0,0,"1",0,{"$f":"VLOOKUP(K478,[1]EXRATE!C$3:F$43,4,0)","v":1},0,"N",166,"",0,0,"","","","","","R","HLS","020","T",20230926,160849,0.25,0,"PFS               AI80184   9998"]
["KR","HSBC",2,333318,409,null,"","IIL",{"$f":"VLOOKUP(H479,[2]SSIFSEP!$H$2:$I$7593,2,0)","v":"가계대출"},"Household Loan","KRW","PRS",0,0,"1",0,{"$f":"VLOOKUP(K479,[1]EXRATE!C$3:F$43,4,0)","v":1},0,"N",166,"",0,0,"","","","","","R","HLS","020","T",20230926,160849,0.25,0,"PFS               AI80184   9998"]
["KR","HSBC",2,334274,409,null,"","IIL",{"$f":"VLOOKUP(H480,[2]SSIFSEP!$H$2:$I$7593,2,0)","v":"가계대출"},"Household Loan","KRW","PRS",0,0,"1",0,{"$f":"VLOOKUP(K480,[1]EXRATE!C$3:F$43,4,0)","v":1},0,"N",166,"",0,0,"","","","","","R","HLS","020","T",20230926,160849,0.25,0,"PFS               AI80184   9998"]
["KR","HSBC",2,336493,409,null,"","IIL",{"$f":"VLOOKUP(H481,[2]SSIFSEP!$H$2:$I$7593,2,0)","v":"가계대출"},"Household Loan","KRW","PRS",0,0,"1",0,{"$f":"VLOOKUP(K481,[1]EXRATE!C$3:F$43,4,0)","v":1},0,"N",166,"",0,0,"","","","","","R","HLS","020","T",20230926,160849,0.25,0,"PFS               AI80184   9998"]
["KR","HSBC",2,337228,901,null,"","IIL",{"$f":"VLOOKUP(H482,[2]SSIFSEP!$H$2:$I$7593,2,0)","v":"가계대출"},"Household Loan","KRW","PRS",0,0,"1",0,{"$f":"VLOOKUP(K482,[1]EXRATE!C$3:F$43,4,0)","v":1},0,"N",166,"",0,0,"","","","","","R","HLS","020","T",20230926,160849,0.25,0,"PFS               AI80184   9998"]
["KR","HSBC",2,338028,409,null,"","IIL",{"$f":"VLOOKUP(H483,[2]SSIFSEP!$H$2:$I$7593,2,0)","v":"가계대출"},"Household Loan","KRW","PRS",0,0,"1",0,{"$f":"VLOOKUP(K483,[1]EXRATE!C$3:F$43,4,0)","v":1},0,"N",166,"",0,0,"","","","","","R","HLS","020","G",20230926,160849,0,0,"PFS               AI80184   9998"]
["KR","HSBC",2,338366,207,null,"","RML",{"$f":"VLOOKUP(H484,[2]SSIFSEP!$H$2:$I$7593,2,0)","v":"가계대출"},"Household Loan","KRW","PRS",0,0,"1",0,{"$f":"VLOOKUP(K484,[1]EXRATE!C$3:F$43,4,0)","v":1},0,"N",91,"",0,0,"","","","","","R","HLS","140","J",20230926,160849,0.25,0,"PFS               AI80160   9998"]
["KR","HSBC",2,338473,649,null,"","ILO",{"$f":"VLOOKUP(H485,[2]SSIFSEP!$H$2:$I$7593,2,0)","v":"가계대출"},"Household Loan","KRW","PRS",0,0,"1",0,{"$f":"VLOOKUP(K485,[1]EXRATE!C$3:F$43,4,0)","v":1},{"$f":"+P485*Q485","v":0},"N",173,"",0,0,"","","","","","R","HLS","020","T",20230926,160849,0.25,0,"PFS               AI80184   9998"]
["KR","HSBC",2,339281,409,null,"","IIL",{"$f":"VLOOKUP(H486,[2]SSIFSEP!$H$2:$I$7593,2,0)","v":"가계대출"},"Household Loan","KRW","PRS",0,0,"1",0,{"$f":"VLOOKUP(K486,[1]EXRATE!C$3:F$43,4,0)","v":1},0,"N",166,"",0,0,"","","","","","R","HLS","020","T",20230926,160849,0.25,0,"PFS               AI80184   9998"]
["KR","HSBC",2,344760,649,null,"","ILO",{"$f":"VLOOKUP(H487,[2]SSIFSEP!$H$2:$I$7593,2,0)","v":"가계대출"},"Household Loan","KRW","PRS",0,0,"1",0,{"$f":"VLOOKUP(K487,[1]EXRATE!C$3:F$43,4,0)","v":1},0,"N",173,"",0,0,"","","","","","R","HLS","020","T",20230926,160849,0.25,0,"PFS               AI80184   9998"]
["KR","HSBC",2,345759,409,null,"","IIL",{"$f":"VLOOKUP(H488,[2]SSIFSEP!$H$2:$I$7593,2,0)","v":"가계대출"},"Household Loan","KRW","PRS",0,0,"1",0,{"$f":"VLOOKUP(K488,[1]EXRATE!C$3:F$43,4,0)","v":1},0,"N",166,"",0,0,"","","","","","R","HLS","020","G",20230926,160849,0,0,"PFS               AI80184   9998"]
["KR","HSBC",2,346781,649,null,"","ILO",{"$f":"VLOOKUP(H489,[2]SSIFSEP!$H$2:$I$7593,2,0)","v":"가계대출"},"Household Loan","KRW","PRS",0,0,"1",0,{"$f":"VLOOKUP(K489,[1]EXRATE!C$3:F$43,4,0)","v":1},0,"N",173,"",0,0,"","","","","","R","HLS","020","T",20230926,160849,0.25,0,"PFS               AI80184   9998"]
["KR","HSBC",2,346856,409,null,"","IIL",{"$f":"VLOOKUP(H490,[2]SSIFSEP!$H$2:$I$7593,2,0)","v":"가계대출"},"Household Loan","KRW","PRS",0,0,"1",0,{"$f":"VLOOKUP(K490,[1]EXRATE!C$3:F$43,4,0)","v":1},0,"N",166,"",0,0,"","","","","","R","HLS","020","T",20230926,160849,0.25,0,"PFS               AI80184   9998"]
["KR","HSBC",2,351344,409,null,"","IIL",{"$f":"VLOOKUP(H491,[2]SSIFSEP!$H$2:$I$7593,2,0)","v":"가계대출"},"Household Loan","KRW","PRS",0,0,"1",0,{"$f":"VLOOKUP(K491,[1]EXRATE!C$3:F$43,4,0)","v":1},0,"N",166,"",0,0,"","","","","","R","HLS","020","G",20230926,160849,0,0,"PFS               AI80184   9998"]
["KR","HSBC",2,352797,409,null,"","IIL",{"$f":"VLOOKUP(H492,[2]SSIFSEP!$H$2:$I$7593,2,0)","v":"가계대출"},"Household Loan","KRW","PRS",0,0,"1",0,{"$f":"VLOOKUP(K492,[1]EXRATE!C$3:F$43,4,0)","v":1},0,"N",166,"",0,0,"","","","","","R","HLS","020","T",20230926,160849,0.25,0,"PFS               AI80184   9998"]
["KR","HSBC",2,355949,409,null,"","IIL",{"$f":"VLOOKUP(H493,[2]SSIFSEP!$H$2:$I$7593,2,0)","v":"가계대출"},"Household Loan","KRW","PRS",0,0,"1",0,{"$f":"VLOOKUP(K493,[1]EXRATE!C$3:F$43,4,0)","v":1},0,"N",166,"",0,0,"","","","","","R","HLS","020","T",20230926,160849,0.25,0,"PFS               AI80184   9998"]
["KR","HSBC",2,356905,413,null,"","PLL",{"$f":"VLOOKUP(H494,[2]SSIFSEP!$H$2:$I$7593,2,0)","v":"가계대출"},"Household Loan","KRW","PRS",0,0,"1",0,{"$f":"VLOOKUP(K494,[1]EXRATE!C$3:F$43,4,0)","v":1},0,"N",90,"",0,0,"","","","","","R","HLS","140","H",20230926,160849,0.25,0,"PFS               AI80160   9998"]
["KR","HSBC",2,360477,687,null,"","HOL",{"$f":"VLOOKUP(H495,[2]SSIFSEP!$H$2:$I$7593,2,0)","v":"가계대출"},"Household Loan","KRW","PRS",0,0,"1",0,{"$f":"VLOOKUP(K495,[1]EXRATE!C$3:F$43,4,0)","v":1},0,"N",89,"",0,0,"","","","","","R","HLS","141","J",20230926,160849,0.25,0,"PFS               AI80160   9998"]
["KR","HSBC",2,367712,413,null,"","PLL",{"$f":"VLOOKUP(H496,[2]SSIFSEP!$H$2:$I$7593,2,0)","v":"가계대출"},"Household Loan","KRW","PRS",0,0,"1",0,{"$f":"VLOOKUP(K496,[1]EXRATE!C$3:F$43,4,0)","v":1},0,"N",90,"",0,0,"","","","","","R","HLS","140","H",20230926,160849,0.25,0,"PFS               AI80160   9998"]
["KR","HSBC",2,369593,413,null,"","PLL",{"$f":"VLOOKUP(H497,[2]SSIFSEP!$H$2:$I$7593,2,0)","v":"가계대출"},"Household Loan","KRW","PRS",0,0,"1",0,{"$f":"VLOOKUP(K497,[1]EXRATE!C$3:F$43,4,0)","v":1},0,"N",90,"",0,0,"","","","","","R","HLS","141","T",20230926,160849,0.25,0,"PFS               AI80160   9998"]
["KR","HSBC",2,370096,649,null,"","ILO",{"$f":"VLOOKUP(H498,[2]SSIFSEP!$H$2:$I$7593,2,0)","v":"가계대출"},"Household Loan","KRW","PRS",0,0,"1",0,{"$f":"VLOOKUP(K498,[1]EXRATE!C$3:F$43,4,0)","v":1},0,"N",173,"",0,0,"","","","","","R","HLS","020","T",20230926,160849,0.25,0,"PFS               AI80184   9998"]
["KR","HSBC",2,371524,649,null,"","ILO",{"$f":"VLOOKUP(H499,[2]SSIFSEP!$H$2:$I$7593,2,0)","v":"가계대출"},"Household Loan","KRW","PRS",0,0,"1",0,{"$f":"VLOOKUP(K499,[1]EXRATE!C$3:F$43,4,0)","v":1},0,"N",173,"",0,0,"","","","","","R","HLS","020","T",20230926,160849,0.25,0,"PFS               AI80184   9998"]
["KR","HSBC",2,372795,900,null,"","IIL",{"$f":"VLOOKUP(H500,[2]SSIFSEP!$H$2:$I$7593,2,0)","v":"가계대출"},"Household Loan","KRW","PRS",0,0,"1",0,{"$f":"VLOOKUP(K500,[1]EXRATE!C$3:F$43,4,0)","v":1},0,"N",166,"",0,0,"","","","","","R","HLS","020","T",20230926,160849,0.25,0,"PFS               AI80184   9998"]
["KR","HSBC",2,382703,409,null,"","IIL",{"$f":"VLOOKUP(H501,[2]SSIFSEP!$H$2:$I$7593,2,0)","v":"가계대출"},"Household Loan","KRW","PRS",0,0,"1",0,{"$f":"VLOOKUP(K501,[1]EXRATE!C$3:F$43,4,0)","v":1},0,"N",166,"",0,0,"","","","","","R","HLS","020","T",20230926,160849,0.25,0,"PFS               AI80184   9998"]
["KR","HSBC",2,383412,207,null,"","RML",{"$f":"VLOOKUP(H502,[2]SSIFSEP!$H$2:$I$7593,2,0)","v":"가계대출"},"Household Loan","KRW","PRS",0,0,"1",0,{"$f":"VLOOKUP(K502,[1]EXRATE!C$3:F$43,4,0)","v":1},0,"N",91,"",0,0,"","","","","","R","HLS","140","J",20230926,160849,0.25,0,"PFS               AI80160   9998"]
["KR","HSBC",2,383461,714,null,"","ILS",{"$f":"VLOOKUP(H503,[2]SSIFSEP!$H$2:$I$7593,2,0)","v":"가계대출"},"Household Loan","KRW","PRS",0,0,"1",0,{"$f":"VLOOKUP(K503,[1]EXRATE!C$3:F$43,4,0)","v":1},0,"N",174,"",0,0,"","","","","","R","HLS","020","T",20230926,160849,0.25,0,"PFS               AI80184   9998"]
["KR","HSBC",2,386563,409,null,"","IIL",{"$f":"VLOOKUP(H504,[2]SSIFSEP!$H$2:$I$7593,2,0)","v":"가계대출"},"Household Loan","KRW","PRS",0,0,"1",0,{"$f":"VLOOKUP(K504,[1]EXRATE!C$3:F$43,4,0)","v":1},0,"N",166,"",0,0,"","","","","","R","HLS","020","T",20230926,160849,0.25,0,"PFS               AI80184   9998"]
["KR","HSBC",2,388478,208,null,"","AL4",{"$f":"VLOOKUP(H505,[2]SSIFSEP!$H$2:$I$7593,2,0)","v":"가계대출"},"Household Loan","KRW","PRS",0,0,"1",0,{"$f":"VLOOKUP(K505,[1]EXRATE!C$3:F$43,4,0)","v":1},0,"N",149,"",0,0,"","","","","","R","HLS","020","T",20230926,160849,0.25,0,"PFS               AI80184   9998"]
["KR","HSBC",2,390045,208,null,"","AL4",{"$f":"VLOOKUP(H506,[2]SSIFSEP!$H$2:$I$7593,2,0)","v":"가계대출"},"Household Loan","KRW","PRS",0,0,"1",0,{"$f":"VLOOKUP(K506,[1]EXRATE!C$3:F$43,4,0)","v":1},0,"N",149,"",0,0,"","","","","","R","HLS","020","T",20230926,160849,0.25,0,"PFS               AI80184   9998"]
["KR","HSBC",2,391530,409,null,"","IIL",{"$f":"VLOOKUP(H507,[2]SSIFSEP!$H$2:$I$7593,2,0)","v":"가계대출"},"Household Loan","KRW","PRS",0,0,"1",0,{"$f":"VLOOKUP(K507,[1]EXRATE!C$3:F$43,4,0)","v":1},0,"N",166,"",0,0,"","","","","","R","HLS","020","H",20230926,160849,0,0,"PFS               AI80184   9998"]
["KR","HSBC",2,394120,409,null,"","IIL",{"$f":"VLOOKUP(H508,[2]SSIFSEP!$H$2:$I$7593,2,0)","v":"가계대출"},"Household Loan","KRW","PRS",0,0,"1",0,{"$f":"VLOOKUP(K508,[1]EXRATE!C$3:F$43,4,0)","v":1},0,"N",166,"",0,0,"","","","","","R","HLS","020","T",20230926,160849,0.25,0,"PFS               AI80184   9998"]
["KR","HSBC",2,395788,649,null,"","ILO",{"$f":"VLOOKUP(H509,[2]SSIFSEP!$H$2:$I$7593,2,0)","v":"가계대출"},"Household Loan","KRW","PRS",0,0,"1",0,{"$f":"VLOOKUP(K509,[1]EXRATE!C$3:F$43,4,0)","v":1},0,"N",173,"",0,0,"","","","","","R","HLS","020","T",20230926,160849,0.25,0,"PFS               AI80184   9998"]
["KR","HSBC",2,396307,649,null,"","ILO",{"$f":"VLOOKUP(H510,[2]SSIFSEP!$H$2:$I$7593,2,0)","v":"가계대출"},"Household Loan","KRW","PRS",0,0,"1",0,{"$f":"VLOOKUP(K510,[1]EXRATE!C$3:F$43,4,0)","v":1},0,"N",173,"",0,0,"","","","","","R","HLS","020","T",20230926,160849,0.25,0,"PFS               AI80184   9998"]
["KR","HSBC",2,397586,900,null,"","RML",{"$f":"VLOOKUP(H511,[2]SSIFSEP!$H$2:$I$7593,2,0)","v":"가계대출"},"Household Loan","KRW","PRS",0,0,"1",0,{"$f":"VLOOKUP(K511,[1]EXRATE!C$3:F$43,4,0)","v":1},0,"N",91,"",0,0,"","","","","","R","HLS","140","H",20230926,160849,0.25,0,"PFS               AI80160   9998"]
["KR","HSBC",2,400000,882,null,"","UCD",{"$f":"VLOOKUP(H512,[2]SSIFSEP!$H$2:$I$7593,2,0)","v":"미사용약정"},"Unused Credit Line","KRW","PRS",0,0,"3",0,{"$f":"VLOOKUP(K512,[1]EXRATE!C$3:F$43,4,0)","v":1},0,"N",305,"",0,0,"","","","","","R","HLS","140","J",20230926,160849,100,0,"PFS               MG30100   9998"]
["KR","HSBC",2,402055,409,null,"","IIL",{"$f":"VLOOKUP(H513,[2]SSIFSEP!$H$2:$I$7593,2,0)","v":"가계대출"},"Household Loan","KRW","PRS",0,0,"1",0,{"$f":"VLOOKUP(K513,[1]EXRATE!C$3:F$43,4,0)","v":1},0,"N",166,"",0,0,"","","","","","R","HLS","020","F",20230926,160849,0,0,"PFS               AI80184   9998"]
["KR","HSBC",2,404580,409,null,"","IIL",{"$f":"VLOOKUP(H514,[2]SSIFSEP!$H$2:$I$7593,2,0)","v":"가계대출"},"Household Loan","KRW","PRS",0,0,"1",0,{"$f":"VLOOKUP(K514,[1]EXRATE!C$3:F$43,4,0)","v":1},0,"N",166,"",0,0,"","","","","","R","HLS","020","T",20230926,160849,0.25,0,"PFS               AI80184   9998"]
["KR","HSBC",2,406023,901,null,"","IIL",{"$f":"VLOOKUP(H515,[2]SSIFSEP!$H$2:$I$7593,2,0)","v":"가계대출"},"Household Loan","KRW","PRS",0,0,"1",0,{"$f":"VLOOKUP(K515,[1]EXRATE!C$3:F$43,4,0)","v":1},0,"N",166,"",0,0,"","","","","","R","HLS","020","T",20230926,160849,0.25,0,"PFS               AI80184   9998"]
["KR","HSBC",2,415198,649,null,"","ILO",{"$f":"VLOOKUP(H516,[2]SSIFSEP!$H$2:$I$7593,2,0)","v":"가계대출"},"Household Loan","KRW","PRS",0,0,"1",0,{"$f":"VLOOKUP(K516,[1]EXRATE!C$3:F$43,4,0)","v":1},0,"N",173,"",0,0,"","","","","","R","HLS","020","T",20230926,160849,0.25,0,"PFS               AI80184   9998"]
["KR","HSBC",2,417921,900,null,"","IIL",{"$f":"VLOOKUP(H517,[2]SSIFSEP!$H$2:$I$7593,2,0)","v":"가계대출"},"Household Loan","KRW","PRS",0,0,"1",0,{"$f":"VLOOKUP(K517,[1]EXRATE!C$3:F$43,4,0)","v":1},0,"N",166,"",0,0,"","","","","","R","HLS","020","T",20230926,160849,0.25,0,"PFS               AI80184   9998"]
["KR","HSBC",2,421857,900,null,"","RML",{"$f":"VLOOKUP(H518,[2]SSIFSEP!$H$2:$I$7593,2,0)","v":"가계대출"},"Household Loan","KRW","PRS",0,0,"1",0,{"$f":"VLOOKUP(K518,[1]EXRATE!C$3:F$43,4,0)","v":1},0,"N",91,"",0,0,"","","","","","R","HLS","140","J",20230926,160849,0.25,0,"PFS               AI80160   9998"]
["KR","HSBC",2,422384,900,null,"","IIL",{"$f":"VLOOKUP(H519,[2]SSIFSEP!$H$2:$I$7593,2,0)","v":"가계대출"},"Household Loan","KRW","PRS",0,0,"1",0,{"$f":"VLOOKUP(K519,[1]EXRATE!C$3:F$43,4,0)","v":1},0,"N",166,"",0,0,"","","","","","R","HLS","020","T",20230926,160849,0.25,0,"PFS               AI80184   9998"]
["KR","HSBC",2,423135,649,null,"","ILO",{"$f":"VLOOKUP(H520,[2]SSIFSEP!$H$2:$I$7593,2,0)","v":"가계대출"},"Household Loan","KRW","PRS",0,0,"1",0,{"$f":"VLOOKUP(K520,[1]EXRATE!C$3:F$43,4,0)","v":1},0,"N",173,"",0,0,"","","","","","R","HLS","020","T",20230926,160849,0.25,0,"PFS               AI80184   9998"]
["KR","HSBC",2,426047,901,null,"","IIL",{"$f":"VLOOKUP(H521,[2]SSIFSEP!$H$2:$I$7593,2,0)","v":"가계대출"},"Household Loan","KRW","PRS",0,0,"1",0,{"$f":"VLOOKUP(K521,[1]EXRATE!C$3:F$43,4,0)","v":1},0,"N",166,"",0,0,"","","","","","R","HLS","020","T",20230926,160849,0.25,0,"PFS               AI80184   9998"]
["KR","HSBC",2,428761,409,null,"","IIL",{"$f":"VLOOKUP(H522,[2]SSIFSEP!$H$2:$I$7593,2,0)","v":"가계대출"},"Household Loan","KRW","PRS",0,0,"1",0,{"$f":"VLOOKUP(K522,[1]EXRATE!C$3:F$43,4,0)","v":1},0,"N",166,"",0,0,"","","","","","R","HLS","020","T",20230926,160849,0.25,0,"PFS               AI80184   9998"]
["KR","HSBC",2,429041,649,null,"","ILO",{"$f":"VLOOKUP(H523,[2]SSIFSEP!$H$2:$I$7593,2,0)","v":"가계대출"},"Household Loan","KRW","PRS",0,0,"1",0,{"$f":"VLOOKUP(K523,[1]EXRATE!C$3:F$43,4,0)","v":1},0,"N",173,"",0,0,"","","","","","R","HLS","020","T",20230926,160849,0.25,0,"PFS               AI80184   9998"]
["KR","HSBC",2,431880,649,null,"","ILO",{"$f":"VLOOKUP(H524,[2]SSIFSEP!$H$2:$I$7593,2,0)","v":"가계대출"},"Household Loan","KRW","PRS",0,0,"1",0,{"$f":"VLOOKUP(K524,[1]EXRATE!C$3:F$43,4,0)","v":1},0,"N",173,"",0,0,"","","","","","R","HLS","020","T",20230926,160849,0.25,0,"PFS               AI80184   9998"]
["KR","HSBC",2,432995,900,null,"","IIL",{"$f":"VLOOKUP(H525,[2]SSIFSEP!$H$2:$I$7593,2,0)","v":"가계대출"},"Household Loan","KRW","PRS",0,0,"1",0,{"$f":"VLOOKUP(K525,[1]EXRATE!C$3:F$43,4,0)","v":1},0,"N",166,"",0,0,"","","","","","R","HLS","020","T",20230926,160849,0.25,0,"PFS               AI80184   9998"]
["KR","HSBC",2,434041,409,null,"","IIL",{"$f":"VLOOKUP(H526,[2]SSIFSEP!$H$2:$I$7593,2,0)","v":"가계대출"},"Household Loan","KRW","PRS",0,0,"1",0,{"$f":"VLOOKUP(K526,[1]EXRATE!C$3:F$43,4,0)","v":1},0,"N",166,"",0,0,"","","","","","R","HLS","020","T",20230926,160849,0.25,0,"PFS               AI80184   9998"]
["KR","HSBC",2,436459,900,null,"","IIL",{"$f":"VLOOKUP(H527,[2]SSIFSEP!$H$2:$I$7593,2,0)","v":"가계대출"},"Household Loan","KRW","PRS",0,0,"1",0,{"$f":"VLOOKUP(K527,[1]EXRATE!C$3:F$43,4,0)","v":1},0,"N",166,"",0,0,"","","","","","R","HLS","020","T",20230926,160849,0.25,0,"PFS               AI80184   9998"]
["KR","HSBC",2,442341,649,null,"","ILO",{"$f":"VLOOKUP(H528,[2]SSIFSEP!$H$2:$I$7593,2,0)","v":"가계대출"},"Household Loan","KRW","PRS",0,0,"1",0,{"$f":"VLOOKUP(K528,[1]EXRATE!C$3:F$43,4,0)","v":1},0,"N",173,"",0,0,"","","","","","R","HLS","020","T",20230926,160849,0.25,0,"PFS               AI80184   9998"]
["KR","HSBC",2,443505,207,null,"","RML",{"$f":"VLOOKUP(H529,[2]SSIFSEP!$H$2:$I$7593,2,0)","v":"가계대출"},"Household Loan","KRW","PRS",0,0,"1",0,{"$f":"VLOOKUP(K529,[1]EXRATE!C$3:F$43,4,0)","v":1},0,"N",91,"",0,0,"","","","","","R","HLS","140","J",20230926,160849,0.25,0,"PFS               AI80160   9998"]
["KR","HSBC",2,444438,409,null,"","IIL",{"$f":"VLOOKUP(H530,[2]SSIFSEP!$H$2:$I$7593,2,0)","v":"가계대출"},"Household Loan","KRW","PRS",0,0,"1",0,{"$f":"VLOOKUP(K530,[1]EXRATE!C$3:F$43,4,0)","v":1},0,"N",166,"",0,0,"","","","","","R","HLS","020","T",20230926,160849,0.25,0,"PFS               AI80184   9998"]
["KR","HSBC",2,445716,409,null,"","IIL",{"$f":"VLOOKUP(H531,[2]SSIFSEP!$H$2:$I$7593,2,0)","v":"가계대출"},"Household Loan","KRW","PRS",0,0,"1",0,{"$f":"VLOOKUP(K531,[1]EXRATE!C$3:F$43,4,0)","v":1},0,"N",166,"",0,0,"","","","","","R","HLS","020","T",20230926,160849,0.25,0,"PFS               AI80184   9998"]
["KR","HSBC",2,449163,649,null,"","ILO",{"$f":"VLOOKUP(H532,[2]SSIFSEP!$H$2:$I$7593,2,0)","v":"가계대출"},"Household Loan","KRW","PRS",0,0,"1",0,{"$f":"VLOOKUP(K532,[1]EXRATE!C$3:F$43,4,0)","v":1},0,"N",173,"",0,0,"","","","","","R","HLS","020","T",20230926,160849,0.25,0,"PFS               AI80184   9998"]
["KR","HSBC",2,451128,649,null,"","ILO",{"$f":"VLOOKUP(H533,[2]SSIFSEP!$H$2:$I$7593,2,0)","v":"가계대출"},"Household Loan","KRW","PRS",0,0,"1",0,{"$f":"VLOOKUP(K533,[1]EXRATE!C$3:F$43,4,0)","v":1},0,"N",173,"",0,0,"","","","","","R","HLS","020","T",20230926,160849,0.25,0,"PFS               AI80184   9998"]
["KR","HSBC",2,451177,413,null,"","PLL",{"$f":"VLOOKUP(H534,[2]SSIFSEP!$H$2:$I$7593,2,0)","v":"가계대출"},"Household Loan","KRW","PRS",0,0,"1",0,{"$f":"VLOOKUP(K534,[1]EXRATE!C$3:F$43,4,0)","v":1},0,"N",90,"",0,0,"","","","","","R","HLS","141","J",20230926,160849,0.25,0,"PFS               AI80160   9998"]
["KR","HSBC",2,451557,649,null,"","ILO",{"$f":"VLOOKUP(H535,[2]SSIFSEP!$H$2:$I$7593,2,0)","v":"가계대출"},"Household Loan","KRW","PRS",0,0,"1",0,{"$f":"VLOOKUP(K535,[1]EXRATE!C$3:F$43,4,0)","v":1},0,"N",173,"",0,0,"","","","","","R","HLS","020","T",20230926,160849,0.25,0,"PFS               AI80184   9998"]
["KR","HSBC",2,452332,649,null,"","ILO",{"$f":"VLOOKUP(H536,[2]SSIFSEP!$H$2:$I$7593,2,0)","v":"가계대출"},"Household Loan","KRW","PRS",0,0,"1",0,{"$f":"VLOOKUP(K536,[1]EXRATE!C$3:F$43,4,0)","v":1},0,"N",173,"",0,0,"","","","","","R","HLS","020","T",20230926,160849,0.25,0,"PFS               AI80184   9998"]
["KR","HSBC",2,452597,409,null,"","IIL",{"$f":"VLOOKUP(H537,[2]SSIFSEP!$H$2:$I$7593,2,0)","v":"가계대출"},"Household Loan","KRW","PRS",0,0,"1",0,{"$f":"VLOOKUP(K537,[1]EXRATE!C$3:F$43,4,0)","v":1},0,"N",166,"",0,0,"","","","","","R","HLS","020","T",20230926,160849,0.25,0,"PFS               AI80184   9998"]
["KR","HSBC",2,452761,649,null,"","ILO",{"$f":"VLOOKUP(H538,[2]SSIFSEP!$H$2:$I$7593,2,0)","v":"가계대출"},"Household Loan","KRW","PRS",0,0,"1",0,{"$f":"VLOOKUP(K538,[1]EXRATE!C$3:F$43,4,0)","v":1},0,"N",173,"",0,0,"","","","","","R","HLS","020","T",20230926,160849,0.25,0,"PFS               AI80184   9998"]
["KR","HSBC",2,453397,649,null,"","ILO",{"$f":"VLOOKUP(H539,[2]SSIFSEP!$H$2:$I$7593,2,0)","v":"가계대출"},"Household Loan","KRW","PRS",0,0,"1",0,{"$f":"VLOOKUP(K539,[1]EXRATE!C$3:F$43,4,0)","v":1},0,"N",173,"",0,0,"","","","","","R","HLS","020","T",20230926,160849,0.25,0,"PFS               AI80184   9998"]
["KR","HSBC",2,456747,649,null,"","ILO",{"$f":"VLOOKUP(H540,[2]SSIFSEP!$H$2:$I$7593,2,0)","v":"가계대출"},"Household Loan","KRW","PRS",0,0,"1",0,{"$f":"VLOOKUP(K540,[1]EXRATE!C$3:F$43,4,0)","v":1},0,"N",173,"",0,0,"","","","","","R","HLS","020","T",20230926,160849,0.25,0,"PFS               AI80184   9998"]
["KR","HSBC",2,457299,409,null,"","IIL",{"$f":"VLOOKUP(H541,[2]SSIFSEP!$H$2:$I$7593,2,0)","v":"가계대출"},"Household Loan","KRW","PRS",0,0,"1",0,{"$f":"VLOOKUP(K541,[1]EXRATE!C$3:F$43,4,0)","v":1},0,"N",166,"",0,0,"","","","","","R","HLS","020","H",20230926,160849,0,0,"PFS               AI80184   9998"]
["KR","HSBC",2,457661,882,null,"","HM1",{"$f":"VLOOKUP(H542,[2]SSIFSEP!$H$2:$I$7593,2,0)","v":"가계대출"},"Household Loan","KRW","PRS",0,0,"1",0,{"$f":"VLOOKUP(K542,[1]EXRATE!C$3:F$43,4,0)","v":1},0,"N",87,"",0,0,"","","","","","R","HLS","140","J",20230926,160849,0.25,0,"PFS               AI80160   9998"]
["KR","HSBC",2,457968,649,null,"","ILO",{"$f":"VLOOKUP(H543,[2]SSIFSEP!$H$2:$I$7593,2,0)","v":"가계대출"},"Household Loan","KRW","PRS",0,0,"1",0,{"$f":"VLOOKUP(K543,[1]EXRATE!C$3:F$43,4,0)","v":1},0,"N",173,"",0,0,"","","","","","R","HLS","020","T",20230926,160849,0.25,0,"PFS               AI80184   9998"]
["KR","HSBC",2,458891,409,null,"","IIL",{"$f":"VLOOKUP(H544,[2]SSIFSEP!$H$2:$I$7593,2,0)","v":"가계대출"},"Household Loan","KRW","PRS",0,0,"1",0,{"$f":"VLOOKUP(K544,[1]EXRATE!C$3:F$43,4,0)","v":1},0,"N",166,"",0,0,"","","","","","R","HLS","020","T",20230926,160849,0.25,0,"PFS               AI80184   9998"]
["KR","HSBC",2,460210,649,null,"","ILO",{"$f":"VLOOKUP(H545,[2]SSIFSEP!$H$2:$I$7593,2,0)","v":"가계대출"},"Household Loan","KRW","PRS",0,0,"1",0,{"$f":"VLOOKUP(K545,[1]EXRATE!C$3:F$43,4,0)","v":1},0,"N",173,"",0,0,"","","","","","R","HLS","020","T",20230926,160849,0.25,0,"PFS               AI80184   9998"]
["KR","HSBC",2,461812,649,null,"","ILO",{"$f":"VLOOKUP(H546,[2]SSIFSEP!$H$2:$I$7593,2,0)","v":"가계대출"},"Household Loan","KRW","PRS",0,0,"1",0,{"$f":"VLOOKUP(K546,[1]EXRATE!C$3:F$43,4,0)","v":1},0,"N",173,"",0,0,"","","","","","R","HLS","020","T",20230926,160849,0.25,0,"PFS               AI80184   9998"]
["KR","HSBC",2,463099,413,null,"","PLL",{"$f":"VLOOKUP(H547,[2]SSIFSEP!$H$2:$I$7593,2,0)","v":"가계대출"},"Household Loan","KRW","PRS",0,0,"1",0,{"$f":"VLOOKUP(K547,[1]EXRATE!C$3:F$43,4,0)","v":1},0,"N",90,"",0,0,"","","","","","R","HLS","141","T",20230926,160849,0.25,0,"PFS               AI80160   9998"]
["KR","HSBC",2,464717,409,null,"","IIL",{"$f":"VLOOKUP(H548,[2]SSIFSEP!$H$2:$I$7593,2,0)","v":"가계대출"},"Household Loan","KRW","PRS",0,0,"1",0,{"$f":"VLOOKUP(K548,[1]EXRATE!C$3:F$43,4,0)","v":1},0,"N",166,"",0,0,"","","","","","R","HLS","020","F",20230926,160849,0,0,"PFS               AI80184   9998"]
["KR","HSBC",2,465086,409,null,"","IIL",{"$f":"VLOOKUP(H549,[2]SSIFSEP!$H$2:$I$7593,2,0)","v":"가계대출"},"Household Loan","KRW","PRS",0,0,"1",0,{"$f":"VLOOKUP(K549,[1]EXRATE!C$3:F$43,4,0)","v":1},{"$f":"+P549*Q549","v":0},"N",166,"",0,0,"","","","","","R","HLS","020","F",20230926,160849,0,0,"PFS               AI80184   9998"]
["KR","HSBC",2,465615,649,null,"","ILO",{"$f":"VLOOKUP(H550,[2]SSIFSEP!$H$2:$I$7593,2,0)","v":"가계대출"},"Household Loan","KRW","PRS",0,0,"1",0,{"$f":"VLOOKUP(K550,[1]EXRATE!C$3:F$43,4,0)","v":1},0,"N",173,"",0,0,"","","","","","R","HLS","020","T",20230926,160849,0.25,0,"PFS               AI80184   9998"]
["KR","HSBC",2,466365,649,null,"","ILO",{"$f":"VLOOKUP(H551,[2]SSIFSEP!$H$2:$I$7593,2,0)","v":"가계대출"},"Household Loan","KRW","PRS",0,0,"1",0,{"$f":"VLOOKUP(K551,[1]EXRATE!C$3:F$43,4,0)","v":1},0,"N",173,"",0,0,"","","","","","R","HLS","020","T",20230926,160849,0.25,0,"PFS               AI80184   9998"]
["KR","HSBC",2,472942,649,null,"","ILO",{"$f":"VLOOKUP(H552,[2]SSIFSEP!$H$2:$I$7593,2,0)","v":"가계대출"},"Household Loan","KRW","PRS",0,0,"1",0,{"$f":"VLOOKUP(K552,[1]EXRATE!C$3:F$43,4,0)","v":1},0,"N",173,"",0,0,"","","","","","R","HLS","020","T",20230926,160849,0.25,0,"PFS               AI80184   9998"]
["KR","HSBC",2,473007,649,null,"","ILO",{"$f":"VLOOKUP(H553,[2]SSIFSEP!$H$2:$I$7593,2,0)","v":"가계대출"},"Household Loan","KRW","PRS",0,0,"1",0,{"$f":"VLOOKUP(K553,[1]EXRATE!C$3:F$43,4,0)","v":1},0,"N",173,"",0,0,"","","","","","R","HLS","020","T",20230926,160849,0.25,0,"PFS               AI80184   9998"]
["KR","HSBC",2,473403,649,null,"","ILO",{"$f":"VLOOKUP(H554,[2]SSIFSEP!$H$2:$I$7593,2,0)","v":"가계대출"},"Household Loan","KRW","PRS",0,0,"1",0,{"$f":"VLOOKUP(K554,[1]EXRATE!C$3:F$43,4,0)","v":1},0,"N",173,"",0,0,"","","","","","R","HLS","020","T",20230926,160849,0.25,0,"PFS               AI80184   9998"]
["KR","HSBC",2,474195,901,null,"","IIL",{"$f":"VLOOKUP(H555,[2]SSIFSEP!$H$2:$I$7593,2,0)","v":"가계대출"},"Household Loan","KRW","PRS",0,0,"1",0,{"$f":"VLOOKUP(K555,[1]EXRATE!C$3:F$43,4,0)","v":1},0,"N",166,"",0,0,"","","","","","R","HLS","020","T",20230926,160849,0.25,0,"PFS               AI80184   9998"]
["KR","HSBC",2,474377,409,null,"","IIL",{"$f":"VLOOKUP(H556,[2]SSIFSEP!$H$2:$I$7593,2,0)","v":"가계대출"},"Household Loan","KRW","PRS",0,0,"1",0,{"$f":"VLOOKUP(K556,[1]EXRATE!C$3:F$43,4,0)","v":1},0,"N",166,"",0,0,"","","","","","R","HLS","020","T",20230926,160849,0.25,0,"PFS               AI80184   9998"]
["KR","HSBC",2,474401,649,null,"","ILO",{"$f":"VLOOKUP(H557,[2]SSIFSEP!$H$2:$I$7593,2,0)","v":"가계대출"},"Household Loan","KRW","PRS",0,0,"1",0,{"$f":"VLOOKUP(K557,[1]EXRATE!C$3:F$43,4,0)","v":1},0,"N",173,"",0,0,"","","","","","R","HLS","020","T",20230926,160849,0.25,0,"PFS               AI80184   9998"]
["KR","HSBC",2,477677,409,null,"","IIL",{"$f":"VLOOKUP(H558,[2]SSIFSEP!$H$2:$I$7593,2,0)","v":"가계대출"},"Household Loan","KRW","PRS",0,0,"1",0,{"$f":"VLOOKUP(K558,[1]EXRATE!C$3:F$43,4,0)","v":1},0,"N",166,"",0,0,"","","","","","R","HLS","020","T",20230926,160849,0.25,0,"PFS               AI80184   9998"]
["KR","HSBC",2,477685,649,null,"","ILO",{"$f":"VLOOKUP(H559,[2]SSIFSEP!$H$2:$I$7593,2,0)","v":"가계대출"},"Household Loan","KRW","PRS",0,0,"1",0,{"$f":"VLOOKUP(K559,[1]EXRATE!C$3:F$43,4,0)","v":1},0,"N",173,"",0,0,"","","","","","R","HLS","020","T",20230926,160849,0.25,0,"PFS               AI80184   9998"]
["KR","HSBC",2,480127,649,null,"","ILO",{"$f":"VLOOKUP(H560,[2]SSIFSEP!$H$2:$I$7593,2,0)","v":"가계대출"},"Household Loan","KRW","PRS",0,0,"1",0,{"$f":"VLOOKUP(K560,[1]EXRATE!C$3:F$43,4,0)","v":1},0,"N",173,"",0,0,"","","","","","R","HLS","020","T",20230926,160849,0.25,0,"PFS               AI80184   9998"]
["KR","HSBC",2,481174,649,null,"","ILO",{"$f":"VLOOKUP(H561,[2]SSIFSEP!$H$2:$I$7593,2,0)","v":"가계대출"},"Household Loan","KRW","PRS",0,0,"1",0,{"$f":"VLOOKUP(K561,[1]EXRATE!C$3:F$43,4,0)","v":1},0,"N",173,"",0,0,"","","","","","R","HLS","020","T",20230926,160849,0.25,0,"PFS               AI80184   9998"]
["KR","HSBC",2,482610,207,null,"","RML",{"$f":"VLOOKUP(H562,[2]SSIFSEP!$H$2:$I$7593,2,0)","v":"가계대출"},"Household Loan","KRW","PRS",0,0,"2R",0,{"$f":"VLOOKUP(K562,[1]EXRATE!C$3:F$43,4,0)","v":1},0,"N",92,"",0,0,"","","","","","R","HLS","141","J",20230926,160849,0,0,"PFS               AI80160   9998"]
["KR","HSBC",2,484434,409,null,"","IIL",{"$f":"VLOOKUP(H563,[2]SSIFSEP!$H$2:$I$7593,2,0)","v":"가계대출"},"Household Loan","KRW","PRS",0,0,"1",0,{"$f":"VLOOKUP(K563,[1]EXRATE!C$3:F$43,4,0)","v":1},0,"N",166,"",0,0,"","","","","","R","HLS","020","T",20230926,160849,0.25,0,"PFS               AI80184   9998"]
["KR","HSBC",2,488427,409,null,"","IIL",{"$f":"VLOOKUP(H564,[2]SSIFSEP!$H$2:$I$7593,2,0)","v":"가계대출"},"Household Loan","KRW","PRS",0,0,"1",0,{"$f":"VLOOKUP(K564,[1]EXRATE!C$3:F$43,4,0)","v":1},0,"N",166,"",0,0,"","","","","","R","HLS","020","T",20230926,160849,0.25,0,"PFS               AI80184   9998"]
["KR","HSBC",2,489805,649,null,"","ILO",{"$f":"VLOOKUP(H565,[2]SSIFSEP!$H$2:$I$7593,2,0)","v":"가계대출"},"Household Loan","KRW","PRS",0,0,"1",0,{"$f":"VLOOKUP(K565,[1]EXRATE!C$3:F$43,4,0)","v":1},0,"N",173,"",0,0,"","","","","","R","HLS","020","T",20230926,160849,0.25,0,"PFS               AI80184   9998"]
["KR","HSBC",2,491181,649,null,"","ILO",{"$f":"VLOOKUP(H566,[2]SSIFSEP!$H$2:$I$7593,2,0)","v":"가계대출"},"Household Loan","KRW","PRS",0,0,"1",0,{"$f":"VLOOKUP(K566,[1]EXRATE!C$3:F$43,4,0)","v":1},0,"N",173,"",0,0,"","","","","","R","HLS","020","T",20230926,160849,0.25,0,"PFS               AI80184   9998"]
["KR","HSBC",2,491405,695,null,"","DWL",{"$f":"VLOOKUP(H567,[2]SSIFSEP!$H$2:$I$7593,2,0)","v":"가계대출"},"Household Loan","KRW","PRS",0,0,"3",0,{"$f":"VLOOKUP(K567,[1]EXRATE!C$3:F$43,4,0)","v":1},0,"Y",154,"",0,0,"","","","","","R","HLS","020","T",20230926,160849,100,0,"PFS               AI80184   9998"]
["KR","HSBC",2,491660,649,null,"","ILO",{"$f":"VLOOKUP(H568,[2]SSIFSEP!$H$2:$I$7593,2,0)","v":"가계대출"},"Household Loan","KRW","PRS",0,0,"1",0,{"$f":"VLOOKUP(K568,[1]EXRATE!C$3:F$43,4,0)","v":1},0,"N",173,"",0,0,"","","","","","R","HLS","020","T",20230926,160849,0.25,0,"PFS               AI80184   9998"]
["KR","HSBC",2,492213,649,null,"","ILO",{"$f":"VLOOKUP(H569,[2]SSIFSEP!$H$2:$I$7593,2,0)","v":"가계대출"},"Household Loan","KRW","PRS",0,0,"1",0,{"$f":"VLOOKUP(K569,[1]EXRATE!C$3:F$43,4,0)","v":1},0,"N",173,"",0,0,"","","","","","R","HLS","020","T",20230926,160849,0.25,0,"PFS               AI80184   9998"]
["KR","HSBC",2,492775,649,null,"","ILO",{"$f":"VLOOKUP(H570,[2]SSIFSEP!$H$2:$I$7593,2,0)","v":"가계대출"},"Household Loan","KRW","PRS",0,0,"1",0,{"$f":"VLOOKUP(K570,[1]EXRATE!C$3:F$43,4,0)","v":1},0,"N",173,"",0,0,"","","","","","R","HLS","020","T",20230926,160849,0.25,0,"PFS               AI80184   9998"]
["KR","HSBC",2,493070,207,null,"","RML",{"$f":"VLOOKUP(H571,[2]SSIFSEP!$H$2:$I$7593,2,0)","v":"가계대출"},"Household Loan","KRW","PRS",0,0,"1",0,{"$f":"VLOOKUP(K571,[1]EXRATE!C$3:F$43,4,0)","v":1},0,"N",91,"",0,0,"","","","","","R","HLS","140","T",20230926,160849,0.25,0,"PFS               AI80160   9998"]
["KR","HSBC",2,494169,714,null,"","ILS",{"$f":"VLOOKUP(H572,[2]SSIFSEP!$H$2:$I$7593,2,0)","v":"가계대출"},"Household Loan","KRW","PRS",0,0,"1",0,{"$f":"VLOOKUP(K572,[1]EXRATE!C$3:F$43,4,0)","v":1},0,"N",174,"",0,0,"","","","","","R","HLS","020","T",20230926,160849,0.25,0,"PFS               AI80184   9998"]
["KR","HSBC",2,494409,409,null,"","IIL",{"$f":"VLOOKUP(H573,[2]SSIFSEP!$H$2:$I$7593,2,0)","v":"가계대출"},"Household Loan","KRW","PRS",0,0,"1",0,{"$f":"VLOOKUP(K573,[1]EXRATE!C$3:F$43,4,0)","v":1},0,"N",166,"",0,0,"","","","","","R","HLS","020","T",20230926,160849,0.25,0,"PFS               AI80184   9998"]
["KR","HSBC",2,494540,649,null,"","ILO",{"$f":"VLOOKUP(H574,[2]SSIFSEP!$H$2:$I$7593,2,0)","v":"가계대출"},"Household Loan","KRW","PRS",0,0,"1",0,{"$f":"VLOOKUP(K574,[1]EXRATE!C$3:F$43,4,0)","v":1},0,"N",173,"",0,0,"","","","","","R","HLS","020","T",20230926,160849,0.25,0,"PFS               AI80184   9998"]
["KR","HSBC",2,497196,409,null,"","IIL",{"$f":"VLOOKUP(H575,[2]SSIFSEP!$H$2:$I$7593,2,0)","v":"가계대출"},"Household Loan","KRW","PRS",0,0,"1",0,{"$f":"VLOOKUP(K575,[1]EXRATE!C$3:F$43,4,0)","v":1},0,"N",166,"",0,0,"","","","","","R","HLS","020","T",20230926,160849,0.25,0,"PFS               AI80184   9998"]
["KR","HSBC",2,498822,882,null,"","HM1",{"$f":"VLOOKUP(H576,[2]SSIFSEP!$H$2:$I$7593,2,0)","v":"가계대출"},"Household Loan","KRW","PRS",0,0,"1",0,{"$f":"VLOOKUP(K576,[1]EXRATE!C$3:F$43,4,0)","v":1},0,"N",87,"",0,0,"","","","","","R","HLS","141","J",20230926,160849,0.25,0,"PFS               AI80160   9998"]
["KR","HSBC",2,499960,409,null,"","IIL",{"$f":"VLOOKUP(H577,[2]SSIFSEP!$H$2:$I$7593,2,0)","v":"가계대출"},"Household Loan","KRW","PRS",0,0,"1",0,{"$f":"VLOOKUP(K577,[1]EXRATE!C$3:F$43,4,0)","v":1},0,"N",166,"",0,0,"","","","","","R","HLS","020","T",20230926,160849,0.25,0,"PFS               AI80184   9998"]
["KR","HSBC",2,500676,409,null,"","IIL",{"$f":"VLOOKUP(H578,[2]SSIFSEP!$H$2:$I$7593,2,0)","v":"가계대출"},"Household Loan","KRW","PRS",0,0,"1",0,{"$f":"VLOOKUP(K578,[1]EXRATE!C$3:F$43,4,0)","v":1},0,"N",166,"",0,0,"","","","","","R","HLS","020","T",20230926,160849,0.25,0,"PFS               AI80184   9998"]
["KR","HSBC",2,501765,882,null,"","HM1",{"$f":"VLOOKUP(H579,[2]SSIFSEP!$H$2:$I$7593,2,0)","v":"가계대출"},"Household Loan","KRW","PRS",0,0,"1",0,{"$f":"VLOOKUP(K579,[1]EXRATE!C$3:F$43,4,0)","v":1},0,"N",87,"",0,0,"","","","","","R","HLS","140","I",20230926,160849,0.25,0,"PFS               AI80160   9998"]
["KR","HSBC",2,502011,649,null,"","ILO",{"$f":"VLOOKUP(H580,[2]SSIFSEP!$H$2:$I$7593,2,0)","v":"가계대출"},"Household Loan","KRW","PRS",0,0,"1",0,{"$f":"VLOOKUP(K580,[1]EXRATE!C$3:F$43,4,0)","v":1},0,"N",173,"",0,0,"","","","","","R","HLS","020","T",20230926,160849,0.25,0,"PFS               AI80184   9998"]
["KR","HSBC",2,505857,409,null,"","IIL",{"$f":"VLOOKUP(H581,[2]SSIFSEP!$H$2:$I$7593,2,0)","v":"가계대출"},"Household Loan","KRW","PRS",0,0,"1",0,{"$f":"VLOOKUP(K581,[1]EXRATE!C$3:F$43,4,0)","v":1},0,"N",166,"",0,0,"","","","","","R","HLS","020","T",20230926,160849,0.25,0,"PFS               AI80184   9998"]
["KR","HSBC",2,508794,714,null,"","ILS",{"$f":"VLOOKUP(H582,[2]SSIFSEP!$H$2:$I$7593,2,0)","v":"가계대출"},"Household Loan","KRW","PRS",0,0,"1",0,{"$f":"VLOOKUP(K582,[1]EXRATE!C$3:F$43,4,0)","v":1},0,"N",174,"",0,0,"","","","","","R","HLS","020","T",20230926,160849,0.25,0,"PFS               AI80184   9998"]
["KR","HSBC",2,509461,409,null,"","IIL",{"$f":"VLOOKUP(H583,[2]SSIFSEP!$H$2:$I$7593,2,0)","v":"가계대출"},"Household Loan","KRW","PRS",0,0,"1",0,{"$f":"VLOOKUP(K583,[1]EXRATE!C$3:F$43,4,0)","v":1},0,"N",166,"",0,0,"","","","","","R","HLS","020","T",20230926,160849,0.25,0,"PFS               AI80184   9998"]
["KR","HSBC",2,510832,409,null,"","IIL",{"$f":"VLOOKUP(H584,[2]SSIFSEP!$H$2:$I$7593,2,0)","v":"가계대출"},"Household Loan","KRW","PRS",0,0,"1",0,{"$f":"VLOOKUP(K584,[1]EXRATE!C$3:F$43,4,0)","v":1},0,"N",166,"",0,0,"","","","","","R","HLS","020","T",20230926,160849,0.25,0,"PFS               AI80184   9998"]
["KR","HSBC",2,511517,409,null,"","IIL",{"$f":"VLOOKUP(H585,[2]SSIFSEP!$H$2:$I$7593,2,0)","v":"가계대출"},"Household Loan","KRW","PRS",0,0,"1",0,{"$f":"VLOOKUP(K585,[1]EXRATE!C$3:F$43,4,0)","v":1},0,"N",166,"",0,0,"","","","","","R","HLS","020","T",20230926,160849,0.25,0,"PFS               AI80184   9998"]
["KR","HSBC",2,511848,409,null,"","IIL",{"$f":"VLOOKUP(H586,[2]SSIFSEP!$H$2:$I$7593,2,0)","v":"가계대출"},"Household Loan","KRW","PRS",0,0,"1",0,{"$f":"VLOOKUP(K586,[1]EXRATE!C$3:F$43,4,0)","v":1},0,"N",166,"",0,0,"","","","","","R","HLS","020","T",20230926,160849,0.25,0,"PFS               AI80184   9998"]
["KR","HSBC",2,512481,409,null,"","IIL",{"$f":"VLOOKUP(H587,[2]SSIFSEP!$H$2:$I$7593,2,0)","v":"가계대출"},"Household Loan","KRW","PRS",0,0,"1",0,{"$f":"VLOOKUP(K587,[1]EXRATE!C$3:F$43,4,0)","v":1},0,"N",166,"",0,0,"","","","","","R","HLS","020","T",20230926,160849,0.25,0,"PFS               AI80184   9998"]
["KR","HSBC",2,512606,882,null,"","HM1",{"$f":"VLOOKUP(H588,[2]SSIFSEP!$H$2:$I$7593,2,0)","v":"가계대출"},"Household Loan","KRW","PRS",0,0,"1",0,{"$f":"VLOOKUP(K588,[1]EXRATE!C$3:F$43,4,0)","v":1},0,"N",87,"",0,0,"","","","","","R","HLS","140","J",20230926,160849,0.25,0,"PFS               AI80160   9998"]
["KR","HSBC",2,514263,409,null,"","IIL",{"$f":"VLOOKUP(H589,[2]SSIFSEP!$H$2:$I$7593,2,0)","v":"가계대출"},"Household Loan","KRW","PRS",0,0,"1",0,{"$f":"VLOOKUP(K589,[1]EXRATE!C$3:F$43,4,0)","v":1},0,"N",166,"",0,0,"","","","","","R","HLS","020","D",20230926,160849,0,0,"PFS               AI80184   9998"]
["KR","HSBC",2,519825,882,null,"","HM1",{"$f":"VLOOKUP(H590,[2]SSIFSEP!$H$2:$I$7593,2,0)","v":"가계대출"},"Household Loan","KRW","PRS",0,0,"1",0,{"$f":"VLOOKUP(K590,[1]EXRATE!C$3:F$43,4,0)","v":1},0,"N",87,"",0,0,"","","","","","R","HLS","141","J",20230926,160849,0.25,0,"PFS               AI80160   9998"]
["KR","HSBC",2,523785,409,null,"","IIL",{"$f":"VLOOKUP(H591,[2]SSIFSEP!$H$2:$I$7593,2,0)","v":"가계대출"},"Household Loan","KRW","PRS",0,0,"1",0,{"$f":"VLOOKUP(K591,[1]EXRATE!C$3:F$43,4,0)","v":1},0,"N",166,"",0,0,"","","","","","R","HLS","020","T",20230926,160849,0.25,0,"PFS               AI80184   9998"]
["KR","HSBC",2,530848,714,null,"","ILS",{"$f":"VLOOKUP(H592,[2]SSIFSEP!$H$2:$I$7593,2,0)","v":"가계대출"},"Household Loan","KRW","PRS",0,0,"1",0,{"$f":"VLOOKUP(K592,[1]EXRATE!C$3:F$43,4,0)","v":1},0,"N",174,"",0,0,"","","","","","R","HLS","020","T",20230926,160849,0.25,0,"PFS               AI80184   9998"]
["KR","HSBC",2,539112,882,null,"","HM1",{"$f":"VLOOKUP(H593,[2]SSIFSEP!$H$2:$I$7593,2,0)","v":"가계대출"},"Household Loan","KRW","PRS",0,0,"1",0,{"$f":"VLOOKUP(K593,[1]EXRATE!C$3:F$43,4,0)","v":1},0,"N",87,"",0,0,"","","","","","R","HLS","140","J",20230926,160849,0.25,0,"PFS               AI80160   9998"]
["KR","HSBC",2,549335,208,null,"","AL4",{"$f":"VLOOKUP(H594,[2]SSIFSEP!$H$2:$I$7593,2,0)","v":"가계대출"},"Household Loan","KRW","PRS",0,0,"1",0,{"$f":"VLOOKUP(K594,[1]EXRATE!C$3:F$43,4,0)","v":1},0,"N",149,"",0,0,"","","","","","R","HLS","020","T",20230926,160849,0.25,0,"PFS               AI80184   9998"]
["KR","HSBC",2,551612,208,null,"","AL4",{"$f":"VLOOKUP(H595,[2]SSIFSEP!$H$2:$I$7593,2,0)","v":"가계대출"},"Household Loan","KRW","PRS",0,0,"1",0,{"$f":"VLOOKUP(K595,[1]EXRATE!C$3:F$43,4,0)","v":1},0,"N",149,"",0,0,"","","","","","R","HLS","020","G",20230926,160849,0,0,"PFS               AI80184   9998"]
["KR","HSBC",2,555472,208,null,"","AL4",{"$f":"VLOOKUP(H596,[2]SSIFSEP!$H$2:$I$7593,2,0)","v":"가계대출"},"Household Loan","KRW","PRS",0,0,"1",0,{"$f":"VLOOKUP(K596,[1]EXRATE!C$3:F$43,4,0)","v":1},0,"N",149,"",0,0,"","","","","","R","HLS","020","G",20230926,160849,0,0,"PFS               AI80184   9998"]
["KR","HSBC",2,557643,809,null,"","AL3",{"$f":"VLOOKUP(H597,[2]SSIFSEP!$H$2:$I$7593,2,0)","v":"가계대출"},"Household Loan","KRW","PRS",0,0,"1",0,{"$f":"VLOOKUP(K597,[1]EXRATE!C$3:F$43,4,0)","v":1},0,"N",148,"",0,0,"","","","","","R","HLS","020","T",20230926,160849,0.25,0,"PFS               AI80184   9998"]
["KR","HSBC",2,559284,208,null,"","AL4",{"$f":"VLOOKUP(H598,[2]SSIFSEP!$H$2:$I$7593,2,0)","v":"가계대출"},"Household Loan","KRW","PRS",0,0,"1",0,{"$f":"VLOOKUP(K598,[1]EXRATE!C$3:F$43,4,0)","v":1},0,"N",149,"",0,0,"","","","","","R","HLS","020","I",20230926,160849,0,0,"PFS               AI80184   9998"]
["KR","HSBC",2,559383,208,null,"","AL4",{"$f":"VLOOKUP(H599,[2]SSIFSEP!$H$2:$I$7593,2,0)","v":"가계대출"},"Household Loan","KRW","PRS",0,0,"1",0,{"$f":"VLOOKUP(K599,[1]EXRATE!C$3:F$43,4,0)","v":1},0,"N",149,"",0,0,"","","","","","R","HLS","020","G",20230926,160849,0,0,"PFS               AI80184   9998"]
["KR","HSBC",2,559854,809,null,"","AL3",{"$f":"VLOOKUP(H600,[2]SSIFSEP!$H$2:$I$7593,2,0)","v":"가계대출"},"Household Loan","KRW","PRS",0,0,"1",0,{"$f":"VLOOKUP(K600,[1]EXRATE!C$3:F$43,4,0)","v":1},0,"N",148,"",0,0,"","","","","","R","HLS","020","I",20230926,160849,0,0,"PFS               AI80184   9998"]
["KR","HSBC",2,561777,208,null,"","AL4",{"$f":"VLOOKUP(H601,[2]SSIFSEP!$H$2:$I$7593,2,0)","v":"가계대출"},"Household Loan","KRW","PRS",0,0,"1",0,{"$f":"VLOOKUP(K601,[1]EXRATE!C$3:F$43,4,0)","v":1},0,"N",149,"",0,0,"","","","","","R","HLS","020","T",20230926,160849,0.25,0,"PFS               AI80184   9998"]
["KR","HSBC",2,561991,714,null,"","ILS",{"$f":"VLOOKUP(H602,[2]SSIFSEP!$H$2:$I$7593,2,0)","v":"가계대출"},"Household Loan","KRW","PRS",0,0,"1",0,{"$f":"VLOOKUP(K602,[1]EXRATE!C$3:F$43,4,0)","v":1},0,"N",174,"",0,0,"","","","","","R","HLS","020","Q",20230926,160849,0,0,"PFS               AI80184   9998"]
["KR","HSBC",2,562247,208,null,"","AL4",{"$f":"VLOOKUP(H603,[2]SSIFSEP!$H$2:$I$7593,2,0)","v":"가계대출"},"Household Loan","KRW","PRS",0,0,"1",0,{"$f":"VLOOKUP(K603,[1]EXRATE!C$3:F$43,4,0)","v":1},0,"N",149,"",0,0,"","","","","","R","HLS","020","T",20230926,160849,0.25,0,"PFS               AI80184   9998"]
["KR","HSBC",2,563492,714,null,"","ILS",{"$f":"VLOOKUP(H604,[2]SSIFSEP!$H$2:$I$7593,2,0)","v":"가계대출"},"Household Loan","KRW","PRS",0,0,"1",0,{"$f":"VLOOKUP(K604,[1]EXRATE!C$3:F$43,4,0)","v":1},0,"N",174,"",0,0,"","","","","","R","HLS","020","T",20230926,160849,0.25,0,"PFS               AI80184   9998"]
["KR","HSBC",2,564441,882,null,"","HM1",{"$f":"VLOOKUP(H605,[2]SSIFSEP!$H$2:$I$7593,2,0)","v":"가계대출"},"Household Loan","KRW","PRS",0,0,"1",0,{"$f":"VLOOKUP(K605,[1]EXRATE!C$3:F$43,4,0)","v":1},0,"N",87,"",0,0,"","","","","","R","HLS","140","J",20230926,160849,0.25,0,"PFS               AI80160   9998"]
["KR","HSBC",2,564896,208,null,"","AL4",{"$f":"VLOOKUP(H606,[2]SSIFSEP!$H$2:$I$7593,2,0)","v":"가계대출"},"Household Loan","KRW","PRS",0,0,"1",0,{"$f":"VLOOKUP(K606,[1]EXRATE!C$3:F$43,4,0)","v":1},0,"N",149,"",0,0,"","","","","","R","HLS","020","T",20230926,160849,0.25,0,"PFS               AI80184   9998"]
["KR","HSBC",2,566537,809,null,"","AL3",{"$f":"VLOOKUP(H607,[2]SSIFSEP!$H$2:$I$7593,2,0)","v":"가계대출"},"Household Loan","KRW","PRS",0,0,"1",0,{"$f":"VLOOKUP(K607,[1]EXRATE!C$3:F$43,4,0)","v":1},0,"N",148,"",0,0,"","","","","","R","HLS","020","T",20230926,160849,0.25,0,"PFS               AI80184   9998"]
["KR","HSBC",2,569473,714,null,"","ILS",{"$f":"VLOOKUP(H608,[2]SSIFSEP!$H$2:$I$7593,2,0)","v":"가계대출"},"Household Loan","KRW","PRS",0,0,"1",0,{"$f":"VLOOKUP(K608,[1]EXRATE!C$3:F$43,4,0)","v":1},0,"N",174,"",0,0,"","","","","","R","HLS","020","T",20230926,160849,0.25,0,"PFS               AI80184   9998"]
["KR","HSBC",2,570430,208,null,"","AL4",{"$f":"VLOOKUP(H609,[2]SSIFSEP!$H$2:$I$7593,2,0)","v":"가계대출"},"Household Loan","KRW","PRS",0,0,"1",0,{"$f":"VLOOKUP(K609,[1]EXRATE!C$3:F$43,4,0)","v":1},0,"N",149,"",0,0,"","","","","","R","HLS","020","T",20230926,160849,0.25,0,"PFS               AI80184   9998"]
["KR","HSBC",2,571586,208,null,"","AL4",{"$f":"VLOOKUP(H610,[2]SSIFSEP!$H$2:$I$7593,2,0)","v":"가계대출"},"Household Loan","KRW","PRS",0,0,"1",0,{"$f":"VLOOKUP(K610,[1]EXRATE!C$3:F$43,4,0)","v":1},0,"N",149,"",0,0,"","","","","","R","HLS","020","T",20230926,160849,0.25,0,"PFS               AI80184   9998"]
["KR","HSBC",2,571941,208,null,"","AL4",{"$f":"VLOOKUP(H611,[2]SSIFSEP!$H$2:$I$7593,2,0)","v":"가계대출"},"Household Loan","KRW","PRS",0,0,"1",0,{"$f":"VLOOKUP(K611,[1]EXRATE!C$3:F$43,4,0)","v":1},0,"N",149,"",0,0,"","","","","","R","HLS","020","I",20230926,160849,0,0,"PFS               AI80184   9998"]
["KR","HSBC",2,579175,882,null,"","HM1",{"$f":"VLOOKUP(H612,[2]SSIFSEP!$H$2:$I$7593,2,0)","v":"가계대출"},"Household Loan","KRW","PRS",0,0,"1",0,{"$f":"VLOOKUP(K612,[1]EXRATE!C$3:F$43,4,0)","v":1},0,"N",87,"",0,0,"","","","","","R","HLS","141","J",20230926,160849,0.25,0,"PFS               AI80160   9998"]
["KR","HSBC",2,582542,715,null,"","ILS",{"$f":"VLOOKUP(H613,[2]SSIFSEP!$H$2:$I$7593,2,0)","v":"가계대출"},"Household Loan","KRW","PRS",0,0,"1",0,{"$f":"VLOOKUP(K613,[1]EXRATE!C$3:F$43,4,0)","v":1},{"$f":"+P613*Q613","v":0},"N",174,"",0,0,"","","","","","R","HLS","020","T",20230926,160849,0.25,0,"PFS               AI80184   9998"]
["KR","HSBC",2,589711,208,null,"","AL4",{"$f":"VLOOKUP(H614,[2]SSIFSEP!$H$2:$I$7593,2,0)","v":"가계대출"},"Household Loan","KRW","PRS",0,0,"1",0,{"$f":"VLOOKUP(K614,[1]EXRATE!C$3:F$43,4,0)","v":1},0,"N",149,"",0,0,"","","","","","R","HLS","020","T",20230926,160849,0.25,0,"PFS               AI80184   9998"]
["KR","HSBC",2,594018,208,null,"","AL4",{"$f":"VLOOKUP(H615,[2]SSIFSEP!$H$2:$I$7593,2,0)","v":"가계대출"},"Household Loan","KRW","PRS",0,0,"1",0,{"$f":"VLOOKUP(K615,[1]EXRATE!C$3:F$43,4,0)","v":1},0,"N",149,"",0,0,"","","","","","R","HLS","020","T",20230926,160849,0.25,0,"PFS               AI80184   9998"]
["KR","HSBC",2,597318,882,null,"","HM1",{"$f":"VLOOKUP(H616,[2]SSIFSEP!$H$2:$I$7593,2,0)","v":"가계대출"},"Household Loan","KRW","PRS",0,0,"1",0,{"$f":"VLOOKUP(K616,[1]EXRATE!C$3:F$43,4,0)","v":1},0,"N",87,"",0,0,"","","","","","R","HLS","141","J",20230926,160849,0.25,0,"PFS               AI80160   9998"]
["KR","HSBC",2,611952,208,null,"","AL4",{"$f":"VLOOKUP(H617,[2]SSIFSEP!$H$2:$I$7593,2,0)","v":"가계대출"},"Household Loan","KRW","PRS",0,0,"1",0,{"$f":"VLOOKUP(K617,[1]EXRATE!C$3:F$43,4,0)","v":1},0,"N",149,"",0,0,"","","","","","R","HLS","020","H",20230926,160849,0,0,"PFS               AI80184   9998"]
["KR","HSBC",2,613487,208,null,"","AL4",{"$f":"VLOOKUP(H618,[2]SSIFSEP!$H$2:$I$7593,2,0)","v":"가계대출"},"Household Loan","KRW","PRS",0,0,"1",0,{"$f":"VLOOKUP(K618,[1]EXRATE!C$3:F$43,4,0)","v":1},0,"N",149,"",0,0,"","","","","","R","HLS","020","T",20230926,160849,0.25,0,"PFS               AI80184   9998"]
["KR","HSBC",2,613818,809,null,"","AL3",{"$f":"VLOOKUP(H619,[2]SSIFSEP!$H$2:$I$7593,2,0)","v":"가계대출"},"Household Loan","KRW","PRS",0,0,"1",0,{"$f":"VLOOKUP(K619,[1]EXRATE!C$3:F$43,4,0)","v":1},0,"N",148,"",0,0,"","","","","","R","HLS","020","T",20230926,160849,0.25,0,"PFS               AI80184   9998"]
["KR","HSBC",2,614592,882,null,"","HM1",{"$f":"VLOOKUP(H620,[2]SSIFSEP!$H$2:$I$7593,2,0)","v":"가계대출"},"Household Loan","KRW","PRS",0,0,"1",0,{"$f":"VLOOKUP(K620,[1]EXRATE!C$3:F$43,4,0)","v":1},0,"N",87,"",0,0,"","","","","","R","HLS","141","J",20230926,160849,0.25,0,"PFS               AI80160   9998"]
["KR","HSBC",2,621456,208,null,"","AL4",{"$f":"VLOOKUP(H621,[2]SSIFSEP!$H$2:$I$7593,2,0)","v":"가계대출"},"Household Loan","KRW","PRS",0,0,"1",0,{"$f":"VLOOKUP(K621,[1]EXRATE!C$3:F$43,4,0)","v":1},0,"N",149,"",0,0,"","","","","","R","HLS","020","H",20230926,160849,0,0,"PFS               AI80184   9998"]
["KR","HSBC",2,624369,882,null,"","HM1",{"$f":"VLOOKUP(H622,[2]SSIFSEP!$H$2:$I$7593,2,0)","v":"가계대출"},"Household Loan","KRW","PRS",0,0,"1",0,{"$f":"VLOOKUP(K622,[1]EXRATE!C$3:F$43,4,0)","v":1},0,"N",87,"",0,0,"","","","","","R","HLS","141","J",20230926,160849,0.25,0,"PFS               AI80160   9998"]
["KR","HSBC",2,625572,208,null,"","AL4",{"$f":"VLOOKUP(H623,[2]SSIFSEP!$H$2:$I$7593,2,0)","v":"가계대출"},"Household Loan","KRW","PRS",0,0,"1",0,{"$f":"VLOOKUP(K623,[1]EXRATE!C$3:F$43,4,0)","v":1},0,"N",149,"",0,0,"","","","","","R","HLS","020","T",20230926,160849,0.25,0,"PFS               AI80184   9998"]
["KR","HSBC",2,630978,714,null,"","ILS",{"$f":"VLOOKUP(H624,[2]SSIFSEP!$H$2:$I$7593,2,0)","v":"가계대출"},"Household Loan","KRW","PRS",0,0,"1",0,{"$f":"VLOOKUP(K624,[1]EXRATE!C$3:F$43,4,0)","v":1},0,"N",174,"",0,0,"","","","","","R","HLS","020","T",20230926,160849,0.25,0,"PFS               AI80184   9998"]
["KR","HSBC",2,636132,882,null,"","HM1",{"$f":"VLOOKUP(H625,[2]SSIFSEP!$H$2:$I$7593,2,0)","v":"가계대출"},"Household Loan","KRW","PRS",0,0,"1",0,{"$f":"VLOOKUP(K625,[1]EXRATE!C$3:F$43,4,0)","v":1},0,"N",87,"",0,0,"","","","","","R","HLS","141","J",20230926,160849,0.25,0,"PFS               AI80160   9998"]
["KR","HSBC",2,637569,882,null,"","HM1",{"$f":"VLOOKUP(H626,[2]SSIFSEP!$H$2:$I$7593,2,0)","v":"가계대출"},"Household Loan","KRW","PRS",0,0,"1",0,{"$f":"VLOOKUP(K626,[1]EXRATE!C$3:F$43,4,0)","v":1},0,"N",87,"",0,0,"","","","","","R","HLS","141","J",20230926,160849,0.25,0,"PFS               AI80160   9998"]
["KR","HSBC",2,641041,208,null,"","AL4",{"$f":"VLOOKUP(H627,[2]SSIFSEP!$H$2:$I$7593,2,0)","v":"가계대출"},"Household Loan","KRW","PRS",0,0,"1",0,{"$f":"VLOOKUP(K627,[1]EXRATE!C$3:F$43,4,0)","v":1},0,"N",149,"",0,0,"","","","","","R","HLS","020","G",20230926,160849,0,0,"PFS               AI80184   9998"]
["KR","HSBC",2,643500,208,null,"","AL4",{"$f":"VLOOKUP(H628,[2]SSIFSEP!$H$2:$I$7593,2,0)","v":"가계대출"},"Household Loan","KRW","PRS",0,0,"1",0,{"$f":"VLOOKUP(K628,[1]EXRATE!C$3:F$43,4,0)","v":1},0,"N",149,"",0,0,"","","","","","R","HLS","020","T",20230926,160849,0.25,0,"PFS               AI80184   9998"]
["KR","HSBC",2,649945,900,null,"","AL4",{"$f":"VLOOKUP(H629,[2]SSIFSEP!$H$2:$I$7593,2,0)","v":"가계대출"},"Household Loan","KRW","PRS",0,0,"1",0,{"$f":"VLOOKUP(K629,[1]EXRATE!C$3:F$43,4,0)","v":1},0,"N",149,"",0,0,"","","","","","R","HLS","020","T",20230926,160849,0.25,0,"PFS               AI80184   9998"]
["KR","HSBC",2,650745,882,null,"","HM1",{"$f":"VLOOKUP(H630,[2]SSIFSEP!$H$2:$I$7593,2,0)","v":"가계대출"},"Household Loan","KRW","PRS",0,0,"1",0,{"$f":"VLOOKUP(K630,[1]EXRATE!C$3:F$43,4,0)","v":1},0,"N",87,"",0,0,"","","","","","R","HLS","141","J",20230926,160849,0.25,0,"PFS               AI80160   9998"]
["KR","HSBC",2,659415,208,null,"","AL4",{"$f":"VLOOKUP(H631,[2]SSIFSEP!$H$2:$I$7593,2,0)","v":"가계대출"},"Household Loan","KRW","PRS",0,0,"1",0,{"$f":"VLOOKUP(K631,[1]EXRATE!C$3:F$43,4,0)","v":1},0,"N",149,"",0,0,"","","","","","R","HLS","020","T",20230926,160849,0.25,0,"PFS               AI80184   9998"]
["KR","HSBC",2,663276,882,null,"","HM1",{"$f":"VLOOKUP(H632,[2]SSIFSEP!$H$2:$I$7593,2,0)","v":"가계대출"},"Household Loan","KRW","PRS",0,0,"1",0,{"$f":"VLOOKUP(K632,[1]EXRATE!C$3:F$43,4,0)","v":1},0,"N",87,"",0,0,"","","","","","R","HLS","141","J",20230926,160849,0.25,0,"PFS               AI80160   9998"]
["KR","HSBC",2,665495,276,null,"","FLN","KRW Corporate Loan","COP KRW Corporate Loan","KRW","MFS",2.2000000000000002,0,"1",0,{"$f":"VLOOKUP(K633,[1]EXRATE!C$3:F$43,4,0)","v":1},0,"",165,"",0,0,"","","","","","W","HLS","120","G",20230926,160849,0.02,53.284999999999997,"CIBM              AI80184"]
["KR","HSBC",2,666568,883,null,"","HM1",{"$f":"VLOOKUP(H634,[2]SSIFSEP!$H$2:$I$7593,2,0)","v":"가계대출"},"Household Loan","KRW","PRS",0,0,"1",0,{"$f":"VLOOKUP(K634,[1]EXRATE!C$3:F$43,4,0)","v":1},0,"N",87,"",0,0,"","","","","","R","HLS","140","J",20230926,160849,0.25,0,"PFS               AI80160   9998"]
["KR","HSBC",2,678555,882,null,"","HM1",{"$f":"VLOOKUP(H635,[2]SSIFSEP!$H$2:$I$7593,2,0)","v":"가계대출"},"Household Loan","KRW","PRS",0,0,"1",0,{"$f":"VLOOKUP(K635,[1]EXRATE!C$3:F$43,4,0)","v":1},0,"N",87,"",0,0,"","","","","","R","HLS","140","J",20230926,160849,0.25,0,"PFS               AI80160   9998"]
["KR","HSBC",2,729721,882,null,"","HM1",{"$f":"VLOOKUP(H636,[2]SSIFSEP!$H$2:$I$7593,2,0)","v":"가계대출"},"Household Loan","KRW","PRS",0,0,"1",0,{"$f":"VLOOKUP(K636,[1]EXRATE!C$3:F$43,4,0)","v":1},0,"N",87,"",0,0,"","","","","","R","HLS","141","J",20230926,160849,0.25,0,"PFS               AI80160   9998"]
["KR","HSBC",2,748630,882,null,"","HM1",{"$f":"VLOOKUP(H637,[2]SSIFSEP!$H$2:$I$7593,2,0)","v":"가계대출"},"Household Loan","KRW","PRS",0,0,"1",0,{"$f":"VLOOKUP(K637,[1]EXRATE!C$3:F$43,4,0)","v":1},0,"N",87,"",0,0,"","","","","","R","HLS","151","J",20230926,160849,0.25,0,"PFS               AI80160   9998"]
["KR","HSBC",2,769768,640,null,"","IIN","Offshore Foreign Currency Loan","Offshore Foreign Currency Loan","USD","C11",9,0,"3",0,{"$f":"VLOOKUP(K638,[1]EXRATE!C$3:F$43,4,0)","v":1344.8},{"$f":"+P638*Q638/100","v":0},"Y",167,"",0.91420000000000001,0,"","","","","","W","HLS","080","J",20230926,160849,100,45.145000000000003,"CIBM              AI80184"]
["KR","HSBC",2,769768,920,null,"","IIN","Offshore Foreign Currency Loan","Offshore Foreign Currency Loan","USD","C11",9,0,"3",0,{"$f":"VLOOKUP(K639,[1]EXRATE!C$3:F$43,4,0)","v":1344.8},0,"Y",167,"",0.91420000000000001,0,"","","","","","W","HLS","080","J",20230926,160849,100,45.145000000000003,"CIBM              AI80184"]
["KR","HSBC",2,769768,921,null,"","IIN","Offshore Foreign Currency Loan","Offshore Foreign Currency Loan","USD","C11",9,0,"3",0,{"$f":"VLOOKUP(K640,[1]EXRATE!C$3:F$43,4,0)","v":1344.8},0,"Y",167,"",0.91420000000000001,0,"","","","","","W","HLS","080","J",20230926,160849,100,45.145000000000003,"CIBM              AI80184"]
["KR","HSBC",2,769768,922,null,"","IIN","Offshore Foreign Currency Loan","Offshore Foreign Currency Loan","USD","C11",9,0,"3",0,{"$f":"VLOOKUP(K641,[1]EXRATE!C$3:F$43,4,0)","v":1344.8},0,"Y",167,"",0.91420000000000001,0,"","","","","","W","HLS","080","J",20230926,160849,100,45.145000000000003,"CIBM              AI80184"]
["KR","HSBC",2,769768,923,null,"","IIN","Offshore Foreign Currency Loan","Offshore Foreign Currency Loan","USD","C11",9,0,"3",0,{"$f":"VLOOKUP(K642,[1]EXRATE!C$3:F$43,4,0)","v":1344.8},0,"Y",167,"",0.91420000000000001,0,"","","","","","W","HLS","080","J",20230926,160849,100,45.145000000000003,"CIBM              AI80184"]
["KR","HSBC",2,769768,924,null,"","IIN","Offshore Foreign Currency Loan","Offshore Foreign Currency Loan","USD","C11",9,0,"3",0,{"$f":"VLOOKUP(K643,[1]EXRATE!C$3:F$43,4,0)","v":1344.8},0,"Y",167,"",0.91420000000000001,0,"","","","","","W","HLS","080","J",20230926,160849,100,45.145000000000003,"CIBM              AI80184"]
["KR","HSBC",2,769768,925,null,"","IIN","Offshore Foreign Currency Loan","Offshore Foreign Currency Loan","USD","C11",9,0,"3",0,{"$f":"VLOOKUP(K644,[1]EXRATE!C$3:F$43,4,0)","v":1344.8},0,"Y",167,"",0.91420000000000001,0,"","","","","","W","HLS","080","J",20230926,160849,100,45.145000000000003,"CIBM              AI80184"]
["KR","HSBC",2,769768,926,null,"","IIN","Offshore Foreign Currency Loan","Offshore Foreign Currency Loan","USD","C11",9,0,"3",0,{"$f":"VLOOKUP(K645,[1]EXRATE!C$3:F$43,4,0)","v":1344.8},0,"Y",167,"",0.91420000000000001,0,"","","","","","W","HLS","080","J",20230926,160849,100,45.145000000000003,"CIBM              AI80184"]
["KR","HSBC",2,769768,927,null,"","IIN","Offshore Foreign Currency Loan","Offshore Foreign Currency Loan","USD","C11",9,0,"3",0,{"$f":"VLOOKUP(K646,[1]EXRATE!C$3:F$43,4,0)","v":1344.8},0,"Y",167,"",0.91420000000000001,0,"","","","","","W","HLS","080","J",20230926,160849,100,45.145000000000003,"CIBM              AI80184"]
["KR","HSBC",2,769768,928,null,"","IIN","Offshore Foreign Currency Loan","Offshore Foreign Currency Loan","USD","C11",9,0,"3",0,{"$f":"VLOOKUP(K647,[1]EXRATE!C$3:F$43,4,0)","v":1344.8},0,"Y",167,"",0.91420000000000001,0,"","","","","","W","HLS","080","J",20230926,160849,100,45.145000000000003,"CIBM              AI80184"]
["KR","HSBC",2,769768,929,null,"","IIN","Offshore Foreign Currency Loan","Offshore Foreign Currency Loan","USD","C11",9,0,"3",0,{"$f":"VLOOKUP(K648,[1]EXRATE!C$3:F$43,4,0)","v":1344.8},0,"Y",167,"",0.91420000000000001,0,"","","","","","W","HLS","080","J",20230926,160849,100,45.145000000000003,"CIBM              AI80184"]
["KR","HSBC",2,769768,930,null,"","IIN","Offshore Foreign Currency Loan","Offshore Foreign Currency Loan","USD","C11",9,0,"3",0,{"$f":"VLOOKUP(K649,[1]EXRATE!C$3:F$43,4,0)","v":1344.8},0,"Y",167,"",0.91420000000000001,0,"","","","","","W","HLS","080","J",20230926,160849,100,45.145000000000003,"CIBM              AI80184"]
["KR","HSBC",2,769768,931,null,"","IIN","Offshore Foreign Currency Loan","Offshore Foreign Currency Loan","USD","C11",9,0,"3",0,{"$f":"VLOOKUP(K650,[1]EXRATE!C$3:F$43,4,0)","v":1344.8},0,"Y",167,"",0.91420000000000001,0,"","","","","","W","HLS","080","J",20230926,160849,100,45.145000000000003,"CIBM              AI80184"]
["KR","HSBC",2,769768,932,null,"","IIN","Offshore Foreign Currency Loan","Offshore Foreign Currency Loan","USD","C11",9,0,"3",0,{"$f":"VLOOKUP(K651,[1]EXRATE!C$3:F$43,4,0)","v":1344.8},0,"Y",167,"",0.91420000000000001,0,"","","","","","W","HLS","080","J",20230926,160849,100,45.145000000000003,"CIBM              AI80184"]
["KR","HSBC",2,769768,933,null,"","IIN","Offshore Foreign Currency Loan","Offshore Foreign Currency Loan","USD","C11",9,0,"3",0,{"$f":"VLOOKUP(K652,[1]EXRATE!C$3:F$43,4,0)","v":1344.8},0,"Y",167,"",0.91420000000000001,0,"","","","","","W","HLS","080","J",20230926,160849,100,45.145000000000003,"CIBM              AI80184"]
["KR","HSBC",2,769768,934,null,"","IIN","Offshore Foreign Currency Loan","Offshore Foreign Currency Loan","USD","C11",9,0,"3",0,{"$f":"VLOOKUP(K653,[1]EXRATE!C$3:F$43,4,0)","v":1344.8},0,"Y",167,"",0.91420000000000001,0,"","","","","","W","HLS","080","J",20230926,160849,100,45.145000000000003,"CIBM              AI80184"]
["KR","HSBC",2,769768,935,null,"","IIN","Offshore Foreign Currency Loan","Offshore Foreign Currency Loan","USD","C11",9,0,"3",0,{"$f":"VLOOKUP(K654,[1]EXRATE!C$3:F$43,4,0)","v":1344.8},0,"Y",167,"",0.91420000000000001,0,"","","","","","W","HLS","080","J",20230926,160849,100,45.145000000000003,"CIBM              AI80184"]
["KR","HSBC",2,769768,936,null,"","IIN","Offshore Foreign Currency Loan","Offshore Foreign Currency Loan","USD","C11",9,0,"3",0,{"$f":"VLOOKUP(K655,[1]EXRATE!C$3:F$43,4,0)","v":1344.8},0,"Y",167,"",0.91420000000000001,0,"","","","","","W","HLS","080","J",20230926,160849,100,45.145000000000003,"CIBM              AI80184"]
["KR","HSBC",2,769768,937,null,"","IIN","Offshore Foreign Currency Loan","Offshore Foreign Currency Loan","USD","C11",9,0,"3",0,{"$f":"VLOOKUP(K656,[1]EXRATE!C$3:F$43,4,0)","v":1344.8},0,"Y",167,"",0.91420000000000001,0,"","","","","","W","HLS","080","J",20230926,160849,100,45.145000000000003,"CIBM              AI80184"]
["KR","HSBC",2,776490,882,null,"","HM1",{"$f":"VLOOKUP(H657,[2]SSIFSEP!$H$2:$I$7593,2,0)","v":"가계대출"},"Household Loan","KRW","PRS",0,0,"1",0,{"$f":"VLOOKUP(K657,[1]EXRATE!C$3:F$43,4,0)","v":1},{"$f":"+P657*Q657","v":0},"N",87,"",0,0,"","","","","","R","HLS","141","J",20230926,160849,0.25,0,"PFS               AI80160   9998"]
["KR","HSBC",3,25632,409,null,"","IIL",{"$f":"VLOOKUP(H658,[2]SSIFSEP!$H$2:$I$7593,2,0)","v":"가계대출"},"Household Loan","KRW","PRS",0,0,"1",0,{"$f":"VLOOKUP(K658,[1]EXRATE!C$3:F$43,4,0)","v":1},0,"N",183,"",0,0,"","","","","","R","HLS","020","T",20230926,160849,0.25,0,"PFS               AI80184   9998"]
["KR","HSBC",3,28941,409,null,"","IIL",{"$f":"VLOOKUP(H659,[2]SSIFSEP!$H$2:$I$7593,2,0)","v":"가계대출"},"Household Loan","KRW","PRS",0,0,"1",0,{"$f":"VLOOKUP(K659,[1]EXRATE!C$3:F$43,4,0)","v":1},0,"N",183,"",0,0,"","","","","","R","HLS","020","T",20230926,160849,0.25,0,"PFS               AI80184   9998"]
["KR","HSBC",3,29303,413,null,"","PLL",{"$f":"VLOOKUP(H660,[2]SSIFSEP!$H$2:$I$7593,2,0)","v":"가계대출"},"Household Loan","KRW","PRS",0,0,"1",0,{"$f":"VLOOKUP(K660,[1]EXRATE!C$3:F$43,4,0)","v":1},0,"N",96,"",0,0,"","","","","","R","HLS","140","T",20230926,160849,0.25,0,"PFS               AI80160   9998"]
["KR","HSBC",3,66313,413,null,"","PLL",{"$f":"VLOOKUP(H661,[2]SSIFSEP!$H$2:$I$7593,2,0)","v":"가계대출"},"Household Loan","KRW","PRS",0,0,"1",0,{"$f":"VLOOKUP(K661,[1]EXRATE!C$3:F$43,4,0)","v":1},0,"N",96,"",0,0,"","","","","","R","HLS","140","J",20230926,160849,0.25,0,"PFS               AI80160   9998"]
["KR","HSBC",3,73905,208,null,"","AL4",{"$f":"VLOOKUP(H662,[2]SSIFSEP!$H$2:$I$7593,2,0)","v":"가계대출"},"Household Loan","KRW","PRS",0,0,"1",0,{"$f":"VLOOKUP(K662,[1]EXRATE!C$3:F$43,4,0)","v":1},0,"N",182,"",0,0,"","","","","","R","HLS","020","I",20230926,160849,0,0,"PFS               AI80184   9998"]
["KR","HSBC",3,76551,413,null,"","PLL",{"$f":"VLOOKUP(H663,[2]SSIFSEP!$H$2:$I$7593,2,0)","v":"가계대출"},"Household Loan","KRW","PRS",0,0,"1",0,{"$f":"VLOOKUP(K663,[1]EXRATE!C$3:F$43,4,0)","v":1},0,"N",96,"",0,0,"","","","","","R","HLS","140","J",20230926,160849,0.25,0,"PFS               AI80160   9998"]
["KR","HSBC",3,80165,413,null,"","PLL",{"$f":"VLOOKUP(H664,[2]SSIFSEP!$H$2:$I$7593,2,0)","v":"가계대출"},"Household Loan","KRW","PRS",0,0,"1",0,{"$f":"VLOOKUP(K664,[1]EXRATE!C$3:F$43,4,0)","v":1},0,"N",96,"",0,0,"","","","","","R","HLS","140","J",20230926,160849,0.25,0,"PFS               AI80160   9998"]
["KR","HSBC",3,129657,413,null,"","PLL",{"$f":"VLOOKUP(H665,[2]SSIFSEP!$H$2:$I$7593,2,0)","v":"가계대출"},"Household Loan","KRW","PRS",0,0,"1",0,{"$f":"VLOOKUP(K665,[1]EXRATE!C$3:F$43,4,0)","v":1},0,"N",96,"",0,0,"","","","","","R","HLS","140","J",20230926,160849,0.25,0,"PFS               AI80160   9998"]
["KR","HSBC",3,148715,883,null,"","HM1",{"$f":"VLOOKUP(H666,[2]SSIFSEP!$H$2:$I$7593,2,0)","v":"가계대출"},"Household Loan","KRW","PRS",0,0,"1",0,{"$f":"VLOOKUP(K666,[1]EXRATE!C$3:F$43,4,0)","v":1},0,"N",93,"",0,0,"","","","","","R","HLS","141","J",20230926,160849,0.25,0,"PFS               AI80160   9998"]
["KR","HSBC",3,152667,809,null,"","AL3",{"$f":"VLOOKUP(H667,[2]SSIFSEP!$H$2:$I$7593,2,0)","v":"가계대출"},"Household Loan","KRW","PRS",0,0,"1",0,{"$f":"VLOOKUP(K667,[1]EXRATE!C$3:F$43,4,0)","v":1},0,"N",181,"",0,0,"","","","","","R","HLS","020","T",20230926,160849,0.25,0,"PFS               AI80184   9998"]
["KR","HSBC",3,153434,900,null,"","IIL",{"$f":"VLOOKUP(H668,[2]SSIFSEP!$H$2:$I$7593,2,0)","v":"가계대출"},"Household Loan","KRW","PRS",0,0,"1",0,{"$f":"VLOOKUP(K668,[1]EXRATE!C$3:F$43,4,0)","v":1},0,"N",183,"",0,0,"","","","","","R","HLS","020","T",20230926,160849,0.25,0,"PFS               AI80184   9998"]
["KR","HSBC",3,154671,409,null,"","IIL",{"$f":"VLOOKUP(H669,[2]SSIFSEP!$H$2:$I$7593,2,0)","v":"가계대출"},"Household Loan","KRW","PRS",0,0,"1",0,{"$f":"VLOOKUP(K669,[1]EXRATE!C$3:F$43,4,0)","v":1},0,"N",183,"",0,0,"","","","","","R","HLS","020","T",20230926,160849,0.25,0,"PFS               AI80184   9998"]
["KR","HSBC",3,159506,409,null,"","IIL",{"$f":"VLOOKUP(H670,[2]SSIFSEP!$H$2:$I$7593,2,0)","v":"가계대출"},"Household Loan","KRW","PRS",0,0,"1",0,{"$f":"VLOOKUP(K670,[1]EXRATE!C$3:F$43,4,0)","v":1},0,"N",183,"",0,0,"","","","","","R","HLS","020","T",20230926,160849,0.25,0,"PFS               AI80184   9998"]
["KR","HSBC",3,159902,409,null,"","IIL",{"$f":"VLOOKUP(H671,[2]SSIFSEP!$H$2:$I$7593,2,0)","v":"가계대출"},"Household Loan","KRW","PRS",0,0,"1",0,{"$f":"VLOOKUP(K671,[1]EXRATE!C$3:F$43,4,0)","v":1},0,"N",183,"",0,0,"","","","","","R","HLS","020","T",20230926,160849,0.25,0,"PFS               AI80184   9998"]
["KR","HSBC",3,160132,900,null,"","IIL",{"$f":"VLOOKUP(H672,[2]SSIFSEP!$H$2:$I$7593,2,0)","v":"가계대출"},"Household Loan","KRW","PRS",0,0,"1",0,{"$f":"VLOOKUP(K672,[1]EXRATE!C$3:F$43,4,0)","v":1},0,"N",183,"",0,0,"","","","","","R","HLS","020","T",20230926,160849,0.25,0,"PFS               AI80184   9998"]
["KR","HSBC",3,161429,409,null,"","IIL",{"$f":"VLOOKUP(H673,[2]SSIFSEP!$H$2:$I$7593,2,0)","v":"가계대출"},"Household Loan","KRW","PRS",0,0,"1",0,{"$f":"VLOOKUP(K673,[1]EXRATE!C$3:F$43,4,0)","v":1},0,"N",183,"",0,0,"","","","","","R","HLS","020","T",20230926,160849,0.25,0,"PFS               AI80184   9998"]
["KR","HSBC",3,162963,409,null,"","IIL",{"$f":"VLOOKUP(H674,[2]SSIFSEP!$H$2:$I$7593,2,0)","v":"가계대출"},"Household Loan","KRW","PRS",0,0,"1",0,{"$f":"VLOOKUP(K674,[1]EXRATE!C$3:F$43,4,0)","v":1},0,"N",183,"",0,0,"","","","","","R","HLS","020","T",20230926,160849,0.25,0,"PFS               AI80184   9998"]
["KR","HSBC",3,163144,714,null,"","ILS",{"$f":"VLOOKUP(H675,[2]SSIFSEP!$H$2:$I$7593,2,0)","v":"가계대출"},"Household Loan","KRW","PRS",0,0,"1",0,{"$f":"VLOOKUP(K675,[1]EXRATE!C$3:F$43,4,0)","v":1},0,"N",184,"",0,0,"","","","","","R","HLS","020","T",20230926,160849,0.25,0,"PFS               AI80184   9998"]
["KR","HSBC",3,163466,900,null,"","AL4",{"$f":"VLOOKUP(H676,[2]SSIFSEP!$H$2:$I$7593,2,0)","v":"가계대출"},"Household Loan","KRW","PRS",0,0,"1",0,{"$f":"VLOOKUP(K676,[1]EXRATE!C$3:F$43,4,0)","v":1},0,"N",182,"",0,0,"","","","","","R","HLS","020","E",20230926,160849,0,0,"PFS               AI80184   9998"]
["KR","HSBC",3,176278,409,null,"","IIL",{"$f":"VLOOKUP(H677,[2]SSIFSEP!$H$2:$I$7593,2,0)","v":"가계대출"},"Household Loan","KRW","PRS",0,0,"1",0,{"$f":"VLOOKUP(K677,[1]EXRATE!C$3:F$43,4,0)","v":1},0,"N",183,"",0,0,"","","","","","R","HLS","020","T",20230926,160849,0.25,0,"PFS               AI80184   9998"]
["KR","HSBC",3,177672,409,null,"","IIL",{"$f":"VLOOKUP(H678,[2]SSIFSEP!$H$2:$I$7593,2,0)","v":"가계대출"},"Household Loan","KRW","PRS",0,0,"1",0,{"$f":"VLOOKUP(K678,[1]EXRATE!C$3:F$43,4,0)","v":1},0,"N",183,"",0,0,"","","","","","R","HLS","020","T",20230926,160849,0.25,0,"PFS               AI80184   9998"]
["KR","HSBC",3,178829,409,null,"","IIL",{"$f":"VLOOKUP(H679,[2]SSIFSEP!$H$2:$I$7593,2,0)","v":"가계대출"},"Household Loan","KRW","PRS",0,0,"1",0,{"$f":"VLOOKUP(K679,[1]EXRATE!C$3:F$43,4,0)","v":1},0,"N",183,"",0,0,"","","","","","R","HLS","020","T",20230926,160849,0.25,0,"PFS               AI80184   9998"]
["KR","HSBC",3,180643,409,null,"","IIL",{"$f":"VLOOKUP(H680,[2]SSIFSEP!$H$2:$I$7593,2,0)","v":"가계대출"},"Household Loan","KRW","PRS",0,0,"1",0,{"$f":"VLOOKUP(K680,[1]EXRATE!C$3:F$43,4,0)","v":1},0,"N",183,"",0,0,"","","","","","R","HLS","020","T",20230926,160849,0.25,0,"PFS               AI80184   9998"]
["KR","HSBC",3,181708,409,null,"","IIL",{"$f":"VLOOKUP(H681,[2]SSIFSEP!$H$2:$I$7593,2,0)","v":"가계대출"},"Household Loan","KRW","PRS",0,0,"1",0,{"$f":"VLOOKUP(K681,[1]EXRATE!C$3:F$43,4,0)","v":1},0,"N",183,"",0,0,"","","","","","R","HLS","020","E",20230926,160849,0,0,"PFS               AI80184   9998"]
["KR","HSBC",3,182367,409,null,"","IIL",{"$f":"VLOOKUP(H682,[2]SSIFSEP!$H$2:$I$7593,2,0)","v":"가계대출"},"Household Loan","KRW","PRS",0,0,"1",0,{"$f":"VLOOKUP(K682,[1]EXRATE!C$3:F$43,4,0)","v":1},0,"N",183,"",0,0,"","","","","","R","HLS","020","T",20230926,160849,0.25,0,"PFS               AI80184   9998"]
["KR","HSBC",3,183852,409,null,"","IIL",{"$f":"VLOOKUP(H683,[2]SSIFSEP!$H$2:$I$7593,2,0)","v":"가계대출"},"Household Loan","KRW","PRS",0,0,"1",0,{"$f":"VLOOKUP(K683,[1]EXRATE!C$3:F$43,4,0)","v":1},0,"N",183,"",0,0,"","","","","","R","HLS","020","G",20230926,160849,0,0,"PFS               AI80184   9998"]
["KR","HSBC",3,184777,409,null,"","IIL",{"$f":"VLOOKUP(H684,[2]SSIFSEP!$H$2:$I$7593,2,0)","v":"가계대출"},"Household Loan","KRW","PRS",0,0,"1",0,{"$f":"VLOOKUP(K684,[1]EXRATE!C$3:F$43,4,0)","v":1},0,"N",183,"",0,0,"","","","","","R","HLS","020","D",20230926,160849,0,0,"PFS               AI80184   9998"]
["KR","HSBC",3,185055,409,null,"","IIL",{"$f":"VLOOKUP(H685,[2]SSIFSEP!$H$2:$I$7593,2,0)","v":"가계대출"},"Household Loan","KRW","PRS",0,0,"1",0,{"$f":"VLOOKUP(K685,[1]EXRATE!C$3:F$43,4,0)","v":1},0,"N",183,"",0,0,"","","","","","R","HLS","020","T",20230926,160849,0.25,0,"PFS               AI80184   9998"]
["KR","HSBC",3,185600,409,null,"","IIL",{"$f":"VLOOKUP(H686,[2]SSIFSEP!$H$2:$I$7593,2,0)","v":"가계대출"},"Household Loan","KRW","PRS",0,0,"1",0,{"$f":"VLOOKUP(K686,[1]EXRATE!C$3:F$43,4,0)","v":1},0,"N",183,"",0,0,"","","","","","R","HLS","020","T",20230926,160849,0.25,0,"PFS               AI80184   9998"]
["KR","HSBC",3,194149,882,null,"","HM1",{"$f":"VLOOKUP(H687,[2]SSIFSEP!$H$2:$I$7593,2,0)","v":"가계대출"},"Household Loan","KRW","PRS",0,0,"1",0,{"$f":"VLOOKUP(K687,[1]EXRATE!C$3:F$43,4,0)","v":1},0,"N",93,"",0,0,"","","","","","R","HLS","140","I",20230926,160849,0.25,0,"PFS               AI80160   9998"]
["KR","HSBC",3,196888,409,null,"","IIL",{"$f":"VLOOKUP(H688,[2]SSIFSEP!$H$2:$I$7593,2,0)","v":"가계대출"},"Household Loan","KRW","PRS",0,0,"1",0,{"$f":"VLOOKUP(K688,[1]EXRATE!C$3:F$43,4,0)","v":1},0,"N",183,"",0,0,"","","","","","R","HLS","020","T",20230926,160849,0.25,0,"PFS               AI80184   9998"]
["KR","HSBC",3,199726,409,null,"","IIL",{"$f":"VLOOKUP(H689,[2]SSIFSEP!$H$2:$I$7593,2,0)","v":"가계대출"},"Household Loan","KRW","PRS",0,0,"1",0,{"$f":"VLOOKUP(K689,[1]EXRATE!C$3:F$43,4,0)","v":1},{"$f":"+P689*Q689","v":0},"N",183,"",0,0,"","","","","","R","HLS","020","T",20230926,160849,0.25,0,"PFS               AI80184   9998"]
["KR","HSBC",3,200565,900,null,"","IIL",{"$f":"VLOOKUP(H690,[2]SSIFSEP!$H$2:$I$7593,2,0)","v":"가계대출"},"Household Loan","KRW","PRS",0,0,"1",0,{"$f":"VLOOKUP(K690,[1]EXRATE!C$3:F$43,4,0)","v":1},0,"N",183,"",0,0,"","","","","","R","HLS","020","T",20230926,160849,0.25,0,"PFS               AI80184   9998"]
["KR","HSBC",3,201852,409,null,"","IIL",{"$f":"VLOOKUP(H691,[2]SSIFSEP!$H$2:$I$7593,2,0)","v":"가계대출"},"Household Loan","KRW","PRS",0,0,"1",0,{"$f":"VLOOKUP(K691,[1]EXRATE!C$3:F$43,4,0)","v":1},0,"N",183,"",0,0,"","","","","","R","HLS","020","T",20230926,160849,0.25,0,"PFS               AI80184   9998"]
["KR","HSBC",3,202405,409,null,"","IIL",{"$f":"VLOOKUP(H692,[2]SSIFSEP!$H$2:$I$7593,2,0)","v":"가계대출"},"Household Loan","KRW","PRS",0,0,"1",0,{"$f":"VLOOKUP(K692,[1]EXRATE!C$3:F$43,4,0)","v":1},0,"N",183,"",0,0,"","","","","","R","HLS","020","T",20230926,160849,0.25,0,"PFS               AI80184   9998"]
["KR","HSBC",3,202686,409,null,"","IIL",{"$f":"VLOOKUP(H693,[2]SSIFSEP!$H$2:$I$7593,2,0)","v":"가계대출"},"Household Loan","KRW","PRS",0,0,"1",0,{"$f":"VLOOKUP(K693,[1]EXRATE!C$3:F$43,4,0)","v":1},0,"N",183,"",0,0,"","","","","","R","HLS","020","T",20230926,160849,0.25,0,"PFS               AI80184   9998"]
["KR","HSBC",3,205705,409,null,"","IIL",{"$f":"VLOOKUP(H694,[2]SSIFSEP!$H$2:$I$7593,2,0)","v":"가계대출"},"Household Loan","KRW","PRS",0,0,"1",0,{"$f":"VLOOKUP(K694,[1]EXRATE!C$3:F$43,4,0)","v":1},0,"N",183,"",0,0,"","","","","","R","HLS","020","T",20230926,160849,0.25,0,"PFS               AI80184   9998"]
["KR","HSBC",3,205895,409,null,"","IIL",{"$f":"VLOOKUP(H695,[2]SSIFSEP!$H$2:$I$7593,2,0)","v":"가계대출"},"Household Loan","KRW","PRS",0,0,"1",0,{"$f":"VLOOKUP(K695,[1]EXRATE!C$3:F$43,4,0)","v":1},0,"N",183,"",0,0,"","","","","","R","HLS","020","T",20230926,160849,0.25,0,"PFS               AI80184   9998"]
["KR","HSBC",3,205945,409,null,"","IIL",{"$f":"VLOOKUP(H696,[2]SSIFSEP!$H$2:$I$7593,2,0)","v":"가계대출"},"Household Loan","KRW","PRS",0,0,"1",0,{"$f":"VLOOKUP(K696,[1]EXRATE!C$3:F$43,4,0)","v":1},0,"N",183,"",0,0,"","","","","","R","HLS","020","T",20230926,160849,0.25,0,"PFS               AI80184   9998"]
["KR","HSBC",3,207651,409,null,"","IIL",{"$f":"VLOOKUP(H697,[2]SSIFSEP!$H$2:$I$7593,2,0)","v":"가계대출"},"Household Loan","KRW","PRS",0,0,"1",0,{"$f":"VLOOKUP(K697,[1]EXRATE!C$3:F$43,4,0)","v":1},0,"N",183,"",0,0,"","","","","","R","HLS","020","T",20230926,160849,0.25,0,"PFS               AI80184   9998"]
["KR","HSBC",3,207768,409,null,"","IIL",{"$f":"VLOOKUP(H698,[2]SSIFSEP!$H$2:$I$7593,2,0)","v":"가계대출"},"Household Loan","KRW","PRS",0,0,"1",0,{"$f":"VLOOKUP(K698,[1]EXRATE!C$3:F$43,4,0)","v":1},0,"N",183,"",0,0,"","","","","","R","HLS","020","F",20230926,160849,0,0,"PFS               AI80184   9998"]
["KR","HSBC",3,209996,409,null,"","IIL",{"$f":"VLOOKUP(H699,[2]SSIFSEP!$H$2:$I$7593,2,0)","v":"가계대출"},"Household Loan","KRW","PRS",0,0,"1",0,{"$f":"VLOOKUP(K699,[1]EXRATE!C$3:F$43,4,0)","v":1},0,"N",183,"",0,0,"","","","","","R","HLS","020","T",20230926,160849,0.25,0,"PFS               AI80184   9998"]
["KR","HSBC",3,212081,409,null,"","IIL",{"$f":"VLOOKUP(H700,[2]SSIFSEP!$H$2:$I$7593,2,0)","v":"가계대출"},"Household Loan","KRW","PRS",0,0,"1",0,{"$f":"VLOOKUP(K700,[1]EXRATE!C$3:F$43,4,0)","v":1},0,"N",183,"",0,0,"","","","","","R","HLS","020","T",20230926,160849,0.25,0,"PFS               AI80184   9998"]
["KR","HSBC",3,213139,409,null,"","IIL",{"$f":"VLOOKUP(H701,[2]SSIFSEP!$H$2:$I$7593,2,0)","v":"가계대출"},"Household Loan","KRW","PRS",0,0,"1",0,{"$f":"VLOOKUP(K701,[1]EXRATE!C$3:F$43,4,0)","v":1},0,"N",183,"",0,0,"","","","","","R","HLS","020","D",20230926,160849,0,0,"PFS               AI80184   9998"]
["KR","HSBC",3,215142,409,null,"","IIL",{"$f":"VLOOKUP(H702,[2]SSIFSEP!$H$2:$I$7593,2,0)","v":"가계대출"},"Household Loan","KRW","PRS",0,0,"1",0,{"$f":"VLOOKUP(K702,[1]EXRATE!C$3:F$43,4,0)","v":1},0,"N",183,"",0,0,"","","","","","R","HLS","020","T",20230926,160849,0.25,0,"PFS               AI80184   9998"]
["KR","HSBC",3,215464,409,null,"","IIL",{"$f":"VLOOKUP(H703,[2]SSIFSEP!$H$2:$I$7593,2,0)","v":"가계대출"},"Household Loan","KRW","PRS",0,0,"1",0,{"$f":"VLOOKUP(K703,[1]EXRATE!C$3:F$43,4,0)","v":1},0,"N",183,"",0,0,"","","","","","R","HLS","020","T",20230926,160849,0.25,0,"PFS               AI80184   9998"]
["KR","HSBC",3,217338,409,null,"","IIL",{"$f":"VLOOKUP(H704,[2]SSIFSEP!$H$2:$I$7593,2,0)","v":"가계대출"},"Household Loan","KRW","PRS",0,0,"1",0,{"$f":"VLOOKUP(K704,[1]EXRATE!C$3:F$43,4,0)","v":1},0,"N",183,"",0,0,"","","","","","R","HLS","020","E",20230926,160849,0,0,"PFS               AI80184   9998"]
["KR","HSBC",3,218641,409,null,"","IIL",{"$f":"VLOOKUP(H705,[2]SSIFSEP!$H$2:$I$7593,2,0)","v":"가계대출"},"Household Loan","KRW","PRS",0,0,"1",0,{"$f":"VLOOKUP(K705,[1]EXRATE!C$3:F$43,4,0)","v":1},0,"N",183,"",0,0,"","","","","","R","HLS","020","T",20230926,160849,0.25,0,"PFS               AI80184   9998"]
["KR","HSBC",3,222130,409,null,"","IIL",{"$f":"VLOOKUP(H706,[2]SSIFSEP!$H$2:$I$7593,2,0)","v":"가계대출"},"Household Loan","KRW","PRS",0,0,"1",0,{"$f":"VLOOKUP(K706,[1]EXRATE!C$3:F$43,4,0)","v":1},0,"N",183,"",0,0,"","","","","","R","HLS","020","T",20230926,160849,0.25,0,"PFS               AI80184   9998"]
["KR","HSBC",3,223898,409,null,"","IIL",{"$f":"VLOOKUP(H707,[2]SSIFSEP!$H$2:$I$7593,2,0)","v":"가계대출"},"Household Loan","KRW","PRS",0,0,"1",0,{"$f":"VLOOKUP(K707,[1]EXRATE!C$3:F$43,4,0)","v":1},0,"N",183,"",0,0,"","","","","","R","HLS","020","T",20230926,160849,0.25,0,"PFS               AI80184   9998"]
["KR","HSBC",3,223971,208,null,"","AL4",{"$f":"VLOOKUP(H708,[2]SSIFSEP!$H$2:$I$7593,2,0)","v":"가계대출"},"Household Loan","KRW","PRS",0,0,"1",0,{"$f":"VLOOKUP(K708,[1]EXRATE!C$3:F$43,4,0)","v":1},0,"N",182,"",0,0,"","","","","","R","HLS","020","T",20230926,160849,0.25,0,"PFS               AI80184   9998"]
["KR","HSBC",3,228293,409,null,"","IIL",{"$f":"VLOOKUP(H709,[2]SSIFSEP!$H$2:$I$7593,2,0)","v":"가계대출"},"Household Loan","KRW","PRS",0,0,"1",0,{"$f":"VLOOKUP(K709,[1]EXRATE!C$3:F$43,4,0)","v":1},0,"N",183,"",0,0,"","","","","","R","HLS","020","G",20230926,160849,0,0,"PFS               AI80184   9998"]
["KR","HSBC",3,230851,409,null,"","IIL",{"$f":"VLOOKUP(H710,[2]SSIFSEP!$H$2:$I$7593,2,0)","v":"가계대출"},"Household Loan","KRW","PRS",0,0,"1",0,{"$f":"VLOOKUP(K710,[1]EXRATE!C$3:F$43,4,0)","v":1},0,"N",183,"",0,0,"","","","","","R","HLS","020","F",20230926,160849,0,0,"PFS               AI80184   9998"]
["KR","HSBC",3,230935,409,null,"","IIL",{"$f":"VLOOKUP(H711,[2]SSIFSEP!$H$2:$I$7593,2,0)","v":"가계대출"},"Household Loan","KRW","PRS",0,0,"1",0,{"$f":"VLOOKUP(K711,[1]EXRATE!C$3:F$43,4,0)","v":1},0,"N",183,"",0,0,"","","","","","R","HLS","020","T",20230926,160849,0.25,0,"PFS               AI80184   9998"]
["KR","HSBC",3,233228,409,null,"","IIL",{"$f":"VLOOKUP(H712,[2]SSIFSEP!$H$2:$I$7593,2,0)","v":"가계대출"},"Household Loan","KRW","PRS",0,0,"1",0,{"$f":"VLOOKUP(K712,[1]EXRATE!C$3:F$43,4,0)","v":1},0,"N",183,"",0,0,"","","","","","R","HLS","020","T",20230926,160849,0.25,0,"PFS               AI80184   9998"]
["KR","HSBC",3,235652,409,null,"","IIL",{"$f":"VLOOKUP(H713,[2]SSIFSEP!$H$2:$I$7593,2,0)","v":"가계대출"},"Household Loan","KRW","PRS",0,0,"1",0,{"$f":"VLOOKUP(K713,[1]EXRATE!C$3:F$43,4,0)","v":1},0,"N",183,"",0,0,"","","","","","R","HLS","020","T",20230926,160849,0.25,0,"PFS               AI80184   9998"]
["KR","HSBC",3,237732,409,null,"","IIL",{"$f":"VLOOKUP(H714,[2]SSIFSEP!$H$2:$I$7593,2,0)","v":"가계대출"},"Household Loan","KRW","PRS",0,0,"1",0,{"$f":"VLOOKUP(K714,[1]EXRATE!C$3:F$43,4,0)","v":1},0,"N",183,"",0,0,"","","","","","R","HLS","020","T",20230926,160849,0.25,0,"PFS               AI80184   9998"]
["KR","HSBC",3,243193,409,null,"","IIL",{"$f":"VLOOKUP(H715,[2]SSIFSEP!$H$2:$I$7593,2,0)","v":"가계대출"},"Household Loan","KRW","PRS",0,0,"1",0,{"$f":"VLOOKUP(K715,[1]EXRATE!C$3:F$43,4,0)","v":1},0,"N",183,"",0,0,"","","","","","R","HLS","020","T",20230926,160849,0.25,0,"PFS               AI80184   9998"]
["KR","HSBC",3,243318,409,null,"","IIL",{"$f":"VLOOKUP(H716,[2]SSIFSEP!$H$2:$I$7593,2,0)","v":"가계대출"},"Household Loan","KRW","PRS",0,0,"1",0,{"$f":"VLOOKUP(K716,[1]EXRATE!C$3:F$43,4,0)","v":1},0,"N",183,"",0,0,"","","","","","R","HLS","020","E",20230926,160849,0,0,"PFS               AI80184   9998"]
["KR","HSBC",3,246766,409,null,"","IIL",{"$f":"VLOOKUP(H717,[2]SSIFSEP!$H$2:$I$7593,2,0)","v":"가계대출"},"Household Loan","KRW","PRS",0,0,"1",0,{"$f":"VLOOKUP(K717,[1]EXRATE!C$3:F$43,4,0)","v":1},0,"N",183,"",0,0,"","","","","","R","HLS","020","T",20230926,160849,0.25,0,"PFS               AI80184   9998"]
["KR","HSBC",3,247582,208,null,"","AL4",{"$f":"VLOOKUP(H718,[2]SSIFSEP!$H$2:$I$7593,2,0)","v":"가계대출"},"Household Loan","KRW","PRS",0,0,"1",0,{"$f":"VLOOKUP(K718,[1]EXRATE!C$3:F$43,4,0)","v":1},0,"N",182,"",0,0,"","","","","","R","HLS","020","T",20230926,160849,0.25,0,"PFS               AI80184   9998"]
["KR","HSBC",3,255486,208,null,"","AL4",{"$f":"VLOOKUP(H719,[2]SSIFSEP!$H$2:$I$7593,2,0)","v":"가계대출"},"Household Loan","KRW","PRS",0,0,"1",0,{"$f":"VLOOKUP(K719,[1]EXRATE!C$3:F$43,4,0)","v":1},0,"N",182,"",0,0,"","","","","","R","HLS","020","T",20230926,160849,0.25,0,"PFS               AI80184   9998"]
["KR","HSBC",3,256013,809,null,"","AL3",{"$f":"VLOOKUP(H720,[2]SSIFSEP!$H$2:$I$7593,2,0)","v":"가계대출"},"Household Loan","KRW","PRS",0,0,"1",0,{"$f":"VLOOKUP(K720,[1]EXRATE!C$3:F$43,4,0)","v":1},0,"N",181,"",0,0,"","","","","","R","HLS","020","F",20230926,160849,0,0,"PFS               AI80184   9998"]
["KR","HSBC",3,264272,208,null,"","AL4",{"$f":"VLOOKUP(H721,[2]SSIFSEP!$H$2:$I$7593,2,0)","v":"가계대출"},"Household Loan","KRW","PRS",0,0,"1",0,{"$f":"VLOOKUP(K721,[1]EXRATE!C$3:F$43,4,0)","v":1},{"$f":"+P721*Q721","v":0},"N",182,"",0,0,"","","","","","R","HLS","020","T",20230926,160849,0.25,0,"PFS               AI80184   9998"]
["KR","HSBC",3,264439,208,null,"","AL4",{"$f":"VLOOKUP(H722,[2]SSIFSEP!$H$2:$I$7593,2,0)","v":"가계대출"},"Household Loan","KRW","PRS",0,0,"1",0,{"$f":"VLOOKUP(K722,[1]EXRATE!C$3:F$43,4,0)","v":1},0,"N",182,"",0,0,"","","","","","R","HLS","020","H",20230926,160849,0,0,"PFS               AI80184   9998"]
["KR","HSBC",3,266632,809,null,"","AL3",{"$f":"VLOOKUP(H723,[2]SSIFSEP!$H$2:$I$7593,2,0)","v":"가계대출"},"Household Loan","KRW","PRS",0,0,"1",0,{"$f":"VLOOKUP(K723,[1]EXRATE!C$3:F$43,4,0)","v":1},0,"N",181,"",0,0,"","","","","","R","HLS","020","T",20230926,160849,0.25,0,"PFS               AI80184   9998"]
["KR","HSBC",3,267903,809,null,"","AL3",{"$f":"VLOOKUP(H724,[2]SSIFSEP!$H$2:$I$7593,2,0)","v":"가계대출"},"Household Loan","KRW","PRS",0,0,"1",0,{"$f":"VLOOKUP(K724,[1]EXRATE!C$3:F$43,4,0)","v":1},0,"N",181,"",0,0,"","","","","","R","HLS","020","T",20230926,160849,0.25,0,"PFS               AI80184   9998"]
["KR","HSBC",3,270402,208,null,"","AL4",{"$f":"VLOOKUP(H725,[2]SSIFSEP!$H$2:$I$7593,2,0)","v":"가계대출"},"Household Loan","KRW","PRS",0,0,"1",0,{"$f":"VLOOKUP(K725,[1]EXRATE!C$3:F$43,4,0)","v":1},0,"N",182,"",0,0,"","","","","","R","HLS","020","H",20230926,160849,0,0,"PFS               AI80184   9998"]
["KR","HSBC",3,274347,901,null,"","AL3",{"$f":"VLOOKUP(H726,[2]SSIFSEP!$H$2:$I$7593,2,0)","v":"가계대출"},"Household Loan","KRW","PRS",0,0,"1",0,{"$f":"VLOOKUP(K726,[1]EXRATE!C$3:F$43,4,0)","v":1},0,"N",181,"",0,0,"","","","","","R","HLS","020","T",20230926,160849,0.25,0,"PFS               AI80184   9998"]
["KR","HSBC",3,286861,809,null,"","AL3",{"$f":"VLOOKUP(H727,[2]SSIFSEP!$H$2:$I$7593,2,0)","v":"가계대출"},"Household Loan","KRW","PRS",0,0,"1",0,{"$f":"VLOOKUP(K727,[1]EXRATE!C$3:F$43,4,0)","v":1},0,"N",181,"",0,0,"","","","","","R","HLS","020","T",20230926,160849,0.25,0,"PFS               AI80184   9998"]
["KR","HSBC",3,287745,809,null,"","AL3",{"$f":"VLOOKUP(H728,[2]SSIFSEP!$H$2:$I$7593,2,0)","v":"가계대출"},"Household Loan","KRW","PRS",0,0,"1",0,{"$f":"VLOOKUP(K728,[1]EXRATE!C$3:F$43,4,0)","v":1},0,"N",181,"",0,0,"","","","","","R","HLS","020","T",20230926,160849,0.25,0,"PFS               AI80184   9998"]
["KR","HSBC",3,289295,208,null,"","AL4",{"$f":"VLOOKUP(H729,[2]SSIFSEP!$H$2:$I$7593,2,0)","v":"가계대출"},"Household Loan","KRW","PRS",0,0,"1",0,{"$f":"VLOOKUP(K729,[1]EXRATE!C$3:F$43,4,0)","v":1},0,"N",182,"",0,0,"","","","","","R","HLS","020","J",20230926,160849,0,0,"PFS               AI80184   9998"]
["KR","HSBC",3,292695,208,null,"","AL4",{"$f":"VLOOKUP(H730,[2]SSIFSEP!$H$2:$I$7593,2,0)","v":"가계대출"},"Household Loan","KRW","PRS",0,0,"1",0,{"$f":"VLOOKUP(K730,[1]EXRATE!C$3:F$43,4,0)","v":1},0,"N",182,"",0,0,"","","","","","R","HLS","020","T",20230926,160849,0.25,0,"PFS               AI80184   9998"]
["KR","HSBC",3,299393,208,null,"","AL4",{"$f":"VLOOKUP(H731,[2]SSIFSEP!$H$2:$I$7593,2,0)","v":"가계대출"},"Household Loan","KRW","PRS",0,0,"1",0,{"$f":"VLOOKUP(K731,[1]EXRATE!C$3:F$43,4,0)","v":1},0,"N",182,"",0,0,"","","","","","R","HLS","020","T",20230926,160849,0.25,0,"PFS               AI80184   9998"]
["KR","HSBC",3,301132,809,null,"","AL3",{"$f":"VLOOKUP(H732,[2]SSIFSEP!$H$2:$I$7593,2,0)","v":"가계대출"},"Household Loan","KRW","PRS",0,0,"1",0,{"$f":"VLOOKUP(K732,[1]EXRATE!C$3:F$43,4,0)","v":1},0,"N",181,"",0,0,"","","","","","R","HLS","020","H",20230926,160849,0,0,"PFS               AI80184   9998"]
["KR","HSBC",3,302064,809,null,"","AL3",{"$f":"VLOOKUP(H733,[2]SSIFSEP!$H$2:$I$7593,2,0)","v":"가계대출"},"Household Loan","KRW","PRS",0,0,"1",0,{"$f":"VLOOKUP(K733,[1]EXRATE!C$3:F$43,4,0)","v":1},0,"N",181,"",0,0,"","","","","","R","HLS","020","T",20230926,160849,0.25,0,"PFS               AI80184   9998"]
["KR","HSBC",3,305877,208,null,"","AL4",{"$f":"VLOOKUP(H734,[2]SSIFSEP!$H$2:$I$7593,2,0)","v":"가계대출"},"Household Loan","KRW","PRS",0,0,"1",0,{"$f":"VLOOKUP(K734,[1]EXRATE!C$3:F$43,4,0)","v":1},0,"N",182,"",0,0,"","","","","","R","HLS","020","T",20230926,160849,0.25,0,"PFS               AI80184   9998"]
["KR","HSBC",3,308046,208,null,"","AL4",{"$f":"VLOOKUP(H735,[2]SSIFSEP!$H$2:$I$7593,2,0)","v":"가계대출"},"Household Loan","KRW","PRS",0,0,"1",0,{"$f":"VLOOKUP(K735,[1]EXRATE!C$3:F$43,4,0)","v":1},0,"N",182,"",0,0,"","","","","","R","HLS","020","T",20230926,160849,0.25,0,"PFS               AI80184   9998"]
["KR","HSBC",3,318060,714,null,"","ILS",{"$f":"VLOOKUP(H736,[2]SSIFSEP!$H$2:$I$7593,2,0)","v":"가계대출"},"Household Loan","KRW","PRS",0,0,"1",0,{"$f":"VLOOKUP(K736,[1]EXRATE!C$3:F$43,4,0)","v":1},0,"N",184,"",0,0,"","","","","","R","HLS","020","T",20230926,160849,0.25,0,"PFS               AI80184   9998"]
["KR","HSBC",3,322484,208,null,"","AL4",{"$f":"VLOOKUP(H737,[2]SSIFSEP!$H$2:$I$7593,2,0)","v":"가계대출"},"Household Loan","KRW","PRS",0,0,"1",0,{"$f":"VLOOKUP(K737,[1]EXRATE!C$3:F$43,4,0)","v":1},0,"N",182,"",0,0,"","","","","","R","HLS","020","H",20230926,160849,0,0,"PFS               AI80184   9998"]
["KR","HSBC",3,325438,714,null,"","ILS",{"$f":"VLOOKUP(H738,[2]SSIFSEP!$H$2:$I$7593,2,0)","v":"가계대출"},"Household Loan","KRW","PRS",0,0,"1",0,{"$f":"VLOOKUP(K738,[1]EXRATE!C$3:F$43,4,0)","v":1},0,"N",184,"",0,0,"","","","","","R","HLS","020","T",20230926,160849,0.25,0,"PFS               AI80184   9998"]
["KR","HSBC",3,326493,208,null,"","AL4",{"$f":"VLOOKUP(H739,[2]SSIFSEP!$H$2:$I$7593,2,0)","v":"가계대출"},"Household Loan","KRW","PRS",0,0,"1",0,{"$f":"VLOOKUP(K739,[1]EXRATE!C$3:F$43,4,0)","v":1},0,"N",182,"",0,0,"","","","","","R","HLS","020","T",20230926,160849,0.25,0,"PFS               AI80184   9998"]
["KR","HSBC",3,330248,208,null,"","AL4",{"$f":"VLOOKUP(H740,[2]SSIFSEP!$H$2:$I$7593,2,0)","v":"가계대출"},"Household Loan","KRW","PRS",0,0,"1",0,{"$f":"VLOOKUP(K740,[1]EXRATE!C$3:F$43,4,0)","v":1},0,"N",182,"",0,0,"","","","","","R","HLS","020","T",20230926,160849,0.25,0,"PFS               AI80184   9998"]
["KR","HSBC",3,332129,714,null,"","ILS",{"$f":"VLOOKUP(H741,[2]SSIFSEP!$H$2:$I$7593,2,0)","v":"가계대출"},"Household Loan","KRW","PRS",0,0,"1",0,{"$f":"VLOOKUP(K741,[1]EXRATE!C$3:F$43,4,0)","v":1},0,"N",184,"",0,0,"","","","","","R","HLS","020","T",20230926,160849,0.25,0,"PFS               AI80184   9998"]
["KR","HSBC",3,336849,208,null,"","AL4",{"$f":"VLOOKUP(H742,[2]SSIFSEP!$H$2:$I$7593,2,0)","v":"가계대출"},"Household Loan","KRW","PRS",0,0,"1",0,{"$f":"VLOOKUP(K742,[1]EXRATE!C$3:F$43,4,0)","v":1},0,"N",182,"",0,0,"","","","","","R","HLS","020","H",20230926,160849,0,0,"PFS               AI80184   9998"]
["KR","HSBC",3,338332,809,null,"","AL3",{"$f":"VLOOKUP(H743,[2]SSIFSEP!$H$2:$I$7593,2,0)","v":"가계대출"},"Household Loan","KRW","PRS",0,0,"1",0,{"$f":"VLOOKUP(K743,[1]EXRATE!C$3:F$43,4,0)","v":1},0,"N",181,"",0,0,"","","","","","R","HLS","020","T",20230926,160849,0.25,0,"PFS               AI80184   9998"]
["KR","HSBC",3,339025,882,null,"","HM1",{"$f":"VLOOKUP(H744,[2]SSIFSEP!$H$2:$I$7593,2,0)","v":"가계대출"},"Household Loan","KRW","PRS",0,0,"2R",0,{"$f":"VLOOKUP(K744,[1]EXRATE!C$3:F$43,4,0)","v":1},0,"N",94,"",0,0,"","","","","","R","HLS","140","J",20230926,160849,0,0,"PFS               AI80160   9998"]
["KR","HSBC",3,340296,809,null,"","AL3",{"$f":"VLOOKUP(H745,[2]SSIFSEP!$H$2:$I$7593,2,0)","v":"가계대출"},"Household Loan","KRW","PRS",0,0,"1",0,{"$f":"VLOOKUP(K745,[1]EXRATE!C$3:F$43,4,0)","v":1},0,"N",181,"",0,0,"","","","","","R","HLS","020","T",20230926,160849,0.25,0,"PFS               AI80184   9998"]
["KR","HSBC",3,340940,714,null,"","ILS",{"$f":"VLOOKUP(H746,[2]SSIFSEP!$H$2:$I$7593,2,0)","v":"가계대출"},"Household Loan","KRW","PRS",0,0,"1",0,{"$f":"VLOOKUP(K746,[1]EXRATE!C$3:F$43,4,0)","v":1},0,"N",184,"",0,0,"","","","","","R","HLS","020","T",20230926,160849,0.25,0,"PFS               AI80184   9998"]
["KR","HSBC",3,364874,687,null,"","HOL",{"$f":"VLOOKUP(H747,[2]SSIFSEP!$H$2:$I$7593,2,0)","v":"가계대출"},"Household Loan","KRW","PRS",0,0,"1",0,{"$f":"VLOOKUP(K747,[1]EXRATE!C$3:F$43,4,0)","v":1},0,"N",95,"",0,0,"","","","","","R","HLS","141","J",20230926,160849,0.25,0,"PFS               AI80160   9998"]
["KR","HSBC",3,381233,882,null,"","HM1",{"$f":"VLOOKUP(H748,[2]SSIFSEP!$H$2:$I$7593,2,0)","v":"가계대출"},"Household Loan","KRW","PRS",0,0,"1",0,{"$f":"VLOOKUP(K748,[1]EXRATE!C$3:F$43,4,0)","v":1},0,"N",93,"",0,0,"","","","","","R","HLS","141","J",20230926,160849,0.25,0,"PFS               AI80160   9998"]
["KR","HSBC",3,397262,882,null,"","HM1",{"$f":"VLOOKUP(H749,[2]SSIFSEP!$H$2:$I$7593,2,0)","v":"가계대출"},"Household Loan","KRW","PRS",0,0,"1",0,{"$f":"VLOOKUP(K749,[1]EXRATE!C$3:F$43,4,0)","v":1},0,"N",93,"",0,0,"","","","","","R","HLS","141","J",20230926,160849,0.25,0,"PFS               AI80160   9998"]
["KR","HSBC",3,399714,882,null,"","HM1",{"$f":"VLOOKUP(H750,[2]SSIFSEP!$H$2:$I$7593,2,0)","v":"가계대출"},"Household Loan","KRW","PRS",0,0,"2R",0,{"$f":"VLOOKUP(K750,[1]EXRATE!C$3:F$43,4,0)","v":1},0,"N",94,"",0,0,"","","","","","R","HLS","141","J",20230926,160849,0,0,"PFS               AI80160   9998"]
["KR","HSBC",3,401882,882,null,"","HM1",{"$f":"VLOOKUP(H751,[2]SSIFSEP!$H$2:$I$7593,2,0)","v":"가계대출"},"Household Loan","KRW","PRS",0,0,"1",0,{"$f":"VLOOKUP(K751,[1]EXRATE!C$3:F$43,4,0)","v":1},0,"N",93,"",0,0,"","","","","","R","HLS","141","J",20230926,160849,0.25,0,"PFS               AI80160   9998"]
["KR","HSBC",3,403938,882,null,"","HM1",{"$f":"VLOOKUP(H752,[2]SSIFSEP!$H$2:$I$7593,2,0)","v":"가계대출"},"Household Loan","KRW","PRS",0,0,"1",0,{"$f":"VLOOKUP(K752,[1]EXRATE!C$3:F$43,4,0)","v":1},0,"N",93,"",0,0,"","","","","","R","HLS","141","J",20230926,160849,0.25,0,"PFS               AI80160   9998"]
["KR","HSBC",4,86963,413,null,"","PLL",{"$f":"VLOOKUP(H753,[2]SSIFSEP!$H$2:$I$7593,2,0)","v":"가계대출"},"Household Loan","KRW","PRS",0,0,"1",0,{"$f":"VLOOKUP(K753,[1]EXRATE!C$3:F$43,4,0)","v":1},{"$f":"+P753*Q753","v":0},"N",97,"",0,0,"","","","","","R","HLS","141","T",20230926,160849,0.25,0,"PFS               AI80160   9998"]
["KR","HSBC",4,136669,409,null,"","IIL",{"$f":"VLOOKUP(H754,[2]SSIFSEP!$H$2:$I$7593,2,0)","v":"가계대출"},"Household Loan","KRW","PRS",0,0,"1",0,{"$f":"VLOOKUP(K754,[1]EXRATE!C$3:F$43,4,0)","v":1},0,"N",185,"",0,0,"","","","","","R","HLS","020","C",20230926,160849,0,0,"PFS               AI80184   9998"]
["KR","HSBC",4,136776,409,null,"","IIL",{"$f":"VLOOKUP(H755,[2]SSIFSEP!$H$2:$I$7593,2,0)","v":"가계대출"},"Household Loan","KRW","PRS",0,0,"1",0,{"$f":"VLOOKUP(K755,[1]EXRATE!C$3:F$43,4,0)","v":1},0,"N",185,"",0,0,"","","","","","R","HLS","020","T",20230926,160849,0.25,0,"PFS               AI80184   9998"]
["KR","HSBC",5,4841,409,null,"","IIL",{"$f":"VLOOKUP(H756,[2]SSIFSEP!$H$2:$I$7593,2,0)","v":"가계대출"},"Household Loan","KRW","PRS",0,0,"1",0,{"$f":"VLOOKUP(K756,[1]EXRATE!C$3:F$43,4,0)","v":1},0,"N",186,"",0,0,"","","","","","R","HLS","020","T",20230926,160849,0.25,0,"PFS               AI80184   9998"]
["KR","HSBC",5,64159,900,null,"","RML",{"$f":"VLOOKUP(H757,[2]SSIFSEP!$H$2:$I$7593,2,0)","v":"가계대출"},"Household Loan","KRW","PRS",0,0,"1",0,{"$f":"VLOOKUP(K757,[1]EXRATE!C$3:F$43,4,0)","v":1},0,"N",100,"",0,0,"","","","","","R","HLS","140","C",20230926,160849,0.25,0,"PFS               AI80160   9998"]
["KR","HSBC",5,129051,883,null,"","HM1",{"$f":"VLOOKUP(H758,[2]SSIFSEP!$H$2:$I$7593,2,0)","v":"가계대출"},"Household Loan","KRW","PRS",0,0,"1",0,{"$f":"VLOOKUP(K758,[1]EXRATE!C$3:F$43,4,0)","v":1},0,"N",98,"",0,0,"","","","","","R","HLS","141","J",20230926,160849,0.25,0,"PFS               AI80160   9998"]
["KR","HSBC",5,137682,409,null,"","IIL",{"$f":"VLOOKUP(H759,[2]SSIFSEP!$H$2:$I$7593,2,0)","v":"가계대출"},"Household Loan","KRW","PRS",0,0,"1",0,{"$f":"VLOOKUP(K759,[1]EXRATE!C$3:F$43,4,0)","v":1},0,"N",186,"",0,0,"","","","","","R","HLS","020","T",20230926,160849,0.25,0,"PFS               AI80184   9998"]
["KR","HSBC",5,138755,409,null,"","IIL",{"$f":"VLOOKUP(H760,[2]SSIFSEP!$H$2:$I$7593,2,0)","v":"가계대출"},"Household Loan","KRW","PRS",0,0,"1",0,{"$f":"VLOOKUP(K760,[1]EXRATE!C$3:F$43,4,0)","v":1},0,"N",186,"",0,0,"","","","","","R","HLS","020","T",20230926,160849,0.25,0,"PFS               AI80184   9998"]
["KR","HSBC",5,201025,882,null,"","HM1",{"$f":"VLOOKUP(H761,[2]SSIFSEP!$H$2:$I$7593,2,0)","v":"가계대출"},"Household Loan","KRW","PRS",0,0,"1",0,{"$f":"VLOOKUP(K761,[1]EXRATE!C$3:F$43,4,0)","v":1},0,"N",98,"",0,0,"","","","","","R","HLS","140","J",20230926,160849,0.25,0,"PFS               AI80160   9998"]
["KR","HSBC",6,6779,409,null,"","IIL",{"$f":"VLOOKUP(H762,[2]SSIFSEP!$H$2:$I$7593,2,0)","v":"가계대출"},"Household Loan","KRW","PRS",0,0,"1",0,{"$f":"VLOOKUP(K762,[1]EXRATE!C$3:F$43,4,0)","v":1},0,"N",187,"",0,0,"","","","","","R","HLS","020","T",20230926,160849,0.25,0,"PFS               AI80184   9998"]
["KR","HSBC",6,11498,882,null,"","HM1",{"$f":"VLOOKUP(H763,[2]SSIFSEP!$H$2:$I$7593,2,0)","v":"가계대출"},"Household Loan","KRW","PRS",0,0,"1",0,{"$f":"VLOOKUP(K763,[1]EXRATE!C$3:F$43,4,0)","v":1},0,"N",101,"",0,0,"","","","","","R","HLS","140","T",20230926,160849,0.25,0,"PFS               AI80160   9998"]
["KR","HSBC",6,21349,414,null,"","PLL",{"$f":"VLOOKUP(H764,[2]SSIFSEP!$H$2:$I$7593,2,0)","v":"가계대출"},"Household Loan","KRW","PRS",0,0,"1",0,{"$f":"VLOOKUP(K764,[1]EXRATE!C$3:F$43,4,0)","v":1},0,"N",102,"",0,0,"","","","","","R","HLS","140","J",20230926,160849,0.25,0,"PFS               AI80160   9998"]
["KR","HSBC",6,28252,413,null,"","PLL",{"$f":"VLOOKUP(H765,[2]SSIFSEP!$H$2:$I$7593,2,0)","v":"가계대출"},"Household Loan","KRW","PRS",0,0,"1",0,{"$f":"VLOOKUP(K765,[1]EXRATE!C$3:F$43,4,0)","v":1},0,"N",102,"",0,0,"","","","","","R","HLS","140","J",20230926,160849,0.25,0,"PFS               AI80160   9998"]
["KR","HSBC",6,35091,414,null,"","PLL",{"$f":"VLOOKUP(H766,[2]SSIFSEP!$H$2:$I$7593,2,0)","v":"가계대출"},"Household Loan","KRW","PRS",0,0,"1",0,{"$f":"VLOOKUP(K766,[1]EXRATE!C$3:F$43,4,0)","v":1},0,"N",102,"",0,0,"","","","","","R","HLS","140","T",20230926,160849,0.25,0,"PFS               AI80160   9998"]
["KR","HSBC",6,42360,882,null,"","HM1",{"$f":"VLOOKUP(H767,[2]SSIFSEP!$H$2:$I$7593,2,0)","v":"가계대출"},"Household Loan","KRW","PRS",0,0,"1",0,{"$f":"VLOOKUP(K767,[1]EXRATE!C$3:F$43,4,0)","v":1},0,"N",101,"",0,0,"","","","","","R","HLS","140","J",20230926,160849,0.25,0,"PFS               AI80160   9998"]
["KR","HSBC",6,57095,413,null,"","PLL",{"$f":"VLOOKUP(H768,[2]SSIFSEP!$H$2:$I$7593,2,0)","v":"가계대출"},"Household Loan","KRW","PRS",0,0,"1",0,{"$f":"VLOOKUP(K768,[1]EXRATE!C$3:F$43,4,0)","v":1},0,"N",102,"",0,0,"","","","","","R","HLS","140","J",20230926,160849,0.25,0,"PFS               AI80160   9998"]
["KR","HSBC",6,73274,413,null,"","PLL",{"$f":"VLOOKUP(H769,[2]SSIFSEP!$H$2:$I$7593,2,0)","v":"가계대출"},"Household Loan","KRW","PRS",0,0,"1",0,{"$f":"VLOOKUP(K769,[1]EXRATE!C$3:F$43,4,0)","v":1},0,"N",102,"",0,0,"","","","","","R","HLS","140","J",20230926,160849,0.25,0,"PFS               AI80160   9998"]
["KR","HSBC",6,81897,409,null,"","IIL",{"$f":"VLOOKUP(H770,[2]SSIFSEP!$H$2:$I$7593,2,0)","v":"가계대출"},"Household Loan","KRW","PRS",0,0,"1",0,{"$f":"VLOOKUP(K770,[1]EXRATE!C$3:F$43,4,0)","v":1},0,"N",187,"",0,0,"","","","","","R","HLS","020","I",20230926,160849,0,0,"PFS               AI80184   9998"]
["KR","HSBC",6,102180,207,null,"","RML",{"$f":"VLOOKUP(H771,[2]SSIFSEP!$H$2:$I$7593,2,0)","v":"가계대출"},"Household Loan","KRW","PRS",0,0,"1",0,{"$f":"VLOOKUP(K771,[1]EXRATE!C$3:F$43,4,0)","v":1},0,"N",103,"",0,0,"","","","","","R","HLS","141","J",20230926,160849,0.25,0,"PFS               AI80160   9998"]
["KR","HSBC",6,117022,207,null,"","RML",{"$f":"VLOOKUP(H772,[2]SSIFSEP!$H$2:$I$7593,2,0)","v":"가계대출"},"Household Loan","KRW","PRS",0,0,"1",0,{"$f":"VLOOKUP(K772,[1]EXRATE!C$3:F$43,4,0)","v":1},0,"N",103,"",0,0,"","","","","","R","HLS","141","J",20230926,160849,0.25,0,"PFS               AI80160   9998"]
["KR","HSBC",6,142103,409,null,"","IIL",{"$f":"VLOOKUP(H773,[2]SSIFSEP!$H$2:$I$7593,2,0)","v":"가계대출"},"Household Loan","KRW","PRS",0,0,"1",0,{"$f":"VLOOKUP(K773,[1]EXRATE!C$3:F$43,4,0)","v":1},0,"N",187,"",0,0,"","","","","","R","HLS","020","T",20230926,160849,0.25,0,"PFS               AI80184   9998"]
["KR","HSBC",6,144208,207,null,"","RML",{"$f":"VLOOKUP(H774,[2]SSIFSEP!$H$2:$I$7593,2,0)","v":"가계대출"},"Household Loan","KRW","PRS",0,0,"1",0,{"$f":"VLOOKUP(K774,[1]EXRATE!C$3:F$43,4,0)","v":1},0,"N",103,"",0,0,"","","","","","R","HLS","140","J",20230926,160849,0.25,0,"PFS               AI80160   9998"]
["KR","HSBC",6,144398,409,null,"","IIL",{"$f":"VLOOKUP(H775,[2]SSIFSEP!$H$2:$I$7593,2,0)","v":"가계대출"},"Household Loan","KRW","PRS",0,0,"1",0,{"$f":"VLOOKUP(K775,[1]EXRATE!C$3:F$43,4,0)","v":1},0,"N",187,"",0,0,"","","","","","R","HLS","020","T",20230926,160849,0.25,0,"PFS               AI80184   9998"]
["KR","HSBC",6,145262,409,null,"","IIL",{"$f":"VLOOKUP(H776,[2]SSIFSEP!$H$2:$I$7593,2,0)","v":"가계대출"},"Household Loan","KRW","PRS",0,0,"1",0,{"$f":"VLOOKUP(K776,[1]EXRATE!C$3:F$43,4,0)","v":1},0,"N",187,"",0,0,"","","","","","R","HLS","020","I",20230926,160849,0,0,"PFS               AI80184   9998"]
["KR","HSBC",6,146294,409,null,"","IIL",{"$f":"VLOOKUP(H777,[2]SSIFSEP!$H$2:$I$7593,2,0)","v":"가계대출"},"Household Loan","KRW","PRS",0,0,"1",0,{"$f":"VLOOKUP(K777,[1]EXRATE!C$3:F$43,4,0)","v":1},0,"N",187,"",0,0,"","","","","","R","HLS","020","T",20230926,160849,0.25,0,"PFS               AI80184   9998"]
["KR","HSBC",6,146351,409,null,"","IIL",{"$f":"VLOOKUP(H778,[2]SSIFSEP!$H$2:$I$7593,2,0)","v":"가계대출"},"Household Loan","KRW","PRS",0,0,"1",0,{"$f":"VLOOKUP(K778,[1]EXRATE!C$3:F$43,4,0)","v":1},0,"N",187,"",0,0,"","","","","","R","HLS","020","T",20230926,160849,0.25,0,"PFS               AI80184   9998"]
["KR","HSBC",6,146740,409,null,"","IIL",{"$f":"VLOOKUP(H779,[2]SSIFSEP!$H$2:$I$7593,2,0)","v":"가계대출"},"Household Loan","KRW","PRS",0,0,"1",0,{"$f":"VLOOKUP(K779,[1]EXRATE!C$3:F$43,4,0)","v":1},0,"N",187,"",0,0,"","","","","","R","HLS","020","T",20230926,160849,0.25,0,"PFS               AI80184   9998"]
["KR","HSBC",6,148365,409,null,"","IIL",{"$f":"VLOOKUP(H780,[2]SSIFSEP!$H$2:$I$7593,2,0)","v":"가계대출"},"Household Loan","KRW","PRS",0,0,"1",0,{"$f":"VLOOKUP(K780,[1]EXRATE!C$3:F$43,4,0)","v":1},0,"N",187,"",0,0,"","","","","","R","HLS","020","T",20230926,160849,0.25,0,"PFS               AI80184   9998"]
["KR","HSBC",6,148860,882,null,"","HM1",{"$f":"VLOOKUP(H781,[2]SSIFSEP!$H$2:$I$7593,2,0)","v":"가계대출"},"Household Loan","KRW","PRS",0,0,"1",0,{"$f":"VLOOKUP(K781,[1]EXRATE!C$3:F$43,4,0)","v":1},0,"N",101,"",0,0,"","","","","","R","HLS","140","J",20230926,160849,0.25,0,"PFS               AI80160   9998"]
["KR","HSBC",7,22098,207,null,"","RML",{"$f":"VLOOKUP(H782,[2]SSIFSEP!$H$2:$I$7593,2,0)","v":"가계대출"},"Household Loan","KRW","PRS",0,0,"1",0,{"$f":"VLOOKUP(K782,[1]EXRATE!C$3:F$43,4,0)","v":1},0,"N",105,"",0,0,"","","","","","R","HLS","141","R",20230926,160849,0.25,0,"PFS               AI80160   9998"]
["KR","HSBC",7,60205,409,null,"","IIL",{"$f":"VLOOKUP(H783,[2]SSIFSEP!$H$2:$I$7593,2,0)","v":"가계대출"},"Household Loan","KRW","PRS",0,0,"1",0,{"$f":"VLOOKUP(K783,[1]EXRATE!C$3:F$43,4,0)","v":1},0,"N",189,"",0,0,"","","","","","R","HLS","020","T",20230926,160849,0.25,0,"PFS               AI80184   9998"]
["KR","HSBC",7,75443,649,null,"","ILO",{"$f":"VLOOKUP(H784,[2]SSIFSEP!$H$2:$I$7593,2,0)","v":"가계대출"},"Household Loan","KRW","PRS",0,0,"1",0,{"$f":"VLOOKUP(K784,[1]EXRATE!C$3:F$43,4,0)","v":1},0,"N",190,"",0,0,"","","","","","R","HLS","020","T",20230926,160849,0.25,0,"PFS               AI80184   9998"]
["KR","HSBC",7,78991,413,null,"","PLL",{"$f":"VLOOKUP(H785,[2]SSIFSEP!$H$2:$I$7593,2,0)","v":"가계대출"},"Household Loan","KRW","PRS",0,0,"1",0,{"$f":"VLOOKUP(K785,[1]EXRATE!C$3:F$43,4,0)","v":1},{"$f":"+P785*Q785","v":0},"N",104,"",0,0,"","","","","","R","HLS","150","Q",20230926,160849,0.25,0,"PFS               AI80160   9998"]
["KR","HSBC",7,83348,208,null,"","AL4",{"$f":"VLOOKUP(H786,[2]SSIFSEP!$H$2:$I$7593,2,0)","v":"가계대출"},"Household Loan","KRW","PRS",0,0,"1",0,{"$f":"VLOOKUP(K786,[1]EXRATE!C$3:F$43,4,0)","v":1},0,"N",188,"",0,0,"","","","","","R","HLS","020","T",20230926,160849,0.25,0,"PFS               AI80184   9998"]
["KR","HSBC",7,83868,208,null,"","AL4",{"$f":"VLOOKUP(H787,[2]SSIFSEP!$H$2:$I$7593,2,0)","v":"가계대출"},"Household Loan","KRW","PRS",0,0,"1",0,{"$f":"VLOOKUP(K787,[1]EXRATE!C$3:F$43,4,0)","v":1},0,"N",188,"",0,0,"","","","","","R","HLS","020","H",20230926,160849,0,0,"PFS               AI80184   9998"]
["KR","HSBC",8,33565,413,null,"","PLL",{"$f":"VLOOKUP(H788,[2]SSIFSEP!$H$2:$I$7593,2,0)","v":"가계대출"},"Household Loan","KRW","PRS",0,0,"1",0,{"$f":"VLOOKUP(K788,[1]EXRATE!C$3:F$43,4,0)","v":1},0,"N",107,"",0,0,"","","","","","R","HLS","140","J",20230926,160849,0.25,0,"PFS               AI80160   9998"]
["KR","HSBC",8,48431,409,null,"","IIL",{"$f":"VLOOKUP(H789,[2]SSIFSEP!$H$2:$I$7593,2,0)","v":"가계대출"},"Household Loan","KRW","PRS",0,0,"1",0,{"$f":"VLOOKUP(K789,[1]EXRATE!C$3:F$43,4,0)","v":1},0,"N",191,"",0,0,"","","","","","R","HLS","020","T",20230926,160849,0.25,0,"PFS               AI80184   9998"]
["KR","HSBC",8,73942,882,null,"","HM1",{"$f":"VLOOKUP(H790,[2]SSIFSEP!$H$2:$I$7593,2,0)","v":"가계대출"},"Household Loan","KRW","PRS",0,0,"1",0,{"$f":"VLOOKUP(K790,[1]EXRATE!C$3:F$43,4,0)","v":1},0,"N",106,"",0,0,"","","","","","R","HLS","151","J",20230926,160849,0.25,0,"PFS               AI80160   9998"]
["KR","HSBC",9,803,413,null,"","PLL",{"$f":"VLOOKUP(H791,[2]SSIFSEP!$H$2:$I$7593,2,0)","v":"가계대출"},"Household Loan","KRW","PRS",0,0,"1",0,{"$f":"VLOOKUP(K791,[1]EXRATE!C$3:F$43,4,0)","v":1},0,"N",109,"",0,0,"","","","","","R","HLS","140","J",20230926,160849,0.25,0,"PFS               AI80160   9998"]
["KR","HSBC",9,30628,409,null,"","IIL",{"$f":"VLOOKUP(H792,[2]SSIFSEP!$H$2:$I$7593,2,0)","v":"가계대출"},"Household Loan","KRW","PRS",0,0,"1",0,{"$f":"VLOOKUP(K792,[1]EXRATE!C$3:F$43,4,0)","v":1},0,"N",192,"",0,0,"","","","","","R","HLS","990","T",20230926,160849,0.25,0,"PFS               AI80184   9998"]
["KR","HSBC",9,34844,882,null,"","HM1",{"$f":"VLOOKUP(H793,[2]SSIFSEP!$H$2:$I$7593,2,0)","v":"가계대출"},"Household Loan","KRW","PRS",0,0,"1",0,{"$f":"VLOOKUP(K793,[1]EXRATE!C$3:F$43,4,0)","v":1},0,"N",108,"",0,0,"","","","","","R","HLS","141","J",20230926,160849,0.25,0,"PFS               AI80160   9998"]
["KR","HSBC",9,44397,409,null,"","IIL",{"$f":"VLOOKUP(H794,[2]SSIFSEP!$H$2:$I$7593,2,0)","v":"가계대출"},"Household Loan","KRW","PRS",0,0,"1",0,{"$f":"VLOOKUP(K794,[1]EXRATE!C$3:F$43,4,0)","v":1},0,"N",192,"",0,0,"","","","","","R","HLS","020","T",20230926,160849,0.25,0,"PFS               AI80184   9998"]
["KR","HSBC",9,45006,409,null,"","IIL",{"$f":"VLOOKUP(H795,[2]SSIFSEP!$H$2:$I$7593,2,0)","v":"가계대출"},"Household Loan","KRW","PRS",0,0,"1",0,{"$f":"VLOOKUP(K795,[1]EXRATE!C$3:F$43,4,0)","v":1},0,"N",192,"",0,0,"","","","","","R","HLS","020","T",20230926,160849,0.25,0,"PFS               AI80184   9998"]
["KR","HSBC",9,46400,207,null,"","RML",{"$f":"VLOOKUP(H796,[2]SSIFSEP!$H$2:$I$7593,2,0)","v":"가계대출"},"Household Loan","KRW","PRS",0,0,"1",0,{"$f":"VLOOKUP(K796,[1]EXRATE!C$3:F$43,4,0)","v":1},0,"N",110,"",0,0,"","","","","","R","HLS","140","J",20230926,160849,0.25,0,"PFS               AI80160   9998"]
["KR","HSBC",9,54941,413,null,"","PLL",{"$f":"VLOOKUP(H797,[2]SSIFSEP!$H$2:$I$7593,2,0)","v":"가계대출"},"Household Loan","KRW","PRS",0,0,"1",0,{"$f":"VLOOKUP(K797,[1]EXRATE!C$3:F$43,4,0)","v":1},0,"N",109,"",0,0,"","","","","","R","HLS","140","J",20230926,160849,0.25,0,"PFS               AI80160   9998"]
["KR","HSBC",9,81654,882,null,"","HM1",{"$f":"VLOOKUP(H798,[2]SSIFSEP!$H$2:$I$7593,2,0)","v":"가계대출"},"Household Loan","KRW","PRS",0,0,"1",0,{"$f":"VLOOKUP(K798,[1]EXRATE!C$3:F$43,4,0)","v":1},0,"N",108,"",0,0,"","","","","","R","HLS","140","J",20230926,160849,0.25,0,"PFS               AI80160   9998"]
["KR","HSBC",11,3233,208,null,"","AL4",{"$f":"VLOOKUP(H799,[2]SSIFSEP!$H$2:$I$7593,2,0)","v":"가계대출"},"Household Loan","KRW","PRS",0,0,"1",0,{"$f":"VLOOKUP(K799,[1]EXRATE!C$3:F$43,4,0)","v":1},0,"N",194,"",0,0,"","","","","","R","HLS","020","I",20230926,160849,0,0,"PFS               AI80184   9998"]
["KR","HSBC",11,4678,901,null,"","IIL",{"$f":"VLOOKUP(H800,[2]SSIFSEP!$H$2:$I$7593,2,0)","v":"가계대출"},"Household Loan","KRW","PRS",0,0,"1",0,{"$f":"VLOOKUP(K800,[1]EXRATE!C$3:F$43,4,0)","v":1},0,"N",195,"",0,0,"","","","","","R","HLS","020","G",20230926,160849,0,0,"PFS               AI80184   9998"]
["KR","HSBC",11,8497,409,null,"","IIL",{"$f":"VLOOKUP(H801,[2]SSIFSEP!$H$2:$I$7593,2,0)","v":"가계대출"},"Household Loan","KRW","PRS",0,0,"1",0,{"$f":"VLOOKUP(K801,[1]EXRATE!C$3:F$43,4,0)","v":1},0,"N",195,"",0,0,"","","","","","R","HLS","020","T",20230926,160849,0.25,0,"PFS               AI80184   9998"]
["KR","HSBC",11,9933,409,null,"","IIL",{"$f":"VLOOKUP(H802,[2]SSIFSEP!$H$2:$I$7593,2,0)","v":"가계대출"},"Household Loan","KRW","PRS",0,0,"1",0,{"$f":"VLOOKUP(K802,[1]EXRATE!C$3:F$43,4,0)","v":1},0,"N",195,"",0,0,"","","","","","R","HLS","020","T",20230926,160849,0.25,0,"PFS               AI80184   9998"]
["KR","HSBC",11,10527,409,null,"","IIL",{"$f":"VLOOKUP(H803,[2]SSIFSEP!$H$2:$I$7593,2,0)","v":"가계대출"},"Household Loan","KRW","PRS",0,0,"1",0,{"$f":"VLOOKUP(K803,[1]EXRATE!C$3:F$43,4,0)","v":1},0,"N",195,"",0,0,"","","","","","R","HLS","020","T",20230926,160849,0.25,0,"PFS               AI80184   9998"]
["KR","HSBC",11,12382,208,null,"","AL4",{"$f":"VLOOKUP(H804,[2]SSIFSEP!$H$2:$I$7593,2,0)","v":"가계대출"},"Household Loan","KRW","PRS",0,0,"1",0,{"$f":"VLOOKUP(K804,[1]EXRATE!C$3:F$43,4,0)","v":1},0,"N",194,"",0,0,"","","","","","R","HLS","020","J",20230926,160849,0,0,"PFS               AI80184   9998"]
["KR","HSBC",11,12382,409,null,"","IIL",{"$f":"VLOOKUP(H805,[2]SSIFSEP!$H$2:$I$7593,2,0)","v":"가계대출"},"Household Loan","KRW","PRS",0,0,"1",0,{"$f":"VLOOKUP(K805,[1]EXRATE!C$3:F$43,4,0)","v":1},0,"N",195,"",0,0,"","","","","","R","HLS","020","H",20230926,160849,0,0,"PFS               AI80184   9998"]
["KR","HSBC",11,15922,409,null,"","IIL",{"$f":"VLOOKUP(H806,[2]SSIFSEP!$H$2:$I$7593,2,0)","v":"가계대출"},"Household Loan","KRW","PRS",0,0,"1",0,{"$f":"VLOOKUP(K806,[1]EXRATE!C$3:F$43,4,0)","v":1},0,"N",195,"",0,0,"","","","","","R","HLS","020","T",20230926,160849,0.25,0,"PFS               AI80184   9998"]
["KR","HSBC",11,21839,714,null,"","ILS",{"$f":"VLOOKUP(H807,[2]SSIFSEP!$H$2:$I$7593,2,0)","v":"가계대출"},"Household Loan","KRW","PRS",0,0,"1",0,{"$f":"VLOOKUP(K807,[1]EXRATE!C$3:F$43,4,0)","v":1},0,"N",196,"",0,0,"","","","","","R","HLS","020","T",20230926,160849,0.25,0,"PFS               AI80184   9998"]
["KR","HSBC",11,23124,409,null,"","IIL",{"$f":"VLOOKUP(H808,[2]SSIFSEP!$H$2:$I$7593,2,0)","v":"가계대출"},"Household Loan","KRW","PRS",0,0,"1",0,{"$f":"VLOOKUP(K808,[1]EXRATE!C$3:F$43,4,0)","v":1},0,"N",195,"",0,0,"","","","","","R","HLS","020","T",20230926,160849,0.25,0,"PFS               AI80184   9998"]
["KR","HSBC",11,24726,900,null,"","AL4",{"$f":"VLOOKUP(H809,[2]SSIFSEP!$H$2:$I$7593,2,0)","v":"가계대출"},"Household Loan","KRW","PRS",0,0,"1",0,{"$f":"VLOOKUP(K809,[1]EXRATE!C$3:F$43,4,0)","v":1},0,"N",194,"",0,0,"","","","","","R","HLS","020","T",20230926,160849,0.25,0,"PFS               AI80184   9998"]
["KR","HSBC",11,27299,409,null,"","IIL",{"$f":"VLOOKUP(H810,[2]SSIFSEP!$H$2:$I$7593,2,0)","v":"가계대출"},"Household Loan","KRW","PRS",0,0,"1",0,{"$f":"VLOOKUP(K810,[1]EXRATE!C$3:F$43,4,0)","v":1},0,"N",195,"",0,0,"","","","","","R","HLS","020","T",20230926,160849,0.25,0,"PFS               AI80184   9998"]
["KR","HSBC",11,29659,208,null,"","AL4",{"$f":"VLOOKUP(H811,[2]SSIFSEP!$H$2:$I$7593,2,0)","v":"가계대출"},"Household Loan","KRW","PRS",0,0,"1",0,{"$f":"VLOOKUP(K811,[1]EXRATE!C$3:F$43,4,0)","v":1},0,"N",194,"",0,0,"","","","","","R","HLS","020","T",20230926,160849,0.25,0,"PFS               AI80184   9998"]
["KR","HSBC",11,32224,809,null,"","AL3",{"$f":"VLOOKUP(H812,[2]SSIFSEP!$H$2:$I$7593,2,0)","v":"가계대출"},"Household Loan","KRW","PRS",0,0,"1",0,{"$f":"VLOOKUP(K812,[1]EXRATE!C$3:F$43,4,0)","v":1},0,"N",193,"",0,0,"","","","","","R","HLS","020","G",20230926,160849,0,0,"PFS               AI80184   9998"]
["KR","HSBC",11,33941,809,null,"","AL3",{"$f":"VLOOKUP(H813,[2]SSIFSEP!$H$2:$I$7593,2,0)","v":"가계대출"},"Household Loan","KRW","PRS",0,0,"1",0,{"$f":"VLOOKUP(K813,[1]EXRATE!C$3:F$43,4,0)","v":1},0,"N",193,"",0,0,"","","","","","R","HLS","020","J",20230926,160849,0,0,"PFS               AI80184   9998"]
["KR","HSBC",11,34527,208,null,"","AL4",{"$f":"VLOOKUP(H814,[2]SSIFSEP!$H$2:$I$7593,2,0)","v":"가계대출"},"Household Loan","KRW","PRS",0,0,"1",0,{"$f":"VLOOKUP(K814,[1]EXRATE!C$3:F$43,4,0)","v":1},0,"N",194,"",0,0,"","","","","","R","HLS","020","T",20230926,160849,0.25,0,"PFS               AI80184   9998"]
["KR","HSBC",11,39773,714,null,"","ILS",{"$f":"VLOOKUP(H815,[2]SSIFSEP!$H$2:$I$7593,2,0)","v":"가계대출"},"Household Loan","KRW","PRS",0,0,"1",0,{"$f":"VLOOKUP(K815,[1]EXRATE!C$3:F$43,4,0)","v":1},0,"N",196,"",0,0,"","","","","","R","HLS","020","T",20230926,160849,0.25,0,"PFS               AI80184   9998"]
["KR","HSBC",11,42215,208,null,"","AL4",{"$f":"VLOOKUP(H816,[2]SSIFSEP!$H$2:$I$7593,2,0)","v":"가계대출"},"Household Loan","KRW","PRS",0,0,"1",0,{"$f":"VLOOKUP(K816,[1]EXRATE!C$3:F$43,4,0)","v":1},0,"N",194,"",0,0,"","","","","","R","HLS","020","T",20230926,160849,0.25,0,"PFS               AI80184   9998"]
["KR","HSBC",11,46927,715,null,"","ILS",{"$f":"VLOOKUP(H817,[2]SSIFSEP!$H$2:$I$7593,2,0)","v":"가계대출"},"Household Loan","KRW","PRS",0,0,"1",0,{"$f":"VLOOKUP(K817,[1]EXRATE!C$3:F$43,4,0)","v":1},{"$f":"+P817*Q817","v":0},"N",196,"",0,0,"","","","","","R","HLS","020","T",20230926,160849,0.25,0,"PFS               AI80184   9998"]
["KR","HSBC",11,47552,208,null,"","AL4",{"$f":"VLOOKUP(H818,[2]SSIFSEP!$H$2:$I$7593,2,0)","v":"가계대출"},"Household Loan","KRW","PRS",0,0,"1",0,{"$f":"VLOOKUP(K818,[1]EXRATE!C$3:F$43,4,0)","v":1},0,"N",194,"",0,0,"","","","","","R","HLS","020","T",20230926,160849,0.25,0,"PFS               AI80184   9998"]
["KR","HSBC",11,49715,809,null,"","AL3",{"$f":"VLOOKUP(H819,[2]SSIFSEP!$H$2:$I$7593,2,0)","v":"가계대출"},"Household Loan","KRW","PRS",0,0,"1",0,{"$f":"VLOOKUP(K819,[1]EXRATE!C$3:F$43,4,0)","v":1},0,"N",193,"",0,0,"","","","","","R","HLS","020","H",20230926,160849,0,0,"PFS               AI80184   9998"]
["KR","HSBC",11,56066,882,null,"","HM1",{"$f":"VLOOKUP(H820,[2]SSIFSEP!$H$2:$I$7593,2,0)","v":"가계대출"},"Household Loan","KRW","PRS",0,0,"1",0,{"$f":"VLOOKUP(K820,[1]EXRATE!C$3:F$43,4,0)","v":1},0,"N",111,"",0,0,"","","","","","R","HLS","140","J",20230926,160849,0.25,0,"PFS               AI80160   9998"]
["KR","HSBC",12,709,409,null,"","IIL",{"$f":"VLOOKUP(H821,[2]SSIFSEP!$H$2:$I$7593,2,0)","v":"가계대출"},"Household Loan","KRW","PRS",0,0,"1",0,{"$f":"VLOOKUP(K821,[1]EXRATE!C$3:F$43,4,0)","v":1},0,"N",199,"",0,0,"","","","","","R","HLS","020","T",20230926,160849,0.25,0,"PFS               AI80184   9998"]
["KR","HSBC",12,5898,409,null,"","IIL",{"$f":"VLOOKUP(H822,[2]SSIFSEP!$H$2:$I$7593,2,0)","v":"가계대출"},"Household Loan","KRW","PRS",0,0,"1",0,{"$f":"VLOOKUP(K822,[1]EXRATE!C$3:F$43,4,0)","v":1},0,"N",199,"",0,0,"","","","","","R","HLS","020","T",20230926,160849,0.25,0,"PFS               AI80184   9998"]
["KR","HSBC",12,11896,409,null,"","IIL",{"$f":"VLOOKUP(H823,[2]SSIFSEP!$H$2:$I$7593,2,0)","v":"가계대출"},"Household Loan","KRW","PRS",0,0,"1",0,{"$f":"VLOOKUP(K823,[1]EXRATE!C$3:F$43,4,0)","v":1},0,"N",199,"",0,0,"","","","","","R","HLS","020","T",20230926,160849,0.25,0,"PFS               AI80184   9998"]
["KR","HSBC",12,13645,409,null,"","IIL",{"$f":"VLOOKUP(H824,[2]SSIFSEP!$H$2:$I$7593,2,0)","v":"가계대출"},"Household Loan","KRW","PRS",0,0,"1",0,{"$f":"VLOOKUP(K824,[1]EXRATE!C$3:F$43,4,0)","v":1},0,"N",199,"",0,0,"","","","","","R","HLS","020","T",20230926,160849,0.25,0,"PFS               AI80184   9998"]
["KR","HSBC",12,15962,649,null,"","ILO",{"$f":"VLOOKUP(H825,[2]SSIFSEP!$H$2:$I$7593,2,0)","v":"가계대출"},"Household Loan","KRW","PRS",0,0,"1",0,{"$f":"VLOOKUP(K825,[1]EXRATE!C$3:F$43,4,0)","v":1},0,"N",200,"",0,0,"","","","","","R","HLS","020","T",20230926,160849,0.25,0,"PFS               AI80184   9998"]
["KR","HSBC",12,21762,409,null,"","IIL",{"$f":"VLOOKUP(H826,[2]SSIFSEP!$H$2:$I$7593,2,0)","v":"가계대출"},"Household Loan","KRW","PRS",0,0,"1",0,{"$f":"VLOOKUP(K826,[1]EXRATE!C$3:F$43,4,0)","v":1},0,"N",199,"",0,0,"","","","","","R","HLS","020","T",20230926,160849,0.25,0,"PFS               AI80184   9998"]
["KR","HSBC",12,22109,882,null,"","HM1",{"$f":"VLOOKUP(H827,[2]SSIFSEP!$H$2:$I$7593,2,0)","v":"가계대출"},"Household Loan","KRW","PRS",0,0,"1",0,{"$f":"VLOOKUP(K827,[1]EXRATE!C$3:F$43,4,0)","v":1},0,"N",112,"",0,0,"","","","","","R","HLS","150","T",20230926,160849,0.25,0,"PFS               AI80160   9998"]
["KR","HSBC",12,24717,900,null,"","AL4",{"$f":"VLOOKUP(H828,[2]SSIFSEP!$H$2:$I$7593,2,0)","v":"가계대출"},"Household Loan","KRW","PRS",0,0,"1",0,{"$f":"VLOOKUP(K828,[1]EXRATE!C$3:F$43,4,0)","v":1},0,"N",198,"",0,0,"","","","","","R","HLS","020","T",20230926,160849,0.25,0,"PFS               AI80184   9998"]
["KR","HSBC",12,26019,883,null,"","HM1",{"$f":"VLOOKUP(H829,[2]SSIFSEP!$H$2:$I$7593,2,0)","v":"가계대출"},"Household Loan","KRW","PRS",0,0,"1",0,{"$f":"VLOOKUP(K829,[1]EXRATE!C$3:F$43,4,0)","v":1},0,"N",112,"",0,0,"","","","","","R","HLS","140","J",20230926,160849,0.25,0,"PFS               AI80160   9998"]
["KR","HSBC",12,29849,409,null,"","IIL",{"$f":"VLOOKUP(H830,[2]SSIFSEP!$H$2:$I$7593,2,0)","v":"가계대출"},"Household Loan","KRW","PRS",0,0,"1",0,{"$f":"VLOOKUP(K830,[1]EXRATE!C$3:F$43,4,0)","v":1},0,"N",199,"",0,0,"","","","","","R","HLS","020","G",20230926,160849,0,0,"PFS               AI80184   9998"]
["KR","HSBC",12,43360,208,null,"","AL4",{"$f":"VLOOKUP(H831,[2]SSIFSEP!$H$2:$I$7593,2,0)","v":"가계대출"},"Household Loan","KRW","PRS",0,0,"1",0,{"$f":"VLOOKUP(K831,[1]EXRATE!C$3:F$43,4,0)","v":1},0,"N",198,"",0,0,"","","","","","R","HLS","020","T",20230926,160849,0.25,0,"PFS               AI80184   9998"]
["KR","HSBC",12,49300,208,null,"","AL4",{"$f":"VLOOKUP(H832,[2]SSIFSEP!$H$2:$I$7593,2,0)","v":"가계대출"},"Household Loan","KRW","PRS",0,0,"1",0,{"$f":"VLOOKUP(K832,[1]EXRATE!C$3:F$43,4,0)","v":1},0,"N",198,"",0,0,"","","","","","R","HLS","020","T",20230926,160849,0.25,0,"PFS               AI80184   9998"]
["KR","HSBC",12,49417,208,null,"","AL4",{"$f":"VLOOKUP(H833,[2]SSIFSEP!$H$2:$I$7593,2,0)","v":"가계대출"},"Household Loan","KRW","PRS",0,0,"1",0,{"$f":"VLOOKUP(K833,[1]EXRATE!C$3:F$43,4,0)","v":1},0,"N",198,"",0,0,"","","","","","R","HLS","020","T",20230926,160849,0.25,0,"PFS               AI80184   9998"]
["KR","HSBC",12,52478,809,null,"","AL3",{"$f":"VLOOKUP(H834,[2]SSIFSEP!$H$2:$I$7593,2,0)","v":"가계대출"},"Household Loan","KRW","PRS",0,0,"1",0,{"$f":"VLOOKUP(K834,[1]EXRATE!C$3:F$43,4,0)","v":1},0,"N",197,"",0,0,"","","","","","R","HLS","020","T",20230926,160849,0.25,0,"PFS               AI80184   9998"]
["KR","HSBC",13,2647,901,null,"","IIL",{"$f":"VLOOKUP(H835,[2]SSIFSEP!$H$2:$I$7593,2,0)","v":"가계대출"},"Household Loan","KRW","PRS",0,0,"1",0,{"$f":"VLOOKUP(K835,[1]EXRATE!C$3:F$43,4,0)","v":1},0,"N",202,"",0,0,"","","","","","R","HLS","020","T",20230926,160849,0.25,0,"PFS               AI80184   9998"]
["KR","HSBC",13,6341,409,null,"","IIL",{"$f":"VLOOKUP(H836,[2]SSIFSEP!$H$2:$I$7593,2,0)","v":"가계대출"},"Household Loan","KRW","PRS",0,0,"1",0,{"$f":"VLOOKUP(K836,[1]EXRATE!C$3:F$43,4,0)","v":1},0,"N",202,"",0,0,"","","","","","R","HLS","020","T",20230926,160849,0.25,0,"PFS               AI80184   9998"]
["KR","HSBC",13,9808,409,null,"","IIL",{"$f":"VLOOKUP(H837,[2]SSIFSEP!$H$2:$I$7593,2,0)","v":"가계대출"},"Household Loan","KRW","PRS",0,0,"1",0,{"$f":"VLOOKUP(K837,[1]EXRATE!C$3:F$43,4,0)","v":1},0,"N",202,"",0,0,"","","","","","R","HLS","020","T",20230926,160849,0.25,0,"PFS               AI80184   9998"]
["KR","HSBC",13,19351,409,null,"","IIL",{"$f":"VLOOKUP(H838,[2]SSIFSEP!$H$2:$I$7593,2,0)","v":"가계대출"},"Household Loan","KRW","PRS",0,0,"1",0,{"$f":"VLOOKUP(K838,[1]EXRATE!C$3:F$43,4,0)","v":1},0,"N",202,"",0,0,"","","","","","R","HLS","020","T",20230926,160849,0.25,0,"PFS               AI80184   9998"]
["KR","HSBC",13,20441,409,null,"","IIL",{"$f":"VLOOKUP(H839,[2]SSIFSEP!$H$2:$I$7593,2,0)","v":"가계대출"},"Household Loan","KRW","PRS",0,0,"1",0,{"$f":"VLOOKUP(K839,[1]EXRATE!C$3:F$43,4,0)","v":1},0,"N",202,"",0,0,"","","","","","R","HLS","020","F",20230926,160849,0,0,"PFS               AI80184   9998"]
["KR","HSBC",13,24344,409,null,"","IIL",{"$f":"VLOOKUP(H840,[2]SSIFSEP!$H$2:$I$7593,2,0)","v":"가계대출"},"Household Loan","KRW","PRS",0,0,"1",0,{"$f":"VLOOKUP(K840,[1]EXRATE!C$3:F$43,4,0)","v":1},0,"N",202,"",0,0,"","","","","","R","HLS","020","T",20230926,160849,0.25,0,"PFS               AI80184   9998"]
["KR","HSBC",13,26471,409,null,"","IIL",{"$f":"VLOOKUP(H841,[2]SSIFSEP!$H$2:$I$7593,2,0)","v":"가계대출"},"Household Loan","KRW","PRS",0,0,"1",0,{"$f":"VLOOKUP(K841,[1]EXRATE!C$3:F$43,4,0)","v":1},0,"N",202,"",0,0,"","","","","","R","HLS","020","T",20230926,160849,0.25,0,"PFS               AI80184   9998"]
["KR","HSBC",13,26778,714,null,"","ILS",{"$f":"VLOOKUP(H842,[2]SSIFSEP!$H$2:$I$7593,2,0)","v":"가계대출"},"Household Loan","KRW","PRS",0,0,"1",0,{"$f":"VLOOKUP(K842,[1]EXRATE!C$3:F$43,4,0)","v":1},0,"N",203,"",0,0,"","","","","","R","HLS","020","T",20230926,160849,0.25,0,"PFS               AI80184   9998"]
["KR","HSBC",13,29459,409,null,"","IIL",{"$f":"VLOOKUP(H843,[2]SSIFSEP!$H$2:$I$7593,2,0)","v":"가계대출"},"Household Loan","KRW","PRS",0,0,"1",0,{"$f":"VLOOKUP(K843,[1]EXRATE!C$3:F$43,4,0)","v":1},0,"N",202,"",0,0,"","","","","","R","HLS","020","T",20230926,160849,0.25,0,"PFS               AI80184   9998"]
["KR","HSBC",13,33667,900,null,"","AL4",{"$f":"VLOOKUP(H844,[2]SSIFSEP!$H$2:$I$7593,2,0)","v":"가계대출"},"Household Loan","KRW","PRS",0,0,"1",0,{"$f":"VLOOKUP(K844,[1]EXRATE!C$3:F$43,4,0)","v":1},0,"N",201,"",0,0,"","","","","","R","HLS","020","T",20230926,160849,0.25,0,"PFS               AI80184   9998"]
["KR","HSBC",13,34731,714,null,"","ILS",{"$f":"VLOOKUP(H845,[2]SSIFSEP!$H$2:$I$7593,2,0)","v":"가계대출"},"Household Loan","KRW","PRS",0,0,"1",0,{"$f":"VLOOKUP(K845,[1]EXRATE!C$3:F$43,4,0)","v":1},0,"N",203,"",0,0,"","","","","","R","HLS","020","T",20230926,160849,0.25,0,"PFS               AI80184   9998"]
["KR","HSBC",13,35183,714,null,"","ILS",{"$f":"VLOOKUP(H846,[2]SSIFSEP!$H$2:$I$7593,2,0)","v":"가계대출"},"Household Loan","KRW","PRS",0,0,"1",0,{"$f":"VLOOKUP(K846,[1]EXRATE!C$3:F$43,4,0)","v":1},0,"N",203,"",0,0,"","","","","","R","HLS","020","T",20230926,160849,0.25,0,"PFS               AI80184   9998"]
["KR","HSBC",13,36801,714,null,"","ILS",{"$f":"VLOOKUP(H847,[2]SSIFSEP!$H$2:$I$7593,2,0)","v":"가계대출"},"Household Loan","KRW","PRS",0,0,"1",0,{"$f":"VLOOKUP(K847,[1]EXRATE!C$3:F$43,4,0)","v":1},0,"N",203,"",0,0,"","","","","","R","HLS","020","T",20230926,160849,0.25,0,"PFS               AI80184   9998"]
["KR","HSBC",13,42312,714,null,"","ILS",{"$f":"VLOOKUP(H848,[2]SSIFSEP!$H$2:$I$7593,2,0)","v":"가계대출"},"Household Loan","KRW","PRS",0,0,"1",0,{"$f":"VLOOKUP(K848,[1]EXRATE!C$3:F$43,4,0)","v":1},0,"N",203,"",0,0,"","","","","","R","HLS","020","T",20230926,160849,0.25,0,"PFS               AI80184   9998"]
["KR","HSBC",13,42841,208,null,"","AL4",{"$f":"VLOOKUP(H849,[2]SSIFSEP!$H$2:$I$7593,2,0)","v":"가계대출"},"Household Loan","KRW","PRS",0,0,"1",0,{"$f":"VLOOKUP(K849,[1]EXRATE!C$3:F$43,4,0)","v":1},{"$f":"+P849*Q849","v":0},"N",201,"",0,0,"","","","","","R","HLS","020","T",20230926,160849,0.25,0,"PFS               AI80184   9998"]
["KR","HSBC",13,45505,208,null,"","AL4",{"$f":"VLOOKUP(H850,[2]SSIFSEP!$H$2:$I$7593,2,0)","v":"가계대출"},"Household Loan","KRW","PRS",0,0,"1",0,{"$f":"VLOOKUP(K850,[1]EXRATE!C$3:F$43,4,0)","v":1},0,"N",201,"",0,0,"","","","","","R","HLS","020","G",20230926,160849,0,0,"PFS               AI80184   9998"]
["KR","HSBC",13,46487,900,null,"","AL4",{"$f":"VLOOKUP(H851,[2]SSIFSEP!$H$2:$I$7593,2,0)","v":"가계대출"},"Household Loan","KRW","PRS",0,0,"1",0,{"$f":"VLOOKUP(K851,[1]EXRATE!C$3:F$43,4,0)","v":1},0,"N",201,"",0,0,"","","","","","R","HLS","020","T",20230926,160849,0.25,0,"PFS               AI80184   9998"]
["KR","HSBC",13,50760,208,null,"","AL4",{"$f":"VLOOKUP(H852,[2]SSIFSEP!$H$2:$I$7593,2,0)","v":"가계대출"},"Household Loan","KRW","PRS",0,0,"1",0,{"$f":"VLOOKUP(K852,[1]EXRATE!C$3:F$43,4,0)","v":1},0,"N",201,"",0,0,"","","","","","R","HLS","020","I",20230926,160849,0,0,"PFS               AI80184   9998"]
["KR","HSBC",13,51594,208,null,"","AL4",{"$f":"VLOOKUP(H853,[2]SSIFSEP!$H$2:$I$7593,2,0)","v":"가계대출"},"Household Loan","KRW","PRS",0,0,"1",0,{"$f":"VLOOKUP(K853,[1]EXRATE!C$3:F$43,4,0)","v":1},0,"N",201,"",0,0,"","","","","","R","HLS","020","T",20230926,160849,0.25,0,"PFS               AI80184   9998"]
["KR","HSBC",13,53137,208,null,"","AL4",{"$f":"VLOOKUP(H854,[2]SSIFSEP!$H$2:$I$7593,2,0)","v":"가계대출"},"Household Loan","KRW","PRS",0,0,"1",0,{"$f":"VLOOKUP(K854,[1]EXRATE!C$3:F$43,4,0)","v":1},0,"N",201,"",0,0,"","","","","","R","HLS","020","G",20230926,160849,0,0,"PFS               AI80184   9998"]
["KR","HSBC",13,59811,208,null,"","AL4",{"$f":"VLOOKUP(H855,[2]SSIFSEP!$H$2:$I$7593,2,0)","v":"가계대출"},"Household Loan","KRW","PRS",0,0,"1",0,{"$f":"VLOOKUP(K855,[1]EXRATE!C$3:F$43,4,0)","v":1},0,"N",201,"",0,0,"","","","","","R","HLS","020","H",20230926,160849,0,0,"PFS               AI80184   9998"]
["KR","HSBC",13,59811,900,null,"","AL4",{"$f":"VLOOKUP(H856,[2]SSIFSEP!$H$2:$I$7593,2,0)","v":"가계대출"},"Household Loan","KRW","PRS",0,0,"1",0,{"$f":"VLOOKUP(K856,[1]EXRATE!C$3:F$43,4,0)","v":1},0,"N",201,"",0,0,"","","","","","R","HLS","020","H",20230926,160849,0,0,"PFS               AI80184   9998"]
["KR","HSBC",2,0,0,null,"APGSEL000041","APG",{"$f":"VLOOKUP(H857,[2]SSIFSEP!$H$2:$I$7593,2,0)","v":"확정지급보증"},"Confirmed Payment Guarantee","USD","BE1",1.1000000000000001,0,"1",5024,{"$f":"VLOOKUP(K857,[1]EXRATE!C$3:F$43,4,0)","v":1344.8},{"$f":"+P857*Q857/100","v":67562.752000000008},"",256,"",0,0,"","","","","","W","HIE","","",20230926,160848,0.04,17.585000000000001,"CIBM              MA21570","APGSEL",0,41,null,"GTRF GTE","Confirmed Payment Guarantee",{"$f":"R857","v":67562.752000000008},"Matched with Local data"]
["KR","HSBC",2,0,0,null,"APGSEL000471","APG",{"$f":"VLOOKUP(H858,[2]SSIFSEP!$H$2:$I$7593,2,0)","v":"확정지급보증"},"Confirmed Payment Guarantee","PHP","C13",2.2000000000000002,0,"1",1292473,{"$f":"VLOOKUP(K858,[1]EXRATE!C$3:F$43,4,0)","v":23.539296341676874},304239.04960616137,"",264,"",0,0,"","","","","","W","HIE","","",20230926,160848,0.02,40.854999999999997,"CIBM              MA21570","APGSEL",0,471,null,"GTRF GTE","Confirmed Payment Guarantee",{"$f":"R858","v":304239.04960616137},"Matched with Local data"]
["KR","HSBC",2,0,0,null,"APGSEL000471","UCD",{"$f":"VLOOKUP(H859,[2]SSIFSEP!$H$2:$I$7593,2,0)","v":"미사용약정"},"Unused Credit Line","USD","C13",2.2000000000000002,0,"1",0,{"$f":"VLOOKUP(K859,[1]EXRATE!C$3:F$43,4,0)","v":1344.8},0,"",287,"",0,0,"","","","","","W","HIE","","",20230926,160848,0.02,40.854999999999997,"CIBM              MG30100","APGSEL",0,471]
["KR","HSBC",2,0,0,null,"APGSEL000472","APG",{"$f":"VLOOKUP(H860,[2]SSIFSEP!$H$2:$I$7593,2,0)","v":"확정지급보증"},"Confirmed Payment Guarantee","USD","C13",2.2000000000000002,0,"1",6650,{"$f":"VLOOKUP(K860,[1]EXRATE!C$3:F$43,4,0)","v":1344.8},89429.2,"",266,"",0,0,"","","","","","W","HIE","","",20230926,160848,0.02,40.854999999999997,"CIBM              MA21570","APGSEL",0,472,null,"GTRF GTE","Confirmed Payment Guarantee",{"$f":"R860","v":89429.2},"Matched with Local data"]
["KR","HSBC",2,0,0,null,"APGSEL000472","UCD",{"$f":"VLOOKUP(H861,[2]SSIFSEP!$H$2:$I$7593,2,0)","v":"미사용약정"},"Unused Credit Line","USD","C13",2.2000000000000002,0,"1",0,{"$f":"VLOOKUP(K861,[1]EXRATE!C$3:F$43,4,0)","v":1344.8},0,"",287,"",0,0,"","","","","","W","HIE","","",20230926,160848,0.02,40.854999999999997,"CIBM              MG30100","APGSEL",0,472]
["KR","HSBC",2,0,0,null,"APGSEL100039","APG",{"$f":"VLOOKUP(H862,[2]SSIFSEP!$H$2:$I$7593,2,0)","v":"확정지급보증"},"Confirmed Payment Guarantee","USD","C13",3.1,0,"1",9719,{"$f":"VLOOKUP(K862,[1]EXRATE!C$3:F$43,4,0)","v":1344.8},130701.11199999999,"",266,"",0,0,"","","","","","W","HIE","","",20230926,160848,0.04,40.854999999999997,"CIBM              MA21570","APGSEL",100,39,null,"GTRF GTE","Confirmed Payment Guarantee",{"$f":"R862","v":130701.11199999999},"Matched with Local data"]
["KR","HSBC",2,0,0,null,"APGSEL100039","UCD",{"$f":"VLOOKUP(H863,[2]SSIFSEP!$H$2:$I$7593,2,0)","v":"미사용약정"},"Unused Credit Line","USD","C13",3.1,0,"1",0,{"$f":"VLOOKUP(K863,[1]EXRATE!C$3:F$43,4,0)","v":1344.8},0,"",287,"",0,0,"","","","","","W","HIE","","",20230926,160848,0.04,40.854999999999997,"CIBM              MG30100","APGSEL",100,39]
["KR","HSBC",2,0,0,null,"APGSEL100041","APG",{"$f":"VLOOKUP(H864,[2]SSIFSEP!$H$2:$I$7593,2,0)","v":"확정지급보증"},"Confirmed Payment Guarantee","EUR","C13",3.1,0,"1",1430,{"$f":"VLOOKUP(K864,[1]EXRATE!C$3:F$43,4,0)","v":1421.7225599999999},20330.632608,"",262,"",0,0,"","","","","","W","HIE","","",20230926,160848,0.04,40.854999999999997,"CIBM              MA21570","APGSEL",100,41,null,"GTRF GTE","Confirmed Payment Guarantee",{"$f":"R864","v":20330.632608},"Matched with Local data"]
["KR","HSBC",2,0,0,null,"APGSEL100041","UCD",{"$f":"VLOOKUP(H865,[2]SSIFSEP!$H$2:$I$7593,2,0)","v":"미사용약정"},"Unused Credit Line","USD","C13",3.1,0,"1",0,{"$f":"VLOOKUP(K865,[1]EXRATE!C$3:F$43,4,0)","v":1344.8},0,"",287,"",0,0,"","","","","","W","HIE","","",20230926,160848,0.04,40.854999999999997,"CIBM              MG30100","APGSEL",100,41]
["KR","HSBC",2,0,0,null,"APGSEL100042","APG",{"$f":"VLOOKUP(H866,[2]SSIFSEP!$H$2:$I$7593,2,0)","v":"확정지급보증"},"Confirmed Payment Guarantee","PHP","C13",3.1,0,"1",4074546,{"$f":"VLOOKUP(K866,[1]EXRATE!C$3:F$43,4,0)","v":23.539296341676874},959119.45751794148,"",264,"",0,0,"","","","","","W","HIE","","",20230926,160848,0.04,40.854999999999997,"CIBM              MA21570","APGSEL",100,42,null,"GTRF GTE","Confirmed Payment Guarantee",{"$f":"R866","v":959119.45751794148},"Matched with Local data"]
["KR","HSBC",2,0,0,null,"APGSEL100042","UCD",{"$f":"VLOOKUP(H867,[2]SSIFSEP!$H$2:$I$7593,2,0)","v":"미사용약정"},"Unused Credit Line","USD","C13",3.1,0,"1",0,{"$f":"VLOOKUP(K867,[1]EXRATE!C$3:F$43,4,0)","v":1344.8},0,"",287,"",0,0,"","","","","","W","HIE","","",20230926,160848,0.04,40.854999999999997,"CIBM              MG30100","APGSEL",100,42]
["KR","HSBC",2,0,0,null,"APGSEL100183","APG",{"$f":"VLOOKUP(H868,[2]SSIFSEP!$H$2:$I$7593,2,0)","v":"확정지급보증"},"Confirmed Payment Guarantee","KRW","C13",3.2,0,"1",4918,{"$f":"VLOOKUP(K868,[1]EXRATE!C$3:F$43,4,0)","v":1},{"$f":"+P868*Q868","v":4918},"",263,"",0,0,"","","","","","W","HIE","","",20230926,160848,0.09,40.854999999999997,"CIBM              MA21570","APGSEL",100,183,null,"GTRF GTE","Confirmed Payment Guarantee",{"$f":"R868","v":4918},"Matched with Local data"]
["KR","HSBC",2,0,0,null,"APGSEL100183","UCD",{"$f":"VLOOKUP(H869,[2]SSIFSEP!$H$2:$I$7593,2,0)","v":"미사용약정"},"Unused Credit Line","USD","C13",3.2,0,"1",0,{"$f":"VLOOKUP(K869,[1]EXRATE!C$3:F$43,4,0)","v":1344.8},{"$f":"+P869*Q869/100","v":0},"",287,"",0,0,"","","","","","W","HIE","","",20230926,160848,0.09,40.854999999999997,"CIBM              MG30100","APGSEL",100,183]
["KR","HSBC",2,0,0,null,"APGSEL100257","APG",{"$f":"VLOOKUP(H870,[2]SSIFSEP!$H$2:$I$7593,2,0)","v":"확정지급보증"},"Confirmed Payment Guarantee","PHP","C13",3.1,0,"1",3565228,{"$f":"VLOOKUP(K870,[1]EXRATE!C$3:F$43,4,0)","v":23.539296341676874},839229.58417643968,"",264,"",0,0,"","","","","","W","HIE","","",20230926,160848,0.04,40.854999999999997,"CIBM              MA21570","APGSEL",100,257,null,"GTRF GTE","Confirmed Payment Guarantee",{"$f":"R870","v":839229.58417643968},"Matched with Local data"]
["KR","HSBC",2,0,0,null,"APGSEL100257","UCD",{"$f":"VLOOKUP(H871,[2]SSIFSEP!$H$2:$I$7593,2,0)","v":"미사용약정"},"Unused Credit Line","USD","C13",3.1,0,"1",0,{"$f":"VLOOKUP(K871,[1]EXRATE!C$3:F$43,4,0)","v":1344.8},0,"",287,"",0,0,"","","","","","W","HIE","","",20230926,160848,0.04,40.854999999999997,"CIBM              MG30100","APGSEL",100,257]
["KR","HSBC",2,0,0,null,"APGSEL100258","APG",{"$f":"VLOOKUP(H872,[2]SSIFSEP!$H$2:$I$7593,2,0)","v":"확정지급보증"},"Confirmed Payment Guarantee","EUR","C13",3.1,0,"1",1251,{"$f":"VLOOKUP(K872,[1]EXRATE!C$3:F$43,4,0)","v":1421.7225599999999},17785.749225599997,"",262,"",0,0,"","","","","","W","HIE","","",20230926,160848,0.04,40.854999999999997,"CIBM              MA21570","APGSEL",100,258,null,"GTRF GTE","Confirmed Payment Guarantee",{"$f":"R872","v":17785.749225599997},"Matched with Local data"]
["KR","HSBC",2,0,0,null,"APGSEL100258","UCD",{"$f":"VLOOKUP(H873,[2]SSIFSEP!$H$2:$I$7593,2,0)","v":"미사용약정"},"Unused Credit Line","USD","C13",3.1,0,"1",0,{"$f":"VLOOKUP(K873,[1]EXRATE!C$3:F$43,4,0)","v":1344.8},0,"",287,"",0,0,"","","","","","W","HIE","","",20230926,160848,0.04,40.854999999999997,"CIBM              MG30100","APGSEL",100,258]
["KR","HSBC",2,0,0,null,"APGSEL100259","APG",{"$f":"VLOOKUP(H874,[2]SSIFSEP!$H$2:$I$7593,2,0)","v":"확정지급보증"},"Confirmed Payment Guarantee","USD","C13",3.1,0,"1",8504,{"$f":"VLOOKUP(K874,[1]EXRATE!C$3:F$43,4,0)","v":1344.8},114361.79199999999,"",266,"",0,0,"","","","","","W","HIE","","",20230926,160848,0.04,40.854999999999997,"CIBM              MA21570","APGSEL",100,259,null,"GTRF GTE","Confirmed Payment Guarantee",{"$f":"R874","v":114361.79199999999},"Matched with Local data"]
["KR","HSBC",2,0,0,null,"APGSEL100259","UCD",{"$f":"VLOOKUP(H875,[2]SSIFSEP!$H$2:$I$7593,2,0)","v":"미사용약정"},"Unused Credit Line","USD","C13",3.1,0,"1",0,{"$f":"VLOOKUP(K875,[1]EXRATE!C$3:F$43,4,0)","v":1344.8},0,"",287,"",0,0,"","","","","","W","HIE","","",20230926,160848,0.04,40.854999999999997,"CIBM              MG30100","APGSEL",100,259]
["KR","HSBC",2,0,0,null,"APGSEL100321","APG",{"$f":"VLOOKUP(H876,[2]SSIFSEP!$H$2:$I$7593,2,0)","v":"확정지급보증"},"Confirmed Payment Guarantee","USD","C11",2.2000000000000002,0,"1",135,{"$f":"VLOOKUP(K876,[1]EXRATE!C$3:F$43,4,0)","v":1344.8},1815.48,"",261,"",0,0,"","","","","","W","HIE","","",20230926,160848,0.02,40.854999999999997,"CIBM              MA21570","APGSEL",100,321,null,"GTRF GTE","Confirmed Payment Guarantee",{"$f":"R876","v":1815.48},"Matched with Local data"]
["KR","HSBC",2,0,0,null,"APGSEL100331","APG",{"$f":"VLOOKUP(H877,[2]SSIFSEP!$H$2:$I$7593,2,0)","v":"확정지급보증"},"Confirmed Payment Guarantee","USD","C13",2.1,0,"1",10858,{"$f":"VLOOKUP(K877,[1]EXRATE!C$3:F$43,4,0)","v":1344.8},146018.38399999999,"",266,"",0,0,"","","","","","W","HIE","","",20230926,160848,0.01,40.854999999999997,"CIBM              MA21570","APGSEL",100,331,null,"GTRF GTE","Confirmed Payment Guarantee",{"$f":"R877","v":146018.38399999999},"Matched with Local data"]
["KR","HSBC",2,0,0,null,"APGSEL200194","APG",{"$f":"VLOOKUP(H878,[2]SSIFSEP!$H$2:$I$7593,2,0)","v":"확정지급보증"},"Confirmed Payment Guarantee","THB","C13",2.2000000000000002,0,"1",458778,{"$f":"VLOOKUP(K878,[1]EXRATE!C$3:F$43,4,0)","v":36.945054945054942},169495.78417582414,"",265,"",0,0,"","","","","","W","HIE","","",20230926,160848,0.02,40.854999999999997,"CIBM              MA21570","APGSEL",200,194,null,"GTRF GTE","Confirmed Payment Guarantee",{"$f":"R878","v":169495.78417582414},"Matched with Local data"]
["KR","HSBC",2,0,0,null,"APGSEL200295","APG",{"$f":"VLOOKUP(H879,[2]SSIFSEP!$H$2:$I$7593,2,0)","v":"확정지급보증"},"Confirmed Payment Guarantee","KRW","C13",3.2,0,"1",1198,{"$f":"VLOOKUP(K879,[1]EXRATE!C$3:F$43,4,0)","v":1},{"$f":"+P879*Q879","v":1198},"",263,"",0,0,"","","","","","W","HIE","","",20230926,160848,0.09,40.854999999999997,"CIBM              MA21570","APGSEL",200,295,null,"GTRF GTE","Confirmed Payment Guarantee",{"$f":"R879","v":1198}]
["KR","HSBC",2,0,0,null,"APGSEL200295","UCD",{"$f":"VLOOKUP(H880,[2]SSIFSEP!$H$2:$I$7593,2,0)","v":"미사용약정"},"Unused Credit Line","USD","C13",3.2,0,"1",0,{"$f":"VLOOKUP(K880,[1]EXRATE!C$3:F$43,4,0)","v":1344.8},{"$f":"+P880*Q880/100","v":0},"",287,"",0,0,"","","","","","W","HIE","","",20230926,160848,0.09,40.854999999999997,"CIBM              MG30100","APGSEL",200,295]
["KR","HSBC",2,0,0,null,"APGSEL200401","APG",{"$f":"VLOOKUP(H881,[2]SSIFSEP!$H$2:$I$7593,2,0)","v":"확정지급보증"},"Confirmed Payment Guarantee","KRW","C13",3.2,0,"1",143,{"$f":"VLOOKUP(K881,[1]EXRATE!C$3:F$43,4,0)","v":1},{"$f":"+P881*Q881","v":143},"",263,"",0,0,"","","","","","W","HIE","","",20230926,160848,0.09,40.854999999999997,"CIBM              MA21570","APGSEL",200,401,null,"GTRF GTE","Confirmed Payment Guarantee",{"$f":"R881","v":143},"Matched with Local data"]
["KR","HSBC",2,0,0,null,"APGSEL200401","UCD",{"$f":"VLOOKUP(H882,[2]SSIFSEP!$H$2:$I$7593,2,0)","v":"미사용약정"},"Unused Credit Line","USD","C13",3.2,0,"1",0,{"$f":"VLOOKUP(K882,[1]EXRATE!C$3:F$43,4,0)","v":1344.8},{"$f":"+P882*Q882/100","v":0},"",287,"",0,0,"","","","","","W","HIE","","",20230926,160848,0.09,40.854999999999997,"CIBM              MG30100","APGSEL",200,401]
["KR","HSBC",2,0,0,null,"APGSEL200425","APG",{"$f":"VLOOKUP(H883,[2]SSIFSEP!$H$2:$I$7593,2,0)","v":"확정지급보증"},"Confirmed Payment Guarantee","USD","C13",3.2,0,"1",1251,{"$f":"VLOOKUP(K883,[1]EXRATE!C$3:F$43,4,0)","v":1344.8},{"$f":"+P883*Q883/100","v":16823.448},"",266,"",0,0,"","","","","","W","HIE","","",20230926,160848,0.09,40.854999999999997,"CIBM              MA21570","APGSEL",200,425,null,"GTRF GTE","Confirmed Payment Guarantee",{"$f":"R883","v":16823.448},"Matched with Local data"]
["KR","HSBC",2,0,0,null,"APGSEL200425","UCD",{"$f":"VLOOKUP(H884,[2]SSIFSEP!$H$2:$I$7593,2,0)","v":"미사용약정"},"Unused Credit Line","USD","C13",3.2,0,"1",0,{"$f":"VLOOKUP(K884,[1]EXRATE!C$3:F$43,4,0)","v":1344.8},{"$f":"+P884*Q884/100","v":0},"",287,"",0,0,"","","","","","W","HIE","","",20230926,160848,0.09,40.854999999999997,"CIBM              MG30100","APGSEL",200,425]
["KR","HSBC",2,0,0,null,"APGSEL200468","APG",{"$f":"VLOOKUP(H885,[2]SSIFSEP!$H$2:$I$7593,2,0)","v":"확정지급보증"},"Confirmed Payment Guarantee","EUR","C11",2.2000000000000002,0,"1",91,{"$f":"VLOOKUP(K885,[1]EXRATE!C$3:F$43,4,0)","v":1421.7225599999999},{"$f":"+P885*Q885/100","v":1293.7675296},"",259,"",0,0,"","","","","","W","HIE","","",20230926,160848,0.02,40.854999999999997,"CIBM              MA21570","APGSEL",200,468,null,"GTRF GTE","Confirmed Payment Guarantee",{"$f":"R885","v":1293.7675296},"Matched with Local data"]
["KR","HSBC",2,0,0,null,"APGSEL200528","APG",{"$f":"VLOOKUP(H886,[2]SSIFSEP!$H$2:$I$7593,2,0)","v":"확정지급보증"},"Confirmed Payment Guarantee","KRW","MFS",2.2000000000000002,0,"1",448,{"$f":"VLOOKUP(K886,[1]EXRATE!C$3:F$43,4,0)","v":1},{"$f":"+P886*Q886","v":448},"",267,"",0,0,"","","","","","W","HIE","","",20230926,160848,0.02,40.854999999999997,"CIBM              MA21570","APGSEL",200,528,null,"GTRF GTE","Confirmed Payment Guarantee",{"$f":"R886","v":448},"Matched with Local data"]
["KR","HSBC",2,0,0,null,"APGSEL200528","UCD",{"$f":"VLOOKUP(H887,[2]SSIFSEP!$H$2:$I$7593,2,0)","v":"미사용약정"},"Unused Credit Line","USD","MFS",2.2000000000000002,0,"1",0,{"$f":"VLOOKUP(K887,[1]EXRATE!C$3:F$43,4,0)","v":1344.8},{"$f":"+P887*Q887/100","v":0},"",301,"",0,0,"","","","","","W","HIE","","",20230926,160848,0.02,40.854999999999997,"CIBM              MG30100","APGSEL",200,528]
["KR","HSBC",2,0,0,null,"APGSEL300032","APG",{"$f":"VLOOKUP(H888,[2]SSIFSEP!$H$2:$I$7593,2,0)","v":"확정지급보증"},"Confirmed Payment Guarantee","KRW","MFS",3.3,0,"1",10914,{"$f":"VLOOKUP(K888,[1]EXRATE!C$3:F$43,4,0)","v":1},{"$f":"+P888*Q888","v":10914},"",267,"",0,0,"","","","","","W","HIE","","",20230926,160848,0.14000000000000001,40.854999999999997,"CIBM              MA21570","APGSEL",300,32,null,"GTRF GTE","Confirmed Payment Guarantee",{"$f":"R888","v":10914},"Matched with Local data"]
["KR","HSBC",2,0,0,null,"APGSEL300032","UCD",{"$f":"VLOOKUP(H889,[2]SSIFSEP!$H$2:$I$7593,2,0)","v":"미사용약정"},"Unused Credit Line","KRW","MFS",3.3,0,"1",0,{"$f":"VLOOKUP(K889,[1]EXRATE!C$3:F$43,4,0)","v":1},{"$f":"+P889*Q889","v":0},"",297,"",0,0,"","","","","","W","HIE","","",20230926,160848,0.14000000000000001,40.854999999999997,"CIBM              MG30100","APGSEL",300,32]
["KR","HSBC",2,0,0,null,"APGSEL300033","APG",{"$f":"VLOOKUP(H890,[2]SSIFSEP!$H$2:$I$7593,2,0)","v":"확정지급보증"},"Confirmed Payment Guarantee","KRW","MFS",3.3,0,"1",49950,{"$f":"VLOOKUP(K890,[1]EXRATE!C$3:F$43,4,0)","v":1},{"$f":"+P890*Q890","v":49950},"",267,"",0,0,"","","","","","W","HIE","","",20230926,160848,0.14000000000000001,40.854999999999997,"CIBM              MA21570","APGSEL",300,33,null,"GTRF GTE","Confirmed Payment Guarantee",{"$f":"R890","v":49950},"Matched with Local data"]
["KR","HSBC",2,0,0,null,"APGSEL300033","UCD",{"$f":"VLOOKUP(H891,[2]SSIFSEP!$H$2:$I$7593,2,0)","v":"미사용약정"},"Unused Credit Line","KRW","MFS",3.3,0,"1",0,{"$f":"VLOOKUP(K891,[1]EXRATE!C$3:F$43,4,0)","v":1},{"$f":"+P891*Q891","v":0},"",297,"",0,0,"","","","","","W","HIE","","",20230926,160848,0.14000000000000001,40.854999999999997,"CIBM              MG30100","APGSEL",300,33]
["KR","HSBC",2,0,0,null,"APGSEL300158","APG",{"$f":"VLOOKUP(H892,[2]SSIFSEP!$H$2:$I$7593,2,0)","v":"확정지급보증"},"Confirmed Payment Guarantee","USD","C08",3.2,0,"1",305734,{"$f":"VLOOKUP(K892,[1]EXRATE!C$3:F$43,4,0)","v":1344.8},{"$f":"+P892*Q892/100","v":4111510.8319999999},"",258,"",0,0,"","","","","","W","HIE","","",20230926,160848,0.09,51.075000000000003,"CC                MA21570","APGSEL",300,158,null,"GTRF GTE","Confirmed Payment Guarantee",{"$f":"R892","v":4111510.8319999999},"Matched with Local data"]
["KR","HSBC",2,0,0,null,"APGSEL300158","UCD",{"$f":"VLOOKUP(H893,[2]SSIFSEP!$H$2:$I$7593,2,0)","v":"미사용약정"},"Unused Credit Line","USD","C08",3.2,0,"1",6633,{"$f":"VLOOKUP(K893,[1]EXRATE!C$3:F$43,4,0)","v":1344.8},{"$f":"+P893*Q893/100","v":89200.584000000003},"",281,"",0,0,"","","","","","W","HIE","","",20230926,160848,0.09,51.075000000000003,"CC                MG30100","APGSEL",300,158]
["KR","HSBC",2,0,0,null,"APGSEL300177","APG",{"$f":"VLOOKUP(H894,[2]SSIFSEP!$H$2:$I$7593,2,0)","v":"확정지급보증"},"Confirmed Payment Guarantee","KRW","C13",3.2,0,"1",20815,{"$f":"VLOOKUP(K894,[1]EXRATE!C$3:F$43,4,0)","v":1},{"$f":"+P894*Q894","v":20815},"",263,"",0,0,"","","","","","W","HIE","","",20230926,160848,0.09,40.854999999999997,"CIBM              MA21570","APGSEL",300,177,null,"GTRF GTE","Confirmed Payment Guarantee",{"$f":"R894","v":20815},"Matched with Local data"]
["KR","HSBC",2,0,0,null,"APGSEL300177","UCD",{"$f":"VLOOKUP(H895,[2]SSIFSEP!$H$2:$I$7593,2,0)","v":"미사용약정"},"Unused Credit Line","USD","C13",3.2,0,"1",0,{"$f":"VLOOKUP(K895,[1]EXRATE!C$3:F$43,4,0)","v":1344.8},{"$f":"+P895*Q895/100","v":0},"",287,"",0,0,"","","","","","W","HIE","","",20230926,160848,0.09,40.854999999999997,"CIBM              MG30100","APGSEL",300,177]
["KR","HSBC",2,0,0,null,"APGSEL300178","APG",{"$f":"VLOOKUP(H896,[2]SSIFSEP!$H$2:$I$7593,2,0)","v":"확정지급보증"},"Confirmed Payment Guarantee","KRW","C13",3.2,0,"1",19454,{"$f":"VLOOKUP(K896,[1]EXRATE!C$3:F$43,4,0)","v":1},{"$f":"+P896*Q896","v":19454},"",263,"",0,0,"","","","","","W","HIE","","",20230926,160848,0.09,40.854999999999997,"CIBM              MA21570","APGSEL",300,178,null,"GTRF GTE","Confirmed Payment Guarantee",{"$f":"R896","v":19454},"Matched with Local data"]
["KR","HSBC",2,0,0,null,"APGSEL300178","UCD",{"$f":"VLOOKUP(H897,[2]SSIFSEP!$H$2:$I$7593,2,0)","v":"미사용약정"},"Unused Credit Line","USD","C13",3.2,0,"1",0,{"$f":"VLOOKUP(K897,[1]EXRATE!C$3:F$43,4,0)","v":1344.8},{"$f":"+P897*Q897/100","v":0},"",287,"",0,0,"","","","","","W","HIE","","",20230926,160848,0.09,40.854999999999997,"CIBM              MG30100","APGSEL",300,178]
["KR","HSBC",2,0,0,null,"APGSEL300185","APG",{"$f":"VLOOKUP(H898,[2]SSIFSEP!$H$2:$I$7593,2,0)","v":"확정지급보증"},"Confirmed Payment Guarantee","USD","C13",3.2,0,"1",3,{"$f":"VLOOKUP(K898,[1]EXRATE!C$3:F$43,4,0)","v":1344.8},{"$f":"+P898*Q898/100","v":40.343999999999994},"",266,"",0,0,"","","","","","W","HIE","","",20230926,160848,0.09,40.854999999999997,"CIBM              MA21570","APGSEL",300,185,null,"GTRF GTE","Confirmed Payment Guarantee",{"$f":"R898","v":40.343999999999994},"Matched with Local data"]
["KR","HSBC",2,0,0,null,"APGSEL300185","UCD",{"$f":"VLOOKUP(H899,[2]SSIFSEP!$H$2:$I$7593,2,0)","v":"미사용약정"},"Unused Credit Line","USD","C13",3.2,0,"1",0,{"$f":"VLOOKUP(K899,[1]EXRATE!C$3:F$43,4,0)","v":1344.8},{"$f":"+P899*Q899/100","v":0},"",287,"",0,0,"","","","","","W","HIE","","",20230926,160848,0.09,40.854999999999997,"CIBM              MG30100","APGSEL",300,185]
["KR","HSBC",2,0,0,null,"APGSEL300187","APG",{"$f":"VLOOKUP(H900,[2]SSIFSEP!$H$2:$I$7593,2,0)","v":"확정지급보증"},"Confirmed Payment Guarantee","KRW","C13",3.2,0,"1",19638,{"$f":"VLOOKUP(K900,[1]EXRATE!C$3:F$43,4,0)","v":1},{"$f":"+P900*Q900","v":19638},"",263,"",0,0,"","","","","","W","HIE","","",20230926,160848,0.09,40.854999999999997,"CIBM              MA21570","APGSEL",300,187,null,"GTRF GTE","Confirmed Payment Guarantee",{"$f":"R900","v":19638},"Matched with Local data"]
["KR","HSBC",2,0,0,null,"APGSEL300187","UCD",{"$f":"VLOOKUP(H901,[2]SSIFSEP!$H$2:$I$7593,2,0)","v":"미사용약정"},"Unused Credit Line","USD","C13",3.2,0,"1",0,{"$f":"VLOOKUP(K901,[1]EXRATE!C$3:F$43,4,0)","v":1344.8},{"$f":"+P901*Q901/100","v":0},"",287,"",0,0,"","","","","","W","HIE","","",20230926,160848,0.09,40.854999999999997,"CIBM              MG30100","APGSEL",300,187]
["KR","HSBC",2,0,0,null,"APGSEL300207","APG",{"$f":"VLOOKUP(H902,[2]SSIFSEP!$H$2:$I$7593,2,0)","v":"확정지급보증"},"Confirmed Payment Guarantee","KRW","MFS",3.3,0,"1",20879,{"$f":"VLOOKUP(K902,[1]EXRATE!C$3:F$43,4,0)","v":1},{"$f":"+P902*Q902","v":20879},"",267,"",0,0,"","","","","","W","HIE","","",20230926,160848,0.14000000000000001,40.854999999999997,"CIBM              MA21570","APGSEL",300,207,null,"GTRF GTE","Confirmed Payment Guarantee",{"$f":"R902","v":20879},"Matched with Local data"]
["KR","HSBC",2,0,0,null,"APGSEL300207","UCD",{"$f":"VLOOKUP(H903,[2]SSIFSEP!$H$2:$I$7593,2,0)","v":"미사용약정"},"Unused Credit Line","KRW","MFS",3.3,0,"1",0,{"$f":"VLOOKUP(K903,[1]EXRATE!C$3:F$43,4,0)","v":1},{"$f":"+P903*Q903","v":0},"",297,"",0,0,"","","","","","W","HIE","","",20230926,160848,0.14000000000000001,40.854999999999997,"CIBM              MG30100","APGSEL",300,207]
["KR","HSBC",2,0,0,null,"APGSEL300218","APG",{"$f":"VLOOKUP(H904,[2]SSIFSEP!$H$2:$I$7593,2,0)","v":"확정지급보증"},"Confirmed Payment Guarantee","USD","C13",3.2,0,"1",5,{"$f":"VLOOKUP(K904,[1]EXRATE!C$3:F$43,4,0)","v":1344.8},{"$f":"+P904*Q904/100","v":67.239999999999995},"",266,"",0,0,"","","","","","W","HIE","","",20230926,160848,0.09,40.854999999999997,"CIBM              MA21570","APGSEL",300,218,null,"GTRF GTE","Confirmed Payment Guarantee",{"$f":"R904","v":67.239999999999995},"Matched with Local data"]
["KR","HSBC",2,0,0,null,"APGSEL300218","UCD",{"$f":"VLOOKUP(H905,[2]SSIFSEP!$H$2:$I$7593,2,0)","v":"미사용약정"},"Unused Credit Line","USD","C13",3.2,0,"1",0,{"$f":"VLOOKUP(K905,[1]EXRATE!C$3:F$43,4,0)","v":1344.8},{"$f":"+P905*Q905/100","v":0},"",287,"",0,0,"","","","","","W","HIE","","",20230926,160848,0.09,40.854999999999997,"CIBM              MG30100","APGSEL",300,218]
["KR","HSBC",2,0,0,null,"APGSEL300237","APG",{"$f":"VLOOKUP(H906,[2]SSIFSEP!$H$2:$I$7593,2,0)","v":"확정지급보증"},"Confirmed Payment Guarantee","EUR","C13",1.2,0,"1",410,{"$f":"VLOOKUP(K906,[1]EXRATE!C$3:F$43,4,0)","v":1421.7225599999999},{"$f":"+P906*Q906/100","v":5829.0624959999996},"",262,"",0,0,"","","","","","W","HIE","","",20230926,160848,0.01,40.854999999999997,"CIBM              MA21570","APGSEL",300,237,null,"GTRF GTE","Confirmed Payment Guarantee",{"$f":"R906","v":5829.0624959999996},"Matched with Local data"]
["KR","HSBC",2,0,0,null,"APGSEL300237","UCD",{"$f":"VLOOKUP(H907,[2]SSIFSEP!$H$2:$I$7593,2,0)","v":"미사용약정"},"Unused Credit Line","USD","C13",1.2,0,"1",32,{"$f":"VLOOKUP(K907,[1]EXRATE!C$3:F$43,4,0)","v":1344.8},{"$f":"+P907*Q907/100","v":430.33600000000001},"",287,"",0,0,"","","","","","W","HIE","","",20230926,160848,0.01,40.854999999999997,"CIBM              MG30100","APGSEL",300,237]
["KR","HSBC",2,0,0,null,"APGSEL300267","APG",{"$f":"VLOOKUP(H908,[2]SSIFSEP!$H$2:$I$7593,2,0)","v":"확정지급보증"},"Confirmed Payment Guarantee","KRW","MFS",3.3,0,"1",900,{"$f":"VLOOKUP(K908,[1]EXRATE!C$3:F$43,4,0)","v":1},{"$f":"+P908*Q908","v":900},"",267,"",0,0,"","","","","","W","HIE","","",20230926,160848,0.14000000000000001,40.854999999999997,"CIBM              MA21570","APGSEL",300,267,null,"GTRF GTE","Confirmed Payment Guarantee",{"$f":"R908","v":900},"Matched with Local data"]
["KR","HSBC",2,0,0,null,"APGSEL300267","UCD",{"$f":"VLOOKUP(H909,[2]SSIFSEP!$H$2:$I$7593,2,0)","v":"미사용약정"},"Unused Credit Line","KRW","MFS",3.3,0,"1",0,{"$f":"VLOOKUP(K909,[1]EXRATE!C$3:F$43,4,0)","v":1},{"$f":"+P909*Q909","v":0},"",297,"",0,0,"","","","","","W","HIE","","",20230926,160848,0.14000000000000001,40.854999999999997,"CIBM              MG30100","APGSEL",300,267]
["KR","HSBC",2,0,0,null,"APGSEL300283","APG",{"$f":"VLOOKUP(H910,[2]SSIFSEP!$H$2:$I$7593,2,0)","v":"확정지급보증"},"Confirmed Payment Guarantee","USD","BNK",1.1000000000000001,0,"1",95,{"$f":"VLOOKUP(K910,[1]EXRATE!C$3:F$43,4,0)","v":1344.8},{"$f":"+P910*Q910/100","v":1277.56},"",257,"",0,0,"","","","","","W","HIE","","",20230926,160848,0.04,17.585000000000001,"CIBM              MA21570","APGSEL",300,283,null,"GTRF GTE","Confirmed Payment Guarantee",{"$f":"R910","v":1277.56},"Matched with Local data"]
["KR","HSBC",2,0,0,null,"APGSEL300286","APG",{"$f":"VLOOKUP(H911,[2]SSIFSEP!$H$2:$I$7593,2,0)","v":"확정지급보증"},"Confirmed Payment Guarantee","USD","BNK",1.1000000000000001,0,"1",79,{"$f":"VLOOKUP(K911,[1]EXRATE!C$3:F$43,4,0)","v":1344.8},{"$f":"+P911*Q911/100","v":1062.3920000000001},"",257,"",0,0,"","","","","","W","HIE","","",20230926,160848,0.04,17.585000000000001,"CIBM              MA21570","APGSEL",300,286,null,"GTRF GTE","Confirmed Payment Guarantee",{"$f":"R911","v":1062.3920000000001},"Matched with Local data"]
["KR","HSBC",2,0,0,null,"APGSEL300287","APG",{"$f":"VLOOKUP(H912,[2]SSIFSEP!$H$2:$I$7593,2,0)","v":"확정지급보증"},"Confirmed Payment Guarantee","USD","BNK",1.1000000000000001,0,"1",121,{"$f":"VLOOKUP(K912,[1]EXRATE!C$3:F$43,4,0)","v":1344.8},{"$f":"+P912*Q912/100","v":1627.2079999999999},"",257,"",0,0,"","","","","","W","HIE","","",20230926,160848,0.04,17.585000000000001,"CIBM              MA21570","APGSEL",300,287,null,"GTRF GTE","Confirmed Payment Guarantee",{"$f":"R912","v":1627.2079999999999},"Matched with Local data"]
["KR","HSBC",2,0,0,null,"APGSEL300314","APG",{"$f":"VLOOKUP(H913,[2]SSIFSEP!$H$2:$I$7593,2,0)","v":"확정지급보증"},"Confirmed Payment Guarantee","KRW","MFS",3.3,0,"1",450,{"$f":"VLOOKUP(K913,[1]EXRATE!C$3:F$43,4,0)","v":1},{"$f":"+P913*Q913","v":450},"",267,"",0,0,"","","","","","W","HIE","","",20230926,160848,0.14000000000000001,40.854999999999997,"CIBM              MA21570","APGSEL",300,314,null,"GTRF GTE","Confirmed Payment Guarantee",{"$f":"R913","v":450},"Matched with Local data"]
["KR","HSBC",2,0,0,null,"APGSEL300314","UCD",{"$f":"VLOOKUP(H914,[2]SSIFSEP!$H$2:$I$7593,2,0)","v":"미사용약정"},"Unused Credit Line","KRW","MFS",3.3,0,"1",52,{"$f":"VLOOKUP(K914,[1]EXRATE!C$3:F$43,4,0)","v":1},{"$f":"+P914*Q914","v":52},"",297,"",0,0,"","","","","","W","HIE","","",20230926,160848,0.14000000000000001,40.854999999999997,"CIBM              MG30100","APGSEL",300,314]
["KR","HSBC",2,0,0,null,"APGSEL300319","APG",{"$f":"VLOOKUP(H915,[2]SSIFSEP!$H$2:$I$7593,2,0)","v":"확정지급보증"},"Confirmed Payment Guarantee","USD","C13",3.2,0,"1",36,{"$f":"VLOOKUP(K915,[1]EXRATE!C$3:F$43,4,0)","v":1344.8},{"$f":"+P915*Q915/100","v":484.12799999999993},"",266,"",0,0,"","","","","","W","HIE","","",20230926,160848,0.09,40.854999999999997,"CIBM              MA21570","APGSEL",300,319,null,"GTRF GTE","Confirmed Payment Guarantee",{"$f":"R915","v":484.12799999999993},"Matched with Local data"]
["KR","HSBC",2,0,0,null,"APGSEL300319","UCD",{"$f":"VLOOKUP(H916,[2]SSIFSEP!$H$2:$I$7593,2,0)","v":"미사용약정"},"Unused Credit Line","USD","C13",3.2,0,"1",7,{"$f":"VLOOKUP(K916,[1]EXRATE!C$3:F$43,4,0)","v":1344.8},{"$f":"+P916*Q916/100","v":94.13600000000001},"",287,"",0,0,"","","","","","W","HIE","","",20230926,160848,0.09,40.854999999999997,"CIBM              MG30100","APGSEL",300,319]
["KR","HSBC",2,0,0,null,"APGSEL300320","APG",{"$f":"VLOOKUP(H917,[2]SSIFSEP!$H$2:$I$7593,2,0)","v":"확정지급보증"},"Confirmed Payment Guarantee","USD","C13",3.2,0,"1",43,{"$f":"VLOOKUP(K917,[1]EXRATE!C$3:F$43,4,0)","v":1344.8},{"$f":"+P917*Q917/100","v":578.26400000000001},"",266,"",0,0,"","","","","","W","HIE","","",20230926,160848,0.09,40.854999999999997,"CIBM              MA21570","APGSEL",300,320,null,"GTRF GTE","Confirmed Payment Guarantee",{"$f":"R917","v":578.26400000000001},"Matched with Local data"]
["KR","HSBC",2,0,0,null,"APGSEL300320","UCD",{"$f":"VLOOKUP(H918,[2]SSIFSEP!$H$2:$I$7593,2,0)","v":"미사용약정"},"Unused Credit Line","USD","C13",3.2,0,"1",9,{"$f":"VLOOKUP(K918,[1]EXRATE!C$3:F$43,4,0)","v":1344.8},{"$f":"+P918*Q918/100","v":121.03199999999998},"",287,"",0,0,"","","","","","W","HIE","","",20230926,160848,0.09,40.854999999999997,"CIBM              MG30100","APGSEL",300,320]
["KR","HSBC",2,0,0,null,"APGSEL300330","APG",{"$f":"VLOOKUP(H919,[2]SSIFSEP!$H$2:$I$7593,2,0)","v":"확정지급보증"},"Confirmed Payment Guarantee","USD","C13",2.1,0,"1",4735,{"$f":"VLOOKUP(K919,[1]EXRATE!C$3:F$43,4,0)","v":1344.8},{"$f":"+P919*Q919/100","v":63676.28},"",266,"",0,0,"","","","","","W","HIE","","",20230926,160848,0.01,40.854999999999997,"CIBM              MA21570","APGSEL",300,330,null,"GTRF GTE","Confirmed Payment Guarantee",{"$f":"R919","v":63676.28},"Matched with Local data"]
["KR","HSBC",2,0,0,null,"APGSEL300385","APG",{"$f":"VLOOKUP(H920,[2]SSIFSEP!$H$2:$I$7593,2,0)","v":"확정지급보증"},"Confirmed Payment Guarantee","KRW","MFS",3.3,0,"1",337,{"$f":"VLOOKUP(K920,[1]EXRATE!C$3:F$43,4,0)","v":1},{"$f":"+P920*Q920","v":337},"",267,"",0,0,"","","","","","W","HIE","","",20230926,160848,0.14000000000000001,40.854999999999997,"CIBM              MA21570","APGSEL",300,385,null,"GTRF GTE","Confirmed Payment Guarantee",{"$f":"R920","v":337},"Matched with Local data"]
["KR","HSBC",2,0,0,null,"APGSEL300385","UCD",{"$f":"VLOOKUP(H921,[2]SSIFSEP!$H$2:$I$7593,2,0)","v":"미사용약정"},"Unused Credit Line","KRW","MFS",3.3,0,"1",39,{"$f":"VLOOKUP(K921,[1]EXRATE!C$3:F$43,4,0)","v":1},{"$f":"+P921*Q921","v":39},"",297,"",0,0,"","","","","","W","HIE","","",20230926,160848,0.14000000000000001,40.854999999999997,"CIBM              MG30100","APGSEL",300,385]
["KR","HSBC",2,0,0,null,"APGSEL300400","APG",{"$f":"VLOOKUP(H922,[2]SSIFSEP!$H$2:$I$7593,2,0)","v":"확정지급보증"},"Confirmed Payment Guarantee","KRW","C13",3.2,0,"1",4195,{"$f":"VLOOKUP(K922,[1]EXRATE!C$3:F$43,4,0)","v":1},{"$f":"+P922*Q922","v":4195},"",263,"",0,0,"","","","","","W","HIE","","",20230926,160848,0.09,40.854999999999997,"CIBM              MA21570","APGSEL",300,400,null,"GTRF GTE","Confirmed Payment Guarantee",{"$f":"R922","v":4195},"Matched with Local data"]
["KR","HSBC",2,0,0,null,"APGSEL300400","UCD",{"$f":"VLOOKUP(H923,[2]SSIFSEP!$H$2:$I$7593,2,0)","v":"미사용약정"},"Unused Credit Line","USD","C13",3.2,0,"1",8,{"$f":"VLOOKUP(K923,[1]EXRATE!C$3:F$43,4,0)","v":1344.8},{"$f":"+P923*Q923/100","v":107.584},"",287,"",0,0,"","","","","","W","HIE","","",20230926,160848,0.09,40.854999999999997,"CIBM              MG30100","APGSEL",300,400]
["KR","HSBC",2,0,0,null,"APGSEL300418","APG",{"$f":"VLOOKUP(H924,[2]SSIFSEP!$H$2:$I$7593,2,0)","v":"확정지급보증"},"Confirmed Payment Guarantee","KRW","MFS",3.1,0,"1",123497,{"$f":"VLOOKUP(K924,[1]EXRATE!C$3:F$43,4,0)","v":1},{"$f":"+P924*Q924","v":123497},"",267,"",0,0,"","","","","","W","HIE","","",20230926,160848,0.04,40.854999999999997,"CIBM              MA21570","APGSEL",300,418,null,"GTRF GTE","Confirmed Payment Guarantee",{"$f":"R924","v":123497},"Matched with Local data"]
["KR","HSBC",2,0,0,null,"APGSEL300418","UCD",{"$f":"VLOOKUP(H925,[2]SSIFSEP!$H$2:$I$7593,2,0)","v":"미사용약정"},"Unused Credit Line","KRW","MFS",3.1,0,"1",930,{"$f":"VLOOKUP(K925,[1]EXRATE!C$3:F$43,4,0)","v":1},930,"",297,"",0,0,"","","","","","W","HIE","","",20230926,160848,0.04,40.854999999999997,"CIBM              MG30100","APGSEL",300,418]
["KR","HSBC",2,0,0,null,"APGSEL300421","APG",{"$f":"VLOOKUP(H926,[2]SSIFSEP!$H$2:$I$7593,2,0)","v":"확정지급보증"},"Confirmed Payment Guarantee","KRW","MFS",3.1,0,"1",202714,{"$f":"VLOOKUP(K926,[1]EXRATE!C$3:F$43,4,0)","v":1},202714,"",267,"",0,0,"","","","","","W","HIE","","",20230926,160848,0.04,40.854999999999997,"CIBM              MA21570","APGSEL",300,421,null,"GTRF GTE","Confirmed Payment Guarantee",{"$f":"R926","v":202714},"Matched with Local data"]
["KR","HSBC",2,0,0,null,"APGSEL300421","UCD",{"$f":"VLOOKUP(H927,[2]SSIFSEP!$H$2:$I$7593,2,0)","v":"미사용약정"},"Unused Credit Line","KRW","MFS",3.1,0,"1",1526,{"$f":"VLOOKUP(K927,[1]EXRATE!C$3:F$43,4,0)","v":1},1526,"",297,"",0,0,"","","","","","W","HIE","","",20230926,160848,0.04,40.854999999999997,"CIBM              MG30100","APGSEL",300,421]
["KR","HSBC",2,0,0,null,"APGSEL300478","APG",{"$f":"VLOOKUP(H928,[2]SSIFSEP!$H$2:$I$7593,2,0)","v":"확정지급보증"},"Confirmed Payment Guarantee","KRW","MFS",3.3,0,"1",337,{"$f":"VLOOKUP(K928,[1]EXRATE!C$3:F$43,4,0)","v":1},337,"",267,"",0,0,"","","","","","W","HIE","","",20230926,160848,0.14000000000000001,40.854999999999997,"CIBM              MA21570","APGSEL",300,478,null,"GTRF GTE","Confirmed Payment Guarantee",{"$f":"R928","v":337},"Matched with Local data"]
["KR","HSBC",2,0,0,null,"APGSEL300478","UCD",{"$f":"VLOOKUP(H929,[2]SSIFSEP!$H$2:$I$7593,2,0)","v":"미사용약정"},"Unused Credit Line","KRW","MFS",3.3,0,"1",39,{"$f":"VLOOKUP(K929,[1]EXRATE!C$3:F$43,4,0)","v":1},39,"",297,"",0,0,"","","","","","W","HIE","","",20230926,160848,0.14000000000000001,40.854999999999997,"CIBM              MG30100","APGSEL",300,478]
["KR","HSBC",2,0,0,null,"APGSEL900500","APG",{"$f":"VLOOKUP(H930,[2]SSIFSEP!$H$2:$I$7593,2,0)","v":"확정지급보증"},"Confirmed Payment Guarantee","KRW","C11",2.2000000000000002,0,"1",13953,{"$f":"VLOOKUP(K930,[1]EXRATE!C$3:F$43,4,0)","v":1},13953,"",260,"",0,0,"","","","","","W","HIE","","",20230926,160848,0.02,40.854999999999997,"CIBM              MA21570","APGSEL",900,500,null,"GTRF GTE","Confirmed Payment Guarantee",{"$f":"R930","v":13953},"Matched with Local data"]
["KR","HSBC",2,0,0,null,"BACSEL301291DDD","BAC",{"$f":"VLOOKUP(H931,[2]SSIFSEP!$H$2:$I$7593,2,0)","v":"매입외환"},"Purchased Foreign Exchange","USD","C13",3.3,0,"1",1360,{"$f":"VLOOKUP(K931,[1]EXRATE!C$3:F$43,4,0)","v":1344.8},{"$f":"+P931*Q931/100","v":18289.28},"",123,"",0,0,"","","","","","W","HIE","","",20230926,160848,0.14000000000000001,53.47,"CIBM              AI80182","BACSEL",301,"291DDD"]
["KR","HSBC",2,0,0,null,"BACSEL301291DDD","UCD",{"$f":"VLOOKUP(H932,[2]SSIFSEP!$H$2:$I$7593,2,0)","v":"미사용약정"},"Unused Credit Line","USD","C13",3.3,0,"1",720,{"$f":"VLOOKUP(K932,[1]EXRATE!C$3:F$43,4,0)","v":1344.8},9682.56,"",287,"",0,0,"","","","","","W","HIE","","",20230926,160848,0.14000000000000001,53.47,"CIBM              MG30100","BACSEL",301,"291DDD"]
["KR","HSBC",2,0,0,null,"BACSEL301294DDD","BAC",{"$f":"VLOOKUP(H933,[2]SSIFSEP!$H$2:$I$7593,2,0)","v":"매입외환"},"Purchased Foreign Exchange","USD","C13",3.3,0,"1",1605,{"$f":"VLOOKUP(K933,[1]EXRATE!C$3:F$43,4,0)","v":1344.8},21584.04,"",123,"",0,0,"","","","","","W","HIE","","",20230926,160848,0.14000000000000001,53.47,"CIBM              AI80182","BACSEL",301,"294DDD"]
["KR","HSBC",2,0,0,null,"BACSEL301294DDD","UCD",{"$f":"VLOOKUP(H934,[2]SSIFSEP!$H$2:$I$7593,2,0)","v":"미사용약정"},"Unused Credit Line","USD","C13",3.3,0,"1",893,{"$f":"VLOOKUP(K934,[1]EXRATE!C$3:F$43,4,0)","v":1344.8},12009.063999999998,"",287,"",0,0,"","","","","","W","HIE","","",20230926,160848,0.14000000000000001,53.47,"CIBM              MG30100","BACSEL",301,"294DDD"]
["KR","HSBC",2,0,0,null,"BACSEL352947DDD","UCD",{"$f":"VLOOKUP(H935,[2]SSIFSEP!$H$2:$I$7593,2,0)","v":"미사용약정"},"Unused Credit Line","USD","C13",3.3,0,"1",729,{"$f":"VLOOKUP(K935,[1]EXRATE!C$3:F$43,4,0)","v":1344.8},9803.5919999999987,"",287,"",0,0,"","","","","","W","HIE","","",20230926,160848,0.14000000000000001,53.284999999999997,"CIBM              MG30100","BACSEL",352,"947DDD"]
["KR","HSBC",2,0,0,null,"BACSEL352947DDD","BAC",{"$f":"VLOOKUP(H936,[2]SSIFSEP!$H$2:$I$7593,2,0)","v":"매입외환"},"Purchased Foreign Exchange","USD","C13",3.3,0,"1",136,{"$f":"VLOOKUP(K936,[1]EXRATE!C$3:F$43,4,0)","v":1344.8},1828.9279999999999,"",123,"",0,0,"","","","","","W","HIE","","",20230926,160848,0.14000000000000001,53.284999999999997,"CIBM              AI80182","BACSEL",352,"947DDD"]
["KR","HSBC",2,0,0,null,"BACSEL352992DDD","UCD",{"$f":"VLOOKUP(H937,[2]SSIFSEP!$H$2:$I$7593,2,0)","v":"미사용약정"},"Unused Credit Line","USD","C13",3.3,0,"1",974,{"$f":"VLOOKUP(K937,[1]EXRATE!C$3:F$43,4,0)","v":1344.8},13098.351999999999,"",287,"",0,0,"","","","","","W","HIE","","",20230926,160848,0.14000000000000001,53.185000000000002,"CIBM              MG30100","BACSEL",352,"992DDD"]
["KR","HSBC",2,0,0,null,"BACSEL352992DDD","BAC",{"$f":"VLOOKUP(H938,[2]SSIFSEP!$H$2:$I$7593,2,0)","v":"매입외환"},"Purchased Foreign Exchange","USD","C13",3.3,0,"1",242,{"$f":"VLOOKUP(K938,[1]EXRATE!C$3:F$43,4,0)","v":1344.8},3254.4159999999997,"",123,"",0,0,"","","","","","W","HIE","","",20230926,160848,0.14000000000000001,53.185000000000002,"CIBM              AI80182","BACSEL",352,"992DDD"]
["KR","HSBC",2,0,0,null,"BACSEL353890DDD","BAC",{"$f":"VLOOKUP(H939,[2]SSIFSEP!$H$2:$I$7593,2,0)","v":"매입외환"},"Purchased Foreign Exchange","USD","C13",3.3,0,"1",909,{"$f":"VLOOKUP(K939,[1]EXRATE!C$3:F$43,4,0)","v":1344.8},12224.232,"",123,"",0,0,"","","","","","W","HIE","","",20230926,160848,0.14000000000000001,53.47,"CIBM              AI80182","BACSEL",353,"890DDD"]
["KR","HSBC",2,0,0,null,"BACSEL353890DDD","UCD",{"$f":"VLOOKUP(H940,[2]SSIFSEP!$H$2:$I$7593,2,0)","v":"미사용약정"},"Unused Credit Line","USD","C13",3.3,0,"1",481,{"$f":"VLOOKUP(K940,[1]EXRATE!C$3:F$43,4,0)","v":1344.8},6468.4879999999994,"",287,"",0,0,"","","","","","W","HIE","","",20230926,160848,0.14000000000000001,53.47,"CIBM              MG30100","BACSEL",353,"890DDD"]
["KR","HSBC",2,0,0,null,"BACSEL354436DDD","BAC",{"$f":"VLOOKUP(H941,[2]SSIFSEP!$H$2:$I$7593,2,0)","v":"매입외환"},"Purchased Foreign Exchange","USD","C13",3.3,0,"1",869,{"$f":"VLOOKUP(K941,[1]EXRATE!C$3:F$43,4,0)","v":1344.8},11686.312,"",123,"",0,0,"","","","","","W","HIE","","",20230926,160848,0.14000000000000001,53.494999999999997,"CIBM              AI80182","BACSEL",354,"436DDD"]
["KR","HSBC",2,0,0,null,"BACSEL354436DDD","UCD",{"$f":"VLOOKUP(H942,[2]SSIFSEP!$H$2:$I$7593,2,0)","v":"미사용약정"},"Unused Credit Line","USD","C13",3.3,0,"1",312,{"$f":"VLOOKUP(K942,[1]EXRATE!C$3:F$43,4,0)","v":1344.8},4195.7759999999998,"",287,"",0,0,"","","","","","W","HIE","","",20230926,160848,0.14000000000000001,53.494999999999997,"CIBM              MG30100","BACSEL",354,"436DDD"]
["KR","HSBC",2,0,0,null,"BAPSEL300702DDD","UCD",{"$f":"VLOOKUP(H943,[2]SSIFSEP!$H$2:$I$7593,2,0)","v":"미사용약정"},"Unused Credit Line","USD","C13",2.1,0,"1",59,{"$f":"VLOOKUP(K943,[1]EXRATE!C$3:F$43,4,0)","v":1344.8},793.43200000000002,"",287,"",0,0,"","","","","","W","HIE","","",20230926,160848,0.01,48.95,"CIBM              MG30100","BAPSEL",300,"702DDD"]
["KR","HSBC",2,0,0,null,"BAPSEL300702DDD","BAP",{"$f":"VLOOKUP(H944,[2]SSIFSEP!$H$2:$I$7593,2,0)","v":"매입외환"},"Purchased Foreign Exchange","EUR","C13",2.1,0,"1",23,{"$f":"VLOOKUP(K944,[1]EXRATE!C$3:F$43,4,0)","v":1421.7225599999999},326.99618879999997,"",124,"",0,0,"","","","","","W","HIE","","",20230926,160848,0.01,48.95,"CIBM              AI80182","BAPSEL",300,"702DDD"]
["KR","HSBC",2,0,0,null,"BAPSEL300703DDD","UCD",{"$f":"VLOOKUP(H945,[2]SSIFSEP!$H$2:$I$7593,2,0)","v":"미사용약정"},"Unused Credit Line","USD","C13",2.1,0,"1",32,{"$f":"VLOOKUP(K945,[1]EXRATE!C$3:F$43,4,0)","v":1344.8},430.33600000000001,"",287,"",0,0,"","","","","","W","HIE","","",20230926,160848,0.01,48.95,"CIBM              MG30100","BAPSEL",300,"703DDD"]
["KR","HSBC",2,0,0,null,"BAPSEL300703DDD","BAP",{"$f":"VLOOKUP(H946,[2]SSIFSEP!$H$2:$I$7593,2,0)","v":"매입외환"},"Purchased Foreign Exchange","EUR","C13",2.1,0,"1",12,{"$f":"VLOOKUP(K946,[1]EXRATE!C$3:F$43,4,0)","v":1421.7225599999999},170.60670719999999,"",124,"",0,0,"","","","","","W","HIE","","",20230926,160848,0.01,48.95,"CIBM              AI80182","BAPSEL",300,"703DDD"]
["KR","HSBC",2,0,0,null,"BAPSEL300704DDD","UCD",{"$f":"VLOOKUP(H947,[2]SSIFSEP!$H$2:$I$7593,2,0)","v":"미사용약정"},"Unused Credit Line","USD","C13",2.1,0,"1",36,{"$f":"VLOOKUP(K947,[1]EXRATE!C$3:F$43,4,0)","v":1344.8},484.12799999999993,"",287,"",0,0,"","","","","","W","HIE","","",20230926,160848,0.01,48.95,"CIBM              MG30100","BAPSEL",300,"704DDD"]
["KR","HSBC",2,0,0,null,"BAPSEL300704DDD","BAP",{"$f":"VLOOKUP(H948,[2]SSIFSEP!$H$2:$I$7593,2,0)","v":"매입외환"},"Purchased Foreign Exchange","EUR","C13",2.1,0,"1",14,{"$f":"VLOOKUP(K948,[1]EXRATE!C$3:F$43,4,0)","v":1421.7225599999999},199.04115839999997,"",124,"",0,0,"","","","","","W","HIE","","",20230926,160848,0.01,48.95,"CIBM              AI80182","BAPSEL",300,"704DDD"]
["KR","HSBC",2,0,0,null,"BAPSEL300705DDD","UCD",{"$f":"VLOOKUP(H949,[2]SSIFSEP!$H$2:$I$7593,2,0)","v":"미사용약정"},"Unused Credit Line","USD","C13",2.1,0,"1",39,{"$f":"VLOOKUP(K949,[1]EXRATE!C$3:F$43,4,0)","v":1344.8},524.47199999999998,"",287,"",0,0,"","","","","","W","HIE","","",20230926,160848,0.01,48.95,"CIBM              MG30100","BAPSEL",300,"705DDD"]
["KR","HSBC",2,0,0,null,"BAPSEL300705DDD","BAP",{"$f":"VLOOKUP(H950,[2]SSIFSEP!$H$2:$I$7593,2,0)","v":"매입외환"},"Purchased Foreign Exchange","EUR","C13",2.1,0,"1",15,{"$f":"VLOOKUP(K950,[1]EXRATE!C$3:F$43,4,0)","v":1421.7225599999999},213.25838400000001,"",124,"",0,0,"","","","","","W","HIE","","",20230926,160848,0.01,48.95,"CIBM              AI80182","BAPSEL",300,"705DDD"]
["KR","HSBC",2,0,0,null,"BAPSEL300706DDD","UCD",{"$f":"VLOOKUP(H951,[2]SSIFSEP!$H$2:$I$7593,2,0)","v":"미사용약정"},"Unused Credit Line","USD","C13",2.1,0,"1",47,{"$f":"VLOOKUP(K951,[1]EXRATE!C$3:F$43,4,0)","v":1344.8},632.05600000000004,"",287,"",0,0,"","","","","","W","HIE","","",20230926,160848,0.01,48.95,"CIBM              MG30100","BAPSEL",300,"706DDD"]
["KR","HSBC",2,0,0,null,"BAPSEL300706DDD","BAP",{"$f":"VLOOKUP(H952,[2]SSIFSEP!$H$2:$I$7593,2,0)","v":"매입외환"},"Purchased Foreign Exchange","EUR","C13",2.1,0,"1",18,{"$f":"VLOOKUP(K952,[1]EXRATE!C$3:F$43,4,0)","v":1421.7225599999999},255.9100608,"",124,"",0,0,"","","","","","W","HIE","","",20230926,160848,0.01,48.95,"CIBM              AI80182","BAPSEL",300,"706DDD"]
["KR","HSBC",2,0,0,null,"BAPSEL300805DDD","BAP",{"$f":"VLOOKUP(H953,[2]SSIFSEP!$H$2:$I$7593,2,0)","v":"매입외환"},"Purchased Foreign Exchange","USD","C13",2.1,0,"1",718,{"$f":"VLOOKUP(K953,[1]EXRATE!C$3:F$43,4,0)","v":1344.8},9655.6640000000007,"",125,"",0,0,"","","","","","W","HIE","","",20230926,160848,0.01,52.604999999999997,"CIBM              AI80182","BAPSEL",300,"805DDD"]
["KR","HSBC",2,0,0,null,"BAPSEL300805DDD","UCD",{"$f":"VLOOKUP(H954,[2]SSIFSEP!$H$2:$I$7593,2,0)","v":"미사용약정"},"Unused Credit Line","USD","C13",2.1,0,"1",210,{"$f":"VLOOKUP(K954,[1]EXRATE!C$3:F$43,4,0)","v":1344.8},2824.08,"",287,"",0,0,"","","","","","W","HIE","","",20230926,160848,0.01,52.604999999999997,"CIBM              MG30100","BAPSEL",300,"805DDD"]
["KR","HSBC",2,0,0,null,"BAPSEL300828DDD","BAP",{"$f":"VLOOKUP(H955,[2]SSIFSEP!$H$2:$I$7593,2,0)","v":"매입외환"},"Purchased Foreign Exchange","USD","C13",2.1,0,"1",56,{"$f":"VLOOKUP(K955,[1]EXRATE!C$3:F$43,4,0)","v":1344.8},753.08800000000008,"",125,"",0,0,"","","","","","W","HIE","","",20230926,160848,0.01,52.494999999999997,"CIBM              AI80182","BAPSEL",300,"828DDD"]
["KR","HSBC",2,0,0,null,"BAPSEL300828DDD","UCD",{"$f":"VLOOKUP(H956,[2]SSIFSEP!$H$2:$I$7593,2,0)","v":"미사용약정"},"Unused Credit Line","USD","C13",2.1,0,"1",15,{"$f":"VLOOKUP(K956,[1]EXRATE!C$3:F$43,4,0)","v":1344.8},201.72,"",287,"",0,0,"","","","","","W","HIE","","",20230926,160848,0.01,52.494999999999997,"CIBM              MG30100","BAPSEL",300,"828DDD"]
["KR","HSBC",2,0,0,null,"BAPSEL300829DDD","BAP",{"$f":"VLOOKUP(H957,[2]SSIFSEP!$H$2:$I$7593,2,0)","v":"매입외환"},"Purchased Foreign Exchange","USD","C13",2.1,0,"1",12,{"$f":"VLOOKUP(K957,[1]EXRATE!C$3:F$43,4,0)","v":1344.8},161.37599999999998,"",125,"",0,0,"","","","","","W","HIE","","",20230926,160848,0.01,52.494999999999997,"CIBM              AI80182","BAPSEL",300,"829DDD"]
["KR","HSBC",2,0,0,null,"BAPSEL300829DDD","UCD",{"$f":"VLOOKUP(H958,[2]SSIFSEP!$H$2:$I$7593,2,0)","v":"미사용약정"},"Unused Credit Line","USD","C13",2.1,0,"1",3,{"$f":"VLOOKUP(K958,[1]EXRATE!C$3:F$43,4,0)","v":1344.8},40.343999999999994,"",287,"",0,0,"","","","","","W","HIE","","",20230926,160848,0.01,52.494999999999997,"CIBM              MG30100","BAPSEL",300,"829DDD"]
["KR","HSBC",2,0,0,null,"BAPSEL300850DDD","BAP",{"$f":"VLOOKUP(H959,[2]SSIFSEP!$H$2:$I$7593,2,0)","v":"매입외환"},"Purchased Foreign Exchange","USD","C13",2.1,0,"1",494,{"$f":"VLOOKUP(K959,[1]EXRATE!C$3:F$43,4,0)","v":1344.8},6643.3119999999999,"",125,"",0,0,"","","","","","W","HIE","","",20230926,160848,0.01,52.585000000000001,"CIBM              AI80182","BAPSEL",300,"850DDD"]
["KR","HSBC",2,0,0,null,"BAPSEL300850DDD","UCD",{"$f":"VLOOKUP(H960,[2]SSIFSEP!$H$2:$I$7593,2,0)","v":"미사용약정"},"Unused Credit Line","USD","C13",2.1,0,"1",127,{"$f":"VLOOKUP(K960,[1]EXRATE!C$3:F$43,4,0)","v":1344.8},1707.896,"",287,"",0,0,"","","","","","W","HIE","","",20230926,160848,0.01,52.585000000000001,"CIBM              MG30100","BAPSEL",300,"850DDD"]
["KR","HSBC",2,0,0,null,"BAPSEL301303DDD","BAP",{"$f":"VLOOKUP(H961,[2]SSIFSEP!$H$2:$I$7593,2,0)","v":"매입외환"},"Purchased Foreign Exchange","USD","C13",2.2000000000000002,0,"1",3379,{"$f":"VLOOKUP(K961,[1]EXRATE!C$3:F$43,4,0)","v":1344.8},45440.792000000001,"",125,"",0,0,"","","","","","W","HIE","","",20230926,160848,0.02,53.185000000000002,"CIBM              AI80182","BAPSEL",301,"303DDD"]
["KR","HSBC",2,0,0,null,"BAPSEL301303DDD","UCD",{"$f":"VLOOKUP(H962,[2]SSIFSEP!$H$2:$I$7593,2,0)","v":"미사용약정"},"Unused Credit Line","USD","C13",2.2000000000000002,0,"1",635,{"$f":"VLOOKUP(K962,[1]EXRATE!C$3:F$43,4,0)","v":1344.8},8539.48,"",287,"",0,0,"","","","","","W","HIE","","",20230926,160848,0.02,53.185000000000002,"CIBM              MG30100","BAPSEL",301,"303DDD"]
["KR","HSBC",2,0,0,null,"BAPSEL301314DDD","BAP",{"$f":"VLOOKUP(H963,[2]SSIFSEP!$H$2:$I$7593,2,0)","v":"매입외환"},"Purchased Foreign Exchange","USD","C13",2.2000000000000002,0,"1",3779,{"$f":"VLOOKUP(K963,[1]EXRATE!C$3:F$43,4,0)","v":1344.8},50819.991999999998,"",125,"",0,0,"","","","","","W","HIE","","",20230926,160848,0.02,53.185000000000002,"CIBM              AI80182","BAPSEL",301,"314DDD"]
["KR","HSBC",2,0,0,null,"BAPSEL301314DDD","UCD",{"$f":"VLOOKUP(H964,[2]SSIFSEP!$H$2:$I$7593,2,0)","v":"미사용약정"},"Unused Credit Line","USD","C13",2.2000000000000002,0,"1",671,{"$f":"VLOOKUP(K964,[1]EXRATE!C$3:F$43,4,0)","v":1344.8},9023.6080000000002,"",287,"",0,0,"","","","","","W","HIE","","",20230926,160848,0.02,53.185000000000002,"CIBM              MG30100","BAPSEL",301,"314DDD"]
["KR","HSBC",2,0,0,null,"BAPSEL301315DDD","BAP",{"$f":"VLOOKUP(H965,[2]SSIFSEP!$H$2:$I$7593,2,0)","v":"매입외환"},"Purchased Foreign Exchange","USD","C13",2.2000000000000002,0,"1",3396,{"$f":"VLOOKUP(K965,[1]EXRATE!C$3:F$43,4,0)","v":1344.8},45669.407999999996,"",125,"",0,0,"","","","","","W","HIE","","",20230926,160848,0.02,53.185000000000002,"CIBM              AI80182","BAPSEL",301,"315DDD"]
["KR","HSBC",2,0,0,null,"BAPSEL301315DDD","UCD",{"$f":"VLOOKUP(H966,[2]SSIFSEP!$H$2:$I$7593,2,0)","v":"미사용약정"},"Unused Credit Line","USD","C13",2.2000000000000002,0,"1",592,{"$f":"VLOOKUP(K966,[1]EXRATE!C$3:F$43,4,0)","v":1344.8},7961.2159999999994,"",287,"",0,0,"","","","","","W","HIE","","",20230926,160848,0.02,53.185000000000002,"CIBM              MG30100","BAPSEL",301,"315DDD"]
["KR","HSBC",2,0,0,null,"BAPSEL301316DDD","BAP",{"$f":"VLOOKUP(H967,[2]SSIFSEP!$H$2:$I$7593,2,0)","v":"매입외환"},"Purchased Foreign Exchange","USD","C13",2.2000000000000002,0,"1",5267,{"$f":"VLOOKUP(K967,[1]EXRATE!C$3:F$43,4,0)","v":1344.8},70830.615999999995,"",125,"",0,0,"","","","","","W","HIE","","",20230926,160848,0.02,53.185000000000002,"CIBM              AI80182","BAPSEL",301,"316DDD"]
["KR","HSBC",2,0,0,null,"BAPSEL301316DDD","UCD",{"$f":"VLOOKUP(H968,[2]SSIFSEP!$H$2:$I$7593,2,0)","v":"미사용약정"},"Unused Credit Line","USD","C13",2.2000000000000002,0,"1",828,{"$f":"VLOOKUP(K968,[1]EXRATE!C$3:F$43,4,0)","v":1344.8},11134.944,"",287,"",0,0,"","","","","","W","HIE","","",20230926,160848,0.02,53.185000000000002,"CIBM              MG30100","BAPSEL",301,"316DDD"]
["KR","HSBC",2,0,0,null,"BAPSEL301317DDD","BAP",{"$f":"VLOOKUP(H969,[2]SSIFSEP!$H$2:$I$7593,2,0)","v":"매입외환"},"Purchased Foreign Exchange","USD","C13",2.2000000000000002,0,"1",3676,{"$f":"VLOOKUP(K969,[1]EXRATE!C$3:F$43,4,0)","v":1344.8},49434.847999999998,"",125,"",0,0,"","","","","","W","HIE","","",20230926,160848,0.02,53.185000000000002,"CIBM              AI80182","BAPSEL",301,"317DDD"]
["KR","HSBC",2,0,0,null,"BAPSEL301317DDD","UCD",{"$f":"VLOOKUP(H970,[2]SSIFSEP!$H$2:$I$7593,2,0)","v":"미사용약정"},"Unused Credit Line","USD","C13",2.2000000000000002,0,"1",629,{"$f":"VLOOKUP(K970,[1]EXRATE!C$3:F$43,4,0)","v":1344.8},8458.7919999999995,"",287,"",0,0,"","","","","","W","HIE","","",20230926,160848,0.02,53.185000000000002,"CIBM              MG30100","BAPSEL",301,"317DDD"]
["KR","HSBC",2,0,0,null,"BPCSEL354415DDD","UCD",{"$f":"VLOOKUP(H971,[2]SSIFSEP!$H$2:$I$7593,2,0)","v":"미사용약정"},"Unused Credit Line","USD","C13",3.3,0,"1",2142,{"$f":"VLOOKUP(K971,[1]EXRATE!C$3:F$43,4,0)","v":1344.8},28805.616000000002,"",287,"",0,0,"","","","","","W","HIE","","",20230926,160848,0.14000000000000001,49.924999999999997,"CIBM              MG30100","BPCSEL",354,"415DDD"]
["KR","HSBC",2,0,0,null,"BPCSEL354415DDD","BPC","Purchased Foreign Exchange","Purchased Foreign Exchange","EUR","C13",3.3,0,"1",488,{"$f":"VLOOKUP(K972,[1]EXRATE!C$3:F$43,4,0)","v":1421.7225599999999},6938.0060927999994,"",127,"",0,0,"","","","","","W","HIE","","",20230926,160848,0.14000000000000001,49.924999999999997,"CIBM              AI80182","BPCSEL",354,"415DDD"]
["KR","HSBC",2,0,0,null,"CFB00099407","UCD",{"$f":"VLOOKUP(H973,[2]SSIFSEP!$H$2:$I$7593,2,0)","v":"미사용약정"},"Unused Credit Line","KRW","BKN",1.1000000000000001,0,"1",0,{"$f":"VLOOKUP(K973,[1]EXRATE!C$3:F$43,4,0)","v":1},{"$f":"+P973*Q973","v":0},"",280,"",0,0,"","","","","","W","HUB","","",20230926,160848,0.03,17.895,"CIBM              MG30100","CFB000",994,7]
["KR","HSBC",2,0,0,null,"CFB00155992","UCD",{"$f":"VLOOKUP(H974,[2]SSIFSEP!$H$2:$I$7593,2,0)","v":"미사용약정"},"Unused Credit Line","KRW","SEC",3.1,0,"1",0,{"$f":"VLOOKUP(K974,[1]EXRATE!C$3:F$43,4,0)","v":1},0,"",307,"",0,0,"","","","","","W","HUB","","",20230926,160848,0.35,17.585000000000001,"CIBM              MG30100","CFB001",559,92]
["KR","HSBC",2,0,0,null,"CFB00155996","UCD",{"$f":"VLOOKUP(H975,[2]SSIFSEP!$H$2:$I$7593,2,0)","v":"미사용약정"},"Unused Credit Line","KRW","SEC",2.1,0,"1",0,{"$f":"VLOOKUP(K975,[1]EXRATE!C$3:F$43,4,0)","v":1},0,"",307,"",0,0,"","","","","","W","HUB","","",20230926,160848,0.11,17.585000000000001,"CIBM              MG30100","CFB001",559,96]
["KR","HSBC",2,0,0,null,"CGASEL100394","CGA",{"$f":"VLOOKUP(H976,[2]SSIFSEP!$H$2:$I$7593,2,0)","v":"확정지급보증"},"Confirmed Payment Guarantee","KRW","C13",2.2000000000000002,0,"1",7630,{"$f":"VLOOKUP(K976,[1]EXRATE!C$3:F$43,4,0)","v":1},7630,"",269,"",0,0,"","","","","","W","HIE","","",20230926,160848,0.02,40.854999999999997,"CIBM              MA21570","CGASEL",100,394,null,"GTRF GTE","Confirmed Payment Guarantee",{"$f":"R976","v":7630},"Matched with Local data"]
["KR","HSBC",2,0,0,null,"CGASEL200420","CGA",{"$f":"VLOOKUP(H977,[2]SSIFSEP!$H$2:$I$7593,2,0)","v":"확정지급보증"},"Confirmed Payment Guarantee","KRW","C13",3.1,0,"2J",303,{"$f":"VLOOKUP(K977,[1]EXRATE!C$3:F$43,4,0)","v":1},303,"",270,"",0,0,"","","","","","W","HIE","","",20230926,160848,0.04,40.854999999999997,"CIBM              MA21570","CGASEL",200,420,null,"GTRF GTE","Confirmed Payment Guarantee",303]
["KR","HSBC",2,0,0,null,"CGASEL200421","CGA",{"$f":"VLOOKUP(H978,[2]SSIFSEP!$H$2:$I$7593,2,0)","v":"확정지급보증"},"Confirmed Payment Guarantee","KRW","C13",3.1,0,"1",76,{"$f":"VLOOKUP(K978,[1]EXRATE!C$3:F$43,4,0)","v":1},76,"",269,"",0,0,"","","","","","W","HIE","","",20230926,160848,0.04,40.854999999999997,"CIBM              MA21570","CGASEL",200,421,null,"GTRF GTE","Confirmed Payment Guarantee",76]
["KR","HSBC",2,0,0,null,"CGASEL200687","CGA",{"$f":"VLOOKUP(H979,[2]SSIFSEP!$H$2:$I$7593,2,0)","v":"확정지급보증"},"Confirmed Payment Guarantee","KRW","C13",1.2,0,"1",4916,{"$f":"VLOOKUP(K979,[1]EXRATE!C$3:F$43,4,0)","v":1},4916,"",269,"",0,0,"","","","","","W","HIE","","",20230926,160848,0.01,40.854999999999997,"CIBM              MA21570","CGASEL",200,687,null,"GTRF GTE","Confirmed Payment Guarantee",4916,"Matched with Local data"]
["KR","HSBC",2,0,0,null,"CGASEL200705","CGA",{"$f":"VLOOKUP(H980,[2]SSIFSEP!$H$2:$I$7593,2,0)","v":"확정지급보증"},"Confirmed Payment Guarantee","KRW","C13",1.2,0,"1",3344,{"$f":"VLOOKUP(K980,[1]EXRATE!C$3:F$43,4,0)","v":1},3344,"",269,"",0,0,"","","","","","W","HIE","","",20230926,160848,0.01,40.854999999999997,"CIBM              MA21570","CGASEL",200,705,null,"GTRF GTE","Confirmed Payment Guarantee",3344,"Matched with Local data"]
["KR","HSBC",2,0,0,null,"CGASEL300229","CGA",{"$f":"VLOOKUP(H981,[2]SSIFSEP!$H$2:$I$7593,2,0)","v":"확정지급보증"},"Confirmed Payment Guarantee","KRW","C13",2.1,0,"1",22586,{"$f":"VLOOKUP(K981,[1]EXRATE!C$3:F$43,4,0)","v":1},22586,"",269,"",0,0,"","","","","","W","HIE","","",20230926,160848,0.01,40.854999999999997,"CIBM              MA21570","CGASEL",300,229,null,"GTRF GTE","Confirmed Payment Guarantee",22586,"Matched with Local data"]
["KR","HSBC",2,0,0,null,"CGASEL300229","UCD",{"$f":"VLOOKUP(H982,[2]SSIFSEP!$H$2:$I$7593,2,0)","v":"미사용약정"},"Unused Credit Line","KRW","C13",2.1,0,"1",0,{"$f":"VLOOKUP(K982,[1]EXRATE!C$3:F$43,4,0)","v":1},0,"",283,"",0,0,"","","","","","W","HIE","","",20230926,160848,0.01,40.854999999999997,"CIBM              MG30100","CGASEL",300,229]
["KR","HSBC",2,0,0,null,"CGASEL300308","UCD",{"$f":"VLOOKUP(H983,[2]SSIFSEP!$H$2:$I$7593,2,0)","v":"미사용약정"},"Unused Credit Line","KRW","C13",2.2000000000000002,0,"2J",44768,{"$f":"VLOOKUP(K983,[1]EXRATE!C$3:F$43,4,0)","v":1},44768,"",285,"",0,0,"","","","","","W","HIE","","",20230926,160848,0.02,40.854999999999997,"CIBM              MG30100","CGASEL",300,308]
["KR","HSBC",2,0,0,null,"CGASEL300308","CGA",{"$f":"VLOOKUP(H984,[2]SSIFSEP!$H$2:$I$7593,2,0)","v":"확정지급보증"},"Confirmed Payment Guarantee","KRW","C13",2.2000000000000002,0,"2J",1800,{"$f":"VLOOKUP(K984,[1]EXRATE!C$3:F$43,4,0)","v":1},1800,"",270,"",0,0,"","","","","","W","HIE","","",20230926,160848,0.02,40.854999999999997,"CIBM              MA21570","CGASEL",300,308,null,"GTRF GTE","Confirmed Payment Guarantee",{"$f":"R984","v":1800},"Matched with Local data"]
["KR","HSBC",2,0,0,null,"CILSEL300002","CIL",{"$f":"VLOOKUP(H985,[2]SSIFSEP!$H$2:$I$7593,2,0)","v":"외화기업대출"},"IMP Foreign Currency Corporate Loan","USD","C13",4.2,0,"1",973725,{"$f":"VLOOKUP(K985,[1]EXRATE!C$3:F$43,4,0)","v":1344.8},{"$f":"+P985*Q985/100","v":13094653.800000001},"",152,"",0,0,"","","","","","W","HIE","","",20230926,160848,0.22,54.97,"CIBM              AI80184","CILSEL",300,2,null,"GTRF IMP",{"$f":"J985","v":"IMP Foreign Currency Corporate Loan"},{"$f":"R985","v":13094653.800000001},"Matched with Local data"]
["KR","HSBC",2,0,0,null,"CILSEL300002","UCD",{"$f":"VLOOKUP(H986,[2]SSIFSEP!$H$2:$I$7593,2,0)","v":"미사용약정"},"Unused Credit Line","USD","C13",4.2,0,"1",4953,{"$f":"VLOOKUP(K986,[1]EXRATE!C$3:F$43,4,0)","v":1344.8},66607.943999999989,"",287,"",0,0,"","","","","","W","HIE","","",20230926,160848,0.22,54.97,"CIBM              MG30100","CILSEL",300,2]
["KR","HSBC",2,0,0,null,"CILSEL300003","CIL",{"$f":"VLOOKUP(H987,[2]SSIFSEP!$H$2:$I$7593,2,0)","v":"외화기업대출"},"IMP Foreign Currency Corporate Loan","USD","C13",4.2,0,"2A",77553,{"$f":"VLOOKUP(K987,[1]EXRATE!C$3:F$43,4,0)","v":1344.8},1042932.7439999999,"",153,"",0,0,"","","","","","W","HIE","","",20230926,160848,0.22,54.97,"CIBM              AI80184","CILSEL",300,3,null,"GTRF IMP",{"$f":"J987","v":"IMP Foreign Currency Corporate Loan"},{"$f":"R987","v":1042932.7439999999},"Matched with Local data"]
["KR","HSBC",2,0,0,null,"CILSEL300003","UCD",{"$f":"VLOOKUP(H988,[2]SSIFSEP!$H$2:$I$7593,2,0)","v":"미사용약정"},"Unused Credit Line","USD","C13",4.2,0,"2A",10188,{"$f":"VLOOKUP(K988,[1]EXRATE!C$3:F$43,4,0)","v":1344.8},137008.22400000002,"",288,"",0,0,"","","","","","W","HIE","","",20230926,160848,0.22,54.97,"CIBM              MG30100","CILSEL",300,3]
["KR","HSBC",2,0,0,null,"CILSEL300027","CIL",{"$f":"VLOOKUP(H989,[2]SSIFSEP!$H$2:$I$7593,2,0)","v":"외화기업대출"},"IMP Foreign Currency Corporate Loan","USD","C13",1.1000000000000001,0,"1",12998,{"$f":"VLOOKUP(K989,[1]EXRATE!C$3:F$43,4,0)","v":1344.8},174797.10399999999,"",152,"",0,0,"","","","","","W","HIE","","",20230926,160848,0.01,52.2,"CIBM              AI80184","CILSEL",300,27,null,"GTRF IMP",{"$f":"J989","v":"IMP Foreign Currency Corporate Loan"},{"$f":"R989","v":174797.10399999999},"Matched with Local data"]
["KR","HSBC",2,0,0,null,"CILSEL300027","UCD",{"$f":"VLOOKUP(H990,[2]SSIFSEP!$H$2:$I$7593,2,0)","v":"미사용약정"},"Unused Credit Line","USD","C13",1.1000000000000001,0,"1",1087,{"$f":"VLOOKUP(K990,[1]EXRATE!C$3:F$43,4,0)","v":1344.8},14617.975999999999,"",287,"",0,0,"","","","","","W","HIE","","",20230926,160848,0.01,52.2,"CIBM              MG30100","CILSEL",300,27]
["KR","HSBC",2,0,0,null,"CILSEL300028","CIL",{"$f":"VLOOKUP(H991,[2]SSIFSEP!$H$2:$I$7593,2,0)","v":"외화기업대출"},"IMP Foreign Currency Corporate Loan","USD","C13",2.2000000000000002,0,"1",750,{"$f":"VLOOKUP(K991,[1]EXRATE!C$3:F$43,4,0)","v":1344.8},10086,"",152,"",0,0,"","","","","","W","HIE","","",20230926,160848,0.02,52.204999999999998,"CIBM              AI80184","CILSEL",300,28,null,"GTRF IMP",{"$f":"J991","v":"IMP Foreign Currency Corporate Loan"},{"$f":"R991","v":10086}]
["KR","HSBC",2,0,0,null,"CILSEL300028","UCD",{"$f":"VLOOKUP(H992,[2]SSIFSEP!$H$2:$I$7593,2,0)","v":"미사용약정"},"Unused Credit Line","USD","C13",2.2000000000000002,0,"1",28,{"$f":"VLOOKUP(K992,[1]EXRATE!C$3:F$43,4,0)","v":1344.8},376.54400000000004,"",287,"",0,0,"","","","","","W","HIE","","",20230926,160848,0.02,52.204999999999998,"CIBM              MG30100","CILSEL",300,28]
["KR","HSBC",2,0,0,null,"CILSEL300029","CIL",{"$f":"VLOOKUP(H993,[2]SSIFSEP!$H$2:$I$7593,2,0)","v":"외화기업대출"},"IMP Foreign Currency Corporate Loan","USD","C13",2.2000000000000002,0,"1",1008,{"$f":"VLOOKUP(K993,[1]EXRATE!C$3:F$43,4,0)","v":1344.8},13555.583999999999,"",152,"",0,0,"","","","","","W","HIE","","",20230926,160848,0.02,52.204999999999998,"CIBM              AI80184","CILSEL",300,29,null,"GTRF IMP",{"$f":"J993","v":"IMP Foreign Currency Corporate Loan"},{"$f":"R993","v":13555.583999999999}]
["KR","HSBC",2,0,0,null,"CILSEL300029","UCD",{"$f":"VLOOKUP(H994,[2]SSIFSEP!$H$2:$I$7593,2,0)","v":"미사용약정"},"Unused Credit Line","USD","C13",2.2000000000000002,0,"1",37,{"$f":"VLOOKUP(K994,[1]EXRATE!C$3:F$43,4,0)","v":1344.8},497.57599999999996,"",287,"",0,0,"","","","","","W","HIE","","",20230926,160848,0.02,52.204999999999998,"CIBM              MG30100","CILSEL",300,29]
["KR","HSBC",2,0,0,null,"CILSEL300030","CIL",{"$f":"VLOOKUP(H995,[2]SSIFSEP!$H$2:$I$7593,2,0)","v":"외화기업대출"},"IMP Foreign Currency Corporate Loan","USD","C13",2.2000000000000002,0,"1",2048,{"$f":"VLOOKUP(K995,[1]EXRATE!C$3:F$43,4,0)","v":1344.8},27541.504000000001,"",152,"",0,0,"","","","","","W","HIE","","",20230926,160848,0.02,52.585000000000001,"CIBM              AI80184","CILSEL",300,30,null,"GTRF IMP",{"$f":"J995","v":"IMP Foreign Currency Corporate Loan"},{"$f":"R995","v":27541.504000000001}]
["KR","HSBC",2,0,0,null,"CILSEL300030","UCD",{"$f":"VLOOKUP(H996,[2]SSIFSEP!$H$2:$I$7593,2,0)","v":"미사용약정"},"Unused Credit Line","USD","C13",2.2000000000000002,0,"1",22,{"$f":"VLOOKUP(K996,[1]EXRATE!C$3:F$43,4,0)","v":1344.8},295.85599999999999,"",287,"",0,0,"","","","","","W","HIE","","",20230926,160848,0.02,52.585000000000001,"CIBM              MG30100","CILSEL",300,30]
["KR","HSBC",2,0,0,null,"CILSEL300031","CIL",{"$f":"VLOOKUP(H997,[2]SSIFSEP!$H$2:$I$7593,2,0)","v":"외화기업대출"},"IMP Foreign Currency Corporate Loan","USD","C13",2.2000000000000002,0,"1",3455,{"$f":"VLOOKUP(K997,[1]EXRATE!C$3:F$43,4,0)","v":1344.8},46462.84,"",152,"",0,0,"","","","","","W","HIE","","",20230926,160848,0.02,52.585000000000001,"CIBM              AI80184","CILSEL",300,31,null,"GTRF IMP",{"$f":"J997","v":"IMP Foreign Currency Corporate Loan"},{"$f":"R997","v":46462.84}]
["KR","HSBC",2,0,0,null,"CILSEL300031","UCD",{"$f":"VLOOKUP(H998,[2]SSIFSEP!$H$2:$I$7593,2,0)","v":"미사용약정"},"Unused Credit Line","USD","C13",2.2000000000000002,0,"1",36,{"$f":"VLOOKUP(K998,[1]EXRATE!C$3:F$43,4,0)","v":1344.8},484.12799999999993,"",287,"",0,0,"","","","","","W","HIE","","",20230926,160848,0.02,52.585000000000001,"CIBM              MG30100","CILSEL",300,31]
["KR","HSBC",2,0,0,null,"CILSEL300032","CIL",{"$f":"VLOOKUP(H999,[2]SSIFSEP!$H$2:$I$7593,2,0)","v":"외화기업대출"},"IMP Foreign Currency Corporate Loan","USD","C13",2.2000000000000002,0,"1",586,{"$f":"VLOOKUP(K999,[1]EXRATE!C$3:F$43,4,0)","v":1344.8},7880.5279999999993,"",152,"",0,0,"","","","","","W","HIE","","",20230926,160848,0.02,52.585000000000001,"CIBM              AI80184","CILSEL",300,32,null,"GTRF IMP",{"$f":"J999","v":"IMP Foreign Currency Corporate Loan"},{"$f":"R999","v":7880.5279999999993}]
["KR","HSBC",2,0,0,null,"CILSEL300032","UCD",{"$f":"VLOOKUP(H1000,[2]SSIFSEP!$H$2:$I$7593,2,0)","v":"미사용약정"},"Unused Credit Line","USD","C13",2.2000000000000002,0,"1",6,{"$f":"VLOOKUP(K1000,[1]EXRATE!C$3:F$43,4,0)","v":1344.8},80.687999999999988,"",287,"",0,0,"","","","","","W","HIE","","",20230926,160848,0.02,52.585000000000001,"CIBM              MG30100","CILSEL",300,32]
["KR","HSBC",2,0,0,null,"CILSEL300039","UCD",{"$f":"VLOOKUP(H1004,[2]SSIFSEP!$H$2:$I$7593,2,0)","v":"미사용약정"},"Unused Credit Line","USD","C13",2.2000000000000002,0,"1",44,{"$f":"VLOOKUP(K1004,[1]EXRATE!C$3:F$43,4,0)","v":1344.8},591.71199999999999,"",287,"",0,0,"","","","","","W","HIE","","",20230926,160848,0.02,47.46,"CIBM              MG30100","CILSEL",300,39]
["KR","HSBC",2,0,0,null,"DC SEL300273","DC",{"$f":"VLOOKUP(H1009,[2]SSIFSEP!$H$2:$I$7593,2,0)","v":"미확정지급보증"},"Unconfirmed Payment Guarantee","EUR","C13",1.2,0,"1",33,{"$f":"VLOOKUP(K1009,[1]EXRATE!C$3:F$43,4,0)","v":1421.7225599999999},469.16844479999997,"",273,"",0,0,"","","","","","W","HIE","","",20230926,160848,0.01,40.854999999999997,"CIBM              MG11070","DC SEL",300,273,null,"GTRF IMP",{"$f":"J1009","v":"Unconfirmed Payment Guarantee"},{"$f":"R1009","v":469.16844479999997}]
["KR","HSBC",2,0,0,null,"DPBCOR350246SEL","UCD",{"$f":"VLOOKUP(H1017,[2]SSIFSEP!$H$2:$I$7593,2,0)","v":"미사용약정"},"Unused Credit Line","USD","MFS",3.2,0,"1",511,{"$f":"VLOOKUP(K1017,[1]EXRATE!C$3:F$43,4,0)","v":1344.8},6871.927999999999,"",301,"",0,0,"","","","","","W","HIE","","",20230926,160848,0.09,40.854999999999997,"CIBM              MG30100","DPBCOR",350,"246SEL"]
["KR","HSBC",2,0,0,null,"DPBCOR350271SEL","UCD",{"$f":"VLOOKUP(H1023,[2]SSIFSEP!$H$2:$I$7593,2,0)","v":"미사용약정"},"Unused Credit Line","USD","MFS",3.2,0,"1",511,{"$f":"VLOOKUP(K1023,[1]EXRATE!C$3:F$43,4,0)","v":1344.8},6871.927999999999,"",301,"",0,0,"","","","","","W","HIE","","",20230926,160848,0.09,40.854999999999997,"CIBM              MG30100","DPBCOR",350,"271SEL"]
["KR","HSBC",2,0,0,null,"DPBTKY350267SEL","DPB",{"$f":"VLOOKUP(H1029,[2]SSIFSEP!$H$2:$I$7593,2,0)","v":"확정지급보증"},"Confirmed Payment Guarantee","USD","MFS",3.2,0,"1",773,{"$f":"VLOOKUP(K1029,[1]EXRATE!C$3:F$43,4,0)","v":1344.8},10395.303999999998,"",207,"",0,0,"","","","","","W","HIE","","",20230926,160848,0.09,40.854999999999997,"CIBM              AV89134","DPBTKY",350,"267SEL",null,"GTRF IMP",{"$f":"J1029","v":"Confirmed Payment Guarantee"},{"$f":"R1029","v":10395.303999999998},"Matched with Local data"]
["KR","HSBC",2,0,0,null,"DPCSEL300232","UCD",{"$f":"VLOOKUP(H1037,[2]SSIFSEP!$H$2:$I$7593,2,0)","v":"미사용약정"},"Unused Credit Line","USD","MFS",3.2,0,"1",3,{"$f":"VLOOKUP(K1037,[1]EXRATE!C$3:F$43,4,0)","v":1344.8},40.343999999999994,"",301,"",0,0,"","","","","","W","HIE","","",20230926,160848,0.09,40.854999999999997,"CIBM              MG30100","DPCSEL",300,232]
["KR","HSBC",2,0,0,null,"DPCSEL300264","UCD",{"$f":"VLOOKUP(H1042,[2]SSIFSEP!$H$2:$I$7593,2,0)","v":"미사용약정"},"Unused Credit Line","USD","MFS",3.2,0,"1",4,{"$f":"VLOOKUP(K1042,[1]EXRATE!C$3:F$43,4,0)","v":1344.8},53.792000000000002,"",301,"",0,0,"","","","","","W","HIE","","",20230926,160848,0.09,40.854999999999997,"CIBM              MG30100","DPCSEL",300,264]
["KR","HSBC",2,0,0,null,"DPCSEL300294","UCD",{"$f":"VLOOKUP(H1048,[2]SSIFSEP!$H$2:$I$7593,2,0)","v":"미사용약정"},"Unused Credit Line","USD","MFS",3.2,0,"1",3,{"$f":"VLOOKUP(K1048,[1]EXRATE!C$3:F$43,4,0)","v":1344.8},40.343999999999994,"",301,"",0,0,"","","","","","W","HIE","","",20230926,160848,0.09,40.854999999999997,"CIBM              MG30100","DPCSEL",300,294]
["KR","HSBC",2,0,0,null,"DPCSEL300325","UCD",{"$f":"VLOOKUP(H1054,[2]SSIFSEP!$H$2:$I$7593,2,0)","v":"미사용약정"},"Unused Credit Line","USD","MFS",3.2,0,"1",0,{"$f":"VLOOKUP(K1054,[1]EXRATE!C$3:F$43,4,0)","v":1344.8},0,"",301,"",0,0,"","","","","","W","HIE","","",20230926,160848,0.09,40.854999999999997,"CIBM              MG30100","DPCSEL",300,325]
["KR","HSBC",2,0,0,null,"DPCSEL300413","UCD",{"$f":"VLOOKUP(H1062,[2]SSIFSEP!$H$2:$I$7593,2,0)","v":"미사용약정"},"Unused Credit Line","USD","MFS",3.2,0,"1",36,{"$f":"VLOOKUP(K1062,[1]EXRATE!C$3:F$43,4,0)","v":1344.8},484.12799999999993,"",301,"",0,0,"","","","","","W","HIE","","",20230926,160848,0.09,40.854999999999997,"CIBM              MG30100","DPCSEL",300,413]
["KR","HSBC",2,0,0,null,"FNGSEL300301","UCD",{"$f":"VLOOKUP(H1070,[2]SSIFSEP!$H$2:$I$7593,2,0)","v":"미사용약정"},"Unused Credit Line","KRW","MFS",5.3,0,"2L",3699,{"$f":"VLOOKUP(K1070,[1]EXRATE!C$3:F$43,4,0)","v":1},3699,"",300,"",0,0,"","","","","","W","HIE","","",20230926,160848,1,40.854999999999997,"CIBM              MG30100","FNGSEL",300,301]
["KR","HSBC",2,0,0,null,"FOTSEL248030DDFD","FOT",{"$f":"VLOOKUP(H1077,[2]SSIFSEP!$H$2:$I$7593,2,0)","v":"매입외환"},"Purchased Foreign Exchange","USD","BNK",2.2000000000000002,0,"1",1127,{"$f":"VLOOKUP(K1077,[1]EXRATE!C$3:F$43,4,0)","v":1344.8},15155.895999999999,"",131,"",0,0,"","","","","","W","HIE","","",20230926,160848,0.06,36.075000000000003,"CIBM              AI80182","FOTSEL",248,"030DDFD"]
["KR","HSBC",2,0,0,null,"FOTSEL248510DDFD","FOT",{"$f":"VLOOKUP(H1082,[2]SSIFSEP!$H$2:$I$7593,2,0)","v":"매입외환"},"Purchased Foreign Exchange","USD","BNK",2.2000000000000002,0,"1",454,{"$f":"VLOOKUP(K1082,[1]EXRATE!C$3:F$43,4,0)","v":1344.8},6105.3919999999998,"",131,"",0,0,"","","","","","W","HIE","","",20230926,160848,0.06,36.274999999999999,"CIBM              AI80182","FOTSEL",248,"510DDFD"]
["KR","HSBC",2,0,0,null,"FOTSEL248736DDFD","FOT",{"$f":"VLOOKUP(H1090,[2]SSIFSEP!$H$2:$I$7593,2,0)","v":"매입외환"},"Purchased Foreign Exchange","USD","BNK",3.2,0,"1",93,{"$f":"VLOOKUP(K1090,[1]EXRATE!C$3:F$43,4,0)","v":1344.8},1250.664,"",131,"",0,0,"","","","","","W","HIE","","",20230926,160849,0.17,36.965000000000003,"CIBM              AI80182","FOTSEL",248,"736DDFD"]
["KR","HSBC",2,0,0,null,"FOTSEL249617DDFD","FOT",{"$f":"VLOOKUP(H1095,[2]SSIFSEP!$H$2:$I$7593,2,0)","v":"매입외환"},"Purchased Foreign Exchange","USD","BNK",2.2000000000000002,0,"1",298,{"$f":"VLOOKUP(K1095,[1]EXRATE!C$3:F$43,4,0)","v":1344.8},4007.5039999999995,"",131,"",0,0,"","","","","","W","HIE","","",20230926,160849,0.06,36.39,"CIBM              AI80182","FOTSEL",249,"617DDFD"]
["KR","HSBC",2,0,0,null,"FOTSEL249748DDFD","FOT",{"$f":"VLOOKUP(H1102,[2]SSIFSEP!$H$2:$I$7593,2,0)","v":"매입외환"},"Purchased Foreign Exchange","USD","BNK",2.2000000000000002,0,"1",6889,{"$f":"VLOOKUP(K1102,[1]EXRATE!C$3:F$43,4,0)","v":1344.8},92643.271999999997,"",131,"",0,0,"","","","","","W","HIE","","",20230926,160849,0.06,36.284999999999997,"CIBM              AI80182","FOTSEL",249,"748DDFD"]
["KR","HSBC",2,0,0,null,"FOTSEL300482FD","FOT",{"$f":"VLOOKUP(H1114,[2]SSIFSEP!$H$2:$I$7593,2,0)","v":"매입외환"},"Purchased Foreign Exchange","USD","BNK",2.2000000000000002,0,"1",607,{"$f":"VLOOKUP(K1114,[1]EXRATE!C$3:F$43,4,0)","v":1344.8},8162.9359999999997,"",131,"",0,0,"","","","","","W","HIE","","",20230926,160849,0.1,34.79,"CIBM              AI80182","FOTSEL",300,"482FD"]
["KR","HSBC",2,0,0,null,"FOTSEL300485FD","FOT",{"$f":"VLOOKUP(H1115,[2]SSIFSEP!$H$2:$I$7593,2,0)","v":"매입외환"},"Purchased Foreign Exchange","USD","BNK",2.2000000000000002,0,"1",1519,{"$f":"VLOOKUP(K1115,[1]EXRATE!C$3:F$43,4,0)","v":1344.8},20427.511999999999,"",131,"",0,0,"","","","","","W","HIE","","",20230926,160849,0.1,34.79,"CIBM              AI80182","FOTSEL",300,"485FD"]
["KR","HSBC",2,0,0,null,"FOTSEL300639DDFD","FOT",{"$f":"VLOOKUP(H1123,[2]SSIFSEP!$H$2:$I$7593,2,0)","v":"매입외환"},"Purchased Foreign Exchange","USD","GB",2.2000000000000002,0,"1",14125,{"$f":"VLOOKUP(K1123,[1]EXRATE!C$3:F$43,4,0)","v":1344.8},189953,"",135,"",0,0,"","","","","","W","HIE","","",20230926,160849,0.53,35.445,"CIBM              AI80182","FOTSEL",300,"639DDFD"]
["KR","HSBC",2,0,0,null,"FOTSEL300779DDFD","FOT",{"$f":"VLOOKUP(H1131,[2]SSIFSEP!$H$2:$I$7593,2,0)","v":"매입외환"},"Purchased Foreign Exchange","USD","GB",2.2000000000000002,0,"1",471,{"$f":"VLOOKUP(K1131,[1]EXRATE!C$3:F$43,4,0)","v":1344.8},6334.0079999999989,"",135,"",0,0,"","","","","","W","HIE","","",20230926,160849,0.09,35.18,"CIBM              AI80182","FOTSEL",300,"779DDFD"]
["KR","HSBC",2,0,0,null,"FOTSEL300846DDFD","FOT",{"$f":"VLOOKUP(H1135,[2]SSIFSEP!$H$2:$I$7593,2,0)","v":"매입외환"},"Purchased Foreign Exchange","USD","BNK",1.1000000000000001,0,"1",1263,{"$f":"VLOOKUP(K1135,[1]EXRATE!C$3:F$43,4,0)","v":1344.8},16984.824000000001,"",131,"",0,0,"","","","","","W","HIE","","",20230926,160849,0.03,29.38,"CIBM              AI80182","FOTSEL",300,"846DDFD"]
["KR","HSBC",2,0,0,null,"FOTSEL300965DDAD","FOT",{"$f":"VLOOKUP(H1147,[2]SSIFSEP!$H$2:$I$7593,2,0)","v":"매입외환"},"Purchased Foreign Exchange","USD","GB",4.3,0,"1",164,{"$f":"VLOOKUP(K1147,[1]EXRATE!C$3:F$43,4,0)","v":1344.8},2205.4719999999998,"",135,"",0,0,"","","","","","W","HIE","","",20230926,160849,0.25,54.575000000000003,"CIBM              AI80182","FOTSEL",300,"965DDAD"]
["KR","HSBC",2,0,0,null,"FOTSEL301006DDFD","FOT",{"$f":"VLOOKUP(H1155,[2]SSIFSEP!$H$2:$I$7593,2,0)","v":"매입외환"},"Purchased Foreign Exchange","EUR","BNK",3.1,0,"1",245,{"$f":"VLOOKUP(K1155,[1]EXRATE!C$3:F$43,4,0)","v":1421.7225599999999},3483.220272,"",129,"",0,0,"","","","","","W","HIE","","",20230926,160849,0.16,22.08,"CIBM              AI80182","FOTSEL",301,"006DDFD"]
["KR","HSBC",2,0,0,null,"FOTSEL301007DDFD","FOT",{"$f":"VLOOKUP(H1156,[2]SSIFSEP!$H$2:$I$7593,2,0)","v":"매입외환"},"Purchased Foreign Exchange","EUR","BNK",2.2000000000000002,0,"1",1314,{"$f":"VLOOKUP(K1156,[1]EXRATE!C$3:F$43,4,0)","v":1421.7225599999999},18681.4344384,"",129,"",0,0,"","","","","","W","HIE","","",20230926,160849,0.09,21.805,"CIBM              AI80182","FOTSEL",301,"007DDFD"]
["KR","HSBC",2,0,0,null,"FOTSEL301037DDFD","FOT",{"$f":"VLOOKUP(H1167,[2]SSIFSEP!$H$2:$I$7593,2,0)","v":"매입외환"},"Purchased Foreign Exchange","USD","BNK",1.2,0,"1",140,{"$f":"VLOOKUP(K1167,[1]EXRATE!C$3:F$43,4,0)","v":1344.8},1882.72,"",131,"",0,0,"","","","","","W","HIE","","",20230926,160849,0.03,35.645000000000003,"CIBM              AI80182","FOTSEL",301,"037DDFD"]
["KR","HSBC",2,0,0,null,"FOTSEL301062DDFD","FOT",{"$f":"VLOOKUP(H1175,[2]SSIFSEP!$H$2:$I$7593,2,0)","v":"매입외환"},"Purchased Foreign Exchange","USD","BNK",2.2000000000000002,0,"1",596,{"$f":"VLOOKUP(K1175,[1]EXRATE!C$3:F$43,4,0)","v":1344.8},8015.0079999999989,"",131,"",0,0,"","","","","","W","HIE","","",20230926,160849,0.27,35.725000000000001,"CIBM              AI80182","FOTSEL",301,"062DDFD"]
["KR","HSBC",2,0,0,null,"FOTSEL301066DDFD","FOT",{"$f":"VLOOKUP(H1176,[2]SSIFSEP!$H$2:$I$7593,2,0)","v":"매입외환"},"Purchased Foreign Exchange","USD","BNK",1.2,0,"1",2269,{"$f":"VLOOKUP(K1176,[1]EXRATE!C$3:F$43,4,0)","v":1344.8},30513.511999999999,"",131,"",0,0,"","","","","","W","HIE","","",20230926,160849,0.16,36.53,"CIBM              AI80182","FOTSEL",301,"066DDFD"]
["KR","HSBC",2,0,0,null,"FOTSEL301100DDFD","FOT",{"$f":"VLOOKUP(H1185,[2]SSIFSEP!$H$2:$I$7593,2,0)","v":"매입외환"},"Purchased Foreign Exchange","USD","BNK",2.1,0,"1",306,{"$f":"VLOOKUP(K1185,[1]EXRATE!C$3:F$43,4,0)","v":1344.8},4115.0879999999997,"",131,"",0,0,"","","","","","W","HIE","","",20230926,160849,7.0000000000000007E-2,35.5,"CIBM              AI80182","FOTSEL",301,"100DDFD"]
["KR","HSBC",2,0,0,null,"FOTSEL301126DDFD","FOT",{"$f":"VLOOKUP(H1195,[2]SSIFSEP!$H$2:$I$7593,2,0)","v":"매입외환"},"Purchased Foreign Exchange","EUR","BNK",2.2000000000000002,0,"1",669,{"$f":"VLOOKUP(K1195,[1]EXRATE!C$3:F$43,4,0)","v":1421.7225599999999},9511.3239264000003,"",129,"",0,0,"","","","","","W","HIE","","",20230926,160849,0.09,22.004999999999999,"CIBM              AI80182","FOTSEL",301,"126DDFD"]
["KR","HSBC",2,0,0,null,"FOTSEL301154DDFD","FOT",{"$f":"VLOOKUP(H1200,[2]SSIFSEP!$H$2:$I$7593,2,0)","v":"매입외환"},"Purchased Foreign Exchange","EUR","BNK",2.2000000000000002,0,"1",30,{"$f":"VLOOKUP(K1200,[1]EXRATE!C$3:F$43,4,0)","v":1421.7225599999999},426.51676800000001,"",129,"",0,0,"","","","","","W","HIE","","",20230926,160849,0.09,21.905000000000001,"CIBM              AI80182","FOTSEL",301,"154DDFD"]
["KR","HSBC",2,0,0,null,"FOTSEL301203DDFD","FOT",{"$f":"VLOOKUP(H1208,[2]SSIFSEP!$H$2:$I$7593,2,0)","v":"매입외환"},"Purchased Foreign Exchange","USD","BNK",2.2000000000000002,0,"1",1522,{"$f":"VLOOKUP(K1208,[1]EXRATE!C$3:F$43,4,0)","v":1344.8},20467.856,"",131,"",0,0,"","","","","","W","HIE","","",20230926,160849,0.27,37.685000000000002,"CIBM              AI80182","FOTSEL",301,"203DDFD"]
["KR","HSBC",2,0,0,null,"FOTSEL301214DDFD","FOT",{"$f":"VLOOKUP(H1210,[2]SSIFSEP!$H$2:$I$7593,2,0)","v":"매입외환"},"Purchased Foreign Exchange","USD","BNK",3.1,0,"1",44644,{"$f":"VLOOKUP(K1210,[1]EXRATE!C$3:F$43,4,0)","v":1344.8},600372.51199999999,"",131,"",0,0,"","","","","","W","HIE","","",20230926,160849,0.89,36.445,"CIBM              AI80182","FOTSEL",301,"214DDFD"]
["KR","HSBC",2,0,0,null,"FOTSEL301243DDFD","FOT",{"$f":"VLOOKUP(H1220,[2]SSIFSEP!$H$2:$I$7593,2,0)","v":"매입외환"},"Purchased Foreign Exchange","USD","BNK",3.3,0,"1",1193,{"$f":"VLOOKUP(K1220,[1]EXRATE!C$3:F$43,4,0)","v":1344.8},16043.464,"",131,"",0,0,"","","","","","W","HIE","","",20230926,160849,0.63,37.265000000000001,"CIBM              AI80182","FOTSEL",301,"243DDFD"]
["KR","HSBC",2,0,0,null,"FOTSEL301262DDFD","FOT",{"$f":"VLOOKUP(H1228,[2]SSIFSEP!$H$2:$I$7593,2,0)","v":"매입외환"},"Purchased Foreign Exchange","USD","BNK",1.1000000000000001,0,"1",3591,{"$f":"VLOOKUP(K1228,[1]EXRATE!C$3:F$43,4,0)","v":1344.8},48291.767999999996,"",131,"",0,0,"","","","","","W","HIE","","",20230926,160849,0.08,36.33,"CIBM              AI80182","FOTSEL",301,"262DDFD"]
["KR","HSBC",2,0,0,null,"FOTSEL301272DDFD","FOT",{"$f":"VLOOKUP(H1236,[2]SSIFSEP!$H$2:$I$7593,2,0)","v":"매입외환"},"Purchased Foreign Exchange","USD","BNK",1.1000000000000001,0,"1",399,{"$f":"VLOOKUP(K1236,[1]EXRATE!C$3:F$43,4,0)","v":1344.8},5365.7519999999995,"",131,"",0,0,"","","","","","W","HIE","","",20230926,160849,0.08,36.335000000000001,"CIBM              AI80182","FOTSEL",301,"272DDFD"]
["KR","HSBC",2,0,0,null,"FOTSEL301279DDFD","FOT",{"$f":"VLOOKUP(H1239,[2]SSIFSEP!$H$2:$I$7593,2,0)","v":"매입외환"},"Purchased Foreign Exchange","USD","GB",2.2000000000000002,0,"1",409,{"$f":"VLOOKUP(K1239,[1]EXRATE!C$3:F$43,4,0)","v":1344.8},5500.232,"",135,"",0,0,"","","","","","W","HIE","","",20230926,160849,0.1,30.074999999999999,"CIBM              AI80182","FOTSEL",301,"279DDFD"]
["KR","HSBC",2,0,0,null,"FOTSEL301318DDFD","FOT",{"$f":"VLOOKUP(H1248,[2]SSIFSEP!$H$2:$I$7593,2,0)","v":"매입외환"},"Purchased Foreign Exchange","USD","BNK",2.1,0,"1",1300,{"$f":"VLOOKUP(K1248,[1]EXRATE!C$3:F$43,4,0)","v":1344.8},17482.400000000001,"",131,"",0,0,"","","","","","W","HIE","","",20230926,160849,7.0000000000000007E-2,35.524999999999999,"CIBM              AI80182","FOTSEL",301,"318DDFD"]
["KR","HSBC",2,0,0,null,"FOTSEL301349DDFD","FOT",{"$f":"VLOOKUP(H1253,[2]SSIFSEP!$H$2:$I$7593,2,0)","v":"매입외환"},"Purchased Foreign Exchange","USD","BNK",2.1,0,"1",156,{"$f":"VLOOKUP(K1253,[1]EXRATE!C$3:F$43,4,0)","v":1344.8},2097.8879999999999,"",131,"",0,0,"","","","","","W","HIE","","",20230926,160849,7.0000000000000007E-2,35.6,"CIBM              AI80182","FOTSEL",301,"349DDFD"]
["KR","HSBC",2,0,0,null,"FOTSEL301365DDFD","FOT",{"$f":"VLOOKUP(H1261,[2]SSIFSEP!$H$2:$I$7593,2,0)","v":"매입외환"},"Purchased Foreign Exchange","USD","BNK",1.1000000000000001,0,"1",4854,{"$f":"VLOOKUP(K1261,[1]EXRATE!C$3:F$43,4,0)","v":1344.8},65276.592000000004,"",131,"",0,0,"","","","","","W","HIE","","",20230926,160849,0.08,36.43,"CIBM              AI80182","FOTSEL",301,"365DDFD"]
["KR","HSBC",2,0,0,null,"FOTSEL301369DDFD","FOT",{"$f":"VLOOKUP(H1264,[2]SSIFSEP!$H$2:$I$7593,2,0)","v":"매입외환"},"Purchased Foreign Exchange","USD","BNK",2.1,0,"1",1191,{"$f":"VLOOKUP(K1264,[1]EXRATE!C$3:F$43,4,0)","v":1344.8},16016.568000000001,"",131,"",0,0,"","","","","","W","HIE","","",20230926,160849,7.0000000000000007E-2,36.325000000000003,"CIBM              AI80182","FOTSEL",301,"369DDFD"]
["KR","HSBC",2,0,0,null,"FOTSEL301388DDFD","FOT",{"$f":"VLOOKUP(H1273,[2]SSIFSEP!$H$2:$I$7593,2,0)","v":"매입외환"},"Purchased Foreign Exchange","USD","GB",2.2000000000000002,0,"1",942,{"$f":"VLOOKUP(K1273,[1]EXRATE!C$3:F$43,4,0)","v":1344.8},12668.015999999998,"",135,"",0,0,"","","","","","W","HIE","","",20230926,160849,0.27,27.995000000000001,"CIBM              AI80182","FOTSEL",301,"388DDFD"]
["KR","HSBC",2,0,0,null,"FOTSEL301414DDFD","FOT",{"$f":"VLOOKUP(H1281,[2]SSIFSEP!$H$2:$I$7593,2,0)","v":"매입외환"},"Purchased Foreign Exchange","USD","BNK",2.2000000000000002,0,"1",3971,{"$f":"VLOOKUP(K1281,[1]EXRATE!C$3:F$43,4,0)","v":1344.8},53402.008000000002,"",131,"",0,0,"","","","","","W","HIE","","",20230926,160849,0.14000000000000001,35.725000000000001,"CIBM              AI80182","FOTSEL",301,"414DDFD"]
["KR","HSBC",2,0,0,null,"FOTSEL301424DDFD","FOT",{"$f":"VLOOKUP(H1286,[2]SSIFSEP!$H$2:$I$7593,2,0)","v":"매입외환"},"Purchased Foreign Exchange","USD","BNK",2.2000000000000002,0,"1",406,{"$f":"VLOOKUP(K1286,[1]EXRATE!C$3:F$43,4,0)","v":1344.8},5459.887999999999,"",131,"",0,0,"","","","","","W","HIE","","",20230926,160849,0.06,37.185000000000002,"CIBM              AI80182","FOTSEL",301,"424DDFD"]
["KR","HSBC",2,0,0,null,"FOTSEL350099DDFD","FOT",{"$f":"VLOOKUP(H1293,[2]SSIFSEP!$H$2:$I$7593,2,0)","v":"매입외환"},"Purchased Foreign Exchange","USD","BNK",2.2000000000000002,0,"1",4425,{"$f":"VLOOKUP(K1293,[1]EXRATE!C$3:F$43,4,0)","v":1344.8},59507.4,"",131,"",0,0,"","","","","","W","HIE","","",20230926,160849,0.06,36.564999999999998,"CIBM              AI80182","FOTSEL",350,"099DDFD"]
["KR","HSBC",2,0,0,null,"FOTSEL350392DDFD","FOT",{"$f":"VLOOKUP(H1301,[2]SSIFSEP!$H$2:$I$7593,2,0)","v":"매입외환"},"Purchased Foreign Exchange","USD","BNK",2.2000000000000002,0,"1",1633,{"$f":"VLOOKUP(K1301,[1]EXRATE!C$3:F$43,4,0)","v":1344.8},21960.583999999999,"",131,"",0,0,"","","","","","W","HIE","","",20230926,160849,0.06,36.284999999999997,"CIBM              AI80182","FOTSEL",350,"392DDFD"]
["KR","HSBC",2,0,0,null,"FOTSEL350602DDFD","FOT",{"$f":"VLOOKUP(H1306,[2]SSIFSEP!$H$2:$I$7593,2,0)","v":"매입외환"},"Purchased Foreign Exchange","USD","BNK",2.2000000000000002,0,"1",2835,{"$f":"VLOOKUP(K1306,[1]EXRATE!C$3:F$43,4,0)","v":1344.8},38125.08,"",131,"",0,0,"","","","","","W","HIE","","",20230926,160849,0.06,36.865000000000002,"CIBM              AI80182","FOTSEL",350,"602DDFD"]
["KR","HSBC",2,0,0,null,"FOTSEL351178DDFD","FOT",{"$f":"VLOOKUP(H1314,[2]SSIFSEP!$H$2:$I$7593,2,0)","v":"매입외환"},"Purchased Foreign Exchange","USD","BNK",2.2000000000000002,0,"1",8309,{"$f":"VLOOKUP(K1314,[1]EXRATE!C$3:F$43,4,0)","v":1344.8},111739.43199999999,"",131,"",0,0,"","","","","","W","HIE","","",20230926,160849,0.06,36.284999999999997,"CIBM              AI80182","FOTSEL",351,"178DDFD"]
["KR","HSBC",2,0,0,null,"FOTSEL351213DDFD","FOT",{"$f":"VLOOKUP(H1318,[2]SSIFSEP!$H$2:$I$7593,2,0)","v":"매입외환"},"Purchased Foreign Exchange","USD","BNK",2.2000000000000002,0,"1",669,{"$f":"VLOOKUP(K1318,[1]EXRATE!C$3:F$43,4,0)","v":1344.8},8996.7119999999995,"",131,"",0,0,"","","","","","W","HIE","","",20230926,160849,0.06,36.284999999999997,"CIBM              AI80182","FOTSEL",351,"213DDFD"]
["KR","HSBC",2,0,0,null,"FOTSEL351395DDFD","FOT",{"$f":"VLOOKUP(H1326,[2]SSIFSEP!$H$2:$I$7593,2,0)","v":"매입외환"},"Purchased Foreign Exchange","USD","BNK",2.1,0,"1",1899,{"$f":"VLOOKUP(K1326,[1]EXRATE!C$3:F$43,4,0)","v":1344.8},25537.751999999997,"",131,"",0,0,"","","","","","W","HIE","","",20230926,160849,0.09,35.255000000000003,"CIBM              AI80182","FOTSEL",351,"395DDFD"]
["KR","HSBC",2,0,0,null,"FOTSEL351508DDFD","FOT",{"$f":"VLOOKUP(H1334,[2]SSIFSEP!$H$2:$I$7593,2,0)","v":"매입외환"},"Purchased Foreign Exchange","USD","BNK",2.1,0,"1",49,{"$f":"VLOOKUP(K1334,[1]EXRATE!C$3:F$43,4,0)","v":1344.8},658.952,"",131,"",0,0,"","","","","","W","HIE","","",20230926,160849,0.14000000000000001,27.085000000000001,"CIBM              AI80182","FOTSEL",351,"508DDFD"]
["KR","HSBC",2,0,0,null,"FOTSEL351736DDFD","FOT",{"$f":"VLOOKUP(H1339,[2]SSIFSEP!$H$2:$I$7593,2,0)","v":"매입외환"},"Purchased Foreign Exchange","USD","BNK",2.2000000000000002,0,"1",98,{"$f":"VLOOKUP(K1339,[1]EXRATE!C$3:F$43,4,0)","v":1344.8},1317.904,"",131,"",0,0,"","","","","","W","HIE","","",20230926,160849,0.06,36.265000000000001,"CIBM              AI80182","FOTSEL",351,"736DDFD"]
["KR","HSBC",2,0,0,null,"FOTSEL351746DDFD","FOT",{"$f":"VLOOKUP(H1347,[2]SSIFSEP!$H$2:$I$7593,2,0)","v":"매입외환"},"Purchased Foreign Exchange","USD","BNK",2.2000000000000002,0,"1",4938,{"$f":"VLOOKUP(K1347,[1]EXRATE!C$3:F$43,4,0)","v":1344.8},66406.223999999987,"",131,"",0,0,"","","","","","W","HIE","","",20230926,160849,0.06,36.375,"CIBM              AI80182","FOTSEL",351,"746DDFD"]
["KR","HSBC",2,0,0,null,"FOTSEL351797DDFD","FOT",{"$f":"VLOOKUP(H1354,[2]SSIFSEP!$H$2:$I$7593,2,0)","v":"매입외환"},"Purchased Foreign Exchange","USD","BNK",2.2000000000000002,0,"1",1272,{"$f":"VLOOKUP(K1354,[1]EXRATE!C$3:F$43,4,0)","v":1344.8},17105.856,"",131,"",0,0,"","","","","","W","HIE","","",20230926,160849,0.09,35.045000000000002,"CIBM              AI80182","FOTSEL",351,"797DDFD"]
["KR","HSBC",2,0,0,null,"FOTSEL351802DDFD","FOT",{"$f":"VLOOKUP(H1359,[2]SSIFSEP!$H$2:$I$7593,2,0)","v":"매입외환"},"Purchased Foreign Exchange","USD","BNK",2.2000000000000002,0,"1",589,{"$f":"VLOOKUP(K1359,[1]EXRATE!C$3:F$43,4,0)","v":1344.8},7920.8719999999994,"",131,"",0,0,"","","","","","W","HIE","","",20230926,160849,0.09,35.045000000000002,"CIBM              AI80182","FOTSEL",351,"802DDFD"]
["KR","HSBC",2,0,0,null,"FOTSEL352176DDFD","FOT",{"$f":"VLOOKUP(H1367,[2]SSIFSEP!$H$2:$I$7593,2,0)","v":"매입외환"},"Purchased Foreign Exchange","USD","BNK",3.2,0,"1",839,{"$f":"VLOOKUP(K1367,[1]EXRATE!C$3:F$43,4,0)","v":1344.8},11282.871999999999,"",131,"",0,0,"","","","","","W","HIE","","",20230926,160849,0.28999999999999998,34.155000000000001,"CIBM              AI80182","FOTSEL",352,"176DDFD"]
["KR","HSBC",2,0,0,null,"FOTSEL352228DDFD","FOT",{"$f":"VLOOKUP(H1376,[2]SSIFSEP!$H$2:$I$7593,2,0)","v":"매입외환"},"Purchased Foreign Exchange","USD","BNK",2.2000000000000002,0,"1",576,{"$f":"VLOOKUP(K1376,[1]EXRATE!C$3:F$43,4,0)","v":1344.8},7746.0479999999989,"",131,"",0,0,"","","","","","W","HIE","","",20230926,160849,0.06,36.19,"CIBM              AI80182","FOTSEL",352,"228DDFD"]
["KR","HSBC",2,0,0,null,"FOTSEL352231DDFD","FOT",{"$f":"VLOOKUP(H1379,[2]SSIFSEP!$H$2:$I$7593,2,0)","v":"매입외환"},"Purchased Foreign Exchange","USD","BNK",2.2000000000000002,0,"1",4117,{"$f":"VLOOKUP(K1379,[1]EXRATE!C$3:F$43,4,0)","v":1344.8},55365.415999999997,"",131,"",0,0,"","","","","","W","HIE","","",20230926,160849,0.06,36.085000000000001,"CIBM              AI80182","FOTSEL",352,"231DDFD"]
["KR","HSBC",2,0,0,null,"FOTSEL352544DDFD","FOT",{"$f":"VLOOKUP(H1387,[2]SSIFSEP!$H$2:$I$7593,2,0)","v":"매입외환"},"Purchased Foreign Exchange","USD","BNK",2.2000000000000002,0,"1",8102,{"$f":"VLOOKUP(K1387,[1]EXRATE!C$3:F$43,4,0)","v":1344.8},108955.696,"",131,"",0,0,"","","","","","W","HIE","","",20230926,160849,0.27,30.114999999999998,"CIBM              AI80182","FOTSEL",352,"544DDFD"]
["KR","HSBC",2,0,0,null,"FOTSEL352672DDFD","FOT",{"$f":"VLOOKUP(H1392,[2]SSIFSEP!$H$2:$I$7593,2,0)","v":"매입외환"},"Purchased Foreign Exchange","USD","BNK",2.1,0,"1",64,{"$f":"VLOOKUP(K1392,[1]EXRATE!C$3:F$43,4,0)","v":1344.8},860.67200000000003,"",131,"",0,0,"","","","","","W","HIE","","",20230926,160849,0.05,35.814999999999998,"CIBM              AI80182","FOTSEL",352,"672DDFD"]
["KR","HSBC",2,0,0,null,"FOTSEL352857DDFD","FOT",{"$f":"VLOOKUP(H1401,[2]SSIFSEP!$H$2:$I$7593,2,0)","v":"매입외환"},"Purchased Foreign Exchange","USD","BNK",3.2,0,"1",6357,{"$f":"VLOOKUP(K1401,[1]EXRATE!C$3:F$43,4,0)","v":1344.8},{"$f":"+P1401*Q1401/100","v":85488.936000000002},"",131,"",0,0,"","","","","","W","HIE","","",20230926,160849,0.28999999999999998,34.64,"CIBM              AI80182","FOTSEL",352,"857DDFD"]
["KR","HSBC",2,0,0,null,"FOTSEL352883DDFD","FOT",{"$f":"VLOOKUP(H1407,[2]SSIFSEP!$H$2:$I$7593,2,0)","v":"매입외환"},"Purchased Foreign Exchange","USD","BNK",2.2000000000000002,0,"1",850,{"$f":"VLOOKUP(K1407,[1]EXRATE!C$3:F$43,4,0)","v":1344.8},11430.8,"",131,"",0,0,"","","","","","W","HIE","","",20230926,160849,0.06,37.085000000000001,"CIBM              AI80182","FOTSEL",352,"883DDFD"]
["KR","HSBC",2,0,0,null,"FOTSEL352914DDFD","FOT",{"$f":"VLOOKUP(H1412,[2]SSIFSEP!$H$2:$I$7593,2,0)","v":"매입외환"},"Purchased Foreign Exchange","USD","BNK",2.2000000000000002,0,"1",67,{"$f":"VLOOKUP(K1412,[1]EXRATE!C$3:F$43,4,0)","v":1344.8},901.01599999999996,"",131,"",0,0,"","","","","","W","HIE","","",20230926,160849,0.09,26.09,"CIBM              AI80182","FOTSEL",352,"914DDFD"]
["KR","HSBC",2,0,0,null,"FOTSEL352953DDFD","FOT",{"$f":"VLOOKUP(H1422,[2]SSIFSEP!$H$2:$I$7593,2,0)","v":"매입외환"},"Purchased Foreign Exchange","USD","BNK",1.2,0,"1",1188,{"$f":"VLOOKUP(K1422,[1]EXRATE!C$3:F$43,4,0)","v":1344.8},15976.223999999998,"",131,"",0,0,"","","","","","W","HIE","","",20230926,160849,0.03,30.074999999999999,"CIBM              AI80182","FOTSEL",352,"953DDFD"]
["KR","HSBC",2,0,0,null,"FOTSEL353013DDFD","FOT",{"$f":"VLOOKUP(H1431,[2]SSIFSEP!$H$2:$I$7593,2,0)","v":"매입외환"},"Purchased Foreign Exchange","USD","BNK",3.3,0,"1",32530,{"$f":"VLOOKUP(K1431,[1]EXRATE!C$3:F$43,4,0)","v":1344.8},437463.44,"",131,"",0,0,"","","","","","W","HIE","","",20230926,160849,0.89,35.234999999999999,"CIBM              AI80182","FOTSEL",353,"013DDFD"]
["KR","HSBC",2,0,0,null,"FOTSEL353014DDFD","FOT",{"$f":"VLOOKUP(H1432,[2]SSIFSEP!$H$2:$I$7593,2,0)","v":"매입외환"},"Purchased Foreign Exchange","USD","BNK",2.2000000000000002,0,"1",1038,{"$f":"VLOOKUP(K1432,[1]EXRATE!C$3:F$43,4,0)","v":1344.8},13959.023999999999,"",131,"",0,0,"","","","","","W","HIE","","",20230926,160849,0.09,35.884999999999998,"CIBM              AI80182","FOTSEL",353,"014DDFD"]
["KR","HSBC",2,0,0,null,"FOTSEL353038DDFD","FOT",{"$f":"VLOOKUP(H1440,[2]SSIFSEP!$H$2:$I$7593,2,0)","v":"매입외환"},"Purchased Foreign Exchange","USD","BNK",2.1,0,"1",69,{"$f":"VLOOKUP(K1440,[1]EXRATE!C$3:F$43,4,0)","v":1344.8},927.91199999999992,"",131,"",0,0,"","","","","","W","HIE","","",20230926,160849,0.11,30.774999999999999,"CIBM              AI80182","FOTSEL",353,"038DDFD"]
["KR","HSBC",2,0,0,null,"FOTSEL353090DDFD","FOT",{"$f":"VLOOKUP(H1451,[2]SSIFSEP!$H$2:$I$7593,2,0)","v":"매입외환"},"Purchased Foreign Exchange","USD","BNK",3.3,0,"1",45086,{"$f":"VLOOKUP(K1451,[1]EXRATE!C$3:F$43,4,0)","v":1344.8},606316.52799999993,"",131,"",0,0,"","","","","","W","HIE","","",20230926,160849,0.89,35.43,"CIBM              AI80182","FOTSEL",353,"090DDFD"]
["KR","HSBC",2,0,0,null,"FOTSEL353098FD","FOT",{"$f":"VLOOKUP(H1452,[2]SSIFSEP!$H$2:$I$7593,2,0)","v":"매입외환"},"Purchased Foreign Exchange","EUR","BNK",2.1,0,"1",179,{"$f":"VLOOKUP(K1452,[1]EXRATE!C$3:F$43,4,0)","v":1421.7225599999999},2544.8833823999998,"",129,"",0,0,"","","","","","W","HIE","","",20230926,160849,7.0000000000000007E-2,23.285,"CIBM              AI80182","FOTSEL",353,"098FD"]
["KR","HSBC",2,0,0,null,"FOTSEL353184DDFD","FOT",{"$f":"VLOOKUP(H1460,[2]SSIFSEP!$H$2:$I$7593,2,0)","v":"매입외환"},"Purchased Foreign Exchange","USD","BNK",1.1000000000000001,0,"1",385,{"$f":"VLOOKUP(K1460,[1]EXRATE!C$3:F$43,4,0)","v":1344.8},5177.4799999999996,"",131,"",0,0,"","","","","","W","HIE","","",20230926,160849,0.08,36.244999999999997,"CIBM              AI80182","FOTSEL",353,"184DDFD"]
["KR","HSBC",2,0,0,null,"FOTSEL353214DDFD","FOT",{"$f":"VLOOKUP(H1472,[2]SSIFSEP!$H$2:$I$7593,2,0)","v":"매입외환"},"Purchased Foreign Exchange","USD","BNK",1.1000000000000001,0,"1",81,{"$f":"VLOOKUP(K1472,[1]EXRATE!C$3:F$43,4,0)","v":1344.8},1089.288,"",131,"",0,0,"","","","","","W","HIE","","",20230926,160849,0.08,36.33,"CIBM              AI80182","FOTSEL",353,"214DDFD"]
["KR","HSBC",2,0,0,null,"FOTSEL353234DDFD","FOT",{"$f":"VLOOKUP(H1476,[2]SSIFSEP!$H$2:$I$7593,2,0)","v":"매입외환"},"Purchased Foreign Exchange","USD","BNK",3.3,0,"1",340,{"$f":"VLOOKUP(K1476,[1]EXRATE!C$3:F$43,4,0)","v":1344.8},4572.32,"",131,"",0,0,"","","","","","W","HIE","","",20230926,160849,0.63,36.56,"CIBM              AI80182","FOTSEL",353,"234DDFD"]
["KR","HSBC",2,0,0,null,"FOTSEL353288DDFD","FOT",{"$f":"VLOOKUP(H1484,[2]SSIFSEP!$H$2:$I$7593,2,0)","v":"매입외환"},"Purchased Foreign Exchange","USD","BNK",3.3,0,"1",12059,{"$f":"VLOOKUP(K1484,[1]EXRATE!C$3:F$43,4,0)","v":1344.8},162169.432,"",131,"",0,0,"","","","","","W","HIE","","",20230926,160849,0.89,35.335000000000001,"CIBM              AI80182","FOTSEL",353,"288DDFD"]
["KR","HSBC",2,0,0,null,"FOTSEL353328DDFD","FOT",{"$f":"VLOOKUP(H1492,[2]SSIFSEP!$H$2:$I$7593,2,0)","v":"매입외환"},"Purchased Foreign Exchange","USD","BNK",2.2000000000000002,0,"1",138,{"$f":"VLOOKUP(K1492,[1]EXRATE!C$3:F$43,4,0)","v":1344.8},1855.8239999999998,"",131,"",0,0,"","","","","","W","HIE","","",20230926,160849,0.09,26.28,"CIBM              AI80182","FOTSEL",353,"328DDFD"]
["KR","HSBC",2,0,0,null,"FOTSEL353329DDFD","FOT",{"$f":"VLOOKUP(H1493,[2]SSIFSEP!$H$2:$I$7593,2,0)","v":"매입외환"},"Purchased Foreign Exchange","USD","BNK",2.2000000000000002,0,"1",112,{"$f":"VLOOKUP(K1493,[1]EXRATE!C$3:F$43,4,0)","v":1344.8},1506.1760000000002,"",131,"",0,0,"","","","","","W","HIE","","",20230926,160849,0.09,26.28,"CIBM              AI80182","FOTSEL",353,"329DDFD"]
["KR","HSBC",2,0,0,null,"FOTSEL353358DDFD","FOT",{"$f":"VLOOKUP(H1505,[2]SSIFSEP!$H$2:$I$7593,2,0)","v":"매입외환"},"Purchased Foreign Exchange","USD","BNK",2.1,0,"1",1346,{"$f":"VLOOKUP(K1505,[1]EXRATE!C$3:F$43,4,0)","v":1344.8},18101.008000000002,"",131,"",0,0,"","","","","","W","HIE","","",20230926,160849,0.14000000000000001,27.995000000000001,"CIBM              AI80182","FOTSEL",353,"358DDFD"]
["KR","HSBC",2,0,0,null,"FOTSEL353407DDFD","FOT",{"$f":"VLOOKUP(H1512,[2]SSIFSEP!$H$2:$I$7593,2,0)","v":"매입외환"},"Purchased Foreign Exchange","USD","BNK",2.2000000000000002,0,"1",1796,{"$f":"VLOOKUP(K1512,[1]EXRATE!C$3:F$43,4,0)","v":1344.8},24152.607999999997,"",131,"",0,0,"","","","","","W","HIE","","",20230926,160849,0.09,36.08,"CIBM              AI80182","FOTSEL",353,"407DDFD"]
["KR","HSBC",2,0,0,null,"FOTSEL353429DDFD","FOT",{"$f":"VLOOKUP(H1517,[2]SSIFSEP!$H$2:$I$7593,2,0)","v":"매입외환"},"Purchased Foreign Exchange","USD","BNK",2.1,0,"1",398,{"$f":"VLOOKUP(K1517,[1]EXRATE!C$3:F$43,4,0)","v":1344.8},5352.3040000000001,"",131,"",0,0,"","","","","","W","HIE","","",20230926,160849,7.0000000000000007E-2,36.024999999999999,"CIBM              AI80182","FOTSEL",353,"429DDFD"]
["KR","HSBC",2,0,0,null,"FOTSEL353469DDFD","FOT",{"$f":"VLOOKUP(H1525,[2]SSIFSEP!$H$2:$I$7593,2,0)","v":"매입외환"},"Purchased Foreign Exchange","USD","BNK",2.1,0,"1",607,{"$f":"VLOOKUP(K1525,[1]EXRATE!C$3:F$43,4,0)","v":1344.8},8162.9359999999997,"",131,"",0,0,"","","","","","W","HIE","","",20230926,160849,0.05,35.82,"CIBM              AI80182","FOTSEL",353,"469DDFD"]
["KR","HSBC",2,0,0,null,"FOTSEL353505DDFD","FOT",{"$f":"VLOOKUP(H1530,[2]SSIFSEP!$H$2:$I$7593,2,0)","v":"매입외환"},"Purchased Foreign Exchange","USD","BNK",2.2000000000000002,0,"1",87,{"$f":"VLOOKUP(K1530,[1]EXRATE!C$3:F$43,4,0)","v":1344.8},1169.9759999999999,"",131,"",0,0,"","","","","","W","HIE","","",20230926,160849,0.06,38.26,"CIBM              AI80182","FOTSEL",353,"505DDFD"]
["KR","HSBC",2,0,0,null,"FOTSEL353550DDFD","FOT",{"$f":"VLOOKUP(H1537,[2]SSIFSEP!$H$2:$I$7593,2,0)","v":"매입외환"},"Purchased Foreign Exchange","USD","BNK",2.2000000000000002,0,"1",1582,{"$f":"VLOOKUP(K1537,[1]EXRATE!C$3:F$43,4,0)","v":1344.8},21274.736000000001,"",131,"",0,0,"","","","","","W","HIE","","",20230926,160849,0.06,37.375,"CIBM              AI80182","FOTSEL",353,"550DDFD"]
["KR","HSBC",2,0,0,null,"FOTSEL353587DDFD","FOT",{"$f":"VLOOKUP(H1545,[2]SSIFSEP!$H$2:$I$7593,2,0)","v":"매입외환"},"Purchased Foreign Exchange","USD","BNK",2.2000000000000002,0,"1",3640,{"$f":"VLOOKUP(K1545,[1]EXRATE!C$3:F$43,4,0)","v":1344.8},48950.720000000001,"",131,"",0,0,"","","","","","W","HIE","","",20230926,160849,0.09,36.094999999999999,"CIBM              AI80182","FOTSEL",353,"587DDFD"]
["KR","HSBC",2,0,0,null,"FOTSEL353633DDFD","FOT",{"$f":"VLOOKUP(H1553,[2]SSIFSEP!$H$2:$I$7593,2,0)","v":"매입외환"},"Purchased Foreign Exchange","USD","BNK",2.2000000000000002,0,"1",920,{"$f":"VLOOKUP(K1553,[1]EXRATE!C$3:F$43,4,0)","v":1344.8},12372.16,"",131,"",0,0,"","","","","","W","HIE","","",20230926,160849,0.09,36.094999999999999,"CIBM              AI80182","FOTSEL",353,"633DDFD"]
["KR","HSBC",2,0,0,null,"FOTSEL353667DDFD","FOT",{"$f":"VLOOKUP(H1559,[2]SSIFSEP!$H$2:$I$7593,2,0)","v":"매입외환"},"Purchased Foreign Exchange","USD","BNK",1.1000000000000001,0,"1",1182,{"$f":"VLOOKUP(K1559,[1]EXRATE!C$3:F$43,4,0)","v":1344.8},15895.535999999998,"",131,"",0,0,"","","","","","W","HIE","","",20230926,160849,0.08,36.435000000000002,"CIBM              AI80182","FOTSEL",353,"667DDFD"]
["KR","HSBC",2,0,0,null,"FOTSEL353675DDFD","FOT",{"$f":"VLOOKUP(H1565,[2]SSIFSEP!$H$2:$I$7593,2,0)","v":"매입외환"},"Purchased Foreign Exchange","USD","BNK",1.2,0,"1",134,{"$f":"VLOOKUP(K1565,[1]EXRATE!C$3:F$43,4,0)","v":1344.8},1802.0319999999999,"",131,"",0,0,"","","","","","W","HIE","","",20230926,160849,0.14000000000000001,30.734999999999999,"CIBM              AI80182","FOTSEL",353,"675DDFD"]
["KR","HSBC",2,0,0,null,"FOTSEL353704DDFD","UCD",{"$f":"VLOOKUP(H1570,[2]SSIFSEP!$H$2:$I$7593,2,0)","v":"미사용약정"},"Unused Credit Line","USD","BNK",2.2000000000000002,0,"1",0,{"$f":"VLOOKUP(K1570,[1]EXRATE!C$3:F$43,4,0)","v":1344.8},0,"",142,"",0,0,"","","","","","W","HIE","","",20230926,160849,0.09,26.29,"CIBM              AI80182","FOTSEL",353,"704DDFD"]
["KR","HSBC",2,0,0,null,"FOTSEL353711DDFD","FOT",{"$f":"VLOOKUP(H1578,[2]SSIFSEP!$H$2:$I$7593,2,0)","v":"매입외환"},"Purchased Foreign Exchange","EUR","BNK",2.1,0,"1",377,{"$f":"VLOOKUP(K1578,[1]EXRATE!C$3:F$43,4,0)","v":1421.7225599999999},5359.8940511999999,"",129,"",0,0,"","","","","","W","HIE","","",20230926,160849,7.0000000000000007E-2,23.875,"CIBM              AI80182","FOTSEL",353,"711DDFD"]
["KR","HSBC",2,0,0,null,"FOTSEL353717DDFD","FOT",{"$f":"VLOOKUP(H1584,[2]SSIFSEP!$H$2:$I$7593,2,0)","v":"매입외환"},"Purchased Foreign Exchange","USD","BNK",3.3,0,"1",3101,{"$f":"VLOOKUP(K1584,[1]EXRATE!C$3:F$43,4,0)","v":1344.8},41702.248,"",131,"",0,0,"","","","","","W","HIE","","",20230926,160849,0.63,37.545000000000002,"CIBM              AI80182","FOTSEL",353,"717DDFD"]
["KR","HSBC",2,0,0,null,"FOTSEL353746DDFD","FOT",{"$f":"VLOOKUP(H1590,[2]SSIFSEP!$H$2:$I$7593,2,0)","v":"매입외환"},"Purchased Foreign Exchange","USD","BNK",1.2,0,"1",69,{"$f":"VLOOKUP(K1590,[1]EXRATE!C$3:F$43,4,0)","v":1344.8},927.91199999999992,"",131,"",0,0,"","","","","","W","HIE","","",20230926,160849,0.14000000000000001,30.734999999999999,"CIBM              AI80182","FOTSEL",353,"746DDFD"]
["KR","HSBC",2,0,0,null,"FOTSEL353755DDFD","FOT",{"$f":"VLOOKUP(H1598,[2]SSIFSEP!$H$2:$I$7593,2,0)","v":"매입외환"},"Purchased Foreign Exchange","USD","BNK",1.1000000000000001,0,"1",4360,{"$f":"VLOOKUP(K1598,[1]EXRATE!C$3:F$43,4,0)","v":1344.8},58633.279999999999,"",131,"",0,0,"","","","","","W","HIE","","",20230926,160849,0.08,36.145000000000003,"CIBM              AI80182","FOTSEL",353,"755DDFD"]
["KR","HSBC",2,0,0,null,"FOTSEL353806DDFD","FOT",{"$f":"VLOOKUP(H1606,[2]SSIFSEP!$H$2:$I$7593,2,0)","v":"매입외환"},"Purchased Foreign Exchange","USD","BNK",3.3,0,"1",4063,{"$f":"VLOOKUP(K1606,[1]EXRATE!C$3:F$43,4,0)","v":1344.8},54639.223999999995,"",131,"",0,0,"","","","","","W","HIE","","",20230926,160849,0.63,37.545000000000002,"CIBM              AI80182","FOTSEL",353,"806DDFD"]
["KR","HSBC",2,0,0,null,"FOTSEL353822DDFD","FOT",{"$f":"VLOOKUP(H1613,[2]SSIFSEP!$H$2:$I$7593,2,0)","v":"매입외환"},"Purchased Foreign Exchange","USD","GB",2.2000000000000002,0,"1",98,{"$f":"VLOOKUP(K1613,[1]EXRATE!C$3:F$43,4,0)","v":1344.8},1317.904,"",135,"",0,0,"","","","","","W","HIE","","",20230926,160849,0.27,29.9,"CIBM              AI80182","FOTSEL",353,"822DDFD"]
["KR","HSBC",2,0,0,null,"FOTSEL353830DDFD","FOT",{"$f":"VLOOKUP(H1618,[2]SSIFSEP!$H$2:$I$7593,2,0)","v":"매입외환"},"Purchased Foreign Exchange","USD","BNK",3.1,0,"1",983,{"$f":"VLOOKUP(K1618,[1]EXRATE!C$3:F$43,4,0)","v":1344.8},13219.383999999998,"",131,"",0,0,"","","","","","W","HIE","","",20230926,160849,0.36,28.53,"CIBM              AI80182","FOTSEL",353,"830DDFD"]
["KR","HSBC",2,0,0,null,"FOTSEL353843DDFD","FOT",{"$f":"VLOOKUP(H1623,[2]SSIFSEP!$H$2:$I$7593,2,0)","v":"매입외환"},"Purchased Foreign Exchange","USD","BNK",2.2000000000000002,0,"1",161,{"$f":"VLOOKUP(K1623,[1]EXRATE!C$3:F$43,4,0)","v":1344.8},2165.1279999999997,"",131,"",0,0,"","","","","","W","HIE","","",20230926,160849,0.09,26.38,"CIBM              AI80182","FOTSEL",353,"843DDFD"]
["KR","HSBC",2,0,0,null,"FOTSEL353857DDFD","FOT",{"$f":"VLOOKUP(H1631,[2]SSIFSEP!$H$2:$I$7593,2,0)","v":"매입외환"},"Purchased Foreign Exchange","USD","BNK",2.1,0,"1",383,{"$f":"VLOOKUP(K1631,[1]EXRATE!C$3:F$43,4,0)","v":1344.8},5150.5839999999998,"",131,"",0,0,"","","","","","W","HIE","","",20230926,160849,7.0000000000000007E-2,32.505000000000003,"CIBM              AI80182","FOTSEL",353,"857DDFD"]
["KR","HSBC",2,0,0,null,"FOTSEL353884DDFD","FOT",{"$f":"VLOOKUP(H1638,[2]SSIFSEP!$H$2:$I$7593,2,0)","v":"매입외환"},"Purchased Foreign Exchange","USD","BNK",2.2000000000000002,0,"1",238,{"$f":"VLOOKUP(K1638,[1]EXRATE!C$3:F$43,4,0)","v":1344.8},3200.6239999999998,"",131,"",0,0,"","","","","","W","HIE","","",20230926,160849,0.09,26.38,"CIBM              AI80182","FOTSEL",353,"884DDFD"]
["KR","HSBC",2,0,0,null,"FOTSEL353894DDFD","FOT",{"$f":"VLOOKUP(H1643,[2]SSIFSEP!$H$2:$I$7593,2,0)","v":"매입외환"},"Purchased Foreign Exchange","USD","BNK",2.1,0,"1",172,{"$f":"VLOOKUP(K1643,[1]EXRATE!C$3:F$43,4,0)","v":1344.8},2313.056,"",131,"",0,0,"","","","","","W","HIE","","",20230926,160849,7.0000000000000007E-2,36.42,"CIBM              AI80182","FOTSEL",353,"894DDFD"]
["KR","HSBC",2,0,0,null,"FOTSEL353921DDFD","FOT",{"$f":"VLOOKUP(H1651,[2]SSIFSEP!$H$2:$I$7593,2,0)","v":"매입외환"},"Purchased Foreign Exchange","USD","BNK",3.2,0,"1",5905,{"$f":"VLOOKUP(K1651,[1]EXRATE!C$3:F$43,4,0)","v":1344.8},79410.44,"",131,"",0,0,"","","","","","W","HIE","","",20230926,160849,0.28999999999999998,34.85,"CIBM              AI80182","FOTSEL",353,"921DDFD"]
["KR","HSBC",2,0,0,null,"FOTSEL353936FD","FOT",{"$f":"VLOOKUP(H1656,[2]SSIFSEP!$H$2:$I$7593,2,0)","v":"매입외환"},"Purchased Foreign Exchange","USD","BNK",2.1,0,"1",14106,{"$f":"VLOOKUP(K1656,[1]EXRATE!C$3:F$43,4,0)","v":1344.8},189697.48800000001,"",131,"",0,0,"","","","","","W","HIE","","",20230926,160849,7.0000000000000007E-2,35.909999999999997,"CIBM              AI80182","FOTSEL",353,"936FD"]
["KR","HSBC",2,0,0,null,"FOTSEL353986FD","FOT",{"$f":"VLOOKUP(H1667,[2]SSIFSEP!$H$2:$I$7593,2,0)","v":"매입외환"},"Purchased Foreign Exchange","EUR","BNK",2.1,0,"1",4342,{"$f":"VLOOKUP(K1667,[1]EXRATE!C$3:F$43,4,0)","v":1421.7225599999999},61731.1935552,"",129,"",0,0,"","","","","","W","HIE","","",20230926,160849,0.09,23.684999999999999,"CIBM              AI80182","FOTSEL",353,"986FD"]
["KR","HSBC",2,0,0,null,"FOTSEL354011DDFD","FOT",{"$f":"VLOOKUP(H1671,[2]SSIFSEP!$H$2:$I$7593,2,0)","v":"매입외환"},"Purchased Foreign Exchange","USD","BNK",2.2000000000000002,0,"1",421,{"$f":"VLOOKUP(K1671,[1]EXRATE!C$3:F$43,4,0)","v":1344.8},5661.6079999999993,"",131,"",0,0,"","","","","","W","HIE","","",20230926,160849,0.06,38.484999999999999,"CIBM              AI80182","FOTSEL",354,"011DDFD"]
["KR","HSBC",2,0,0,null,"FOTSEL354065FD","FOT",{"$f":"VLOOKUP(H1676,[2]SSIFSEP!$H$2:$I$7593,2,0)","v":"매입외환"},"Purchased Foreign Exchange","EUR","BNK",2.1,0,"1",97,{"$f":"VLOOKUP(K1676,[1]EXRATE!C$3:F$43,4,0)","v":1421.7225599999999},1379.0708831999998,"",129,"",0,0,"","","","","","W","HIE","","",20230926,160849,0.09,23.69,"CIBM              AI80182","FOTSEL",354,"065FD"]
["KR","HSBC",2,0,0,null,"FOTSEL354147DDFD","FOT",{"$f":"VLOOKUP(H1684,[2]SSIFSEP!$H$2:$I$7593,2,0)","v":"매입외환"},"Purchased Foreign Exchange","USD","BNK",2.2000000000000002,0,"1",6831,{"$f":"VLOOKUP(K1684,[1]EXRATE!C$3:F$43,4,0)","v":1344.8},91863.287999999986,"",131,"",0,0,"","","","","","W","HIE","","",20230926,160849,0.09,36.17,"CIBM              AI80182","FOTSEL",354,"147DDFD"]
["KR","HSBC",2,0,0,null,"FOTSEL354191DDFD","FOT",{"$f":"VLOOKUP(H1692,[2]SSIFSEP!$H$2:$I$7593,2,0)","v":"매입외환"},"Purchased Foreign Exchange","USD","BNK",1.1000000000000001,0,"1",5549,{"$f":"VLOOKUP(K1692,[1]EXRATE!C$3:F$43,4,0)","v":1344.8},74622.952000000005,"",131,"",0,0,"","","","","","W","HIE","","",20230926,160849,0.08,35.945,"CIBM              AI80182","FOTSEL",354,"191DDFD"]
["KR","HSBC",2,0,0,null,"FOTSEL354221DDFD","UCD",{"$f":"VLOOKUP(H1696,[2]SSIFSEP!$H$2:$I$7593,2,0)","v":"미사용약정"},"Unused Credit Line","USD","C13",3.3,0,"1",176,{"$f":"VLOOKUP(K1696,[1]EXRATE!C$3:F$43,4,0)","v":1344.8},2366.848,"",287,"",0,0,"","","","","","W","HIE","","",20230926,160849,0.14000000000000001,53.774999999999999,"CIBM              MG30100","FOTSEL",354,"221DDFD"]
["KR","HSBC",2,0,0,null,"FOTSEL354227DDFD","FOT",{"$f":"VLOOKUP(H1704,[2]SSIFSEP!$H$2:$I$7593,2,0)","v":"매입외환"},"Purchased Foreign Exchange","USD","GB",2.2000000000000002,0,"1",84,{"$f":"VLOOKUP(K1704,[1]EXRATE!C$3:F$43,4,0)","v":1344.8},1129.6320000000001,"",135,"",0,0,"","","","","","W","HIE","","",20230926,160849,0.06,37.185000000000002,"CIBM              AI80182","FOTSEL",354,"227DDFD"]
["KR","HSBC",2,0,0,null,"FOTSEL354254DDFD","UCD",{"$f":"VLOOKUP(H1709,[2]SSIFSEP!$H$2:$I$7593,2,0)","v":"미사용약정"},"Unused Credit Line","USD","C13",3.3,0,"1",176,{"$f":"VLOOKUP(K1709,[1]EXRATE!C$3:F$43,4,0)","v":1344.8},2366.848,"",287,"",0,0,"","","","","","W","HIE","","",20230926,160849,0.14000000000000001,53.774999999999999,"CIBM              MG30100","FOTSEL",354,"254DDFD"]
["KR","HSBC",2,0,0,null,"FOTSEL354297DDFD","FOT",{"$f":"VLOOKUP(H1721,[2]SSIFSEP!$H$2:$I$7593,2,0)","v":"매입외환"},"Purchased Foreign Exchange","USD","GB",2.2000000000000002,0,"1",6575,{"$f":"VLOOKUP(K1721,[1]EXRATE!C$3:F$43,4,0)","v":1344.8},88420.6,"",135,"",0,0,"","","","","","W","HIE","","",20230926,160849,0.1,30.175000000000001,"CIBM              AI80182","FOTSEL",354,"297DDFD"]
["KR","HSBC",2,0,0,null,"FOTSEL354359DDFD","FOT",{"$f":"VLOOKUP(H1724,[2]SSIFSEP!$H$2:$I$7593,2,0)","v":"매입외환"},"Purchased Foreign Exchange","USD","BNK",3.3,0,"1",4235,{"$f":"VLOOKUP(K1724,[1]EXRATE!C$3:F$43,4,0)","v":1344.8},56952.28,"",131,"",0,0,"","","","","","W","HIE","","",20230926,160849,0.63,36.854999999999997,"CIBM              AI80182","FOTSEL",354,"359DDFD"]
["KR","HSBC",2,0,0,null,"FOTSEL354373DDFD","FOT",{"$f":"VLOOKUP(H1729,[2]SSIFSEP!$H$2:$I$7593,2,0)","v":"매입외환"},"Purchased Foreign Exchange","EUR","BNK",3.1,0,"1",460,{"$f":"VLOOKUP(K1729,[1]EXRATE!C$3:F$43,4,0)","v":1421.7225599999999},6539.9237759999996,"",129,"",0,0,"","","","","","W","HIE","","",20230926,160849,0.16,22.605,"CIBM              AI80182","FOTSEL",354,"373DDFD"]
["KR","HSBC",2,0,0,null,"KR110020004790908280317","UCD",{"$f":"VLOOKUP(H1737,[2]SSIFSEP!$H$2:$I$7593,2,0)","v":"미사용약정"},"Unused Credit Line","USD","C13",3.1,0,"1",33,{"$f":"VLOOKUP(K1737,[1]EXRATE!C$3:F$43,4,0)","v":1344.8},443.78399999999999,"",287,"",0,0,"","","","","","W","HUB","","",20230926,160848,0.04,40.854999999999997,"CIBM              MG30100","KR1100",200,4790908280317]
["KR","HSBC",2,0,0,null,"KR110020039860708230614","UCD",{"$f":"VLOOKUP(H1744,[2]SSIFSEP!$H$2:$I$7593,2,0)","v":"미사용약정"},"Unused Credit Line","USD","C13",2.2000000000000002,0,"1",972,{"$f":"VLOOKUP(K1744,[1]EXRATE!C$3:F$43,4,0)","v":1344.8},13071.455999999998,"",287,"",0,0,"","","","","","W","HUB","","",20230926,160848,0.02,40.854999999999997,"CIBM              MG30100","KR1100",200,39860708230614]
["KR","HSBC",2,0,0,null,"KR110020074412204040402","UCD",{"$f":"VLOOKUP(H1749,[2]SSIFSEP!$H$2:$I$7593,2,0)","v":"미사용약정"},"Unused Credit Line","USD","C13",2.2000000000000002,0,"1",1223,{"$f":"VLOOKUP(K1749,[1]EXRATE!C$3:F$43,4,0)","v":1344.8},{"$f":"+P1749*Q1749/100","v":16446.903999999999},"",287,"",0,0,"","","","","","W","HUB","","",20230926,160848,0.02,40.854999999999997,"CIBM              MG30100","KR1100",200,74412204040402]
["KR","HSBC",2,0,0,null,"KR110020092801508240303","UCD",{"$f":"VLOOKUP(H1757,[2]SSIFSEP!$H$2:$I$7593,2,0)","v":"미사용약정"},"Unused Credit Line","KRW","C13",3.2,0,"1",2914940,{"$f":"VLOOKUP(K1757,[1]EXRATE!C$3:F$43,4,0)","v":1},2914940,"",283,"",0,0,"","","","","","W","HUB","","",20230926,160848,0.09,40.854999999999997,"CIBM              MG30100","KR1100",200,92801508240303]
["KR","HSBC",2,0,0,null,"KR110020121441012140805","UCD",{"$f":"VLOOKUP(H1769,[2]SSIFSEP!$H$2:$I$7593,2,0)","v":"미사용약정"},"Unused Credit Line","USD","C13",4.0999999999999996,0,"2A",36185,{"$f":"VLOOKUP(K1769,[1]EXRATE!C$3:F$43,4,0)","v":1344.8},486615.88,"",288,"",0,0,"","","","","","W","HUB","","",20230926,160848,0.24,40.854999999999997,"CIBM              MG30100","KR1100",201,21441012140805]
["KR","HSBC",2,0,0,null,"KR110020321590609050108","UCD",{"$f":"VLOOKUP(H1775,[2]SSIFSEP!$H$2:$I$7593,2,0)","v":"미사용약정"},"Unused Credit Line","KRW","C13",1.2,0,"1",2,{"$f":"VLOOKUP(K1775,[1]EXRATE!C$3:F$43,4,0)","v":1},{"$f":"+P1775*Q1775","v":2},"",283,"",0,0,"","","","","","W","HUB","","",20230926,160848,0.01,40.854999999999997,"CIBM              MG30100","KR1100",203,21590609050108]
["KR","HSBC",2,0,0,null,"KR110020391540504070203","UCD",{"$f":"VLOOKUP(H1777,[2]SSIFSEP!$H$2:$I$7593,2,0)","v":"미사용약정"},"Unused Credit Line","USD","C13",4.2,0,"2A",15325,{"$f":"VLOOKUP(K1777,[1]EXRATE!C$3:F$43,4,0)","v":1344.8},{"$f":"+P1777*Q1777/100","v":206090.6},"",288,"",0,0,"","","","","","W","HUB","","",20230926,160848,0.22,40.854999999999997,"CIBM              MG30100","KR1100",203,91540504070203]
["KR","HSBC",2,0,0,null,"KR110021399211304090102","UCD",{"$f":"VLOOKUP(H1789,[2]SSIFSEP!$H$2:$I$7593,2,0)","v":"미사용약정"},"Unused Credit Line","KRW","C13",4.0999999999999996,0,"1",24169,{"$f":"VLOOKUP(K1789,[1]EXRATE!C$3:F$43,4,0)","v":1},{"$f":"+P1789*Q1789","v":24169},"",283,"",0,0,"","","","","","W","HUB","","",20230926,160848,0.17,40.854999999999997,"CIBM              MG30100","KR1100",213,99211304090102]
["KR","HSBC",2,0,0,null,"KR110021482521310220101","UCD",{"$f":"VLOOKUP(H1790,[2]SSIFSEP!$H$2:$I$7593,2,0)","v":"미사용약정"},"Unused Credit Line","KRW","C13",1.2,0,"1",15,{"$f":"VLOOKUP(K1790,[1]EXRATE!C$3:F$43,4,0)","v":1},{"$f":"+P1790*Q1790","v":15},"",283,"",0,0,"","","","","","W","HUB","","",20230926,160848,0.01,40.854999999999997,"CIBM              MG30100","KR1100",214,82521310220101]
["KR","HSBC",2,0,0,null,"KR110023844102006240101","UCD",{"$f":"VLOOKUP(H1798,[2]SSIFSEP!$H$2:$I$7593,2,0)","v":"미사용약정"},"Unused Credit Line","KRW","MFS",5.2,0,"1",112,{"$f":"VLOOKUP(K1798,[1]EXRATE!C$3:F$43,4,0)","v":1},{"$f":"+P1798*Q1798","v":112},"",297,"",0,0,"","","","","","W","HUB","","",20230926,160848,0.33,40.854999999999997,"CIBM              MG30100","KR1100",238,44102006240101]
["KR","HSBC",2,0,0,null,"KR110027018520603060101","UCD",{"$f":"VLOOKUP(H1809,[2]SSIFSEP!$H$2:$I$7593,2,0)","v":"미사용약정"},"Unused Credit Line","KRW","C13",2.2000000000000002,0,"2J",88,{"$f":"VLOOKUP(K1809,[1]EXRATE!C$3:F$43,4,0)","v":1},{"$f":"+P1809*Q1809","v":88},"",285,"",0,0,"","","","","","W","HUB","","",20230926,160848,0.02,40.854999999999997,"CIBM              MG30100","KR1100",270,18520603060101]
["KR","HSBC",2,0,0,null,"KR110027028920909080105","UCD",{"$f":"VLOOKUP(H1810,[2]SSIFSEP!$H$2:$I$7593,2,0)","v":"미사용약정"},"Unused Credit Line","KRW","MFS",1.2,0,"1",13772,{"$f":"VLOOKUP(K1810,[1]EXRATE!C$3:F$43,4,0)","v":1},{"$f":"+P1810*Q1810","v":13772},"",297,"",0,0,"","","","","","W","HUB","","",20230926,160848,0.01,40.854999999999997,"CIBM              MG30100","KR1100",270,28920909080105]
["KR","HSBC",2,0,0,null,"KRHSBC001007061413","BLK",{"$f":"VLOOKUP(H1822,[2]SSIFSEP!$H$2:$I$7593,2,0)","v":"BLK"},"BLK","KRW","PRS",0,0,"1",4804,{"$f":"VLOOKUP(K1822,[1]EXRATE!C$3:F$43,4,0)","v":1},4804,"N",83,"",0.11269999999999999,0,"","","","","","R","CRDC","","",20230926,160849,0.25,0,"PFS               AI80160   9998","KRHSBC",1,7061413]
["KR","HSBC",2,0,0,null,"KRHSBC001025659413","BLK",{"$f":"VLOOKUP(H1829,[2]SSIFSEP!$H$2:$I$7593,2,0)","v":"BLK"},"BLK","KRW","PRS",0,0,"1",460,{"$f":"VLOOKUP(K1829,[1]EXRATE!C$3:F$43,4,0)","v":1},460,"N",83,"",0.11559999999999999,0,"","","","","","R","CRDC","","",20230926,160849,0.25,0,"PFS               AI80160   9998","KRHSBC",1,25659413]
["KR","HSBC",2,0,0,null,"KRHSBC001031186413","BLK",{"$f":"VLOOKUP(H1830,[2]SSIFSEP!$H$2:$I$7593,2,0)","v":"BLK"},"BLK","KRW","PRS",0,0,"1",2870,{"$f":"VLOOKUP(K1830,[1]EXRATE!C$3:F$43,4,0)","v":1},2870,"N",83,"",7.17E-2,0,"","","","","","R","CRDC","","",20230926,160849,0.25,0,"PFS               AI80160   9998","KRHSBC",1,31186413]
["KR","HSBC",2,0,0,null,"KRHSBC001045681413","BLK",{"$f":"VLOOKUP(H1842,[2]SSIFSEP!$H$2:$I$7593,2,0)","v":"BLK"},"BLK","KRW","PRS",0,0,"1",3962,{"$f":"VLOOKUP(K1842,[1]EXRATE!C$3:F$43,4,0)","v":1},3962,"N",83,"",0.1333,0,"","","","","","R","CRDC","","",20230926,160849,0.25,0,"PFS               AI80160   9998","KRHSBC",1,45681413]
["KR","HSBC",2,0,0,null,"KRHSBC001054766882","BLK",{"$f":"VLOOKUP(H1844,[2]SSIFSEP!$H$2:$I$7593,2,0)","v":"BLK"},"BLK","KRW","PRS",0,0,"1",22144,{"$f":"VLOOKUP(K1844,[1]EXRATE!C$3:F$43,4,0)","v":1},22144,"N",83,"",8.6499999999999994E-2,0,"","","","","","R","CRDC","","",20230926,160849,0.25,0,"PFS               AI80160   9998","KRHSBC",1,54766882]
["KR","HSBC",2,0,0,null,"KRHSBC001201276882","BLK",{"$f":"VLOOKUP(H1854,[2]SSIFSEP!$H$2:$I$7593,2,0)","v":"BLK"},"BLK","KRW","PRS",0,0,"1",36258,{"$f":"VLOOKUP(K1854,[1]EXRATE!C$3:F$43,4,0)","v":1},36258,"N",83,"",0.19850000000000001,0,"","","","","","R","CRDC","","",20230926,160849,0.25,0,"PFS               AI80160   9998","KRHSBC",1,201276882]
["KR","HSBC",2,0,0,null,"KRHSBC002002293414","BLK",{"$f":"VLOOKUP(H1862,[2]SSIFSEP!$H$2:$I$7593,2,0)","v":"BLK"},"BLK","KRW","PRS",0,0,"1",1489,{"$f":"VLOOKUP(K1862,[1]EXRATE!C$3:F$43,4,0)","v":1},{"$f":"+P1862*Q1862","v":1489},"N",83,"",4.6399999999999997E-2,0,"","","","","","R","CRDC","","",20230926,160849,0.25,0,"PFS               AI80160   9998","KRHSBC",2,2293414]
["KR","HSBC",2,0,0,null,"KRHSBC002008316HSBCNLNL01","UCD",{"$f":"VLOOKUP(H1870,[2]SSIFSEP!$H$2:$I$7593,2,0)","v":"미사용약정"},"Unused Credit Line","KRW","C13",1.1000000000000001,0,"1",1312,{"$f":"VLOOKUP(K1870,[1]EXRATE!C$3:F$43,4,0)","v":1},1312,"",283,"",0,0,"","","","","","W","HUB","","",20230926,160848,0.01,40.854999999999997,"CIBM              MG30100","KRHSBC",2,"008316HSBCNLNL01"]
["KR","HSBC",2,0,0,null,"KRHSBC002008985HSBCNO/D01","UCD",{"$f":"VLOOKUP(H1873,[2]SSIFSEP!$H$2:$I$7593,2,0)","v":"미사용약정"},"Unused Credit Line","KRW","C13",1.2,0,"1",13835,{"$f":"VLOOKUP(K1873,[1]EXRATE!C$3:F$43,4,0)","v":1},13835,"",283,"",0.45219999999999999,0,"","","","","","W","HUB","","",20230926,160848,0.01,18.204999999999998,"CIBM              MG30100","KRHSBC",2,"008985HSBCNO/D01"]
["KR","HSBC",2,0,0,null,"KRHSBC002014835HSBCNO/D01","UCD",{"$f":"VLOOKUP(H1882,[2]SSIFSEP!$H$2:$I$7593,2,0)","v":"미사용약정"},"Unused Credit Line","KRW","C23",2.2000000000000002,0,"1",26488,{"$f":"VLOOKUP(K1882,[1]EXRATE!C$3:F$43,4,0)","v":1},26488,"",293,"",0,0,"","","","","","W","HUB","","",20230926,160848,0.02,40.854999999999997,"CIBM              MG30100","KRHSBC",2,"014835HSBCNO/D01"]
["KR","HSBC",2,0,0,null,"KRHSBC002016046687","BLK",{"$f":"VLOOKUP(H1887,[2]SSIFSEP!$H$2:$I$7593,2,0)","v":"BLK"},"BLK","KRW","PRS",0,0,"1",3353,{"$f":"VLOOKUP(K1887,[1]EXRATE!C$3:F$43,4,0)","v":1},3353,"N",83,"",0.1221,0,"","","","","","R","CRDC","","",20230926,160849,0.25,0,"PFS               AI80160   9998","KRHSBC",2,16046687]
["KR","HSBC",2,0,0,null,"KRHSBC002024826882","BLK",{"$f":"VLOOKUP(H1895,[2]SSIFSEP!$H$2:$I$7593,2,0)","v":"BLK"},"BLK","KRW","PRS",0,0,"1",676,{"$f":"VLOOKUP(K1895,[1]EXRATE!C$3:F$43,4,0)","v":1},676,"N",83,"",0.22550000000000001,0,"","","","","","R","CRDC","","",20230926,160849,0.25,0,"PFS               AI80160   9998","KRHSBC",2,24826882]
["KR","HSBC",2,0,0,null,"KRHSBC002032084413","BLK",{"$f":"VLOOKUP(H1898,[2]SSIFSEP!$H$2:$I$7593,2,0)","v":"BLK"},"BLK","KRW","PRS",0,0,"1",4905,{"$f":"VLOOKUP(K1898,[1]EXRATE!C$3:F$43,4,0)","v":1},4905,"N",83,"",4.5999999999999999E-2,0,"","","","","","R","CRDC","","",20230926,160849,0.25,0,"PFS               AI80160   9998","KRHSBC",2,32084413]
["KR","HSBC",2,0,0,null,"KRHSBC002033439413","BLK",{"$f":"VLOOKUP(H1907,[2]SSIFSEP!$H$2:$I$7593,2,0)","v":"BLK"},"BLK","KRW","PRS",0,0,"1",2853,{"$f":"VLOOKUP(K1907,[1]EXRATE!C$3:F$43,4,0)","v":1},2853,"N",83,"",5.3199999999999997E-2,0,"","","","","","R","CRDC","","",20230926,160849,0.25,0,"PFS               AI80160   9998","KRHSBC",2,33439413]
["KR","HSBC",2,0,0,null,"KRHSBC002039014207","BLK",{"$f":"VLOOKUP(H1915,[2]SSIFSEP!$H$2:$I$7593,2,0)","v":"BLK"},"BLK","KRW","PRS",0,0,"1",9723,{"$f":"VLOOKUP(K1915,[1]EXRATE!C$3:F$43,4,0)","v":1},9723,"N",83,"",8.1500000000000003E-2,0,"","","","","","R","CRDC","","",20230926,160849,0.25,0,"PFS               AI80160   9998","KRHSBC",2,39014207]
["KR","HSBC",2,0,0,null,"KRHSBC002041978882","BLK",{"$f":"VLOOKUP(H1923,[2]SSIFSEP!$H$2:$I$7593,2,0)","v":"BLK"},"BLK","KRW","PRS",0,0,"1",5551,{"$f":"VLOOKUP(K1923,[1]EXRATE!C$3:F$43,4,0)","v":1},5551,"N",83,"",6.2100000000000002E-2,0,"","","","","","R","CRDC","","",20230926,160849,0.25,0,"PFS               AI80160   9998","KRHSBC",2,41978882]
["KR","HSBC",2,0,0,null,"KRHSBC002043628882","BLK",{"$f":"VLOOKUP(H1927,[2]SSIFSEP!$H$2:$I$7593,2,0)","v":"BLK"},"BLK","KRW","PRS",0,0,"1",22156,{"$f":"VLOOKUP(K1927,[1]EXRATE!C$3:F$43,4,0)","v":1},22156,"N",83,"",0.23319999999999999,0,"","","","","","R","CRDC","","",20230926,160849,0.25,0,"PFS               AI80160   9998","KRHSBC",2,43628882]
["KR","HSBC",2,0,0,null,"KRHSBC002050565HSBCNO/D01","UCD",{"$f":"VLOOKUP(H1935,[2]SSIFSEP!$H$2:$I$7593,2,0)","v":"미사용약정"},"Unused Credit Line","KRW","MFS",3.2,0,"1",405929,{"$f":"VLOOKUP(K1935,[1]EXRATE!C$3:F$43,4,0)","v":1},405929,"",297,"",1.1738999999999999,0,"","","","","","W","HUB","","",20230926,160848,0.09,30.855,"CIBM              MG30100","KRHSBC",2,"050565HSBCNO/D01"]
["KR","HSBC",2,0,0,null,"KRHSBC002055721413","BLK",{"$f":"VLOOKUP(H1940,[2]SSIFSEP!$H$2:$I$7593,2,0)","v":"BLK"},"BLK","KRW","PRS",0,0,"1",4847,{"$f":"VLOOKUP(K1940,[1]EXRATE!C$3:F$43,4,0)","v":1},4847,"N",83,"",5.2999999999999999E-2,0,"","","","","","R","CRDC","","",20230926,160849,0.25,0,"PFS               AI80160   9998","KRHSBC",2,55721413]
["KR","HSBC",2,0,0,null,"KRHSBC002059160413","BLK",{"$f":"VLOOKUP(H1948,[2]SSIFSEP!$H$2:$I$7593,2,0)","v":"BLK"},"BLK","KRW","PRS",0,0,"1",1564,{"$f":"VLOOKUP(K1948,[1]EXRATE!C$3:F$43,4,0)","v":1},1564,"N",83,"",2.4400000000000002E-2,0,"","","","","","R","CRDC","","",20230926,160849,0.25,0,"PFS               AI80160   9998","KRHSBC",2,59160413]
["KR","HSBC",2,0,0,null,"KRHSBC002060945414","BLK",{"$f":"VLOOKUP(H1952,[2]SSIFSEP!$H$2:$I$7593,2,0)","v":"BLK"},"BLK","KRW","PRS",0,0,"1",125,{"$f":"VLOOKUP(K1952,[1]EXRATE!C$3:F$43,4,0)","v":1},125,"N",83,"",0.1875,0,"","","","","","R","CRDC","","",20230926,160849,0.25,0,"PFS               AI80160   9998","KRHSBC",2,60945414]
["KR","HSBC",2,0,0,null,"KRHSBC002066686882","BLK",{"$f":"VLOOKUP(H1960,[2]SSIFSEP!$H$2:$I$7593,2,0)","v":"BLK"},"BLK","KRW","PRS",0,0,"1",31718,{"$f":"VLOOKUP(K1960,[1]EXRATE!C$3:F$43,4,0)","v":1},31718,"N",83,"",0.13370000000000001,0,"","","","","","R","CRDC","","",20230926,160849,0.25,0,"PFS               AI80160   9998","KRHSBC",2,66686882]
["KR","HSBC",2,0,0,null,"KRHSBC002070654HSBCNLNL01","UCD",{"$f":"VLOOKUP(H1968,[2]SSIFSEP!$H$2:$I$7593,2,0)","v":"미사용약정"},"Unused Credit Line","KRW","C13",2.2000000000000002,0,"1",128304,{"$f":"VLOOKUP(K1968,[1]EXRATE!C$3:F$43,4,0)","v":1},128304,"",283,"",0,0,"","","","","","W","HUB","","",20230926,160848,0.02,40.854999999999997,"CIBM              MG30100","KRHSBC",2,"070654HSBCNLNL01"]
["KR","HSBC",2,0,0,null,"KRHSBC002072502HSBCNLNL01","UCD",{"$f":"VLOOKUP(H1973,[2]SSIFSEP!$H$2:$I$7593,2,0)","v":"미사용약정"},"Unused Credit Line","EUR","C13",1.1000000000000001,0,"1",283,{"$f":"VLOOKUP(K1973,[1]EXRATE!C$3:F$43,4,0)","v":1421.7225599999999},{"$f":"+P1973*Q1973/100","v":4023.4748448},"",282,"",0,0,"","","","","","W","HUB","","",20230926,160848,0.01,40.854999999999997,"CIBM              MG30100","KRHSBC",2,"072502HSBCNLNL01"]
["KR","HSBC",2,0,0,null,"KRHSBC002075851413","BLK",{"$f":"VLOOKUP(H1981,[2]SSIFSEP!$H$2:$I$7593,2,0)","v":"BLK"},"BLK","KRW","PRS",0,0,"1",784,{"$f":"VLOOKUP(K1981,[1]EXRATE!C$3:F$43,4,0)","v":1},784,"N",83,"",1.9300000000000001E-2,0,"","","","","","R","CRDC","","",20230926,160849,0.25,0,"PFS               AI80160   9998","KRHSBC",2,75851413]
["KR","HSBC",2,0,0,null,"KRHSBC002078319HSBCNIMC02","UCD",{"$f":"VLOOKUP(H1988,[2]SSIFSEP!$H$2:$I$7593,2,0)","v":"미사용약정"},"Unused Credit Line","USD","C13",4.2,0,"1",5799,{"$f":"VLOOKUP(K1988,[1]EXRATE!C$3:F$43,4,0)","v":1344.8},{"$f":"+P1988*Q1988/100","v":77984.952000000005},"",287,"",0,0,"","","","","","W","HUB","","",20230926,160848,0.22,40.854999999999997,"CIBM              MG30100","KRHSBC",2,"078319HSBCNIMC02"]
["KR","HSBC",2,0,0,null,"KRHSBC002080323413","BLK",{"$f":"VLOOKUP(H1993,[2]SSIFSEP!$H$2:$I$7593,2,0)","v":"BLK"},"BLK","KRW","PRS",0,0,"1",2783,{"$f":"VLOOKUP(K1993,[1]EXRATE!C$3:F$43,4,0)","v":1},2783,"N",83,"",9.7699999999999995E-2,0,"","","","","","R","CRDC","","",20230926,160849,0.25,0,"PFS               AI80160   9998","KRHSBC",2,80323413]
["KR","HSBC",2,0,0,null,"KRHSBC002082527HSBCNSDC01","UCD",{"$f":"VLOOKUP(H2001,[2]SSIFSEP!$H$2:$I$7593,2,0)","v":"미사용약정"},"Unused Credit Line","USD","C13",4.0999999999999996,0,"1",2255,{"$f":"VLOOKUP(K2001,[1]EXRATE!C$3:F$43,4,0)","v":1344.8},{"$f":"+P2001*Q2001/100","v":30325.24},"",287,"",0,0,"","","","","","W","HUB","","",20230926,160848,0.24,40.854999999999997,"CIBM              MG30100","KRHSBC",2,"082527HSBCNSDC01"]
["KR","HSBC",2,0,0,null,"KRHSBC002085009HSBCNO/D02","UCD",{"$f":"VLOOKUP(H2006,[2]SSIFSEP!$H$2:$I$7593,2,0)","v":"미사용약정"},"Unused Credit Line","KRW","C13",1.1000000000000001,0,"1",2764,{"$f":"VLOOKUP(K2006,[1]EXRATE!C$3:F$43,4,0)","v":1},2764,"",283,"",0.17499999999999999,0,"","","","","","W","HUB","","",20230926,160848,0.01,18.204999999999998,"CIBM              MG30100","KRHSBC",2,"085009HSBCNO/D02"]
["KR","HSBC",2,0,0,null,"KRHSBC002087872413","BLK",{"$f":"VLOOKUP(H2013,[2]SSIFSEP!$H$2:$I$7593,2,0)","v":"BLK"},"BLK","KRW","PRS",0,0,"1",1485,{"$f":"VLOOKUP(K2013,[1]EXRATE!C$3:F$43,4,0)","v":1},1485,"N",83,"",5.96E-2,0,"","","","","","R","CRDC","","",20230926,160849,0.25,0,"PFS               AI80160   9998","KRHSBC",2,87872413]
["KR","HSBC",2,0,0,null,"KRHSBC002091270413","BLK",{"$f":"VLOOKUP(H2021,[2]SSIFSEP!$H$2:$I$7593,2,0)","v":"BLK"},"BLK","KRW","PRS",0,0,"1",5806,{"$f":"VLOOKUP(K2021,[1]EXRATE!C$3:F$43,4,0)","v":1},5806,"N",83,"",4.36E-2,0,"","","","","","R","CRDC","","",20230926,160849,0.25,0,"PFS               AI80160   9998","KRHSBC",2,91270413]
["KR","HSBC",2,0,0,null,"KRHSBC002094043HSBCNIMC01","UCD",{"$f":"VLOOKUP(H2026,[2]SSIFSEP!$H$2:$I$7593,2,0)","v":"미사용약정"},"Unused Credit Line","USD","C13",2.2000000000000002,0,"1",8348,{"$f":"VLOOKUP(K2026,[1]EXRATE!C$3:F$43,4,0)","v":1344.8},{"$f":"+P2026*Q2026/100","v":112263.90400000001},"",287,"",0,0,"","","","","","W","HUB","","",20230926,160848,0.02,40.854999999999997,"CIBM              MG30100","KRHSBC",2,"094043HSBCNIMC01"]
["KR","HSBC",2,0,0,null,"KRHSBC002097095413","BLK",{"$f":"VLOOKUP(H2035,[2]SSIFSEP!$H$2:$I$7593,2,0)","v":"BLK"},"BLK","KRW","PRS",0,0,"1",2667,{"$f":"VLOOKUP(K2035,[1]EXRATE!C$3:F$43,4,0)","v":1},2667,"N",83,"",7.3599999999999999E-2,0,"","","","","","R","CRDC","","",20230926,160849,0.25,0,"PFS               AI80160   9998","KRHSBC",2,97095413]
["KR","HSBC",2,0,0,null,"KRHSBC002101293413","BLK",{"$f":"VLOOKUP(H2041,[2]SSIFSEP!$H$2:$I$7593,2,0)","v":"BLK"},"BLK","KRW","PRS",0,0,"1",2333,{"$f":"VLOOKUP(K2041,[1]EXRATE!C$3:F$43,4,0)","v":1},2333,"N",83,"",4.7600000000000003E-2,0,"","","","","","R","CRDC","","",20230926,160849,0.25,0,"PFS               AI80160   9998","KRHSBC",2,101293413]
["KR","HSBC",2,0,0,null,"KRHSBC002105583413","BLK",{"$f":"VLOOKUP(H2046,[2]SSIFSEP!$H$2:$I$7593,2,0)","v":"BLK"},"BLK","KRW","PRS",0,0,"1",1079,{"$f":"VLOOKUP(K2046,[1]EXRATE!C$3:F$43,4,0)","v":1},1079,"N",83,"",8.3500000000000005E-2,0,"","","","","","R","CRDC","","",20230926,160849,0.25,0,"PFS               AI80160   9998","KRHSBC",2,105583413]
["KR","HSBC",2,0,0,null,"KRHSBC002119394413","BLK",{"$f":"VLOOKUP(H2054,[2]SSIFSEP!$H$2:$I$7593,2,0)","v":"BLK"},"BLK","KRW","PRS",0,0,"1",1670,{"$f":"VLOOKUP(K2054,[1]EXRATE!C$3:F$43,4,0)","v":1},1670,"N",83,"",9.7900000000000001E-2,0,"","","","","","R","CRDC","","",20230926,160849,0.25,0,"PFS               AI80160   9998","KRHSBC",2,119394413]
["KR","HSBC",2,0,0,null,"KRHSBC002142842413","BLK",{"$f":"VLOOKUP(H2060,[2]SSIFSEP!$H$2:$I$7593,2,0)","v":"BLK"},"BLK","KRW","PRS",0,0,"1",908,{"$f":"VLOOKUP(K2060,[1]EXRATE!C$3:F$43,4,0)","v":1},908,"N",83,"",8.7800000000000003E-2,0,"","","","","","R","CRDC","","",20230926,160849,0.25,0,"PFS               AI80160   9998","KRHSBC",2,142842413]
["KR","HSBC",2,0,0,null,"KRHSBC00214843500120150123","UCD",{"$f":"VLOOKUP(H2066,[2]SSIFSEP!$H$2:$I$7593,2,0)","v":"미사용약정"},"Unused Credit Line","KRW","MFS",1.2,0,"1",15668,{"$f":"VLOOKUP(K2066,[1]EXRATE!C$3:F$43,4,0)","v":1},{"$f":"+P2066*Q2066","v":15668},"",297,"",0,0,"","","","","","W","HUB","","",20230926,160849,0.01,43.03,"CIBM              MG30100","KRHSBC",2,1.48435001201501E+16]
["KR","HSBC",2,0,0,null,"KRHSBC002155935413","BLK",{"$f":"VLOOKUP(H2074,[2]SSIFSEP!$H$2:$I$7593,2,0)","v":"BLK"},"BLK","KRW","PRS",0,0,"1",3137,{"$f":"VLOOKUP(K2074,[1]EXRATE!C$3:F$43,4,0)","v":1},3137,"N",83,"",5.9299999999999999E-2,0,"","","","","","R","CRDC","","",20230926,160849,0.25,0,"PFS               AI80160   9998","KRHSBC",2,155935413]
["KR","HSBC",2,0,0,null,"KRHSBC002164788882","BLK",{"$f":"VLOOKUP(H2086,[2]SSIFSEP!$H$2:$I$7593,2,0)","v":"BLK"},"BLK","KRW","PRS",0,0,"1",9150,{"$f":"VLOOKUP(K2086,[1]EXRATE!C$3:F$43,4,0)","v":1},9150,"N",83,"",6.1499999999999999E-2,0,"","","","","","R","CRDC","","",20230926,160849,0.25,0,"PFS               AI80160   9998","KRHSBC",2,164788882]
["KR","HSBC",2,0,0,null,"KRHSBC002165991882","BLK",{"$f":"VLOOKUP(H2089,[2]SSIFSEP!$H$2:$I$7593,2,0)","v":"BLK"},"BLK","KRW","PRS",0,0,"1",39825,{"$f":"VLOOKUP(K2089,[1]EXRATE!C$3:F$43,4,0)","v":1},39825,"N",83,"",0.1968,0,"","","","","","R","CRDC","","",20230926,160849,0.25,0,"PFS               AI80160   9998","KRHSBC",2,165991882]
["KR","HSBC",2,0,0,null,"KRHSBC002168565882","BLK",{"$f":"VLOOKUP(H2094,[2]SSIFSEP!$H$2:$I$7593,2,0)","v":"BLK"},"BLK","KRW","PRS",0,0,"1",18816,{"$f":"VLOOKUP(K2094,[1]EXRATE!C$3:F$43,4,0)","v":1},18816,"N",83,"",0.15939999999999999,0,"","","","","","R","CRDC","","",20230926,160849,0.25,0,"PFS               AI80160   9998","KRHSBC",2,168565882]
["KR","HSBC",2,0,0,null,"KRHSBC002179968883","BLK",{"$f":"VLOOKUP(H2106,[2]SSIFSEP!$H$2:$I$7593,2,0)","v":"BLK"},"BLK","KRW","PRS",0,0,"1",30519,{"$f":"VLOOKUP(K2106,[1]EXRATE!C$3:F$43,4,0)","v":1},30519,"N",83,"",0.16259999999999999,0,"","","","","","R","CRDC","","",20230926,160849,0.25,0,"PFS               AI80160   9998","KRHSBC",2,179968883]
["KR","HSBC",2,0,0,null,"KRHSBC002180032882","BLK",{"$f":"VLOOKUP(H2107,[2]SSIFSEP!$H$2:$I$7593,2,0)","v":"BLK"},"BLK","KRW","PRS",0,0,"1",39069,{"$f":"VLOOKUP(K2107,[1]EXRATE!C$3:F$43,4,0)","v":1},39069,"N",83,"",0.31819999999999998,0,"","","","","","R","CRDC","","",20230926,160849,0.25,0,"PFS               AI80160   9998","KRHSBC",2,180032882]
["KR","HSBC",2,0,0,null,"KRHSBC002186237413","BLK",{"$f":"VLOOKUP(H2118,[2]SSIFSEP!$H$2:$I$7593,2,0)","v":"BLK"},"BLK","KRW","PRS",0,0,"1",4223,{"$f":"VLOOKUP(K2118,[1]EXRATE!C$3:F$43,4,0)","v":1},4223,"N",83,"",1.9E-2,0,"","","","","","R","CRDC","","",20230926,160849,0.25,0,"PFS               AI80160   9998","KRHSBC",2,186237413]
["KR","HSBC",2,0,0,null,"KRHSBC002196442882","BLK",{"$f":"VLOOKUP(H2126,[2]SSIFSEP!$H$2:$I$7593,2,0)","v":"BLK"},"BLK","KRW","PRS",0,0,"1",13253,{"$f":"VLOOKUP(K2126,[1]EXRATE!C$3:F$43,4,0)","v":1},13253,"N",83,"",0.30009999999999998,0,"","","","","","R","CRDC","","",20230926,160849,0.25,0,"PFS               AI80160   9998","KRHSBC",2,196442882]
["KR","HSBC",2,0,0,null,"KRHSBC002197622HSBCNIMC02","UCD",{"$f":"VLOOKUP(H2127,[2]SSIFSEP!$H$2:$I$7593,2,0)","v":"미사용약정"},"Unused Credit Line","USD","C13",2.2000000000000002,0,"1",1223,{"$f":"VLOOKUP(K2127,[1]EXRATE!C$3:F$43,4,0)","v":1344.8},{"$f":"+P2127*Q2127/100","v":16446.903999999999},"",287,"",0,0,"","","","","","W","HUB","","",20230926,160848,0.02,40.854999999999997,"CIBM              MG30100","KRHSBC",2,"197622HSBCNIMC02"]
["KR","HSBC",2,0,0,null,"KRHSBC002207371882","BLK",{"$f":"VLOOKUP(H2139,[2]SSIFSEP!$H$2:$I$7593,2,0)","v":"BLK"},"BLK","KRW","PRS",0,0,"1",23239,{"$f":"VLOOKUP(K2139,[1]EXRATE!C$3:F$43,4,0)","v":1},23239,"N",83,"",0.2571,0,"","","","","","R","CRDC","","",20230926,160849,0.25,0,"PFS               AI80160   9998","KRHSBC",2,207371882]
["KR","HSBC",2,0,0,null,"KRHSBC002214385413","BLK",{"$f":"VLOOKUP(H2143,[2]SSIFSEP!$H$2:$I$7593,2,0)","v":"BLK"},"BLK","KRW","PRS",0,0,"1",5185,{"$f":"VLOOKUP(K2143,[1]EXRATE!C$3:F$43,4,0)","v":1},5185,"N",83,"",5.0700000000000002E-2,0,"","","","","","R","CRDC","","",20230926,160849,0.25,0,"PFS               AI80160   9998","KRHSBC",2,214385413]
["KR","HSBC",2,0,0,null,"KRHSBC002214492882","BLK",{"$f":"VLOOKUP(H2147,[2]SSIFSEP!$H$2:$I$7593,2,0)","v":"BLK"},"BLK","KRW","PRS",0,0,"1",23703,{"$f":"VLOOKUP(K2147,[1]EXRATE!C$3:F$43,4,0)","v":1},23703,"N",83,"",0.23039999999999999,0,"","","","","","R","CRDC","","",20230926,160849,0.25,0,"PFS               AI80160   9998","KRHSBC",2,214492882]
["KR","HSBC",2,0,0,null,"KRHSBC002222057882","BLK",{"$f":"VLOOKUP(H2159,[2]SSIFSEP!$H$2:$I$7593,2,0)","v":"BLK"},"BLK","KRW","PRS",0,0,"1",7387,{"$f":"VLOOKUP(K2159,[1]EXRATE!C$3:F$43,4,0)","v":1},7387,"N",83,"",0.14119999999999999,0,"","","","","","R","CRDC","","",20230926,160849,0.25,0,"PFS               AI80160   9998","KRHSBC",2,222057882]
["KR","HSBC",2,0,0,null,"KRHSBC002228914882","BLK",{"$f":"VLOOKUP(H2167,[2]SSIFSEP!$H$2:$I$7593,2,0)","v":"BLK"},"BLK","KRW","PRS",0,0,"1",22196,{"$f":"VLOOKUP(K2167,[1]EXRATE!C$3:F$43,4,0)","v":1},22196,"N",83,"",0.17979999999999999,0,"","","","","","R","CRDC","","",20230926,160849,0.25,0,"PFS               AI80160   9998","KRHSBC",2,228914882]
["KR","HSBC",2,0,0,null,"KRHSBC002238558882","BLK",{"$f":"VLOOKUP(H2172,[2]SSIFSEP!$H$2:$I$7593,2,0)","v":"BLK"},"BLK","KRW","PRS",0,0,"2R",2019917,{"$f":"VLOOKUP(K2172,[1]EXRATE!C$3:F$43,4,0)","v":1},2019917,"N",84,"",0.26119999999999999,0,"","","","","","R","CRDC","","",20230926,160849,20,0,"PFS               AI80160   9998","KRHSBC",2,238558882]
["KR","HSBC",2,0,0,null,"KRHSBC002242295HSBCNO/D01","UCD",{"$f":"VLOOKUP(H2179,[2]SSIFSEP!$H$2:$I$7593,2,0)","v":"미사용약정"},"Unused Credit Line","KRW","C13",5.2,0,"1",0,{"$f":"VLOOKUP(K2179,[1]EXRATE!C$3:F$43,4,0)","v":1},0,"",283,"",0,0,"","","","","","W","HUB","","",20230926,160848,0.33,40.854999999999997,"CIBM              MG30100","KRHSBC",2,"242295HSBCNO/D01"]
["KR","HSBC",2,0,0,null,"KRHSBC002249258882","BLK",{"$f":"VLOOKUP(H2187,[2]SSIFSEP!$H$2:$I$7593,2,0)","v":"BLK"},"BLK","KRW","PRS",0,0,"1",17386,{"$f":"VLOOKUP(K2187,[1]EXRATE!C$3:F$43,4,0)","v":1},17386,"N",83,"",0.20660000000000001,0,"","","","","","R","CRDC","","",20230926,160849,0.25,0,"PFS               AI80160   9998","KRHSBC",2,249258882]
["KR","HSBC",2,0,0,null,"KRHSBC002258291HSBCNEXC01","UCD",{"$f":"VLOOKUP(H2192,[2]SSIFSEP!$H$2:$I$7593,2,0)","v":"미사용약정"},"Unused Credit Line","KRW","C13",4.2,0,"1",8193993,{"$f":"VLOOKUP(K2192,[1]EXRATE!C$3:F$43,4,0)","v":1},8193993,"",320,"",0,0,"","","","","","W","HUB","","",20230926,160848,0.22,40.854999999999997,"CIBM              MG30180","KRHSBC",2,"258291HSBCNEXC01"]
["KR","HSBC",2,0,0,null,"KRHSBC002263820207","BLK",{"$f":"VLOOKUP(H2197,[2]SSIFSEP!$H$2:$I$7593,2,0)","v":"BLK"},"BLK","KRW","PRS",0,0,"1",9330,{"$f":"VLOOKUP(K2197,[1]EXRATE!C$3:F$43,4,0)","v":1},9330,"N",83,"",9.5399999999999999E-2,0,"","","","","","R","CRDC","","",20230926,160849,0.25,0,"PFS               AI80160   9998","KRHSBC",2,263820207]
["KR","HSBC",2,0,0,null,"KRHSBC002270189HSBCNGTE01","UCD",{"$f":"VLOOKUP(H2207,[2]SSIFSEP!$H$2:$I$7593,2,0)","v":"미사용약정"},"Unused Credit Line","USD","PSE",1.1000000000000001,0,"1",403,{"$f":"VLOOKUP(K2207,[1]EXRATE!C$3:F$43,4,0)","v":1344.8},{"$f":"+P2207*Q2207/100","v":5419.5439999999999},"",306,"",0,0,"","","","","","W","HUB","","",20230926,160848,0.02,40.29,"CIBM              MG30100","KRHSBC",2,"270189HSBCNGTE01"]
["KR","HSBC",2,0,0,null,"KRHSBC002273522882","BLK",{"$f":"VLOOKUP(H2212,[2]SSIFSEP!$H$2:$I$7593,2,0)","v":"BLK"},"BLK","KRW","PRS",0,0,"1",29983,{"$f":"VLOOKUP(K2212,[1]EXRATE!C$3:F$43,4,0)","v":1},29983,"N",83,"",0.29859999999999998,0,"","","","","","R","CRDC","","",20230926,160849,0.25,0,"PFS               AI80160   9998","KRHSBC",2,273522882]
["KR","HSBC",2,0,0,null,"KRHSBC002283414882","BLK",{"$f":"VLOOKUP(H2220,[2]SSIFSEP!$H$2:$I$7593,2,0)","v":"BLK"},"BLK","KRW","PRS",0,0,"1",20043,{"$f":"VLOOKUP(K2220,[1]EXRATE!C$3:F$43,4,0)","v":1},20043,"N",83,"",0.1399,0,"","","","","","R","CRDC","","",20230926,160849,0.25,0,"PFS               AI80160   9998","KRHSBC",2,283414882]
["KR","HSBC",2,0,0,null,"KRHSBC002286896413","BLK",{"$f":"VLOOKUP(H2226,[2]SSIFSEP!$H$2:$I$7593,2,0)","v":"BLK"},"BLK","KRW","PRS",0,0,"1",399,{"$f":"VLOOKUP(K2226,[1]EXRATE!C$3:F$43,4,0)","v":1},399,"N",83,"",2.64E-2,0,"","","","","","R","CRDC","","",20230926,160849,0.25,0,"PFS               AI80160   9998","KRHSBC",2,286896413]
["KR","HSBC",2,0,0,null,"KRHSBC002335875207","BLK",{"$f":"VLOOKUP(H2232,[2]SSIFSEP!$H$2:$I$7593,2,0)","v":"BLK"},"BLK","KRW","PRS",0,0,"1",21016,{"$f":"VLOOKUP(K2232,[1]EXRATE!C$3:F$43,4,0)","v":1},21016,"N",83,"",0.11890000000000001,0,"","","","","","R","CRDC","","",20230926,160849,0.25,0,"PFS               AI80160   9998","KRHSBC",2,335875207]
["KR","HSBC",2,0,0,null,"KRHSBC002348290413","BLK",{"$f":"VLOOKUP(H2240,[2]SSIFSEP!$H$2:$I$7593,2,0)","v":"BLK"},"BLK","KRW","PRS",0,0,"1",1489,{"$f":"VLOOKUP(K2240,[1]EXRATE!C$3:F$43,4,0)","v":1},1489,"N",83,"",4.3299999999999998E-2,0,"","","","","","R","CRDC","","",20230926,160849,0.25,0,"PFS               AI80160   9998","KRHSBC",2,348290413]
["KR","HSBC",2,0,0,null,"KRHSBC002357994207","BLK",{"$f":"VLOOKUP(H2245,[2]SSIFSEP!$H$2:$I$7593,2,0)","v":"BLK"},"BLK","KRW","PRS",0,0,"1",3359,{"$f":"VLOOKUP(K2245,[1]EXRATE!C$3:F$43,4,0)","v":1},3359,"N",83,"",0.15240000000000001,0,"","","","","","R","CRDC","","",20230926,160849,0.25,0,"PFS               AI80160   9998","KRHSBC",2,357994207]
["KR","HSBC",2,0,0,null,"KRHSBC002370286413","BLK",{"$f":"VLOOKUP(H2251,[2]SSIFSEP!$H$2:$I$7593,2,0)","v":"BLK"},"BLK","KRW","PRS",0,0,"1",5368,{"$f":"VLOOKUP(K2251,[1]EXRATE!C$3:F$43,4,0)","v":1},5368,"N",83,"",5.3900000000000003E-2,0,"","","","","","R","CRDC","","",20230926,160849,0.25,0,"PFS               AI80160   9998","KRHSBC",2,370286413]
["KR","HSBC",2,0,0,null,"KRHSBC00238441029620180702","UCD",{"$f":"VLOOKUP(H2257,[2]SSIFSEP!$H$2:$I$7593,2,0)","v":"미사용약정"},"Unused Credit Line","KRW","MFS",5.2,0,"1",795711,{"$f":"VLOOKUP(K2257,[1]EXRATE!C$3:F$43,4,0)","v":1},{"$f":"+P2257*Q2257","v":795711},"",297,"",0,0,"","","","","","W","HUB","","",20230926,160849,0.33,48.155000000000001,"CIBM              MG30100","KRHSBC",2,3.8441029620180704E+16]
["KR","HSBC",2,0,0,null,"KRHSBC002396836207","BLK",{"$f":"VLOOKUP(H2265,[2]SSIFSEP!$H$2:$I$7593,2,0)","v":"BLK"},"BLK","KRW","PRS",0,0,"1",8827,{"$f":"VLOOKUP(K2265,[1]EXRATE!C$3:F$43,4,0)","v":1},8827,"N",83,"",5.6399999999999999E-2,0,"","","","","","R","CRDC","","",20230926,160849,0.25,0,"PFS               AI80160   9998","KRHSBC",2,396836207]
["KR","HSBC",2,0,0,null,"KRHSBC002407971207","BLK",{"$f":"VLOOKUP(H2272,[2]SSIFSEP!$H$2:$I$7593,2,0)","v":"BLK"},"BLK","KRW","PRS",0,0,"1",18948,{"$f":"VLOOKUP(K2272,[1]EXRATE!C$3:F$43,4,0)","v":1},18948,"N",83,"",0.11219999999999999,0,"","","","","","R","CRDC","","",20230926,160849,0.25,0,"PFS               AI80160   9998","KRHSBC",2,407971207]
["KR","HSBC",2,0,0,null,"KRHSBC002416709207","BLK",{"$f":"VLOOKUP(H2277,[2]SSIFSEP!$H$2:$I$7593,2,0)","v":"BLK"},"BLK","KRW","PRS",0,0,"2R",320511,{"$f":"VLOOKUP(K2277,[1]EXRATE!C$3:F$43,4,0)","v":1},320511,"N",84,"",7.5899999999999995E-2,0,"","","","","","R","CRDC","","",20230926,160849,20,0,"PFS               AI80160   9998","KRHSBC",2,416709207]
["KR","HSBC",2,0,0,null,"KRHSBC002431203413","BLK",{"$f":"VLOOKUP(H2285,[2]SSIFSEP!$H$2:$I$7593,2,0)","v":"BLK"},"BLK","KRW","PRS",0,0,"1",32271,{"$f":"VLOOKUP(K2285,[1]EXRATE!C$3:F$43,4,0)","v":1},32271,"N",83,"",0.1011,0,"","","","","","R","CRDC","","",20230926,160849,0.25,0,"PFS               AI80160   9998","KRHSBC",2,431203413]
["KR","HSBC",2,0,0,null,"KRHSBC002454395687","BLK",{"$f":"VLOOKUP(H2293,[2]SSIFSEP!$H$2:$I$7593,2,0)","v":"BLK"},"BLK","KRW","PRS",0,0,"1",30132,{"$f":"VLOOKUP(K2293,[1]EXRATE!C$3:F$43,4,0)","v":1},30132,"N",83,"",4.8399999999999999E-2,0,"","","","","","R","CRDC","","",20230926,160849,0.25,0,"PFS               AI80160   9998","KRHSBC",2,454395687]
["KR","HSBC",2,0,0,null,"KRHSBC002469955413","BLK",{"$f":"VLOOKUP(H2301,[2]SSIFSEP!$H$2:$I$7593,2,0)","v":"BLK"},"BLK","KRW","PRS",0,0,"1",12027,{"$f":"VLOOKUP(K2301,[1]EXRATE!C$3:F$43,4,0)","v":1},12027,"N",83,"",0.1333,0,"","","","","","R","CRDC","","",20230926,160849,0.25,0,"PFS               AI80160   9998","KRHSBC",2,469955413]
["KR","HSBC",2,0,0,null,"KRHSBC002473262413","BLK",{"$f":"VLOOKUP(H2305,[2]SSIFSEP!$H$2:$I$7593,2,0)","v":"BLK"},"BLK","KRW","PRS",0,0,"1",4163,{"$f":"VLOOKUP(K2305,[1]EXRATE!C$3:F$43,4,0)","v":1},4163,"N",83,"",0.06,0,"","","","","","R","CRDC","","",20230926,160849,0.25,0,"PFS               AI80160   9998","KRHSBC",2,473262413]
["KR","HSBC",2,0,0,null,"KRHSBC002485258882","BLK",{"$f":"VLOOKUP(H2310,[2]SSIFSEP!$H$2:$I$7593,2,0)","v":"BLK"},"BLK","KRW","PRS",0,0,"1",42237,{"$f":"VLOOKUP(K2310,[1]EXRATE!C$3:F$43,4,0)","v":1},42237,"N",83,"",0.25480000000000003,0,"","","","","","R","CRDC","","",20230926,160849,0.25,0,"PFS               AI80160   9998","KRHSBC",2,485258882]
["KR","HSBC",2,0,0,null,"KRHSBC002497733882","BLK",{"$f":"VLOOKUP(H2318,[2]SSIFSEP!$H$2:$I$7593,2,0)","v":"BLK"},"BLK","KRW","PRS",0,0,"1",10178,{"$f":"VLOOKUP(K2318,[1]EXRATE!C$3:F$43,4,0)","v":1},10178,"N",83,"",0.13700000000000001,0,"","","","","","R","CRDC","","",20230926,160849,0.25,0,"PFS               AI80160   9998","KRHSBC",2,497733882]
["KR","HSBC",2,0,0,null,"KRHSBC002517084HSBCNO/D01","UCD",{"$f":"VLOOKUP(H2326,[2]SSIFSEP!$H$2:$I$7593,2,0)","v":"미사용약정"},"Unused Credit Line","KRW","C13",2.1,0,"1",6510,{"$f":"VLOOKUP(K2326,[1]EXRATE!C$3:F$43,4,0)","v":1},6510,"",283,"",4.7165999999999997,0,"","","","","","W","HUB","","",20230926,160848,0.01,39.049999999999997,"CIBM              MG30100","KRHSBC",2,"517084HSBCNO/D01"]
["KR","HSBC",2,0,0,null,"KRHSBC002531838882","BLK",{"$f":"VLOOKUP(H2330,[2]SSIFSEP!$H$2:$I$7593,2,0)","v":"BLK"},"BLK","KRW","PRS",0,0,"1",21577,{"$f":"VLOOKUP(K2330,[1]EXRATE!C$3:F$43,4,0)","v":1},21577,"N",83,"",2.63E-2,0,"","","","","","R","CRDC","","",20230926,160849,0.25,0,"PFS               AI80160   9998","KRHSBC",2,531838882]
["KR","HSBC",2,0,0,null,"KRHSBC002537694882","BLK",{"$f":"VLOOKUP(H2338,[2]SSIFSEP!$H$2:$I$7593,2,0)","v":"BLK"},"BLK","KRW","PRS",0,0,"1",7703,{"$f":"VLOOKUP(K2338,[1]EXRATE!C$3:F$43,4,0)","v":1},7703,"N",83,"",2.7699999999999999E-2,0,"","","","","","R","CRDC","","",20230926,160849,0.25,0,"PFS               AI80160   9998","KRHSBC",2,537694882]
["KR","HSBC",2,0,0,null,"KRHSBC002539500882","BLK",{"$f":"VLOOKUP(H2343,[2]SSIFSEP!$H$2:$I$7593,2,0)","v":"BLK"},"BLK","KRW","PRS",0,0,"2R",460909,{"$f":"VLOOKUP(K2343,[1]EXRATE!C$3:F$43,4,0)","v":1},460909,"N",84,"",4.0800000000000003E-2,0,"","","","","","R","CRDC","","",20230926,160849,20,0,"PFS               AI80160   9998","KRHSBC",2,539500882]
["KR","HSBC",2,0,0,null,"KRHSBC002548634882","BLK",{"$f":"VLOOKUP(H2355,[2]SSIFSEP!$H$2:$I$7593,2,0)","v":"BLK"},"BLK","KRW","PRS",0,0,"1",11687,{"$f":"VLOOKUP(K2355,[1]EXRATE!C$3:F$43,4,0)","v":1},11687,"N",83,"",0.1143,0,"","","","","","R","CRDC","","",20230926,160849,0.25,0,"PFS               AI80160   9998","KRHSBC",2,548634882]
["KR","HSBC",2,0,0,null,"KRHSBC002552651882","BLK",{"$f":"VLOOKUP(H2358,[2]SSIFSEP!$H$2:$I$7593,2,0)","v":"BLK"},"BLK","KRW","PRS",0,0,"2R",571370,{"$f":"VLOOKUP(K2358,[1]EXRATE!C$3:F$43,4,0)","v":1},571370,"N",84,"",3.7100000000000001E-2,0,"","","","","","R","CRDC","","",20230926,160849,20,0,"PFS               AI80160   9998","KRHSBC",2,552651882]
["KR","HSBC",2,0,0,null,"KRHSBC002559615882","BLK",{"$f":"VLOOKUP(H2363,[2]SSIFSEP!$H$2:$I$7593,2,0)","v":"BLK"},"BLK","KRW","PRS",0,0,"1",10583,{"$f":"VLOOKUP(K2363,[1]EXRATE!C$3:F$43,4,0)","v":1},10583,"N",83,"",0.11,0,"","","","","","R","CRDC","","",20230926,160849,0.25,0,"PFS               AI80160   9998","KRHSBC",2,559615882]
["KR","HSBC",2,0,0,null,"KRHSBC002576262HSBCNLNL01","UCD",{"$f":"VLOOKUP(H2371,[2]SSIFSEP!$H$2:$I$7593,2,0)","v":"미사용약정"},"Unused Credit Line","KRW","C13",1.2,0,"1",117,{"$f":"VLOOKUP(K2371,[1]EXRATE!C$3:F$43,4,0)","v":1},117,"",283,"",0,0,"","","","","","W","HUB","","",20230926,160848,0.01,40.854999999999997,"CIBM              MG30100","KRHSBC",2,"576262HSBCNLNL01"]
["KR","HSBC",2,0,0,null,"KRHSBC002590826882","BLK",{"$f":"VLOOKUP(H2380,[2]SSIFSEP!$H$2:$I$7593,2,0)","v":"BLK"},"BLK","KRW","PRS",0,0,"1",2786,{"$f":"VLOOKUP(K2380,[1]EXRATE!C$3:F$43,4,0)","v":1},2786,"N",83,"",1.47E-2,0,"","","","","","R","CRDC","","",20230926,160849,0.25,0,"PFS               AI80160   9998","KRHSBC",2,590826882]
["KR","HSBC",2,0,0,null,"KRHSBC002599165882","BLK",{"$f":"VLOOKUP(H2383,[2]SSIFSEP!$H$2:$I$7593,2,0)","v":"BLK"},"BLK","KRW","PRS",0,0,"1",31163,{"$f":"VLOOKUP(K2383,[1]EXRATE!C$3:F$43,4,0)","v":1},31163,"N",83,"",0.23480000000000001,0,"","","","","","R","CRDC","","",20230926,160849,0.25,0,"PFS               AI80160   9998","KRHSBC",2,599165882]
["KR","HSBC",2,0,0,null,"KRHSBC002606457882","BLK",{"$f":"VLOOKUP(H2391,[2]SSIFSEP!$H$2:$I$7593,2,0)","v":"BLK"},"BLK","KRW","PRS",0,0,"1",10250,{"$f":"VLOOKUP(K2391,[1]EXRATE!C$3:F$43,4,0)","v":1},10250,"N",83,"",0.20780000000000001,0,"","","","","","R","CRDC","","",20230926,160849,0.25,0,"PFS               AI80160   9998","KRHSBC",2,606457882]
["KR","HSBC",2,0,0,null,"KRHSBC002616928882","BLK",{"$f":"VLOOKUP(H2403,[2]SSIFSEP!$H$2:$I$7593,2,0)","v":"BLK"},"BLK","KRW","PRS",0,0,"1",2105,{"$f":"VLOOKUP(K2403,[1]EXRATE!C$3:F$43,4,0)","v":1},2105,"N",83,"",0.35089999999999999,0,"","","","","","R","CRDC","","",20230926,160849,0.25,0,"PFS               AI80160   9998","KRHSBC",2,616928882]
["KR","HSBC",2,0,0,null,"KRHSBC002620904882","BLK",{"$f":"VLOOKUP(H2409,[2]SSIFSEP!$H$2:$I$7593,2,0)","v":"BLK"},"BLK","KRW","PRS",0,0,"1",19825,{"$f":"VLOOKUP(K2409,[1]EXRATE!C$3:F$43,4,0)","v":1},19825,"N",83,"",0.18720000000000001,0,"","","","","","R","CRDC","","",20230926,160849,0.25,0,"PFS               AI80160   9998","KRHSBC",2,620904882]
["KR","HSBC",2,0,0,null,"KRHSBC002620953882","BLK",{"$f":"VLOOKUP(H2411,[2]SSIFSEP!$H$2:$I$7593,2,0)","v":"BLK"},"BLK","KRW","PRS",0,0,"1",8738,{"$f":"VLOOKUP(K2411,[1]EXRATE!C$3:F$43,4,0)","v":1},8738,"N",83,"",0.10390000000000001,0,"","","","","","R","CRDC","","",20230926,160849,0.25,0,"PFS               AI80160   9998","KRHSBC",2,620953882]
["KR","HSBC",2,0,0,null,"KRHSBC002626695687","BLK",{"$f":"VLOOKUP(H2423,[2]SSIFSEP!$H$2:$I$7593,2,0)","v":"BLK"},"BLK","KRW","PRS",0,0,"1",52114,{"$f":"VLOOKUP(K2423,[1]EXRATE!C$3:F$43,4,0)","v":1},52114,"N",83,"",0.21820000000000001,0,"","","","","","R","CRDC","","",20230926,160849,0.25,0,"PFS               AI80160   9998","KRHSBC",2,626695687]
["KR","HSBC",2,0,0,null,"KRHSBC002627669687","BLK",{"$f":"VLOOKUP(H2424,[2]SSIFSEP!$H$2:$I$7593,2,0)","v":"BLK"},"BLK","KRW","PRS",0,0,"1",23981,{"$f":"VLOOKUP(K2424,[1]EXRATE!C$3:F$43,4,0)","v":1},23981,"N",83,"",0.1208,0,"","","","","","R","CRDC","","",20230926,160849,0.25,0,"PFS               AI80160   9998","KRHSBC",2,627669687]
["KR","HSBC",2,0,0,null,"KRHSBC002633774687","BLK",{"$f":"VLOOKUP(H2434,[2]SSIFSEP!$H$2:$I$7593,2,0)","v":"BLK"},"BLK","KRW","PRS",0,0,"1",1248,{"$f":"VLOOKUP(K2434,[1]EXRATE!C$3:F$43,4,0)","v":1},1248,"N",83,"",3.6999999999999998E-2,0,"","","","","","R","CRDC","","",20230926,160849,0.25,0,"PFS               AI80160   9998","KRHSBC",2,633774687]
["KR","HSBC",2,0,0,null,"KRHSBC002640308882","BLK",{"$f":"VLOOKUP(H2443,[2]SSIFSEP!$H$2:$I$7593,2,0)","v":"BLK"},"BLK","KRW","PRS",0,0,"1",110080,{"$f":"VLOOKUP(K2443,[1]EXRATE!C$3:F$43,4,0)","v":1},110080,"N",83,"",0.20749999999999999,0,"","","","","","R","CRDC","","",20230926,160849,0.25,0,"PFS               AI80160   9998","KRHSBC",2,640308882]
["KR","HSBC",2,0,0,null,"KRHSBC002640456882","BLK",{"$f":"VLOOKUP(H2444,[2]SSIFSEP!$H$2:$I$7593,2,0)","v":"BLK"},"BLK","KRW","PRS",0,0,"1",12192,{"$f":"VLOOKUP(K2444,[1]EXRATE!C$3:F$43,4,0)","v":1},12192,"N",83,"",0.12720000000000001,0,"","","","","","R","CRDC","","",20230926,160849,0.25,0,"PFS               AI80160   9998","KRHSBC",2,640456882]
["KR","HSBC",2,0,0,null,"KRHSBC002645059687","BLK",{"$f":"VLOOKUP(H2456,[2]SSIFSEP!$H$2:$I$7593,2,0)","v":"BLK"},"BLK","KRW","PRS",0,0,"1",26429,{"$f":"VLOOKUP(K2456,[1]EXRATE!C$3:F$43,4,0)","v":1},26429,"N",83,"",0.126,0,"","","","","","R","CRDC","","",20230926,160849,0.25,0,"PFS               AI80160   9998","KRHSBC",2,645059687]
["KR","HSBC",2,0,0,null,"KRHSBC002650281882","BLK",{"$f":"VLOOKUP(H2463,[2]SSIFSEP!$H$2:$I$7593,2,0)","v":"BLK"},"BLK","KRW","PRS",0,0,"1",37770,{"$f":"VLOOKUP(K2463,[1]EXRATE!C$3:F$43,4,0)","v":1},37770,"N",83,"",0.13059999999999999,0,"","","","","","R","CRDC","","",20230926,160849,0.25,0,"PFS               AI80160   9998","KRHSBC",2,650281882]
["KR","HSBC",2,0,0,null,"KRHSBC002650570882","BLK",{"$f":"VLOOKUP(H2464,[2]SSIFSEP!$H$2:$I$7593,2,0)","v":"BLK"},"BLK","KRW","PRS",0,0,"1",45667,{"$f":"VLOOKUP(K2464,[1]EXRATE!C$3:F$43,4,0)","v":1},45667,"N",83,"",0.24390000000000001,0,"","","","","","R","CRDC","","",20230926,160849,0.25,0,"PFS               AI80160   9998","KRHSBC",2,650570882]
["KR","HSBC",2,0,0,null,"KRHSBC002653442882","BLK",{"$f":"VLOOKUP(H2476,[2]SSIFSEP!$H$2:$I$7593,2,0)","v":"BLK"},"BLK","KRW","PRS",0,0,"1",25172,{"$f":"VLOOKUP(K2476,[1]EXRATE!C$3:F$43,4,0)","v":1},25172,"N",83,"",0.16850000000000001,0,"","","","","","R","CRDC","","",20230926,160849,0.25,0,"PFS               AI80160   9998","KRHSBC",2,653442882]
["KR","HSBC",2,0,0,null,"KRHSBC002657526882","BLK",{"$f":"VLOOKUP(H2484,[2]SSIFSEP!$H$2:$I$7593,2,0)","v":"BLK"},"BLK","KRW","PRS",0,0,"1",12849,{"$f":"VLOOKUP(K2484,[1]EXRATE!C$3:F$43,4,0)","v":1},12849,"N",83,"",0.2074,0,"","","","","","R","CRDC","","",20230926,160849,0.25,0,"PFS               AI80160   9998","KRHSBC",2,657526882]
["KR","HSBC",2,0,0,null,"KRHSBC002658383883","BLK",{"$f":"VLOOKUP(H2486,[2]SSIFSEP!$H$2:$I$7593,2,0)","v":"BLK"},"BLK","KRW","PRS",0,0,"1",80537,{"$f":"VLOOKUP(K2486,[1]EXRATE!C$3:F$43,4,0)","v":1},80537,"N",83,"",0.28670000000000001,0,"","","","","","R","CRDC","","",20230926,160849,0.25,0,"PFS               AI80160   9998","KRHSBC",2,658383883]
["KR","HSBC",2,0,0,null,"KRHSBC002663805687","BLK",{"$f":"VLOOKUP(H2496,[2]SSIFSEP!$H$2:$I$7593,2,0)","v":"BLK"},"BLK","KRW","PRS",0,0,"1",3373,{"$f":"VLOOKUP(K2496,[1]EXRATE!C$3:F$43,4,0)","v":1},3373,"N",83,"",8.4199999999999997E-2,0,"","","","","","R","CRDC","","",20230926,160849,0.25,0,"PFS               AI80160   9998","KRHSBC",2,663805687]
["KR","HSBC",2,0,0,null,"KRHSBC002669836882","BLK",{"$f":"VLOOKUP(H2504,[2]SSIFSEP!$H$2:$I$7593,2,0)","v":"BLK"},"BLK","KRW","PRS",0,0,"1",8762,{"$f":"VLOOKUP(K2504,[1]EXRATE!C$3:F$43,4,0)","v":1},8762,"N",83,"",2.07E-2,0,"","","","","","R","CRDC","","",20230926,160849,0.25,0,"PFS               AI80160   9998","KRHSBC",2,669836882]
["KR","HSBC",2,0,0,null,"KRHSBC002672111882","BLK",{"$f":"VLOOKUP(H2509,[2]SSIFSEP!$H$2:$I$7593,2,0)","v":"BLK"},"BLK","KRW","PRS",0,0,"1",30358,{"$f":"VLOOKUP(K2509,[1]EXRATE!C$3:F$43,4,0)","v":1},30358,"N",83,"",0.24859999999999999,0,"","","","","","R","CRDC","","",20230926,160849,0.25,0,"PFS               AI80160   9998","KRHSBC",2,672111882]
["KR","HSBC",2,0,0,null,"KRHSBC002675056687","BLK",{"$f":"VLOOKUP(H2517,[2]SSIFSEP!$H$2:$I$7593,2,0)","v":"BLK"},"BLK","KRW","PRS",0,0,"1",27018,{"$f":"VLOOKUP(K2517,[1]EXRATE!C$3:F$43,4,0)","v":1},{"$f":"+P2517*Q2517","v":27018},"N",83,"",0.35959999999999998,0,"","","","","","R","CRDC","","",20230926,160849,0.25,0,"PFS               AI80160   9998","KRHSBC",2,675056687]
["KR","HSBC",2,0,0,null,"KRHSBC002679371882","BLK",{"$f":"VLOOKUP(H2524,[2]SSIFSEP!$H$2:$I$7593,2,0)","v":"BLK"},"BLK","KRW","PRS",0,0,"1",22354,{"$f":"VLOOKUP(K2524,[1]EXRATE!C$3:F$43,4,0)","v":1},22354,"N",83,"",0.1678,0,"","","","","","R","CRDC","","",20230926,160849,0.25,0,"PFS               AI80160   9998","KRHSBC",2,679371882]
["KR","HSBC",2,0,0,null,"KRHSBC002681955882","BLK",{"$f":"VLOOKUP(H2529,[2]SSIFSEP!$H$2:$I$7593,2,0)","v":"BLK"},"BLK","KRW","PRS",0,0,"1",64707,{"$f":"VLOOKUP(K2529,[1]EXRATE!C$3:F$43,4,0)","v":1},64707,"N",83,"",0.24360000000000001,0,"","","","","","R","CRDC","","",20230926,160849,0.25,0,"PFS               AI80160   9998","KRHSBC",2,681955882]
["KR","HSBC",2,0,0,null,"KRHSBC002689735687","BLK",{"$f":"VLOOKUP(H2537,[2]SSIFSEP!$H$2:$I$7593,2,0)","v":"BLK"},"BLK","KRW","PRS",0,0,"1",9946,{"$f":"VLOOKUP(K2537,[1]EXRATE!C$3:F$43,4,0)","v":1},9946,"N",83,"",0.15329999999999999,0,"","","","","","R","CRDC","","",20230926,160849,0.25,0,"PFS               AI80160   9998","KRHSBC",2,689735687]
["KR","HSBC",2,0,0,null,"KRHSBC002694453882","BLK",{"$f":"VLOOKUP(H2540,[2]SSIFSEP!$H$2:$I$7593,2,0)","v":"BLK"},"BLK","KRW","PRS",0,0,"1",32307,{"$f":"VLOOKUP(K2540,[1]EXRATE!C$3:F$43,4,0)","v":1},32307,"N",83,"",0.34320000000000001,0,"","","","","","R","CRDC","","",20230926,160849,0.25,0,"PFS               AI80160   9998","KRHSBC",2,694453882]
["KR","HSBC",2,0,0,null,"KRHSBC002701845HSBCNLNL01","UCD",{"$f":"VLOOKUP(H2549,[2]SSIFSEP!$H$2:$I$7593,2,0)","v":"미사용약정"},"Unused Credit Line","KRW","C13",1.2,0,"1",49746,{"$f":"VLOOKUP(K2549,[1]EXRATE!C$3:F$43,4,0)","v":1},49746,"",283,"",0,0,"","","","","","W","HUB","","",20230926,160848,0.01,40.854999999999997,"CIBM              MG30100","KRHSBC",2,"701845HSBCNLNL01"]
["KR","HSBC",2,0,0,null,"KRHSBC002703098HSBCNO/D01","UCD",{"$f":"VLOOKUP(H2557,[2]SSIFSEP!$H$2:$I$7593,2,0)","v":"미사용약정"},"Unused Credit Line","KRW","C13",3.1,0,"1",1113472,{"$f":"VLOOKUP(K2557,[1]EXRATE!C$3:F$43,4,0)","v":1},{"$f":"+P2557*Q2557","v":1113472},"",283,"",0,0,"","","","","","W","HUB","","",20230926,160848,0.04,40.854999999999997,"CIBM              MG30100","KRHSBC",2,"703098HSBCNO/D01"]
["KR","HSBC",2,0,0,null,"KRHSBC002703924HSBCNO/D01","UCD",{"$f":"VLOOKUP(H2562,[2]SSIFSEP!$H$2:$I$7593,2,0)","v":"미사용약정"},"Unused Credit Line","KRW","C13",4.3,0,"1",812970,{"$f":"VLOOKUP(K2562,[1]EXRATE!C$3:F$43,4,0)","v":1},812970,"",283,"",105.4004,0,"","","","","","W","HUB","","",20230926,160848,0.35,40.755000000000003,"CIBM              MG30100","KRHSBC",2,"703924HSBCNO/D01"]
["KR","HSBC",2,0,0,null,"KRHSBC002705275HSBCNODL02","UCD",{"$f":"VLOOKUP(H2571,[2]SSIFSEP!$H$2:$I$7593,2,0)","v":"미사용약정"},"Unused Credit Line","KRW","C13",2.2000000000000002,0,"1",7,{"$f":"VLOOKUP(K2571,[1]EXRATE!C$3:F$43,4,0)","v":1},7,"",283,"",0,0,"","","","","","W","HUB","","",20230926,160848,0.02,40.854999999999997,"CIBM              MG30100","KRHSBC",2,"705275HSBCNODL02"]
["KR","HSBC",2,0,0,null,"KRHSBC002706471HSBCNO/D01","UCD",{"$f":"VLOOKUP(H2577,[2]SSIFSEP!$H$2:$I$7593,2,0)","v":"미사용약정"},"Unused Credit Line","KRW","C13",2.1,0,"1",148685,{"$f":"VLOOKUP(K2577,[1]EXRATE!C$3:F$43,4,0)","v":1},148685,"",283,"",0.56369999999999998,0,"","","","","","W","HUB","","",20230926,160848,0.01,18.204999999999998,"CIBM              MG30100","KRHSBC",2,"706471HSBCNO/D01"]
["KR","HSBC",2,0,0,null,"KRHSBC002710572921","BLK",{"$f":"VLOOKUP(H2582,[2]SSIFSEP!$H$2:$I$7593,2,0)","v":"BLK"},"BLK","KRW","PRS",0,0,"1",9978,{"$f":"VLOOKUP(K2582,[1]EXRATE!C$3:F$43,4,0)","v":1},9978,"N",83,"",0.27250000000000002,0,"","","","","","R","CRDC","","",20230926,160849,0.25,0,"PFS               AI80160   9998","KRHSBC",2,710572921]
["KR","HSBC",2,0,0,null,"KRHSBC002715852HSBCNEXC03","UCD",{"$f":"VLOOKUP(H2590,[2]SSIFSEP!$H$2:$I$7593,2,0)","v":"미사용약정"},"Unused Credit Line","KRW","C13",1.2,0,"1",187,{"$f":"VLOOKUP(K2590,[1]EXRATE!C$3:F$43,4,0)","v":1},187,"",283,"",0,0,"","","","","","W","HUB","","",20230926,160848,0.01,40.854999999999997,"CIBM              MG30100","KRHSBC",2,"715852HSBCNEXC03"]
["KR","HSBC",2,0,0,null,"KRHSBC002715852HSBCNEXC08","UCD",{"$f":"VLOOKUP(H2594,[2]SSIFSEP!$H$2:$I$7593,2,0)","v":"미사용약정"},"Unused Credit Line","KRW","C13",1.2,0,"1",6,{"$f":"VLOOKUP(K2594,[1]EXRATE!C$3:F$43,4,0)","v":1},6,"",283,"",0,0,"","","","","","W","HUB","","",20230926,160848,0.01,40.854999999999997,"CIBM              MG30100","KRHSBC",2,"715852HSBCNEXC08"]
["KR","HSBC",2,0,0,null,"KRHSBC002715852HSBCNEXC17","UCD",{"$f":"VLOOKUP(H2602,[2]SSIFSEP!$H$2:$I$7593,2,0)","v":"미사용약정"},"Unused Credit Line","KRW","C13",1.2,0,"1",6,{"$f":"VLOOKUP(K2602,[1]EXRATE!C$3:F$43,4,0)","v":1},6,"",283,"",0,0,"","","","","","W","HUB","","",20230926,160848,0.01,40.854999999999997,"CIBM              MG30100","KRHSBC",2,"715852HSBCNEXC17"]
["KR","HSBC",2,0,0,null,"KRHSBC002715852HSBCNEXC25","UCD",{"$f":"VLOOKUP(H2610,[2]SSIFSEP!$H$2:$I$7593,2,0)","v":"미사용약정"},"Unused Credit Line","KRW","C13",1.2,0,"1",5,{"$f":"VLOOKUP(K2610,[1]EXRATE!C$3:F$43,4,0)","v":1},5,"",283,"",0,0,"","","","","","W","HUB","","",20230926,160848,0.01,40.854999999999997,"CIBM              MG30100","KRHSBC",2,"715852HSBCNEXC25"]
["KR","HSBC",2,0,0,null,"KRHSBC002715852HSBCNEXC30","UCD",{"$f":"VLOOKUP(H2615,[2]SSIFSEP!$H$2:$I$7593,2,0)","v":"미사용약정"},"Unused Credit Line","KRW","C13",1.2,0,"1",0,{"$f":"VLOOKUP(K2615,[1]EXRATE!C$3:F$43,4,0)","v":1},0,"",283,"",0,0,"","","","","","W","HUB","","",20230926,160848,0.01,40.854999999999997,"CIBM              MG30100","KRHSBC",2,"715852HSBCNEXC30"]
["KR","HSBC",2,0,0,null,"KRHSBC002715852HSBCNEXC41","UCD",{"$f":"VLOOKUP(H2625,[2]SSIFSEP!$H$2:$I$7593,2,0)","v":"미사용약정"},"Unused Credit Line","KRW","C13",1.2,0,"1",25,{"$f":"VLOOKUP(K2625,[1]EXRATE!C$3:F$43,4,0)","v":1},25,"",283,"",0,0,"","","","","","W","HUB","","",20230926,160848,0.01,40.854999999999997,"CIBM              MG30100","KRHSBC",2,"715852HSBCNEXC41"]
["KR","HSBC",2,0,0,null,"KRHSBC002716280882","BLK",{"$f":"VLOOKUP(H2627,[2]SSIFSEP!$H$2:$I$7593,2,0)","v":"BLK"},"BLK","KRW","PRS",0,0,"1",57937,{"$f":"VLOOKUP(K2627,[1]EXRATE!C$3:F$43,4,0)","v":1},57937,"N",83,"",0.12039999999999999,0,"","","","","","R","CRDC","","",20230926,160849,0.25,0,"PFS               AI80160   9998","KRHSBC",2,716280882]
["KR","HSBC",2,0,0,null,"KRHSBC002725885687","BLK",{"$f":"VLOOKUP(H2635,[2]SSIFSEP!$H$2:$I$7593,2,0)","v":"BLK"},"BLK","KRW","PRS",0,0,"1",759,{"$f":"VLOOKUP(K2635,[1]EXRATE!C$3:F$43,4,0)","v":1},759,"N",83,"",6.7000000000000004E-2,0,"","","","","","R","CRDC","","",20230926,160849,0.25,0,"PFS               AI80160   9998","KRHSBC",2,725885687]
["KR","HSBC",2,0,0,null,"KRHSBC002734382688","BLK",{"$f":"VLOOKUP(H2643,[2]SSIFSEP!$H$2:$I$7593,2,0)","v":"BLK"},"BLK","KRW","PRS",0,0,"1",17172,{"$f":"VLOOKUP(K2643,[1]EXRATE!C$3:F$43,4,0)","v":1},17172,"N",83,"",0.18340000000000001,0,"","","","","","R","CRDC","","",20230926,160849,0.25,0,"PFS               AI80160   9998","KRHSBC",2,734382688]
["KR","HSBC",2,0,0,null,"KRHSBC002736965882","BLK",{"$f":"VLOOKUP(H2648,[2]SSIFSEP!$H$2:$I$7593,2,0)","v":"BLK"},"BLK","KRW","PRS",0,0,"1",15598,{"$f":"VLOOKUP(K2648,[1]EXRATE!C$3:F$43,4,0)","v":1},15598,"N",83,"",0.22120000000000001,0,"","","","","","R","CRDC","","",20230926,160849,0.25,0,"PFS               AI80160   9998","KRHSBC",2,736965882]
["KR","HSBC",2,0,0,null,"KRHSBC002740421882","BLK",{"$f":"VLOOKUP(H2655,[2]SSIFSEP!$H$2:$I$7593,2,0)","v":"BLK"},"BLK","KRW","PRS",0,0,"1",14673,{"$f":"VLOOKUP(K2655,[1]EXRATE!C$3:F$43,4,0)","v":1},14673,"N",83,"",0.2167,0,"","","","","","R","CRDC","","",20230926,160849,0.25,0,"PFS               AI80160   9998","KRHSBC",2,740421882]
["KR","HSBC",2,0,0,null,"KRHSBC002746642882","BLK",{"$f":"VLOOKUP(H2663,[2]SSIFSEP!$H$2:$I$7593,2,0)","v":"BLK"},"BLK","KRW","PRS",0,0,"2R",1099826,{"$f":"VLOOKUP(K2663,[1]EXRATE!C$3:F$43,4,0)","v":1},1099826,"N",84,"",0.40699999999999997,0,"","","","","","R","CRDC","","",20230926,160849,20,0,"PFS               AI80160   9998","KRHSBC",2,746642882]
["KR","HSBC",2,0,0,null,"KRHSBC002749885882","BLK",{"$f":"VLOOKUP(H2668,[2]SSIFSEP!$H$2:$I$7593,2,0)","v":"BLK"},"BLK","KRW","PRS",0,0,"1",11759,{"$f":"VLOOKUP(K2668,[1]EXRATE!C$3:F$43,4,0)","v":1},11759,"N",83,"",4.0399999999999998E-2,0,"","","","","","R","CRDC","","",20230926,160849,0.25,0,"PFS               AI80160   9998","KRHSBC",2,749885882]
["KR","HSBC",2,0,0,null,"KRHSBC002759439882","BLK",{"$f":"VLOOKUP(H2679,[2]SSIFSEP!$H$2:$I$7593,2,0)","v":"BLK"},"BLK","KRW","PRS",0,0,"1",17681,{"$f":"VLOOKUP(K2679,[1]EXRATE!C$3:F$43,4,0)","v":1},17681,"N",83,"",0.28820000000000001,0,"","","","","","R","CRDC","","",20230926,160849,0.25,0,"PFS               AI80160   9998","KRHSBC",2,759439882]
["KR","HSBC",2,0,0,null,"KRHSBC002765493882","BLK",{"$f":"VLOOKUP(H2680,[2]SSIFSEP!$H$2:$I$7593,2,0)","v":"BLK"},"BLK","KRW","PRS",0,0,"1",17576,{"$f":"VLOOKUP(K2680,[1]EXRATE!C$3:F$43,4,0)","v":1},17576,"N",83,"",0.4032,0,"","","","","","R","CRDC","","",20230926,160849,0.25,0,"PFS               AI80160   9998","KRHSBC",2,765493882]
["KR","HSBC",2,0,0,null,"KRHSBC002776102882","BLK",{"$f":"VLOOKUP(H2688,[2]SSIFSEP!$H$2:$I$7593,2,0)","v":"BLK"},"BLK","KRW","PRS",0,0,"1",29938,{"$f":"VLOOKUP(K2688,[1]EXRATE!C$3:F$43,4,0)","v":1},29938,"N",83,"",0.18529999999999999,0,"","","","","","R","CRDC","","",20230926,160849,0.25,0,"PFS               AI80160   9998","KRHSBC",2,776102882]
["KR","HSBC",2,0,0,null,"KRHSBC002780120HSBCNO/D01","UCD",{"$f":"VLOOKUP(H2694,[2]SSIFSEP!$H$2:$I$7593,2,0)","v":"미사용약정"},"Unused Credit Line","KRW","C13",3.2,0,"1",434533,{"$f":"VLOOKUP(K2694,[1]EXRATE!C$3:F$43,4,0)","v":1},434533,"",283,"",0,0,"","","","","","W","HUB","","",20230926,160848,0.09,40.854999999999997,"CIBM              MG30100","KRHSBC",2,"780120HSBCNO/D01"]
["KR","HSBC",2,0,0,null,"KRHSBC002787455HSBCNO/D01","UCD",{"$f":"VLOOKUP(H2700,[2]SSIFSEP!$H$2:$I$7593,2,0)","v":"미사용약정"},"Unused Credit Line","KRW","MFS",3.2,0,"1",45025,{"$f":"VLOOKUP(K2700,[1]EXRATE!C$3:F$43,4,0)","v":1},45025,"",297,"",1.0148999999999999,0,"","","","","","W","HUB","","",20230926,160848,0.09,28.555,"CIBM              MG30100","KRHSBC",2,"787455HSBCNO/D01"]
["KR","HSBC",2,0,0,null,"KRHSBC002866168HSBCNLNL01","UCD",{"$f":"VLOOKUP(H2708,[2]SSIFSEP!$H$2:$I$7593,2,0)","v":"미사용약정"},"Unused Credit Line","KRW","C13",1.2,0,"1",16087,{"$f":"VLOOKUP(K2708,[1]EXRATE!C$3:F$43,4,0)","v":1},{"$f":"+P2708*Q2708","v":16087},"",283,"",0,0,"","","","","","W","HUB","","",20230926,160848,0.01,40.854999999999997,"CIBM              MG30100","KRHSBC",2,"866168HSBCNLNL01"]
["KR","HSBC",2,0,0,null,"KRHSBC003028917413","BLK",{"$f":"VLOOKUP(H2720,[2]SSIFSEP!$H$2:$I$7593,2,0)","v":"BLK"},"BLK","KRW","PRS",0,0,"2T",169190,{"$f":"VLOOKUP(K2720,[1]EXRATE!C$3:F$43,4,0)","v":1},169190,"N",85,"",2.3800000000000002E-2,0,"","","","","","R","CRDC","","",20230926,160849,20,0,"PFS               AI80160   9998","KRHSBC",3,28917413]
["KR","HSBC",2,0,0,null,"KRHSBC003065497882","BLK",{"$f":"VLOOKUP(H2723,[2]SSIFSEP!$H$2:$I$7593,2,0)","v":"BLK"},"BLK","KRW","PRS",0,0,"1",52551,{"$f":"VLOOKUP(K2723,[1]EXRATE!C$3:F$43,4,0)","v":1},52551,"N",83,"",0.18709999999999999,0,"","","","","","R","CRDC","","",20230926,160849,0.25,0,"PFS               AI80160   9998","KRHSBC",3,65497882]
["KR","HSBC",2,0,0,null,"KRHSBC003104130882","BLK",{"$f":"VLOOKUP(H2728,[2]SSIFSEP!$H$2:$I$7593,2,0)","v":"BLK"},"BLK","KRW","PRS",0,0,"1",1582,{"$f":"VLOOKUP(K2728,[1]EXRATE!C$3:F$43,4,0)","v":1},1582,"N",83,"",4.19E-2,0,"","","","","","R","CRDC","","",20230926,160849,0.25,0,"PFS               AI80160   9998","KRHSBC",3,104130882]
["KR","HSBC",2,0,0,null,"KRHSBC003149317882","BLK",{"$f":"VLOOKUP(H2740,[2]SSIFSEP!$H$2:$I$7593,2,0)","v":"BLK"},"BLK","KRW","PRS",0,0,"1",14008,{"$f":"VLOOKUP(K2740,[1]EXRATE!C$3:F$43,4,0)","v":1},14008,"N",83,"",7.1599999999999997E-2,0,"","","","","","R","CRDC","","",20230926,160849,0.25,0,"PFS               AI80160   9998","KRHSBC",3,149317882]
["KR","HSBC",2,0,0,null,"KRHSBC003168564882","BLK",{"$f":"VLOOKUP(H2741,[2]SSIFSEP!$H$2:$I$7593,2,0)","v":"BLK"},"BLK","KRW","PRS",0,0,"2T",1719257,{"$f":"VLOOKUP(K2741,[1]EXRATE!C$3:F$43,4,0)","v":1},1719257,"N",85,"",8.3299999999999999E-2,0,"","","","","","R","CRDC","","",20230926,160849,20,0,"PFS               AI80160   9998","KRHSBC",3,168564882]
["KR","HSBC",2,0,0,null,"KRHSBC003203908882","BLK",{"$f":"VLOOKUP(H2748,[2]SSIFSEP!$H$2:$I$7593,2,0)","v":"BLK"},"BLK","KRW","PRS",0,0,"1",9099,{"$f":"VLOOKUP(K2748,[1]EXRATE!C$3:F$43,4,0)","v":1},9099,"N",83,"",2.2499999999999999E-2,0,"","","","","","R","CRDC","","",20230926,160849,0.25,0,"PFS               AI80160   9998","KRHSBC",3,203908882]
["KR","HSBC",2,0,0,null,"KRHSBC003253796883","BLK",{"$f":"VLOOKUP(H2760,[2]SSIFSEP!$H$2:$I$7593,2,0)","v":"BLK"},"BLK","KRW","PRS",0,0,"1",11822,{"$f":"VLOOKUP(K2760,[1]EXRATE!C$3:F$43,4,0)","v":1},11822,"N",83,"",7.85E-2,0,"","","","","","R","CRDC","","",20230926,160849,0.25,0,"PFS               AI80160   9998","KRHSBC",3,253796883]
["KR","HSBC",2,0,0,null,"KRHSBC003254166882","BLK",{"$f":"VLOOKUP(H2761,[2]SSIFSEP!$H$2:$I$7593,2,0)","v":"BLK"},"BLK","KRW","PRS",0,0,"2R",902107,{"$f":"VLOOKUP(K2761,[1]EXRATE!C$3:F$43,4,0)","v":1},902107,"N",84,"",0.19270000000000001,0,"","","","","","R","CRDC","","",20230926,160849,20,0,"PFS               AI80160   9998","KRHSBC",3,254166882]
["KR","HSBC",2,0,0,null,"KRHSBC003318185882","BLK",{"$f":"VLOOKUP(H2773,[2]SSIFSEP!$H$2:$I$7593,2,0)","v":"BLK"},"BLK","KRW","PRS",0,0,"1",5350,{"$f":"VLOOKUP(K2773,[1]EXRATE!C$3:F$43,4,0)","v":1},5350,"N",83,"",1.8800000000000001E-2,0,"","","","","","R","CRDC","","",20230926,160849,0.25,0,"PFS               AI80160   9998","KRHSBC",3,318185882]
["KR","HSBC",2,0,0,null,"KRHSBC003337599882","BLK",{"$f":"VLOOKUP(H2777,[2]SSIFSEP!$H$2:$I$7593,2,0)","v":"BLK"},"BLK","KRW","PRS",0,0,"1",45395,{"$f":"VLOOKUP(K2777,[1]EXRATE!C$3:F$43,4,0)","v":1},45395,"N",83,"",0.26860000000000001,0,"","","","","","R","CRDC","","",20230926,160849,0.25,0,"PFS               AI80160   9998","KRHSBC",3,337599882]
["KR","HSBC",2,0,0,null,"KRHSBC003339777882","BLK",{"$f":"VLOOKUP(H2781,[2]SSIFSEP!$H$2:$I$7593,2,0)","v":"BLK"},"BLK","KRW","PRS",0,0,"1",31116,{"$f":"VLOOKUP(K2781,[1]EXRATE!C$3:F$43,4,0)","v":1},31116,"N",83,"",0.23380000000000001,0,"","","","","","R","CRDC","","",20230926,160849,0.25,0,"PFS               AI80160   9998","KRHSBC",3,339777882]
["KR","HSBC",2,0,0,null,"KRHSBC003351657882","BLK",{"$f":"VLOOKUP(H2793,[2]SSIFSEP!$H$2:$I$7593,2,0)","v":"BLK"},"BLK","KRW","PRS",0,0,"1",4848,{"$f":"VLOOKUP(K2793,[1]EXRATE!C$3:F$43,4,0)","v":1},4848,"N",83,"",5.8500000000000003E-2,0,"","","","","","R","CRDC","","",20230926,160849,0.25,0,"PFS               AI80160   9998","KRHSBC",3,351657882]
["KR","HSBC",2,0,0,null,"KRHSBC003362464882","BLK",{"$f":"VLOOKUP(H2801,[2]SSIFSEP!$H$2:$I$7593,2,0)","v":"BLK"},"BLK","KRW","PRS",0,0,"1",20880,{"$f":"VLOOKUP(K2801,[1]EXRATE!C$3:F$43,4,0)","v":1},20880,"N",83,"",0.20300000000000001,0,"","","","","","R","CRDC","","",20230926,160849,0.25,0,"PFS               AI80160   9998","KRHSBC",3,362464882]
["KR","HSBC",2,0,0,null,"KRHSBC003362605687","BLK",{"$f":"VLOOKUP(H2802,[2]SSIFSEP!$H$2:$I$7593,2,0)","v":"BLK"},"BLK","KRW","PRS",0,0,"1",1697,{"$f":"VLOOKUP(K2802,[1]EXRATE!C$3:F$43,4,0)","v":1},1697,"N",83,"",1.1900000000000001E-2,0,"","","","","","R","CRDC","","",20230926,160849,0.25,0,"PFS               AI80160   9998","KRHSBC",3,362605687]
["KR","HSBC",2,0,0,null,"KRHSBC003369725882","BLK",{"$f":"VLOOKUP(H2813,[2]SSIFSEP!$H$2:$I$7593,2,0)","v":"BLK"},"BLK","KRW","PRS",0,0,"1",8804,{"$f":"VLOOKUP(K2813,[1]EXRATE!C$3:F$43,4,0)","v":1},8804,"N",83,"",0.2412,0,"","","","","","R","CRDC","","",20230926,160849,0.25,0,"PFS               AI80160   9998","KRHSBC",3,369725882]
["KR","HSBC",2,0,0,null,"KRHSBC003373180882","BLK",{"$f":"VLOOKUP(H2821,[2]SSIFSEP!$H$2:$I$7593,2,0)","v":"BLK"},"BLK","KRW","PRS",0,0,"1",48847,{"$f":"VLOOKUP(K2821,[1]EXRATE!C$3:F$43,4,0)","v":1},48847,"N",83,"",0.19839999999999999,0,"","","","","","R","CRDC","","",20230926,160849,0.25,0,"PFS               AI80160   9998","KRHSBC",3,373180882]
["KR","HSBC",2,0,0,null,"KRHSBC003374733882","BLK",{"$f":"VLOOKUP(H2826,[2]SSIFSEP!$H$2:$I$7593,2,0)","v":"BLK"},"BLK","KRW","PRS",0,0,"1",31337,{"$f":"VLOOKUP(K2826,[1]EXRATE!C$3:F$43,4,0)","v":1},31337,"N",83,"",0.29449999999999998,0,"","","","","","R","CRDC","","",20230926,160849,0.25,0,"PFS               AI80160   9998","KRHSBC",3,374733882]
["KR","HSBC",2,0,0,null,"KRHSBC003375904882","BLK",{"$f":"VLOOKUP(H2831,[2]SSIFSEP!$H$2:$I$7593,2,0)","v":"BLK"},"BLK","KRW","PRS",0,0,"1",12899,{"$f":"VLOOKUP(K2831,[1]EXRATE!C$3:F$43,4,0)","v":1},12899,"N",83,"",0.2109,0,"","","","","","R","CRDC","","",20230926,160849,0.25,0,"PFS               AI80160   9998","KRHSBC",3,375904882]
["KR","HSBC",2,0,0,null,"KRHSBC003378718882","BLK",{"$f":"VLOOKUP(H2841,[2]SSIFSEP!$H$2:$I$7593,2,0)","v":"BLK"},"BLK","KRW","PRS",0,0,"1",69071,{"$f":"VLOOKUP(K2841,[1]EXRATE!C$3:F$43,4,0)","v":1},69071,"N",83,"",0.2442,0,"","","","","","R","CRDC","","",20230926,160849,0.25,0,"PFS               AI80160   9998","KRHSBC",3,378718882]
["KR","HSBC",2,0,0,null,"KRHSBC003379146882","UCD",{"$f":"VLOOKUP(H2846,[2]SSIFSEP!$H$2:$I$7593,2,0)","v":"미사용약정"},"Unused Credit Line","KRW","PRS",0,0,"1",0,{"$f":"VLOOKUP(K2846,[1]EXRATE!C$3:F$43,4,0)","v":1},0,"N",302,"",9.1200000000000003E-2,0,"","","","","","R","CRDC","","",20230926,160849,0.25,0,"PFS               MG30100   9998","KRHSBC",3,379146882]
["KR","HSBC",2,0,0,null,"KRHSBC003381779882","BLK",{"$f":"VLOOKUP(H2854,[2]SSIFSEP!$H$2:$I$7593,2,0)","v":"BLK"},"BLK","KRW","PRS",0,0,"1",50981,{"$f":"VLOOKUP(K2854,[1]EXRATE!C$3:F$43,4,0)","v":1},50981,"N",83,"",0.16420000000000001,0,"","","","","","R","CRDC","","",20230926,160849,0.25,0,"PFS               AI80160   9998","KRHSBC",3,381779882]
["KR","HSBC",2,0,0,null,"KRHSBC003382967882","BLK",{"$f":"VLOOKUP(H2860,[2]SSIFSEP!$H$2:$I$7593,2,0)","v":"BLK"},"BLK","KRW","PRS",0,0,"1",4344,{"$f":"VLOOKUP(K2860,[1]EXRATE!C$3:F$43,4,0)","v":1},4344,"N",83,"",2.9700000000000001E-2,0,"","","","","","R","CRDC","","",20230926,160849,0.25,0,"PFS               AI80160   9998","KRHSBC",3,382967882]
["KR","HSBC",2,0,0,null,"KRHSBC003384005882","BLK",{"$f":"VLOOKUP(H2866,[2]SSIFSEP!$H$2:$I$7593,2,0)","v":"BLK"},"BLK","KRW","PRS",0,0,"1",26821,{"$f":"VLOOKUP(K2866,[1]EXRATE!C$3:F$43,4,0)","v":1},26821,"N",83,"",0.15079999999999999,0,"","","","","","R","CRDC","","",20230926,160849,0.25,0,"PFS               AI80160   9998","KRHSBC",3,384005882]
["KR","HSBC",2,0,0,null,"KRHSBC003385713882","BLK",{"$f":"VLOOKUP(H2874,[2]SSIFSEP!$H$2:$I$7593,2,0)","v":"BLK"},"BLK","KRW","PRS",0,0,"1",33377,{"$f":"VLOOKUP(K2874,[1]EXRATE!C$3:F$43,4,0)","v":1},33377,"N",83,"",0.182,0,"","","","","","R","CRDC","","",20230926,160849,0.25,0,"PFS               AI80160   9998","KRHSBC",3,385713882]
["KR","HSBC",2,0,0,null,"KRHSBC003386190882","BLK",{"$f":"VLOOKUP(H2879,[2]SSIFSEP!$H$2:$I$7593,2,0)","v":"BLK"},"BLK","KRW","PRS",0,0,"1",18749,{"$f":"VLOOKUP(K2879,[1]EXRATE!C$3:F$43,4,0)","v":1},18749,"N",83,"",8.6800000000000002E-2,0,"","","","","","R","CRDC","","",20230926,160849,0.25,0,"PFS               AI80160   9998","KRHSBC",3,386190882]
["KR","HSBC",2,0,0,null,"KRHSBC003386950882","BLK",{"$f":"VLOOKUP(H2885,[2]SSIFSEP!$H$2:$I$7593,2,0)","v":"BLK"},"BLK","KRW","PRS",0,0,"1",31247,{"$f":"VLOOKUP(K2885,[1]EXRATE!C$3:F$43,4,0)","v":1},31247,"N",83,"",0.32119999999999999,0,"","","","","","R","CRDC","","",20230926,160849,0.25,0,"PFS               AI80160   9998","KRHSBC",3,386950882]
["KR","HSBC",2,0,0,null,"KRHSBC003388618882","BLK",{"$f":"VLOOKUP(H2894,[2]SSIFSEP!$H$2:$I$7593,2,0)","v":"BLK"},"BLK","KRW","PRS",0,0,"1",27509,{"$f":"VLOOKUP(K2894,[1]EXRATE!C$3:F$43,4,0)","v":1},27509,"N",83,"",0.1013,0,"","","","","","R","CRDC","","",20230926,160849,0.25,0,"PFS               AI80160   9998","KRHSBC",3,388618882]
["KR","HSBC",2,0,0,null,"KRHSBC003389111882","BLK",{"$f":"VLOOKUP(H2899,[2]SSIFSEP!$H$2:$I$7593,2,0)","v":"BLK"},"BLK","KRW","PRS",0,0,"1",20917,{"$f":"VLOOKUP(K2899,[1]EXRATE!C$3:F$43,4,0)","v":1},20917,"N",83,"",0.20899999999999999,0,"","","","","","R","CRDC","","",20230926,160849,0.25,0,"PFS               AI80160   9998","KRHSBC",3,389111882]
["KR","HSBC",2,0,0,null,"KRHSBC003390606883","BLK",{"$f":"VLOOKUP(H2907,[2]SSIFSEP!$H$2:$I$7593,2,0)","v":"BLK"},"BLK","KRW","PRS",0,0,"1",35624,{"$f":"VLOOKUP(K2907,[1]EXRATE!C$3:F$43,4,0)","v":1},35624,"N",83,"",0.25309999999999999,0,"","","","","","R","CRDC","","",20230926,160849,0.25,0,"PFS               AI80160   9998","KRHSBC",3,390606883]
["KR","HSBC",2,0,0,null,"KRHSBC003391372882","BLK",{"$f":"VLOOKUP(H2914,[2]SSIFSEP!$H$2:$I$7593,2,0)","v":"BLK"},"BLK","KRW","PRS",0,0,"1",4853,{"$f":"VLOOKUP(K2914,[1]EXRATE!C$3:F$43,4,0)","v":1},4853,"N",83,"",0.11700000000000001,0,"","","","","","R","CRDC","","",20230926,160849,0.25,0,"PFS               AI80160   9998","KRHSBC",3,391372882]
["KR","HSBC",2,0,0,null,"KRHSBC003393022882","BLK",{"$f":"VLOOKUP(H2919,[2]SSIFSEP!$H$2:$I$7593,2,0)","v":"BLK"},"BLK","KRW","PRS",0,0,"1",36081,{"$f":"VLOOKUP(K2919,[1]EXRATE!C$3:F$43,4,0)","v":1},36081,"N",83,"",0.2243,0,"","","","","","R","CRDC","","",20230926,160849,0.25,0,"PFS               AI80160   9998","KRHSBC",3,393022882]
["KR","HSBC",2,0,0,null,"KRHSBC003394178882","BLK",{"$f":"VLOOKUP(H2927,[2]SSIFSEP!$H$2:$I$7593,2,0)","v":"BLK"},"BLK","KRW","PRS",0,0,"1",60444,{"$f":"VLOOKUP(K2927,[1]EXRATE!C$3:F$43,4,0)","v":1},60444,"N",83,"",0.21010000000000001,0,"","","","","","R","CRDC","","",20230926,160849,0.25,0,"PFS               AI80160   9998","KRHSBC",3,394178882]
["KR","HSBC",2,0,0,null,"KRHSBC003394764882","BLK",{"$f":"VLOOKUP(H2932,[2]SSIFSEP!$H$2:$I$7593,2,0)","v":"BLK"},"BLK","KRW","PRS",0,0,"1",73381,{"$f":"VLOOKUP(K2932,[1]EXRATE!C$3:F$43,4,0)","v":1},73381,"N",83,"",0.20960000000000001,0,"","","","","","R","CRDC","","",20230926,160849,0.25,0,"PFS               AI80160   9998","KRHSBC",3,394764882]
["KR","HSBC",2,0,0,null,"KRHSBC003396249882","BLK",{"$f":"VLOOKUP(H2939,[2]SSIFSEP!$H$2:$I$7593,2,0)","v":"BLK"},"BLK","KRW","PRS",0,0,"1",27346,{"$f":"VLOOKUP(K2939,[1]EXRATE!C$3:F$43,4,0)","v":1},27346,"N",83,"",0.22209999999999999,0,"","","","","","R","CRDC","","",20230926,160849,0.25,0,"PFS               AI80160   9998","KRHSBC",3,396249882]
["KR","HSBC",2,0,0,null,"KRHSBC003397312882","BLK",{"$f":"VLOOKUP(H2944,[2]SSIFSEP!$H$2:$I$7593,2,0)","v":"BLK"},"BLK","KRW","PRS",0,0,"1",17498,{"$f":"VLOOKUP(K2944,[1]EXRATE!C$3:F$43,4,0)","v":1},17498,"N",83,"",0.28270000000000001,0,"","","","","","R","CRDC","","",20230926,160849,0.25,0,"PFS               AI80160   9998","KRHSBC",3,397312882]
["KR","HSBC",2,0,0,null,"KRHSBC003398336882","BLK",{"$f":"VLOOKUP(H2952,[2]SSIFSEP!$H$2:$I$7593,2,0)","v":"BLK"},"BLK","KRW","PRS",0,0,"1",6988,{"$f":"VLOOKUP(K2952,[1]EXRATE!C$3:F$43,4,0)","v":1},6988,"N",83,"",0.1484,0,"","","","","","R","CRDC","","",20230926,160849,0.25,0,"PFS               AI80160   9998","KRHSBC",3,398336882]
["KR","HSBC",2,0,0,null,"KRHSBC003399136882","BLK",{"$f":"VLOOKUP(H2960,[2]SSIFSEP!$H$2:$I$7593,2,0)","v":"BLK"},"BLK","KRW","PRS",0,0,"1",31926,{"$f":"VLOOKUP(K2960,[1]EXRATE!C$3:F$43,4,0)","v":1},31926,"N",83,"",0.13800000000000001,0,"","","","","","R","CRDC","","",20230926,160849,0.25,0,"PFS               AI80160   9998","KRHSBC",3,399136882]
["KR","HSBC",2,0,0,null,"KRHSBC003400140882","BLK",{"$f":"VLOOKUP(H2968,[2]SSIFSEP!$H$2:$I$7593,2,0)","v":"BLK"},"BLK","KRW","PRS",0,0,"1",30281,{"$f":"VLOOKUP(K2968,[1]EXRATE!C$3:F$43,4,0)","v":1},30281,"N",83,"",0.2732,0,"","","","","","R","CRDC","","",20230926,160849,0.25,0,"PFS               AI80160   9998","KRHSBC",3,400140882]
["KR","HSBC",2,0,0,null,"KRHSBC003400306883","BLK",{"$f":"VLOOKUP(H2972,[2]SSIFSEP!$H$2:$I$7593,2,0)","v":"BLK"},"BLK","KRW","PRS",0,0,"1",11892,{"$f":"VLOOKUP(K2972,[1]EXRATE!C$3:F$43,4,0)","v":1},11892,"N",83,"",0.30030000000000001,0,"","","","","","R","CRDC","","",20230926,160849,0.25,0,"PFS               AI80160   9998","KRHSBC",3,400306883]
["KR","HSBC",2,0,0,null,"KRHSBC003400967882","BLK",{"$f":"VLOOKUP(H2980,[2]SSIFSEP!$H$2:$I$7593,2,0)","v":"BLK"},"BLK","KRW","PRS",0,0,"1",1011,{"$f":"VLOOKUP(K2980,[1]EXRATE!C$3:F$43,4,0)","v":1},1011,"N",83,"",0.22320000000000001,0,"","","","","","R","CRDC","","",20230926,160849,0.25,0,"PFS               AI80160   9998","KRHSBC",3,400967882]
["KR","HSBC",2,0,0,null,"KRHSBC003401502882","BLK",{"$f":"VLOOKUP(H2985,[2]SSIFSEP!$H$2:$I$7593,2,0)","v":"BLK"},"BLK","KRW","PRS",0,0,"1",63831,{"$f":"VLOOKUP(K2985,[1]EXRATE!C$3:F$43,4,0)","v":1},63831,"N",83,"",0.24490000000000001,0,"","","","","","R","CRDC","","",20230926,160849,0.25,0,"PFS               AI80160   9998","KRHSBC",3,401502882]
["KR","HSBC",2,0,0,null,"KRHSBC003402237882","BLK",{"$f":"VLOOKUP(H2993,[2]SSIFSEP!$H$2:$I$7593,2,0)","v":"BLK"},"BLK","KRW","PRS",0,0,"1",17808,{"$f":"VLOOKUP(K2993,[1]EXRATE!C$3:F$43,4,0)","v":1},17808,"N",83,"",0.16450000000000001,0,"","","","","","R","CRDC","","",20230926,160849,0.25,0,"PFS               AI80160   9998","KRHSBC",3,402237882]
["KR","HSBC",2,0,0,null,"KRHSBC003402690882","BLK",{"$f":"VLOOKUP(H2997,[2]SSIFSEP!$H$2:$I$7593,2,0)","v":"BLK"},"BLK","KRW","PRS",0,0,"1",2783,{"$f":"VLOOKUP(K2997,[1]EXRATE!C$3:F$43,4,0)","v":1},2783,"N",83,"",9.1999999999999998E-2,0,"","","","","","R","CRDC","","",20230926,160849,0.25,0,"PFS               AI80160   9998","KRHSBC",3,402690882]
["KR","HSBC",2,0,0,null,"KRHSBC003403730882","BLK",{"$f":"VLOOKUP(H3005,[2]SSIFSEP!$H$2:$I$7593,2,0)","v":"BLK"},"BLK","KRW","PRS",0,0,"1",56731,{"$f":"VLOOKUP(K3005,[1]EXRATE!C$3:F$43,4,0)","v":1},56731,"N",83,"",0.20799999999999999,0,"","","","","","R","CRDC","","",20230926,160849,0.25,0,"PFS               AI80160   9998","KRHSBC",3,403730882]
["KR","HSBC",2,0,0,null,"KRHSBC003405123882","BLK",{"$f":"VLOOKUP(H3013,[2]SSIFSEP!$H$2:$I$7593,2,0)","v":"BLK"},"BLK","KRW","PRS",0,0,"1",23466,{"$f":"VLOOKUP(K3013,[1]EXRATE!C$3:F$43,4,0)","v":1},23466,"N",83,"",0.11210000000000001,0,"","","","","","R","CRDC","","",20230926,160849,0.25,0,"PFS               AI80160   9998","KRHSBC",3,405123882]
["KR","HSBC",2,0,0,null,"KRHSBC003406501882","BLK",{"$f":"VLOOKUP(H3022,[2]SSIFSEP!$H$2:$I$7593,2,0)","v":"BLK"},"BLK","KRW","PRS",0,0,"1",32669,{"$f":"VLOOKUP(K3022,[1]EXRATE!C$3:F$43,4,0)","v":1},32669,"N",83,"",0.29099999999999998,0,"","","","","","R","CRDC","","",20230926,160849,0.25,0,"PFS               AI80160   9998","KRHSBC",3,406501882]
["KR","HSBC",2,0,0,null,"KRHSBC003406840882","BLK",{"$f":"VLOOKUP(H3025,[2]SSIFSEP!$H$2:$I$7593,2,0)","v":"BLK"},"BLK","KRW","PRS",0,0,"1",3339,{"$f":"VLOOKUP(K3025,[1]EXRATE!C$3:F$43,4,0)","v":1},3339,"N",83,"",8.8900000000000007E-2,0,"","","","","","R","CRDC","","",20230926,160849,0.25,0,"PFS               AI80160   9998","KRHSBC",3,406840882]
["KR","HSBC",2,0,0,null,"KRHSBC003407434687","BLK",{"$f":"VLOOKUP(H3033,[2]SSIFSEP!$H$2:$I$7593,2,0)","v":"BLK"},"BLK","KRW","PRS",0,0,"1",18960,{"$f":"VLOOKUP(K3033,[1]EXRATE!C$3:F$43,4,0)","v":1},18960,"N",83,"",0.44319999999999998,0,"","","","","","R","CRDC","","",20230926,160849,0.25,0,"PFS               AI80160   9998","KRHSBC",3,407434687]
["KR","HSBC",2,0,0,null,"KRHSBC003407897882","BLK",{"$f":"VLOOKUP(H3038,[2]SSIFSEP!$H$2:$I$7593,2,0)","v":"BLK"},"BLK","KRW","PRS",0,0,"1",25049,{"$f":"VLOOKUP(K3038,[1]EXRATE!C$3:F$43,4,0)","v":1},25049,"N",83,"",0.27310000000000001,0,"","","","","","R","CRDC","","",20230926,160849,0.25,0,"PFS               AI80160   9998","KRHSBC",3,407897882]
["KR","HSBC",2,0,0,null,"KRHSBC003409265882","BLK",{"$f":"VLOOKUP(H3047,[2]SSIFSEP!$H$2:$I$7593,2,0)","v":"BLK"},"BLK","KRW","PRS",0,0,"1",1751,{"$f":"VLOOKUP(K3047,[1]EXRATE!C$3:F$43,4,0)","v":1},1751,"N",83,"",0.23849999999999999,0,"","","","","","R","CRDC","","",20230926,160849,0.25,0,"PFS               AI80160   9998","KRHSBC",3,409265882]
["KR","HSBC",2,0,0,null,"KRHSBC004072468413","BLK",{"$f":"VLOOKUP(H3057,[2]SSIFSEP!$H$2:$I$7593,2,0)","v":"BLK"},"BLK","KRW","PRS",0,0,"1",7249,{"$f":"VLOOKUP(K3057,[1]EXRATE!C$3:F$43,4,0)","v":1},7249,"N",83,"",2.7900000000000001E-2,0,"","","","","","R","CRDC","","",20230926,160849,0.25,0,"PFS               AI80160   9998","KRHSBC",4,72468413]
["KR","HSBC",2,0,0,null,"KRHSBC004075693207","BLK",{"$f":"VLOOKUP(H3058,[2]SSIFSEP!$H$2:$I$7593,2,0)","v":"BLK"},"BLK","KRW","PRS",0,0,"1",7462,{"$f":"VLOOKUP(K3058,[1]EXRATE!C$3:F$43,4,0)","v":1},7462,"N",83,"",2.64E-2,0,"","","","","","R","CRDC","","",20230926,160849,0.25,0,"PFS               AI80160   9998","KRHSBC",4,75693207]
["KR","HSBC",2,0,0,null,"KRHSBC004102075413","BLK",{"$f":"VLOOKUP(H3066,[2]SSIFSEP!$H$2:$I$7593,2,0)","v":"BLK"},"BLK","KRW","PRS",0,0,"1",8190,{"$f":"VLOOKUP(K3066,[1]EXRATE!C$3:F$43,4,0)","v":1},8190,"N",83,"",6.0499999999999998E-2,0,"","","","","","R","CRDC","","",20230926,160849,0.25,0,"PFS               AI80160   9998","KRHSBC",4,102075413]
["KR","HSBC",2,0,0,null,"KRHSBC004133534882","BLK",{"$f":"VLOOKUP(H3076,[2]SSIFSEP!$H$2:$I$7593,2,0)","v":"BLK"},"BLK","KRW","PRS",0,0,"1",35137,{"$f":"VLOOKUP(K3076,[1]EXRATE!C$3:F$43,4,0)","v":1},35137,"N",83,"",4.6800000000000001E-2,0,"","","","","","R","CRDC","","",20230926,160849,0.25,0,"PFS               AI80160   9998","KRHSBC",4,133534882]
["KR","HSBC",2,0,0,null,"KRHSBC004151296882","BLK",{"$f":"VLOOKUP(H3078,[2]SSIFSEP!$H$2:$I$7593,2,0)","v":"BLK"},"BLK","KRW","PRS",0,0,"1",66809,{"$f":"VLOOKUP(K3078,[1]EXRATE!C$3:F$43,4,0)","v":1},66809,"N",83,"",0.13919999999999999,0,"","","","","","R","CRDC","","",20230926,160849,0.25,0,"PFS               AI80160   9998","KRHSBC",4,151296882]
["KR","HSBC",2,0,0,null,"KRHSBC005040928882","BLK",{"$f":"VLOOKUP(H3090,[2]SSIFSEP!$H$2:$I$7593,2,0)","v":"BLK"},"BLK","KRW","PRS",0,0,"1",35097,{"$f":"VLOOKUP(K3090,[1]EXRATE!C$3:F$43,4,0)","v":1},35097,"N",83,"",0.2326,0,"","","","","","R","CRDC","","",20230926,160849,0.25,0,"PFS               AI80160   9998","KRHSBC",5,40928882]
["KR","HSBC",2,0,0,null,"KRHSBC005050174413","BLK",{"$f":"VLOOKUP(H3098,[2]SSIFSEP!$H$2:$I$7593,2,0)","v":"BLK"},"BLK","KRW","PRS",0,0,"1",1474,{"$f":"VLOOKUP(K3098,[1]EXRATE!C$3:F$43,4,0)","v":1},1474,"N",83,"",4.9799999999999997E-2,0,"","","","","","R","CRDC","","",20230926,160849,0.25,0,"PFS               AI80160   9998","KRHSBC",5,50174413]
["KR","HSBC",2,0,0,null,"KRHSBC005054705413","BLK",{"$f":"VLOOKUP(H3101,[2]SSIFSEP!$H$2:$I$7593,2,0)","v":"BLK"},"BLK","KRW","PRS",0,0,"1",1923,{"$f":"VLOOKUP(K3101,[1]EXRATE!C$3:F$43,4,0)","v":1},1923,"N",83,"",3.2500000000000001E-2,0,"","","","","","R","CRDC","","",20230926,160849,0.25,0,"PFS               AI80160   9998","KRHSBC",5,54705413]
["KR","HSBC",2,0,0,null,"KRHSBC005089578413","BLK",{"$f":"VLOOKUP(H3110,[2]SSIFSEP!$H$2:$I$7593,2,0)","v":"BLK"},"BLK","KRW","PRS",0,0,"1",2119,{"$f":"VLOOKUP(K3110,[1]EXRATE!C$3:F$43,4,0)","v":1},2119,"N",83,"",0.2293,0,"","","","","","R","CRDC","","",20230926,160849,0.25,0,"PFS               AI80160   9998","KRHSBC",5,89578413]
["KR","HSBC",2,0,0,null,"KRHSBC005135801207","BLK",{"$f":"VLOOKUP(H3118,[2]SSIFSEP!$H$2:$I$7593,2,0)","v":"BLK"},"BLK","KRW","PRS",0,0,"1",37539,{"$f":"VLOOKUP(K3118,[1]EXRATE!C$3:F$43,4,0)","v":1},37539,"N",83,"",0.10879999999999999,0,"","","","","","R","CRDC","","",20230926,160849,0.25,0,"PFS               AI80160   9998","KRHSBC",5,135801207]
["KR","HSBC",2,0,0,null,"KRHSBC005154760882","BLK",{"$f":"VLOOKUP(H3122,[2]SSIFSEP!$H$2:$I$7593,2,0)","v":"BLK"},"BLK","KRW","PRS",0,0,"1",18458,{"$f":"VLOOKUP(K3122,[1]EXRATE!C$3:F$43,4,0)","v":1},18458,"N",83,"",0.1865,0,"","","","","","R","CRDC","","",20230926,160849,0.25,0,"PFS               AI80160   9998","KRHSBC",5,154760882]
["KR","HSBC",2,0,0,null,"KRHSBC005182704920","BLK",{"$f":"VLOOKUP(H3130,[2]SSIFSEP!$H$2:$I$7593,2,0)","v":"BLK"},"BLK","KRW","PRS",0,0,"1",4244,{"$f":"VLOOKUP(K3130,[1]EXRATE!C$3:F$43,4,0)","v":1},4244,"N",83,"",0.1033,0,"","","","","","R","CRDC","","",20230926,160849,0.25,0,"PFS               AI80160   9998","KRHSBC",5,182704920]
["KR","HSBC",2,0,0,null,"KRHSBC005191341687","BLK",{"$f":"VLOOKUP(H3138,[2]SSIFSEP!$H$2:$I$7593,2,0)","v":"BLK"},"BLK","KRW","PRS",0,0,"1",64455,{"$f":"VLOOKUP(K3138,[1]EXRATE!C$3:F$43,4,0)","v":1},64455,"N",83,"",0.1056,0,"","","","","","R","CRDC","","",20230926,160849,0.25,0,"PFS               AI80160   9998","KRHSBC",5,191341687]
["KR","HSBC",2,0,0,null,"KRHSBC005194006883","BLK",{"$f":"VLOOKUP(H3143,[2]SSIFSEP!$H$2:$I$7593,2,0)","v":"BLK"},"BLK","KRW","PRS",0,0,"1",45612,{"$f":"VLOOKUP(K3143,[1]EXRATE!C$3:F$43,4,0)","v":1},45612,"N",83,"",0.35120000000000001,0,"","","","","","R","CRDC","","",20230926,160849,0.25,0,"PFS               AI80160   9998","KRHSBC",5,194006883]
["KR","HSBC",2,0,0,null,"KRHSBC005197009882","BLK",{"$f":"VLOOKUP(H3151,[2]SSIFSEP!$H$2:$I$7593,2,0)","v":"BLK"},"BLK","KRW","PRS",0,0,"1",7744,{"$f":"VLOOKUP(K3151,[1]EXRATE!C$3:F$43,4,0)","v":1},7744,"N",83,"",0.15129999999999999,0,"","","","","","R","CRDC","","",20230926,160849,0.25,0,"PFS               AI80160   9998","KRHSBC",5,197009882]
["KR","HSBC",2,0,0,null,"KRHSBC005198767882","BLK",{"$f":"VLOOKUP(H3158,[2]SSIFSEP!$H$2:$I$7593,2,0)","v":"BLK"},"BLK","KRW","PRS",0,0,"1",12433,{"$f":"VLOOKUP(K3158,[1]EXRATE!C$3:F$43,4,0)","v":1},12433,"N",83,"",0.15659999999999999,0,"","","","","","R","CRDC","","",20230926,160849,0.25,0,"PFS               AI80160   9998","KRHSBC",5,198767882]
["KR","HSBC",2,0,0,null,"KRHSBC005200167882","BLK",{"$f":"VLOOKUP(H3163,[2]SSIFSEP!$H$2:$I$7593,2,0)","v":"BLK"},"BLK","KRW","PRS",0,0,"1",14313,{"$f":"VLOOKUP(K3163,[1]EXRATE!C$3:F$43,4,0)","v":1},14313,"N",83,"",0.15870000000000001,0,"","","","","","R","CRDC","","",20230926,160849,0.25,0,"PFS               AI80160   9998","KRHSBC",5,200167882]
["KR","HSBC",2,0,0,null,"KRHSBC005203278882","BLK",{"$f":"VLOOKUP(H3171,[2]SSIFSEP!$H$2:$I$7593,2,0)","v":"BLK"},"BLK","KRW","PRS",0,0,"1",21552,{"$f":"VLOOKUP(K3171,[1]EXRATE!C$3:F$43,4,0)","v":1},21552,"N",83,"",0.20250000000000001,0,"","","","","","R","CRDC","","",20230926,160849,0.25,0,"PFS               AI80160   9998","KRHSBC",5,203278882]
["KR","HSBC",2,0,0,null,"KRHSBC005204466882","BLK",{"$f":"VLOOKUP(H3176,[2]SSIFSEP!$H$2:$I$7593,2,0)","v":"BLK"},"BLK","KRW","PRS",0,0,"1",82523,{"$f":"VLOOKUP(K3176,[1]EXRATE!C$3:F$43,4,0)","v":1},82523,"N",83,"",0.13339999999999999,0,"","","","","","R","CRDC","","",20230926,160849,0.25,0,"PFS               AI80160   9998","KRHSBC",5,204466882]
["KR","HSBC",2,0,0,null,"KRHSBC005205042882","BLK",{"$f":"VLOOKUP(H3183,[2]SSIFSEP!$H$2:$I$7593,2,0)","v":"BLK"},"BLK","KRW","PRS",0,0,"1",32337,{"$f":"VLOOKUP(K3183,[1]EXRATE!C$3:F$43,4,0)","v":1},32337,"N",83,"",0.22439999999999999,0,"","","","","","R","CRDC","","",20230926,160849,0.25,0,"PFS               AI80160   9998","KRHSBC",5,205042882]
["KR","HSBC",2,0,0,null,"KRHSBC005206487882","BLK",{"$f":"VLOOKUP(H3191,[2]SSIFSEP!$H$2:$I$7593,2,0)","v":"BLK"},"BLK","KRW","PRS",0,0,"1",34200,{"$f":"VLOOKUP(K3191,[1]EXRATE!C$3:F$43,4,0)","v":1},34200,"N",83,"",0.2576,0,"","","","","","R","CRDC","","",20230926,160849,0.25,0,"PFS               AI80160   9998","KRHSBC",5,206487882]
["KR","HSBC",2,0,0,null,"KRHSBC006012017882","BLK",{"$f":"VLOOKUP(H3196,[2]SSIFSEP!$H$2:$I$7593,2,0)","v":"BLK"},"BLK","KRW","PRS",0,0,"1",3820,{"$f":"VLOOKUP(K3196,[1]EXRATE!C$3:F$43,4,0)","v":1},3820,"N",83,"",0.13420000000000001,0,"","","","","","R","CRDC","","",20230926,160849,0.25,0,"PFS               AI80160   9998","KRHSBC",6,12017882]
["KR","HSBC",2,0,0,null,"KRHSBC006028534882","BLK",{"$f":"VLOOKUP(H3205,[2]SSIFSEP!$H$2:$I$7593,2,0)","v":"BLK"},"BLK","KRW","PRS",0,0,"1",29609,{"$f":"VLOOKUP(K3205,[1]EXRATE!C$3:F$43,4,0)","v":1},29609,"N",83,"",0.20710000000000001,0,"","","","","","R","CRDC","","",20230926,160849,0.25,0,"PFS               AI80160   9998","KRHSBC",6,28534882]
["KR","HSBC",2,0,0,null,"KRHSBC006032346882","BLK",{"$f":"VLOOKUP(H3211,[2]SSIFSEP!$H$2:$I$7593,2,0)","v":"BLK"},"BLK","KRW","PRS",0,0,"1",20198,{"$f":"VLOOKUP(K3211,[1]EXRATE!C$3:F$43,4,0)","v":1},20198,"N",83,"",0.17169999999999999,0,"","","","","","R","CRDC","","",20230926,160849,0.25,0,"PFS               AI80160   9998","KRHSBC",6,32346882]
["KR","HSBC",2,0,0,null,"KRHSBC006050561413","BLK",{"$f":"VLOOKUP(H3216,[2]SSIFSEP!$H$2:$I$7593,2,0)","v":"BLK"},"BLK","KRW","PRS",0,0,"1",5465,{"$f":"VLOOKUP(K3216,[1]EXRATE!C$3:F$43,4,0)","v":1},5465,"N",83,"",3.1099999999999999E-2,0,"","","","","","R","CRDC","","",20230926,160849,0.25,0,"PFS               AI80160   9998","KRHSBC",6,50561413]
["KR","HSBC",2,0,0,null,"KRHSBC006062442882","BLK",{"$f":"VLOOKUP(H3224,[2]SSIFSEP!$H$2:$I$7593,2,0)","v":"BLK"},"BLK","KRW","PRS",0,0,"2R",915523,{"$f":"VLOOKUP(K3224,[1]EXRATE!C$3:F$43,4,0)","v":1},915523,"N",84,"",0.4572,0,"","","","","","R","CRDC","","",20230926,160849,20,0,"PFS               AI80160   9998","KRHSBC",6,62442882]
["KR","HSBC",2,0,0,null,"KRHSBC006072557207","BLK",{"$f":"VLOOKUP(H3228,[2]SSIFSEP!$H$2:$I$7593,2,0)","v":"BLK"},"BLK","KRW","PRS",0,0,"1",18526,{"$f":"VLOOKUP(K3228,[1]EXRATE!C$3:F$43,4,0)","v":1},18526,"N",83,"",0.1394,0,"","","","","","R","CRDC","","",20230926,160849,0.25,0,"PFS               AI80160   9998","KRHSBC",6,72557207]
["KR","HSBC",2,0,0,null,"KRHSBC006082465883","BLK",{"$f":"VLOOKUP(H3236,[2]SSIFSEP!$H$2:$I$7593,2,0)","v":"BLK"},"BLK","KRW","PRS",0,0,"1",632,{"$f":"VLOOKUP(K3236,[1]EXRATE!C$3:F$43,4,0)","v":1},632,"N",83,"",9.4399999999999998E-2,0,"","","","","","R","CRDC","","",20230926,160849,0.25,0,"PFS               AI80160   9998","KRHSBC",6,82465883]
["KR","HSBC",2,0,0,null,"KRHSBC006095780413","BLK",{"$f":"VLOOKUP(H3244,[2]SSIFSEP!$H$2:$I$7593,2,0)","v":"BLK"},"BLK","KRW","PRS",0,0,"1",5258,{"$f":"VLOOKUP(K3244,[1]EXRATE!C$3:F$43,4,0)","v":1},5258,"N",83,"",2.9899999999999999E-2,0,"","","","","","R","CRDC","","",20230926,160849,0.25,0,"PFS               AI80160   9998","KRHSBC",6,95780413]
["KR","HSBC",2,0,0,null,"KRHSBC006117444413","BLK",{"$f":"VLOOKUP(H3249,[2]SSIFSEP!$H$2:$I$7593,2,0)","v":"BLK"},"BLK","KRW","PRS",0,0,"1",19497,{"$f":"VLOOKUP(K3249,[1]EXRATE!C$3:F$43,4,0)","v":1},19497,"N",83,"",7.1199999999999999E-2,0,"","","","","","R","CRDC","","",20230926,160849,0.25,0,"PFS               AI80160   9998","KRHSBC",6,117444413]
["KR","HSBC",2,0,0,null,"KRHSBC006137970207","BLK",{"$f":"VLOOKUP(H3259,[2]SSIFSEP!$H$2:$I$7593,2,0)","v":"BLK"},"BLK","KRW","PRS",0,0,"1",46980,{"$f":"VLOOKUP(K3259,[1]EXRATE!C$3:F$43,4,0)","v":1},46980,"N",83,"",0.30809999999999998,0,"","","","","","R","CRDC","","",20230926,160849,0.25,0,"PFS               AI80160   9998","KRHSBC",6,137970207]
["KR","HSBC",2,0,0,null,"KRHSBC006144232882","BLK",{"$f":"VLOOKUP(H3264,[2]SSIFSEP!$H$2:$I$7593,2,0)","v":"BLK"},"BLK","KRW","PRS",0,0,"1",38808,{"$f":"VLOOKUP(K3264,[1]EXRATE!C$3:F$43,4,0)","v":1},38808,"N",83,"",0.315,0,"","","","","","R","CRDC","","",20230926,160849,0.25,0,"PFS               AI80160   9998","KRHSBC",6,144232882]
["KR","HSBC",2,0,0,null,"KRHSBC006149025883","BLK",{"$f":"VLOOKUP(H3269,[2]SSIFSEP!$H$2:$I$7593,2,0)","v":"BLK"},"BLK","KRW","PRS",0,0,"2R",332080,{"$f":"VLOOKUP(K3269,[1]EXRATE!C$3:F$43,4,0)","v":1},332080,"N",84,"",0.24490000000000001,0,"","","","","","R","CRDC","","",20230926,160849,20,0,"PFS               AI80160   9998","KRHSBC",6,149025883]
["KR","HSBC",2,0,0,null,"KRHSBC006165724882","BLK",{"$f":"VLOOKUP(H3277,[2]SSIFSEP!$H$2:$I$7593,2,0)","v":"BLK"},"BLK","KRW","PRS",0,0,"1",51213,{"$f":"VLOOKUP(K3277,[1]EXRATE!C$3:F$43,4,0)","v":1},51213,"N",83,"",0.129,0,"","","","","","R","CRDC","","",20230926,160849,0.25,0,"PFS               AI80160   9998","KRHSBC",6,165724882]
["KR","HSBC",2,0,0,null,"KRHSBC007004666882","BLK",{"$f":"VLOOKUP(H3282,[2]SSIFSEP!$H$2:$I$7593,2,0)","v":"BLK"},"BLK","KRW","PRS",0,0,"1",14457,{"$f":"VLOOKUP(K3282,[1]EXRATE!C$3:F$43,4,0)","v":1},14457,"N",83,"",2.8500000000000001E-2,0,"","","","","","R","CRDC","","",20230926,160849,0.25,0,"PFS               AI80160   9998","KRHSBC",7,4666882]
["KR","HSBC",2,0,0,null,"KRHSBC007022452207","BLK",{"$f":"VLOOKUP(H3289,[2]SSIFSEP!$H$2:$I$7593,2,0)","v":"BLK"},"BLK","KRW","PRS",0,0,"1",8854,{"$f":"VLOOKUP(K3289,[1]EXRATE!C$3:F$43,4,0)","v":1},8854,"N",83,"",3.8600000000000002E-2,0,"","","","","","R","CRDC","","",20230926,160849,0.25,0,"PFS               AI80160   9998","KRHSBC",7,22452207]
["KR","HSBC",2,0,0,null,"KRHSBC007034598882","BLK",{"$f":"VLOOKUP(H3297,[2]SSIFSEP!$H$2:$I$7593,2,0)","v":"BLK"},"BLK","KRW","PRS",0,0,"1",16696,{"$f":"VLOOKUP(K3297,[1]EXRATE!C$3:F$43,4,0)","v":1},16696,"N",83,"",0.1353,0,"","","","","","R","CRDC","","",20230926,160849,0.25,0,"PFS               AI80160   9998","KRHSBC",7,34598882]
["KR","HSBC",2,0,0,null,"KRHSBC007048606413","BLK",{"$f":"VLOOKUP(H3302,[2]SSIFSEP!$H$2:$I$7593,2,0)","v":"BLK"},"BLK","KRW","PRS",0,0,"1",3235,{"$f":"VLOOKUP(K3302,[1]EXRATE!C$3:F$43,4,0)","v":1},3235,"N",83,"",4.4699999999999997E-2,0,"","","","","","R","CRDC","","",20230926,160849,0.25,0,"PFS               AI80160   9998","KRHSBC",7,48606413]
["KR","HSBC",2,0,0,null,"KRHSBC007083041882","BLK",{"$f":"VLOOKUP(H3313,[2]SSIFSEP!$H$2:$I$7593,2,0)","v":"BLK"},"BLK","KRW","PRS",0,0,"1",2753,{"$f":"VLOOKUP(K3313,[1]EXRATE!C$3:F$43,4,0)","v":1},2753,"N",83,"",0.1946,0,"","","","","","R","CRDC","","",20230926,160849,0.25,0,"PFS               AI80160   9998","KRHSBC",7,83041882]
["KR","HSBC",2,0,0,null,"KRHSBC007092695882","BLK",{"$f":"VLOOKUP(H3314,[2]SSIFSEP!$H$2:$I$7593,2,0)","v":"BLK"},"BLK","KRW","PRS",0,0,"1",5768,{"$f":"VLOOKUP(K3314,[1]EXRATE!C$3:F$43,4,0)","v":1},5768,"N",83,"",0.2374,0,"","","","","","R","CRDC","","",20230926,160849,0.25,0,"PFS               AI80160   9998","KRHSBC",7,92695882]
["KR","HSBC",2,0,0,null,"KRHSBC008016875413","BLK",{"$f":"VLOOKUP(H3322,[2]SSIFSEP!$H$2:$I$7593,2,0)","v":"BLK"},"BLK","KRW","PRS",0,0,"1",9280,{"$f":"VLOOKUP(K3322,[1]EXRATE!C$3:F$43,4,0)","v":1},9280,"N",83,"",4.6300000000000001E-2,0,"","","","","","R","CRDC","","",20230926,160849,0.25,0,"PFS               AI80160   9998","KRHSBC",8,16875413]
["KR","HSBC",2,0,0,null,"KRHSBC008040404882","BLK",{"$f":"VLOOKUP(H3330,[2]SSIFSEP!$H$2:$I$7593,2,0)","v":"BLK"},"BLK","KRW","PRS",0,0,"1",31577,{"$f":"VLOOKUP(K3330,[1]EXRATE!C$3:F$43,4,0)","v":1},31577,"N",83,"",0.19550000000000001,0,"","","","","","R","CRDC","","",20230926,160849,0.25,0,"PFS               AI80160   9998","KRHSBC",8,40404882]
["KR","HSBC",2,0,0,null,"KRHSBC008073199882","BLK",{"$f":"VLOOKUP(H3336,[2]SSIFSEP!$H$2:$I$7593,2,0)","v":"BLK"},"BLK","KRW","PRS",0,0,"1",4042,{"$f":"VLOOKUP(K3336,[1]EXRATE!C$3:F$43,4,0)","v":1},4042,"N",83,"",0.13450000000000001,0,"","","","","","R","CRDC","","",20230926,160849,0.25,0,"PFS               AI80160   9998","KRHSBC",8,73199882]
["KR","HSBC",2,0,0,null,"KRHSBC008086381882","BLK",{"$f":"VLOOKUP(H3342,[2]SSIFSEP!$H$2:$I$7593,2,0)","v":"BLK"},"BLK","KRW","PRS",0,0,"1",24585,{"$f":"VLOOKUP(K3342,[1]EXRATE!C$3:F$43,4,0)","v":1},24585,"N",83,"",9.2700000000000005E-2,0,"","","","","","R","CRDC","","",20230926,160849,0.25,0,"PFS               AI80160   9998","KRHSBC",8,86381882]
["KR","HSBC",2,0,0,null,"KRHSBC008088981882","BLK",{"$f":"VLOOKUP(H3350,[2]SSIFSEP!$H$2:$I$7593,2,0)","v":"BLK"},"BLK","KRW","PRS",0,0,"1",7209,{"$f":"VLOOKUP(K3350,[1]EXRATE!C$3:F$43,4,0)","v":1},7209,"N",83,"",0.1065,0,"","","","","","R","CRDC","","",20230926,160849,0.25,0,"PFS               AI80160   9998","KRHSBC",8,88981882]
["KR","HSBC",2,0,0,null,"KRHSBC009023326882","BLK",{"$f":"VLOOKUP(H3355,[2]SSIFSEP!$H$2:$I$7593,2,0)","v":"BLK"},"BLK","KRW","PRS",0,0,"1",12142,{"$f":"VLOOKUP(K3355,[1]EXRATE!C$3:F$43,4,0)","v":1},12142,"N",83,"",5.8200000000000002E-2,0,"","","","","","R","CRDC","","",20230926,160849,0.25,0,"PFS               AI80160   9998","KRHSBC",9,23326882]
["KR","HSBC",2,0,0,null,"KRHSBC009047002413","BLK",{"$f":"VLOOKUP(H3367,[2]SSIFSEP!$H$2:$I$7593,2,0)","v":"BLK"},"BLK","KRW","PRS",0,0,"1",1118,{"$f":"VLOOKUP(K3367,[1]EXRATE!C$3:F$43,4,0)","v":1},1118,"N",83,"",0.16539999999999999,0,"","","","","","R","CRDC","","",20230926,160849,0.25,0,"PFS               AI80160   9998","KRHSBC",9,47002413]
["KR","HSBC",2,0,0,null,"KRHSBC009080029882","BLK",{"$f":"VLOOKUP(H3374,[2]SSIFSEP!$H$2:$I$7593,2,0)","v":"BLK"},"BLK","KRW","PRS",0,0,"1",60402,{"$f":"VLOOKUP(K3374,[1]EXRATE!C$3:F$43,4,0)","v":1},60402,"N",83,"",0.19600000000000001,0,"","","","","","R","CRDC","","",20230926,160849,0.25,0,"PFS               AI80160   9998","KRHSBC",9,80029882]
["KR","HSBC",2,0,0,null,"KRHSBC009080177883","BLK",{"$f":"VLOOKUP(H3375,[2]SSIFSEP!$H$2:$I$7593,2,0)","v":"BLK"},"BLK","KRW","PRS",0,0,"1",11001,{"$f":"VLOOKUP(K3375,[1]EXRATE!C$3:F$43,4,0)","v":1},11001,"N",83,"",0.1653,0,"","","","","","R","CRDC","","",20230926,160849,0.25,0,"PFS               AI80160   9998","KRHSBC",9,80177883]
["KR","HSBC",2,0,0,null,"KRHSBC009081639882","BLK",{"$f":"VLOOKUP(H3383,[2]SSIFSEP!$H$2:$I$7593,2,0)","v":"BLK"},"BLK","KRW","PRS",0,0,"1",6160,{"$f":"VLOOKUP(K3383,[1]EXRATE!C$3:F$43,4,0)","v":1},6160,"N",83,"",0.2457,0,"","","","","","R","CRDC","","",20230926,160849,0.25,0,"PFS               AI80160   9998","KRHSBC",9,81639882]
["KR","HSBC",2,0,0,null,"KRHSBC011053956883","BLK",{"$f":"VLOOKUP(H3390,[2]SSIFSEP!$H$2:$I$7593,2,0)","v":"BLK"},"BLK","KRW","PRS",0,0,"1",6724,{"$f":"VLOOKUP(K3390,[1]EXRATE!C$3:F$43,4,0)","v":1},6724,"N",83,"",5.3900000000000003E-2,0,"","","","","","R","CRDC","","",20230926,160849,0.25,0,"PFS               AI80160   9998","KRHSBC",11,53956883]
["KR","HSBC",2,0,0,null,"KRHSBC012003687883","BLK",{"$f":"VLOOKUP(H3395,[2]SSIFSEP!$H$2:$I$7593,2,0)","v":"BLK"},"BLK","KRW","PRS",0,0,"1",4710,{"$f":"VLOOKUP(K3395,[1]EXRATE!C$3:F$43,4,0)","v":1},4710,"N",83,"",0.31969999999999998,0,"","","","","","R","CRDC","","",20230926,160849,0.25,0,"PFS               AI80160   9998","KRHSBC",12,3687883]
["KR","HSBC",2,0,0,null,"KRHSBC012013827900","BLK",{"$f":"VLOOKUP(H3403,[2]SSIFSEP!$H$2:$I$7593,2,0)","v":"BLK"},"BLK","KRW","PRS",0,0,"1",4228,{"$f":"VLOOKUP(K3403,[1]EXRATE!C$3:F$43,4,0)","v":1},4228,"N",83,"",0.12609999999999999,0,"","","","","","R","CRDC","","",20230926,160849,0.25,0,"PFS               AI80160   9998","KRHSBC",12,13827900]
["KR","HSBC",2,0,0,null,"KRHSBC012029922882","BLK",{"$f":"VLOOKUP(H3415,[2]SSIFSEP!$H$2:$I$7593,2,0)","v":"BLK"},"BLK","KRW","PRS",0,0,"1",5395,{"$f":"VLOOKUP(K3415,[1]EXRATE!C$3:F$43,4,0)","v":1},5395,"N",83,"",3.7499999999999999E-2,0,"","","","","","R","CRDC","","",20230926,160849,0.25,0,"PFS               AI80160   9998","KRHSBC",12,29922882]
["KR","HSBC",2,0,0,null,"KRHSBC012037230882","BLK",{"$f":"VLOOKUP(H3421,[2]SSIFSEP!$H$2:$I$7593,2,0)","v":"BLK"},"BLK","KRW","PRS",0,0,"1",35652,{"$f":"VLOOKUP(K3421,[1]EXRATE!C$3:F$43,4,0)","v":1},35652,"N",83,"",0.22220000000000001,0,"","","","","","R","CRDC","","",20230926,160849,0.25,0,"PFS               AI80160   9998","KRHSBC",12,37230882]
["KR","HSBC",2,0,0,null,"KRHSBC012048971687","BLK",{"$f":"VLOOKUP(H3427,[2]SSIFSEP!$H$2:$I$7593,2,0)","v":"BLK"},"BLK","KRW","PRS",0,0,"1",12552,{"$f":"VLOOKUP(K3427,[1]EXRATE!C$3:F$43,4,0)","v":1},12552,"N",83,"",0.21,0,"","","","","","R","CRDC","","",20230926,160849,0.25,0,"PFS               AI80160   9998","KRHSBC",12,48971687]
["KR","HSBC",2,0,0,null,"KRHSBC012056453882","BLK",{"$f":"VLOOKUP(H3435,[2]SSIFSEP!$H$2:$I$7593,2,0)","v":"BLK"},"BLK","KRW","PRS",0,0,"1",13153,{"$f":"VLOOKUP(K3435,[1]EXRATE!C$3:F$43,4,0)","v":1},13153,"N",83,"",0.34970000000000001,0,"","","","","","R","CRDC","","",20230926,160849,0.25,0,"PFS               AI80160   9998","KRHSBC",12,56453882]
["KR","HSBC",2,0,0,null,"KRHSBC012056727882","BLK",{"$f":"VLOOKUP(H3436,[2]SSIFSEP!$H$2:$I$7593,2,0)","v":"BLK"},"BLK","KRW","PRS",0,0,"3",16340745,{"$f":"VLOOKUP(K3436,[1]EXRATE!C$3:F$43,4,0)","v":1},16340745,"N",86,"",0.29220000000000002,0,"","","","","","R","CRDC","","",20230926,160849,100,0,"PFS               AI80160   9998","KRHSBC",12,56727882]
["KR","HSBC",2,0,0,null,"KRHSBC012058756882","BLK",{"$f":"VLOOKUP(H3444,[2]SSIFSEP!$H$2:$I$7593,2,0)","v":"BLK"},"BLK","KRW","PRS",0,0,"1",14621,{"$f":"VLOOKUP(K3444,[1]EXRATE!C$3:F$43,4,0)","v":1},14621,"N",83,"",0.26200000000000001,0,"","","","","","R","CRDC","","",20230926,160849,0.25,0,"PFS               AI80160   9998","KRHSBC",12,58756882]
["KR","HSBC",2,0,0,null,"KRHSBC013058128882","BLK",{"$f":"VLOOKUP(H3455,[2]SSIFSEP!$H$2:$I$7593,2,0)","v":"BLK"},"BLK","KRW","PRS",0,0,"1",29293,{"$f":"VLOOKUP(K3455,[1]EXRATE!C$3:F$43,4,0)","v":1},29293,"N",83,"",0.27610000000000001,0,"","","","","","R","CRDC","","",20230926,160849,0.25,0,"PFS               AI80160   9998","KRHSBC",13,58128882]
["KR","HSBC",2,0,0,null,"KRHSBC013065099882","BLK",{"$f":"VLOOKUP(H3460,[2]SSIFSEP!$H$2:$I$7593,2,0)","v":"BLK"},"BLK","KRW","PRS",0,0,"1",10827,{"$f":"VLOOKUP(K3460,[1]EXRATE!C$3:F$43,4,0)","v":1},10827,"N",83,"",4.6899999999999997E-2,0,"","","","","","R","CRDC","","",20230926,160849,0.25,0,"PFS               AI80160   9998","KRHSBC",13,65099882]
["KR","HSBC",2,0,0,null,"KRHSBC013077151882","BLK",{"$f":"VLOOKUP(H3468,[2]SSIFSEP!$H$2:$I$7593,2,0)","v":"BLK"},"BLK","KRW","PRS",0,0,"1",19745,{"$f":"VLOOKUP(K3468,[1]EXRATE!C$3:F$43,4,0)","v":1},19745,"N",83,"",0.26719999999999999,0,"","","","","","R","CRDC","","",20230926,160849,0.25,0,"PFS               AI80160   9998","KRHSBC",13,77151882]
["KR","HSBC",2,0,0,null,"LAISEL300010","LAI",{"$f":"VLOOKUP(H3475,[2]SSIFSEP!$H$2:$I$7593,2,0)","v":"외화기업대출"},"IMP Foreign Currency Corporate Loan","USD","C13",4.2,0,"2A",52970,{"$f":"VLOOKUP(K3475,[1]EXRATE!C$3:F$43,4,0)","v":1344.8},712340.56,"",177,"",0,0,"","","","","","W","HIE","","",20230926,160849,0.22,54.674999999999997,"CIBM              AI80184","LAISEL",300,10,null,"GTRF IMP",{"$f":"J3475","v":"IMP Foreign Currency Corporate Loan"},{"$f":"R3475","v":712340.56},"Matched with Local data"]
["KR","HSBC",2,0,0,null,"LAISEL300015","UCD",{"$f":"VLOOKUP(H3480,[2]SSIFSEP!$H$2:$I$7593,2,0)","v":"미사용약정"},"Unused Credit Line","USD","C13",4.2,0,"2A",233,{"$f":"VLOOKUP(K3480,[1]EXRATE!C$3:F$43,4,0)","v":1344.8},3133.3839999999996,"",288,"",0,0,"","","","","","W","HIE","","",20230926,160849,0.22,53.884999999999998,"CIBM              MG30100","LAISEL",300,15]
["KR","HSBC",2,0,0,null,"LAISEL300038","UCD",{"$f":"VLOOKUP(H3488,[2]SSIFSEP!$H$2:$I$7593,2,0)","v":"미사용약정"},"Unused Credit Line","USD","C13",4.2,0,"2A",396,{"$f":"VLOOKUP(K3488,[1]EXRATE!C$3:F$43,4,0)","v":1344.8},5325.4079999999994,"",288,"",0,0,"","","","","","W","HIE","","",20230926,160849,0.22,55.055,"CIBM              MG30100","LAISEL",300,38]
["KR","HSBC",2,0,0,null,"MNI192060003","GVB",{"$f":"VLOOKUP(H3496,[2]SSIFSEP!$H$2:$I$7593,2,0)","v":"유가증권"},"Securities","KRW","C15",0.1,0,"1",23257,{"$f":"VLOOKUP(K3496,[1]EXRATE!C$3:F$43,4,0)","v":1},23257,"",5,"",0,0,"","","","","","W","TRSK","","",20230926,160849,0.01,40.29,"CC                A181104","MNI192",60,3]
["KR","HSBC",2,0,0,null,"MNI192330002","GVB",{"$f":"VLOOKUP(H3498,[2]SSIFSEP!$H$2:$I$7593,2,0)","v":"유가증권"},"Securities","KRW","C15",0.1,0,"1",58143,{"$f":"VLOOKUP(K3498,[1]EXRATE!C$3:F$43,4,0)","v":1},58143,"",5,"",0,0,"","","","","","W","TRSK","","",20230926,160849,0.01,40.29,"CC                A181104","MNI192",330,2]
["KR","HSBC",2,0,0,null,"MNI200650001","GVB",{"$f":"VLOOKUP(H3508,[2]SSIFSEP!$H$2:$I$7593,2,0)","v":"유가증권"},"Securities","KRW","C15",0.1,0,"1",1857381,{"$f":"VLOOKUP(K3508,[1]EXRATE!C$3:F$43,4,0)","v":1},1857381,"",5,"",0,0,"","","","","","W","TRSK","","",20230926,160849,0.01,40.29,"CC                A181104","MNI200",650,1]
["KR","HSBC",2,0,0,null,"MNI212860005","GVB",{"$f":"VLOOKUP(H3513,[2]SSIFSEP!$H$2:$I$7593,2,0)","v":"유가증권"},"Securities","KRW","C15",0.1,0,"1",57855,{"$f":"VLOOKUP(K3513,[1]EXRATE!C$3:F$43,4,0)","v":1},57855,"",5,"",0,0,"","","","","","W","TRSK","","",20230926,160849,0.01,40.29,"CC                A181104","MNI212",860,5]
["KR","HSBC",2,0,0,null,"MNI220040001","ZOB",{"$f":"VLOOKUP(H3521,[2]SSIFSEP!$H$2:$I$7593,2,0)","v":"유가증권"},"Securities","KRW","CBL",0.1,0,"1",34544,{"$f":"VLOOKUP(K3521,[1]EXRATE!C$3:F$43,4,0)","v":1},34544,"",7,"",0,0,"","","","","","W","TRSK","","",20230926,160849,0.01,40.29,"CC                A181104","MNI220",40,1]
["KR","HSBC",2,0,0,null,"MNI220390002","ZOB",{"$f":"VLOOKUP(H3529,[2]SSIFSEP!$H$2:$I$7593,2,0)","v":"유가증권"},"Securities","KRW","CBL",0.1,0,"1",260026,{"$f":"VLOOKUP(K3529,[1]EXRATE!C$3:F$43,4,0)","v":1},260026,"",7,"",0,0,"","","","","","W","TRSK","","",20230926,160849,0.01,40.29,"CC                A181104","MNI220",390,2]
["KR","HSBC",2,0,0,null,"MNI220450003","GVB",{"$f":"VLOOKUP(H3533,[2]SSIFSEP!$H$2:$I$7593,2,0)","v":"유가증권"},"Securities","KRW","C15",0.1,0,"1",714814,{"$f":"VLOOKUP(K3533,[1]EXRATE!C$3:F$43,4,0)","v":1},714814,"",5,"",0,0,"","","","","","W","TRSK","","",20230926,160849,0.01,40.29,"CC                A181104","MNI220",450,3]
["KR","HSBC",2,0,0,null,"MNI220490005","ZOB",{"$f":"VLOOKUP(H3541,[2]SSIFSEP!$H$2:$I$7593,2,0)","v":"유가증권"},"Securities","KRW","CBL",0.1,0,"1",650064,{"$f":"VLOOKUP(K3541,[1]EXRATE!C$3:F$43,4,0)","v":1},650064,"",7,"",0,0,"","","","","","W","TRSK","","",20230926,160849,0.01,40.29,"CC                A181104","MNI220",490,5]
["KR","HSBC",2,0,0,null,"MNI220590007","ZOB",{"$f":"VLOOKUP(H3548,[2]SSIFSEP!$H$2:$I$7593,2,0)","v":"유가증권"},"Securities","KRW","CBL",0.1,0,"1",390039,{"$f":"VLOOKUP(K3548,[1]EXRATE!C$3:F$43,4,0)","v":1},390039,"",7,"",0,0,"","","","","","W","TRSK","","",20230926,160849,0.01,40.29,"CC                A181104","MNI220",590,7]
["KR","HSBC",2,0,0,null,"MNI220700002","GVB",{"$f":"VLOOKUP(H3553,[2]SSIFSEP!$H$2:$I$7593,2,0)","v":"유가증권"},"Securities","KRW","C15",0.1,0,"1",407980,{"$f":"VLOOKUP(K3553,[1]EXRATE!C$3:F$43,4,0)","v":1},407980,"",5,"",0,0,"","","","","","W","TRSK","","",20230926,160849,0.01,40.29,"CC                A181104","MNI220",700,2]
["KR","HSBC",2,0,0,null,"MNI220740011","GVB",{"$f":"VLOOKUP(H3561,[2]SSIFSEP!$H$2:$I$7593,2,0)","v":"유가증권"},"Securities","KRW","C15",0.1,0,"1",203990,{"$f":"VLOOKUP(K3561,[1]EXRATE!C$3:F$43,4,0)","v":1},203990,"",5,"",0,0,"","","","","","W","TRSK","","",20230926,160849,0.01,40.29,"CC                A181104","MNI220",740,11]
["KR","HSBC",2,0,0,null,"MNI220820001","ZOB",{"$f":"VLOOKUP(H3566,[2]SSIFSEP!$H$2:$I$7593,2,0)","v":"유가증권"},"Securities","KRW","CBL",0.1,0,"1",1114807,{"$f":"VLOOKUP(K3566,[1]EXRATE!C$3:F$43,4,0)","v":1},1114807,"",7,"",0,0,"","","","","","W","TRSK","","",20230926,160849,0.01,40.29,"CC                A181104","MNI220",820,1]
["KR","HSBC",2,0,0,null,"MNI221010022","GVB",{"$f":"VLOOKUP(H3573,[2]SSIFSEP!$H$2:$I$7593,2,0)","v":"유가증권"},"Securities","KRW","C15",0.1,0,"1",401920,{"$f":"VLOOKUP(K3573,[1]EXRATE!C$3:F$43,4,0)","v":1},401920,"",5,"",0,0,"","","","","","W","TRSK","","",20230926,160849,0.01,40.29,"CC                A181104","MNI221",10,22]
["KR","HSBC",2,0,0,null,"MNI222720007","ZOB",{"$f":"VLOOKUP(H3581,[2]SSIFSEP!$H$2:$I$7593,2,0)","v":"유가증권"},"Securities","KRW","CBL",0.1,0,"1",629864,{"$f":"VLOOKUP(K3581,[1]EXRATE!C$3:F$43,4,0)","v":1},629864,"",14,"",0,0,"","","","","","W","TRSK","","",20230926,160849,0.01,40.29,"CC                A191202","MNI222",720,7]
["KR","HSBC",2,0,0,null,"MNI222790006","ZOB",{"$f":"VLOOKUP(H3586,[2]SSIFSEP!$H$2:$I$7593,2,0)","v":"유가증권"},"Securities","KRW","CBL",0.1,0,"1",946821,{"$f":"VLOOKUP(K3586,[1]EXRATE!C$3:F$43,4,0)","v":1},946821,"",14,"",0,0,"","","","","","W","TRSK","","",20230926,160849,0.01,40.29,"CC                A191202","MNI222",790,6]
["KR","HSBC",2,0,0,null,"MNI223420002","KBB",{"$f":"VLOOKUP(H3594,[2]SSIFSEP!$H$2:$I$7593,2,0)","v":"유가증권"},"Securities","KRW","BK4",1.1000000000000001,0,"1",4694020,{"$f":"VLOOKUP(K3594,[1]EXRATE!C$3:F$43,4,0)","v":1},4694020,"",12,"",0,0,"","","","","","W","TRSK","","",20230926,160849,0.02,40.29,"CC                A191202","MNI223",420,2]
["KR","HSBC",2,0,0,null,"MNI230270001","ZOB",{"$f":"VLOOKUP(H3602,[2]SSIFSEP!$H$2:$I$7593,2,0)","v":"유가증권"},"Securities","KRW","CBL",0.1,0,"1",1136874,{"$f":"VLOOKUP(K3602,[1]EXRATE!C$3:F$43,4,0)","v":1},1136874,"",14,"",0,0,"","","","","","W","TRSK","","",20230926,160849,0.01,40.29,"CC                A191202","MNI230",270,1]
["KR","HSBC",2,0,0,null,"MNI230310005","ZOB",{"$f":"VLOOKUP(H3606,[2]SSIFSEP!$H$2:$I$7593,2,0)","v":"유가증권"},"Securities","KRW","CBL",0.1,0,"1",757868,{"$f":"VLOOKUP(K3606,[1]EXRATE!C$3:F$43,4,0)","v":1},757868,"",14,"",0,0,"","","","","","W","TRSK","","",20230926,160849,0.01,40.29,"CC                A191202","MNI230",310,5]
["KR","HSBC",2,0,0,null,"MNI230540002","ZOB",{"$f":"VLOOKUP(H3614,[2]SSIFSEP!$H$2:$I$7593,2,0)","v":"유가증권"},"Securities","KRW","CBL",0.1,0,"1",758183,{"$f":"VLOOKUP(K3614,[1]EXRATE!C$3:F$43,4,0)","v":1},758183,"",14,"",0,0,"","","","","","W","TRSK","","",20230926,160849,0.01,40.29,"CC                A191202","MNI230",540,2]
["KR","HSBC",2,0,0,null,"MNI230590003","ZOB",{"$f":"VLOOKUP(H3619,[2]SSIFSEP!$H$2:$I$7593,2,0)","v":"유가증권"},"Securities","KRW","CBL",0.1,0,"1",752954,{"$f":"VLOOKUP(K3619,[1]EXRATE!C$3:F$43,4,0)","v":1},752954,"",14,"",0,0,"","","","","","W","TRSK","","",20230926,160849,0.01,40.29,"CC                A191202","MNI230",590,3]
["KR","HSBC",2,0,0,null,"MNI231230003","ZOB",{"$f":"VLOOKUP(H3627,[2]SSIFSEP!$H$2:$I$7593,2,0)","v":"유가증권"},"Securities","KRW","CBL",0.1,0,"1",1508057,{"$f":"VLOOKUP(K3627,[1]EXRATE!C$3:F$43,4,0)","v":1},1508057,"",7,"",0,0,"","","","","","W","TRSK","","",20230926,160849,0.01,40.29,"CC                A181104","MNI231",230,3]
["KR","HSBC",2,0,0,null,"MNI231520013","ZOB",{"$f":"VLOOKUP(H3634,[2]SSIFSEP!$H$2:$I$7593,2,0)","v":"유가증권"},"Securities","KRW","CBL",0.1,0,"1",1518950,{"$f":"VLOOKUP(K3634,[1]EXRATE!C$3:F$43,4,0)","v":1},1518950,"",14,"",0,0,"","","","","","W","TRSK","","",20230926,160849,0.01,40.29,"CC                A191202","MNI231",520,13]
["KR","HSBC",2,0,0,null,"MNI231530001","ZOB",{"$f":"VLOOKUP(H3639,[2]SSIFSEP!$H$2:$I$7593,2,0)","v":"유가증권"},"Securities","KRW","CBL",0.1,0,"1",1883921,{"$f":"VLOOKUP(K3639,[1]EXRATE!C$3:F$43,4,0)","v":1},1883921,"",7,"",0,0,"","","","","","W","TRSK","","",20230926,160849,0.01,40.29,"CC                A181104","MNI231",530,1]
["KR","HSBC",2,0,0,null,"MNI231880013","ZOB",{"$f":"VLOOKUP(H3647,[2]SSIFSEP!$H$2:$I$7593,2,0)","v":"유가증권"},"Securities","KRW","CBL",0.1,0,"1",1122731,{"$f":"VLOOKUP(K3647,[1]EXRATE!C$3:F$43,4,0)","v":1},1122731,"",14,"",0,0,"","","","","","W","TRSK","","",20230926,160849,0.01,40.29,"CC                A191202","MNI231",880,13]
["KR","HSBC",2,0,0,null,"MNI232210002","KSB",{"$f":"VLOOKUP(H3656,[2]SSIFSEP!$H$2:$I$7593,2,0)","v":"유가증권"},"Securities","KRW","CBL",0.1,0,"1",1626899,{"$f":"VLOOKUP(K3656,[1]EXRATE!C$3:F$43,4,0)","v":1},1626899,"",2,"",0,0,"","","","","","W","TRSK","","",20230926,160849,0.01,40.29,"CC                A181102","MNI232",210,2]
["KR","HSBC",2,0,0,null,"MNI232370014","ZOB",{"$f":"VLOOKUP(H3659,[2]SSIFSEP!$H$2:$I$7593,2,0)","v":"유가증권"},"Securities","KRW","CBL",0.1,0,"1",1884058,{"$f":"VLOOKUP(K3659,[1]EXRATE!C$3:F$43,4,0)","v":1},1884058,"",7,"",0,0,"","","","","","W","TRSK","","",20230926,160849,0.01,40.29,"CC                A181104","MNI232",370,14]
["KR","HSBC",2,0,0,null,"MNI232430015","ZOB",{"$f":"VLOOKUP(H3667,[2]SSIFSEP!$H$2:$I$7593,2,0)","v":"유가증권"},"Securities","KRW","CBL",0.1,0,"1",1122897,{"$f":"VLOOKUP(K3667,[1]EXRATE!C$3:F$43,4,0)","v":1},1122897,"",14,"",0,0,"","","","","","W","TRSK","","",20230926,160849,0.01,40.29,"CC                A191202","MNI232",430,15]
["KR","HSBC",2,0,0,null,"OAVFND303456SEL","UCD",{"$f":"VLOOKUP(H3672,[2]SSIFSEP!$H$2:$I$7593,2,0)","v":"미사용약정"},"Unused Credit Line","KRW","C13",3.2,0,"1",535,{"$f":"VLOOKUP(K3672,[1]EXRATE!C$3:F$43,4,0)","v":1},535,"",283,"",0,0,"","","","","","W","HIE","","",20230926,160849,0.09,51.524999999999999,"CIBM              MG30100","OAVFND",303,"456SEL"]
["KR","HSBC",2,0,0,null,"OAVFND303498SEL","OAV","KRW Corporate Loan","PF KRW Corporate Loan","KRW","C13",3.2,0,"1",25,{"$f":"VLOOKUP(K3681,[1]EXRATE!C$3:F$43,4,0)","v":1},25,"",178,"",0,0,"","","","","","W","HIE","","",20230926,160849,0.09,51.524999999999999,"CIBM              AI80184","OAVFND",303,"498SEL",null,"GTRF PF","KRW Corporate Loan",{"$f":"R3681","v":25}]
["KR","HSBC",2,0,0,null,"OAVFND303528SEL","UCD",{"$f":"VLOOKUP(H3691,[2]SSIFSEP!$H$2:$I$7593,2,0)","v":"미사용약정"},"Unused Credit Line","KRW","C13",2.2000000000000002,0,"1",1,{"$f":"VLOOKUP(K3691,[1]EXRATE!C$3:F$43,4,0)","v":1},1,"",283,"",0,0,"","","","","","W","HIE","","",20230926,160849,0.02,51.524999999999999,"CIBM              MG30100","OAVFND",303,"528SEL"]
["KR","HSBC",2,0,0,null,"OAVFND303530SEL","UCD",{"$f":"VLOOKUP(H3692,[2]SSIFSEP!$H$2:$I$7593,2,0)","v":"미사용약정"},"Unused Credit Line","KRW","C13",2.2000000000000002,0,"1",40,{"$f":"VLOOKUP(K3692,[1]EXRATE!C$3:F$43,4,0)","v":1},40,"",283,"",0,0,"","","","","","W","HIE","","",20230926,160849,0.02,51.524999999999999,"CIBM              MG30100","OAVFND",303,"530SEL"]
["KR","HSBC",2,0,0,null,"OAVFND303542SEL","UCD",{"$f":"VLOOKUP(H3700,[2]SSIFSEP!$H$2:$I$7593,2,0)","v":"미사용약정"},"Unused Credit Line","KRW","C13",2.2000000000000002,0,"1",8,{"$f":"VLOOKUP(K3700,[1]EXRATE!C$3:F$43,4,0)","v":1},8,"",283,"",0,0,"","","","","","W","HIE","","",20230926,160849,0.02,51.524999999999999,"CIBM              MG30100","OAVFND",303,"542SEL"]
["KR","HSBC",2,0,0,null,"OAVFND303548SEL","OAV","KRW Corporate Loan","PF KRW Corporate Loan","KRW","C13",2.2000000000000002,0,"1",1,{"$f":"VLOOKUP(K3710,[1]EXRATE!C$3:F$43,4,0)","v":1},1,"",178,"",0,0,"","","","","","W","HIE","","",20230926,160849,0.02,51.524999999999999,"CIBM              AI80184","OAVFND",303,"548SEL",null,"GTRF PF","KRW Corporate Loan",{"$f":"R3710","v":1}]
["KR","HSBC",2,0,0,null,"OAVFND303549SEL","OAV","KRW Corporate Loan","PF KRW Corporate Loan","KRW","C13",2.2000000000000002,0,"1",1,{"$f":"VLOOKUP(K3712,[1]EXRATE!C$3:F$43,4,0)","v":1},1,"",178,"",0,0,"","","","","","W","HIE","","",20230926,160849,0.02,51.524999999999999,"CIBM              AI80184","OAVFND",303,"549SEL",null,"GTRF PF","KRW Corporate Loan",{"$f":"R3712","v":1}]
["KR","HSBC",2,0,0,null,"OAVFND303553SEL","OAV","KRW Corporate Loan","PF KRW Corporate Loan","KRW","C13",2.2000000000000002,0,"1",1027,{"$f":"VLOOKUP(K3720,[1]EXRATE!C$3:F$43,4,0)","v":1},1027,"",178,"",0,0,"","","","","","W","HIE","","",20230926,160849,0.02,51.524999999999999,"CIBM              AI80184","OAVFND",303,"553SEL",null,"GTRF PF","KRW Corporate Loan",{"$f":"R3720","v":1027}]
["KR","HSBC",2,0,0,null,"OAVFND303562SEL","OAV","KRW Corporate Loan","PF KRW Corporate Loan","KRW","C13",2.2000000000000002,0,"1",1,{"$f":"VLOOKUP(K3732,[1]EXRATE!C$3:F$43,4,0)","v":1},1,"",178,"",0,0,"","","","","","W","HIE","","",20230926,160849,0.02,51.524999999999999,"CIBM              AI80184","OAVFND",303,"562SEL",null,"GTRF PF","KRW Corporate Loan",{"$f":"R3732","v":1}]
["KR","HSBC",2,0,0,null,"OAVFND303563SEL","UCD",{"$f":"VLOOKUP(H3735,[2]SSIFSEP!$H$2:$I$7593,2,0)","v":"미사용약정"},"Unused Credit Line","KRW","C13",2.2000000000000002,0,"1",1,{"$f":"VLOOKUP(K3735,[1]EXRATE!C$3:F$43,4,0)","v":1},1,"",283,"",0,0,"","","","","","W","HIE","","",20230926,160849,0.02,51.524999999999999,"CIBM              MG30100","OAVFND",303,"563SEL"]
["KR","HSBC",2,0,0,null,"OAVFND303576SEL","UCD",{"$f":"VLOOKUP(H3744,[2]SSIFSEP!$H$2:$I$7593,2,0)","v":"미사용약정"},"Unused Credit Line","KRW","MFS",1.2,0,"1",7,{"$f":"VLOOKUP(K3744,[1]EXRATE!C$3:F$43,4,0)","v":1},7,"",297,"",0,0,"","","","","","W","HIE","","",20230926,160849,0.01,51.914999999999999,"CIBM              MG30100","OAVFND",303,"576SEL"]
["KR","HSBC",2,0,0,null,"OAVFND303621SEL","UCD",{"$f":"VLOOKUP(H3752,[2]SSIFSEP!$H$2:$I$7593,2,0)","v":"미사용약정"},"Unused Credit Line","KRW","C23",2.2000000000000002,0,"1",6,{"$f":"VLOOKUP(K3752,[1]EXRATE!C$3:F$43,4,0)","v":1},6,"",293,"",0,0,"","","","","","W","HIE","","",20230926,160849,0.02,51.7,"CIBM              MG30100","OAVFND",303,"621SEL"]
["KR","HSBC",2,0,0,null,"OAVFND303621SEL","OAV","KRW Corporate Loan","PF KRW Corporate Loan","KRW","C23",2.2000000000000002,0,"1",1,{"$f":"VLOOKUP(K3753,[1]EXRATE!C$3:F$43,4,0)","v":1},1,"",179,"",0,0,"","","","","","W","HIE","","",20230926,160849,0.02,51.7,"CIBM              AI80184","OAVFND",303,"621SEL",null,"GTRF PF","KRW Corporate Loan",{"$f":"R3753","v":1}]
["KR","HSBC",2,0,0,null,"OAVFND304030SEL","UCD",{"$f":"VLOOKUP(H3764,[2]SSIFSEP!$H$2:$I$7593,2,0)","v":"미사용약정"},"Unused Credit Line","KRW","C13",2.2000000000000002,0,"1",30,{"$f":"VLOOKUP(K3764,[1]EXRATE!C$3:F$43,4,0)","v":1},30,"",283,"",0,0,"","","","","","W","HIE","","",20230926,160849,0.02,51.72,"CIBM              MG30100","OAVFND",304,"030SEL"]
["KR","HSBC",2,0,0,null,"OAVFND304209SEL","UCD",{"$f":"VLOOKUP(H3772,[2]SSIFSEP!$H$2:$I$7593,2,0)","v":"미사용약정"},"Unused Credit Line","KRW","C13",3.2,0,"1",843,{"$f":"VLOOKUP(K3772,[1]EXRATE!C$3:F$43,4,0)","v":1},843,"",283,"",0,0,"","","","","","W","HIE","","",20230926,160849,0.09,51.795000000000002,"CIBM              MG30100","OAVFND",304,"209SEL"]
["KR","HSBC",2,0,0,null,"OAVFND304209SEL","OAV","KRW Corporate Loan","PF KRW Corporate Loan","KRW","C13",3.2,0,"1",263,{"$f":"VLOOKUP(K3773,[1]EXRATE!C$3:F$43,4,0)","v":1},263,"",178,"",0,0,"","","","","","W","HIE","","",20230926,160849,0.09,51.795000000000002,"CIBM              AI80184","OAVFND",304,"209SEL",null,"GTRF PF","KRW Corporate Loan",{"$f":"R3773","v":263}]
["KR","HSBC",2,0,0,null,"OAVFND304216SEL","OAV","KRW Corporate Loan","PF KRW Corporate Loan","KRW","C13",3.2,0,"1",4314,{"$f":"VLOOKUP(K3785,[1]EXRATE!C$3:F$43,4,0)","v":1},4314,"",178,"",0,0,"","","","","","W","HIE","","",20230926,160849,0.09,51.795000000000002,"CIBM              AI80184","OAVFND",304,"216SEL",null,"GTRF PF","KRW Corporate Loan",{"$f":"R3785","v":4314},"Matched with local data"]
["KR","HSBC",2,0,0,null,"OAVFND304218SEL","OAV","KRW Corporate Loan","PF KRW Corporate Loan","KRW","C13",3.2,0,"1",153,{"$f":"VLOOKUP(K3789,[1]EXRATE!C$3:F$43,4,0)","v":1},153,"",178,"",0,0,"","","","","","W","HIE","","",20230926,160849,0.09,51.795000000000002,"CIBM              AI80184","OAVFND",304,"218SEL",null,"GTRF PF","KRW Corporate Loan",{"$f":"R3789","v":153},"Matched with local data"]
["KR","HSBC",2,0,0,null,"OAVFND304223SEL","OAV","KRW Corporate Loan","PF KRW Corporate Loan","KRW","C13",3.2,0,"1",103,{"$f":"VLOOKUP(K3797,[1]EXRATE!C$3:F$43,4,0)","v":1},103,"",178,"",0,0,"","","","","","W","HIE","","",20230926,160849,0.09,51.795000000000002,"CIBM              AI80184","OAVFND",304,"223SEL",null,"GTRF PF","KRW Corporate Loan",{"$f":"R3797","v":103}]
["KR","HSBC",2,0,0,null,"OAVFND304229SEL","OAV","KRW Corporate Loan","PF KRW Corporate Loan","KRW","C13",3.2,0,"1",876,{"$f":"VLOOKUP(K3805,[1]EXRATE!C$3:F$43,4,0)","v":1},876,"",178,"",0,0,"","","","","","W","HIE","","",20230926,160849,0.09,51.795000000000002,"CIBM              AI80184","OAVFND",304,"229SEL",null,"GTRF PF","KRW Corporate Loan",{"$f":"R3805","v":876}]
["KR","HSBC",2,0,0,null,"OAVFND304238SEL","OAV","KRW Corporate Loan","PF KRW Corporate Loan","KRW","C13",3.2,0,"1",164,{"$f":"VLOOKUP(K3813,[1]EXRATE!C$3:F$43,4,0)","v":1},{"$f":"+P3813*Q3813","v":164},"",178,"",0,0,"","","","","","W","HIE","","",20230926,160849,0.09,51.795000000000002,"CIBM              AI80184","OAVFND",304,"238SEL",null,"GTRF PF","KRW Corporate Loan",{"$f":"R3813","v":164},"Matched with local data"]
["KR","HSBC",2,0,0,null,"OAVFND304243SEL","UCD",{"$f":"VLOOKUP(H3818,[2]SSIFSEP!$H$2:$I$7593,2,0)","v":"미사용약정"},"Unused Credit Line","KRW","C13",3.2,0,"1",1040,{"$f":"VLOOKUP(K3818,[1]EXRATE!C$3:F$43,4,0)","v":1},1040,"",283,"",0,0,"","","","","","W","HIE","","",20230926,160849,0.09,51.795000000000002,"CIBM              MG30100","OAVFND",304,"243SEL"]
["KR","HSBC",2,0,0,null,"OAVFND304252SEL","OAV","KRW Corporate Loan","PF KRW Corporate Loan","KRW","C13",3.2,0,"1",2080,{"$f":"VLOOKUP(K3825,[1]EXRATE!C$3:F$43,4,0)","v":1},2080,"",178,"",0,0,"","","","","","W","HIE","","",20230926,160849,0.09,51.795000000000002,"CIBM              AI80184","OAVFND",304,"252SEL",null,"GTRF PF","KRW Corporate Loan",{"$f":"R3825","v":2080}]
["KR","HSBC",2,0,0,null,"OAVFND304255SEL","UCD",{"$f":"VLOOKUP(H3830,[2]SSIFSEP!$H$2:$I$7593,2,0)","v":"미사용약정"},"Unused Credit Line","KRW","C13",3.2,0,"1",1896,{"$f":"VLOOKUP(K3830,[1]EXRATE!C$3:F$43,4,0)","v":1},1896,"",283,"",0,0,"","","","","","W","HIE","","",20230926,160849,0.09,51.795000000000002,"CIBM              MG30100","OAVFND",304,"255SEL"]
["KR","HSBC",2,0,0,null,"OAVFND304262SEL","UCD",{"$f":"VLOOKUP(H3838,[2]SSIFSEP!$H$2:$I$7593,2,0)","v":"미사용약정"},"Unused Credit Line","KRW","C13",3.2,0,"1",476,{"$f":"VLOOKUP(K3838,[1]EXRATE!C$3:F$43,4,0)","v":1},476,"",283,"",0,0,"","","","","","W","HIE","","",20230926,160849,0.09,51.795000000000002,"CIBM              MG30100","OAVFND",304,"262SEL"]
["KR","HSBC",2,0,0,null,"OAVFND304267SEL","OAV","KRW Corporate Loan","PF KRW Corporate Loan","KRW","C13",3.2,0,"1",87,{"$f":"VLOOKUP(K3843,[1]EXRATE!C$3:F$43,4,0)","v":1},87,"",178,"",0,0,"","","","","","W","HIE","","",20230926,160849,0.09,51.795000000000002,"CIBM              AI80184","OAVFND",304,"267SEL",null,"GTRF PF","KRW Corporate Loan",{"$f":"R3843","v":87}]
["KR","HSBC",2,0,0,null,"OAVFND304277SEL","UCD",{"$f":"VLOOKUP(H3850,[2]SSIFSEP!$H$2:$I$7593,2,0)","v":"미사용약정"},"Unused Credit Line","KRW","C13",3.2,0,"1",19463,{"$f":"VLOOKUP(K3850,[1]EXRATE!C$3:F$43,4,0)","v":1},19463,"",283,"",0,0,"","","","","","W","HIE","","",20230926,160849,0.09,51.795000000000002,"CIBM              MG30100","OAVFND",304,"277SEL"]
["KR","HSBC",2,0,0,null,"OAVFND304283SEL","OAV","KRW Corporate Loan","PF KRW Corporate Loan","KRW","C13",2.2000000000000002,0,"1",4,{"$f":"VLOOKUP(K3858,[1]EXRATE!C$3:F$43,4,0)","v":1},4,"",178,"",0,0,"","","","","","W","HIE","","",20230926,160849,0.02,51.71,"CIBM              AI80184","OAVFND",304,"283SEL",null,"GTRF PF","KRW Corporate Loan",{"$f":"R3858","v":4},"Matched with local data"]
["KR","HSBC",2,0,0,null,"OAVFND304293SEL","OAV","KRW Corporate Loan","PF KRW Corporate Loan","KRW","C13",2.2000000000000002,0,"1",2,{"$f":"VLOOKUP(K3866,[1]EXRATE!C$3:F$43,4,0)","v":1},2,"",178,"",0,0,"","","","","","W","HIE","","",20230926,160849,0.02,51.71,"CIBM              AI80184","OAVFND",304,"293SEL",null,"GTRF PF","KRW Corporate Loan",{"$f":"R3866","v":2},"Matched with local data"]
["KR","HSBC",2,0,0,null,"OAVFND304298SEL","OAV","KRW Corporate Loan","PF KRW Corporate Loan","KRW","C13",2.2000000000000002,0,"1",0,{"$f":"VLOOKUP(K3872,[1]EXRATE!C$3:F$43,4,0)","v":1},0,"",178,"",0,0,"","","","","","W","HIE","","",20230926,160849,0.02,51.71,"CIBM              AI80184","OAVFND",304,"298SEL",null,"GTRF PF","KRW Corporate Loan",{"$f":"R3872","v":0}]
["KR","HSBC",2,0,0,null,"OAVFND304303SEL","OAV","KRW Corporate Loan","PF KRW Corporate Loan","KRW","C13",2.2000000000000002,0,"1",3506,{"$f":"VLOOKUP(K3878,[1]EXRATE!C$3:F$43,4,0)","v":1},3506,"",178,"",0,0,"","","","","","W","HIE","","",20230926,160849,0.02,51.71,"CIBM              AI80184","OAVFND",304,"303SEL",null,"GTRF PF","KRW Corporate Loan",{"$f":"R3878","v":3506},"Matched with local data"]
["KR","HSBC",2,0,0,null,"OAVFND304308SEL","UCD",{"$f":"VLOOKUP(H3883,[2]SSIFSEP!$H$2:$I$7593,2,0)","v":"미사용약정"},"Unused Credit Line","KRW","C13",2.2000000000000002,0,"1",1,{"$f":"VLOOKUP(K3883,[1]EXRATE!C$3:F$43,4,0)","v":1},1,"",283,"",0,0,"","","","","","W","HIE","","",20230926,160849,0.02,51.71,"CIBM              MG30100","OAVFND",304,"308SEL"]
["KR","HSBC",2,0,0,null,"OAVFND304313SEL","UCD",{"$f":"VLOOKUP(H3891,[2]SSIFSEP!$H$2:$I$7593,2,0)","v":"미사용약정"},"Unused Credit Line","KRW","C13",2.2000000000000002,0,"1",34,{"$f":"VLOOKUP(K3891,[1]EXRATE!C$3:F$43,4,0)","v":1},34,"",283,"",0,0,"","","","","","W","HIE","","",20230926,160849,0.02,51.71,"CIBM              MG30100","OAVFND",304,"313SEL"]
["KR","HSBC",2,0,0,null,"OAVFND304330SEL","OAV","KRW Corporate Loan","PF KRW Corporate Loan","KRW","C13",2.2000000000000002,0,"1",1,{"$f":"VLOOKUP(K3897,[1]EXRATE!C$3:F$43,4,0)","v":1},1,"",178,"",0,0,"","","","","","W","HIE","","",20230926,160849,0.02,51.71,"CIBM              AI80184","OAVFND",304,"330SEL",null,"GTRF PF","KRW Corporate Loan",{"$f":"R3897","v":1}]
["KR","HSBC",2,0,0,null,"OAVFND304334SEL","OAV","KRW Corporate Loan","PF KRW Corporate Loan","KRW","C13",2.2000000000000002,0,"1",1,{"$f":"VLOOKUP(K3903,[1]EXRATE!C$3:F$43,4,0)","v":1},1,"",178,"",0,0,"","","","","","W","HIE","","",20230926,160849,0.02,51.71,"CIBM              AI80184","OAVFND",304,"334SEL",null,"GTRF PF","KRW Corporate Loan",{"$f":"R3903","v":1}]
["KR","HSBC",2,0,0,null,"OAVFND304339SEL","OAV","KRW Corporate Loan","PF KRW Corporate Loan","KRW","C23",2.2000000000000002,0,"1",97,{"$f":"VLOOKUP(K3911,[1]EXRATE!C$3:F$43,4,0)","v":1},97,"",179,"",0,0,"","","","","","W","HIE","","",20230926,160849,0.02,51.71,"CIBM              AI80184","OAVFND",304,"339SEL",null,"GTRF PF","KRW Corporate Loan",{"$f":"R3911","v":97}]
["KR","HSBC",2,0,0,null,"OAVFND304346SEL","UCD",{"$f":"VLOOKUP(H3916,[2]SSIFSEP!$H$2:$I$7593,2,0)","v":"미사용약정"},"Unused Credit Line","KRW","C23",2.2000000000000002,0,"1",77,{"$f":"VLOOKUP(K3916,[1]EXRATE!C$3:F$43,4,0)","v":1},77,"",293,"",0,0,"","","","","","W","HIE","","",20230926,160849,0.02,51.71,"CIBM              MG30100","OAVFND",304,"346SEL"]
["KR","HSBC",2,0,0,null,"OAVFND304355SEL","UCD",{"$f":"VLOOKUP(H3926,[2]SSIFSEP!$H$2:$I$7593,2,0)","v":"미사용약정"},"Unused Credit Line","KRW","C23",2.2000000000000002,0,"1",1,{"$f":"VLOOKUP(K3926,[1]EXRATE!C$3:F$43,4,0)","v":1},1,"",293,"",0,0,"","","","","","W","HIE","","",20230926,160849,0.02,51.71,"CIBM              MG30100","OAVFND",304,"355SEL"]
["KR","HSBC",2,0,0,null,"OAVFND304363SEL","OAV","KRW Corporate Loan","PF KRW Corporate Loan","KRW","C13",3.2,0,"1",794,{"$f":"VLOOKUP(K3931,[1]EXRATE!C$3:F$43,4,0)","v":1},794,"",178,"",0,0,"","","","","","W","HIE","","",20230926,160849,0.09,51.12,"CIBM              AI80184","OAVFND",304,"363SEL",null,"GTRF PF","KRW Corporate Loan",{"$f":"R3931","v":794}]
["KR","HSBC",2,0,0,null,"OAVFND304373SEL","UCD",{"$f":"VLOOKUP(H3936,[2]SSIFSEP!$H$2:$I$7593,2,0)","v":"미사용약정"},"Unused Credit Line","KRW","MFS",1.2,0,"1",20,{"$f":"VLOOKUP(K3936,[1]EXRATE!C$3:F$43,4,0)","v":1},20,"",297,"",0,0,"","","","","","W","HIE","","",20230926,160849,0.01,52.015000000000001,"CIBM              MG30100","OAVFND",304,"373SEL"]
["KR","HSBC",2,0,0,null,"OAVFND304380SEL","UCD",{"$f":"VLOOKUP(H3944,[2]SSIFSEP!$H$2:$I$7593,2,0)","v":"미사용약정"},"Unused Credit Line","KRW","C13",3.2,0,"1",452,{"$f":"VLOOKUP(K3944,[1]EXRATE!C$3:F$43,4,0)","v":1},452,"",283,"",0,0,"","","","","","W","HIE","","",20230926,160849,0.09,51.795000000000002,"CIBM              MG30100","OAVFND",304,"380SEL"]
["KR","HSBC",2,0,0,null,"OAVFND304385SEL","OAV","KRW Corporate Loan","PF KRW Corporate Loan","KRW","MFS",1.2,0,"1",274,{"$f":"VLOOKUP(K3951,[1]EXRATE!C$3:F$43,4,0)","v":1},274,"",180,"",0,0,"","","","","","W","HIE","","",20230926,160849,0.01,52.015000000000001,"CIBM              AI80184","OAVFND",304,"385SEL",null,"GTRF PF","KRW Corporate Loan",{"$f":"R3951","v":274},"Matched with local data"]
["KR","HSBC",2,0,0,null,"OAVFND304402SEL","OAV","KRW Corporate Loan","PF KRW Corporate Loan","KRW","C13",2.2000000000000002,0,"1",567,{"$f":"VLOOKUP(K3956,[1]EXRATE!C$3:F$43,4,0)","v":1},567,"",178,"",0,0,"","","","","","W","HIE","","",20230926,160849,0.02,51.71,"CIBM              AI80184","OAVFND",304,"402SEL",null,"GTRF PF","KRW Corporate Loan",{"$f":"R3956","v":567},"Matched with local data"]
["KR","HSBC",2,0,0,null,"OAVFND304647SEL","OAV","KRW Corporate Loan","PF KRW Corporate Loan","KRW","C23",2.2000000000000002,0,"1",24,{"$f":"VLOOKUP(K3964,[1]EXRATE!C$3:F$43,4,0)","v":1},24,"",179,"",0,0,"","","","","","W","HIE","","",20230926,160849,0.02,51.71,"CIBM              AI80184","OAVFND",304,"647SEL",null,"GTRF PF","KRW Corporate Loan",{"$f":"R3964","v":24},"Matched with local data"]
["KR","HSBC",2,0,0,null,"OAVFND304816SEL","UCD",{"$f":"VLOOKUP(H3970,[2]SSIFSEP!$H$2:$I$7593,2,0)","v":"미사용약정"},"Unused Credit Line","KRW","C13",2.2000000000000002,0,"1",296,{"$f":"VLOOKUP(K3970,[1]EXRATE!C$3:F$43,4,0)","v":1},296,"",283,"",0,0,"","","","","","W","HIE","","",20230926,160849,0.02,51.71,"CIBM              MG30100","OAVFND",304,"816SEL"]
["KR","HSBC",2,0,0,null,"OAVFND304998SEL","OAV","KRW Corporate Loan","PF KRW Corporate Loan","KRW","C23",2.2000000000000002,0,"1",60,{"$f":"VLOOKUP(K3976,[1]EXRATE!C$3:F$43,4,0)","v":1},60,"",179,"",0,0,"","","","","","W","HIE","","",20230926,160849,0.02,51.71,"CIBM              AI80184","OAVFND",304,"998SEL",null,"GTRF PF","KRW Corporate Loan",{"$f":"R3976","v":60},"Matched with local data"]
["KR","HSBC",2,0,0,null,"OAVFND305006SEL","UCD",{"$f":"VLOOKUP(H3984,[2]SSIFSEP!$H$2:$I$7593,2,0)","v":"미사용약정"},"Unused Credit Line","KRW","C13",3.2,0,"1",666,{"$f":"VLOOKUP(K3984,[1]EXRATE!C$3:F$43,4,0)","v":1},666,"",283,"",0,0,"","","","","","W","HIE","","",20230926,160849,0.09,51.795000000000002,"CIBM              MG30100","OAVFND",305,"006SEL"]
["KR","HSBC",2,0,0,null,"OAVFND305008SEL","OAV","KRW Corporate Loan","PF KRW Corporate Loan","KRW","C13",3.2,0,"1",56,{"$f":"VLOOKUP(K3989,[1]EXRATE!C$3:F$43,4,0)","v":1},56,"",178,"",0,0,"","","","","","W","HIE","","",20230926,160849,0.09,51.795000000000002,"CIBM              AI80184","OAVFND",305,"008SEL",null,"GTRF PF","KRW Corporate Loan",{"$f":"R3989","v":56},"Matched with local data"]
["KR","HSBC",2,0,0,null,"OAVFND305016SEL","OAV","KRW Corporate Loan","PF KRW Corporate Loan","KRW","C13",3.2,0,"1",481,{"$f":"VLOOKUP(K4001,[1]EXRATE!C$3:F$43,4,0)","v":1},481,"",178,"",0,0,"","","","","","W","HIE","","",20230926,160849,0.09,51.795000000000002,"CIBM              AI80184","OAVFND",305,"016SEL",null,"GTRF PF","KRW Corporate Loan",{"$f":"R4001","v":481}]
["KR","HSBC",2,0,0,null,"OAVFND305018SEL","UCD",{"$f":"VLOOKUP(H4004,[2]SSIFSEP!$H$2:$I$7593,2,0)","v":"미사용약정"},"Unused Credit Line","KRW","C13",3.2,0,"1",4774,{"$f":"VLOOKUP(K4004,[1]EXRATE!C$3:F$43,4,0)","v":1},4774,"",283,"",0,0,"","","","","","W","HIE","","",20230926,160849,0.09,51.795000000000002,"CIBM              MG30100","OAVFND",305,"018SEL"]
["KR","HSBC",2,0,0,null,"OAVFND305021SEL","OAV","KRW Corporate Loan","PF KRW Corporate Loan","KRW","C13",3.2,0,"1",136,{"$f":"VLOOKUP(K4009,[1]EXRATE!C$3:F$43,4,0)","v":1},136,"",178,"",0,0,"","","","","","W","HIE","","",20230926,160849,0.09,51.795000000000002,"CIBM              AI80184","OAVFND",305,"021SEL",null,"GTRF PF","KRW Corporate Loan",{"$f":"R4009","v":136},"Matched with local data"]
["KR","HSBC",2,0,0,null,"OAVFND305025SEL","OAV","KRW Corporate Loan","PF KRW Corporate Loan","KRW","C13",3.2,0,"1",217,{"$f":"VLOOKUP(K4017,[1]EXRATE!C$3:F$43,4,0)","v":1},217,"",178,"",0,0,"","","","","","W","HIE","","",20230926,160849,0.09,51.795000000000002,"CIBM              AI80184","OAVFND",305,"025SEL",null,"GTRF PF","KRW Corporate Loan",{"$f":"R4017","v":217},"Matched with local data"]
["KR","HSBC",2,0,0,null,"OAVFND305030SEL","UCD",{"$f":"VLOOKUP(H4024,[2]SSIFSEP!$H$2:$I$7593,2,0)","v":"미사용약정"},"Unused Credit Line","KRW","C13",3.2,0,"1",5053,{"$f":"VLOOKUP(K4024,[1]EXRATE!C$3:F$43,4,0)","v":1},5053,"",283,"",0,0,"","","","","","W","HIE","","",20230926,160849,0.09,51.795000000000002,"CIBM              MG30100","OAVFND",305,"030SEL"]
["KR","HSBC",2,0,0,null,"OAVFND305032SEL","OAV","KRW Corporate Loan","PF KRW Corporate Loan","KRW","C13",3.2,0,"1",2106,{"$f":"VLOOKUP(K4029,[1]EXRATE!C$3:F$43,4,0)","v":1},2106,"",178,"",0,0,"","","","","","W","HIE","","",20230926,160849,0.09,51.795000000000002,"CIBM              AI80184","OAVFND",305,"032SEL",null,"GTRF PF","KRW Corporate Loan",{"$f":"R4029","v":2106},"Matched with local data"]
["KR","HSBC",2,0,0,null,"OAVFND305037SEL","OAV","KRW Corporate Loan","PF KRW Corporate Loan","KRW","C13",3.2,0,"1",281,{"$f":"VLOOKUP(K4037,[1]EXRATE!C$3:F$43,4,0)","v":1},281,"",178,"",0,0,"","","","","","W","HIE","","",20230926,160849,0.09,51.795000000000002,"CIBM              AI80184","OAVFND",305,"037SEL",null,"GTRF PF","KRW Corporate Loan",{"$f":"R4037","v":281},"Matched with local data"]
["KR","HSBC",2,0,0,null,"OAVFND305045SEL","OAV","KRW Corporate Loan","PF KRW Corporate Loan","KRW","C13",3.2,0,"1",1420,{"$f":"VLOOKUP(K4049,[1]EXRATE!C$3:F$43,4,0)","v":1},1420,"",178,"",0,0,"","","","","","W","HIE","","",20230926,160849,0.09,51.795000000000002,"CIBM              AI80184","OAVFND",305,"045SEL",null,"GTRF PF","KRW Corporate Loan",{"$f":"R4049","v":1420}]
["KR","HSBC",2,0,0,null,"OAVFND305050SEL","OAV","KRW Corporate Loan","PF KRW Corporate Loan","KRW","C13",3.2,0,"1",1809,{"$f":"VLOOKUP(K4055,[1]EXRATE!C$3:F$43,4,0)","v":1},1809,"",178,"",0,0,"","","","","","W","HIE","","",20230926,160849,0.09,51.795000000000002,"CIBM              AI80184","OAVFND",305,"050SEL",null,"GTRF PF","KRW Corporate Loan",{"$f":"R4055","v":1809},"Matched with local data"]
["KR","HSBC",2,0,0,null,"OAVFND305053SEL","OAV","KRW Corporate Loan","PF KRW Corporate Loan","KRW","C13",3.2,0,"1",205,{"$f":"VLOOKUP(K4061,[1]EXRATE!C$3:F$43,4,0)","v":1},205,"",178,"",0,0,"","","","","","W","HIE","","",20230926,160849,0.09,51.795000000000002,"CIBM              AI80184","OAVFND",305,"053SEL",null,"GTRF PF","KRW Corporate Loan",{"$f":"R4061","v":205},"Matched with local data"]
["KR","HSBC",2,0,0,null,"OAVFND305057SEL","OAV","KRW Corporate Loan","PF KRW Corporate Loan","KRW","C13",3.2,0,"1",380,{"$f":"VLOOKUP(K4069,[1]EXRATE!C$3:F$43,4,0)","v":1},{"$f":"+P4069*Q4069","v":380},"",178,"",0,0,"","","","","","W","HIE","","",20230926,160849,0.09,51.795000000000002,"CIBM              AI80184","OAVFND",305,"057SEL",null,"GTRF PF","KRW Corporate Loan",{"$f":"R4069","v":380},"Matched with local data"]
["KR","HSBC",2,0,0,null,"OAVFND305058SEL","UCD",{"$f":"VLOOKUP(H4070,[2]SSIFSEP!$H$2:$I$7593,2,0)","v":"미사용약정"},"Unused Credit Line","KRW","C13",3.2,0,"1",519,{"$f":"VLOOKUP(K4070,[1]EXRATE!C$3:F$43,4,0)","v":1},519,"",283,"",0,0,"","","","","","W","HIE","","",20230926,160849,0.09,51.795000000000002,"CIBM              MG30100","OAVFND",305,"058SEL"]
["KR","HSBC",2,0,0,null,"OAVFND305063SEL","UCD",{"$f":"VLOOKUP(H4078,[2]SSIFSEP!$H$2:$I$7593,2,0)","v":"미사용약정"},"Unused Credit Line","KRW","C13",3.2,0,"1",1328,{"$f":"VLOOKUP(K4078,[1]EXRATE!C$3:F$43,4,0)","v":1},1328,"",283,"",0,0,"","","","","","W","HIE","","",20230926,160849,0.09,51.795000000000002,"CIBM              MG30100","OAVFND",305,"063SEL"]
["KR","HSBC",2,0,0,null,"OAVFND305068SEL","OAV","KRW Corporate Loan","PF KRW Corporate Loan","KRW","C13",3.2,0,"1",3582,{"$f":"VLOOKUP(K4089,[1]EXRATE!C$3:F$43,4,0)","v":1},3582,"",178,"",0,0,"","","","","","W","HIE","","",20230926,160849,0.09,51.795000000000002,"CIBM              AI80184","OAVFND",305,"068SEL",null,"GTRF PF","KRW Corporate Loan",{"$f":"R4089","v":3582},"Matched with local data"]
["KR","HSBC",2,0,0,null,"OAVFND305069SEL","UCD",{"$f":"VLOOKUP(H4090,[2]SSIFSEP!$H$2:$I$7593,2,0)","v":"미사용약정"},"Unused Credit Line","KRW","C13",3.2,0,"1",1607,{"$f":"VLOOKUP(K4090,[1]EXRATE!C$3:F$43,4,0)","v":1},1607,"",283,"",0,0,"","","","","","W","HIE","","",20230926,160849,0.09,51.795000000000002,"CIBM              MG30100","OAVFND",305,"069SEL"]
["KR","HSBC",2,0,0,null,"OAVFND305090SEL","OAV","KRW Corporate Loan","PF KRW Corporate Loan","KRW","C13",3.2,0,"1",29751,{"$f":"VLOOKUP(K4102,[1]EXRATE!C$3:F$43,4,0)","v":1},29751,"",178,"",0,0,"","","","","","W","HIE","","",20230926,160849,0.09,51.12,"CIBM              AI80184","OAVFND",305,"090SEL",null,"GTRF PF","KRW Corporate Loan",{"$f":"R4102","v":29751},"Matched with local data"]
["KR","HSBC",2,0,0,null,"OAVFND305093SEL","OAV","KRW Corporate Loan","PF KRW Corporate Loan","KRW","C13",3.2,0,"1",2053,{"$f":"VLOOKUP(K4109,[1]EXRATE!C$3:F$43,4,0)","v":1},2053,"",178,"",0,0,"","","","","","W","HIE","","",20230926,160849,0.09,51.12,"CIBM              AI80184","OAVFND",305,"093SEL",null,"GTRF PF","KRW Corporate Loan",{"$f":"R4109","v":2053},"Matched with local data"]
["KR","HSBC",2,0,0,null,"OAVFND305105SEL","UCD",{"$f":"VLOOKUP(H4114,[2]SSIFSEP!$H$2:$I$7593,2,0)","v":"미사용약정"},"Unused Credit Line","KRW","C13",2.2000000000000002,0,"1",6,{"$f":"VLOOKUP(K4114,[1]EXRATE!C$3:F$43,4,0)","v":1},6,"",283,"",0,0,"","","","","","W","HIE","","",20230926,160849,0.02,51.71,"CIBM              MG30100","OAVFND",305,"105SEL"]
["KR","HSBC",2,0,0,null,"OAVFND305109SEL","OAV","KRW Corporate Loan","PF KRW Corporate Loan","KRW","C13",2.2000000000000002,0,"1",16,{"$f":"VLOOKUP(K4122,[1]EXRATE!C$3:F$43,4,0)","v":1},16,"",178,"",0,0,"","","","","","W","HIE","","",20230926,160849,0.02,51.71,"CIBM              AI80184","OAVFND",305,"109SEL",null,"GTRF PF","KRW Corporate Loan",{"$f":"R4122","v":16},"Matched with local data"]
["KR","HSBC",2,0,0,null,"OAVFND305115SEL","OAV","KRW Corporate Loan","PF KRW Corporate Loan","KRW","C13",2.2000000000000002,0,"1",528,{"$f":"VLOOKUP(K4130,[1]EXRATE!C$3:F$43,4,0)","v":1},528,"",178,"",0,0,"","","","","","W","HIE","","",20230926,160849,0.02,51.71,"CIBM              AI80184","OAVFND",305,"115SEL",null,"GTRF PF","KRW Corporate Loan",{"$f":"R4130","v":528},"Matched with local data"]
["KR","HSBC",2,0,0,null,"OAVFND305116SEL","OAV","KRW Corporate Loan","PF KRW Corporate Loan","KRW","C13",2.2000000000000002,0,"1",3,{"$f":"VLOOKUP(K4132,[1]EXRATE!C$3:F$43,4,0)","v":1},3,"",178,"",0,0,"","","","","","W","HIE","","",20230926,160849,0.02,51.71,"CIBM              AI80184","OAVFND",305,"116SEL",null,"GTRF PF","KRW Corporate Loan",{"$f":"R4132","v":3},"Matched with local data"]
["KR","HSBC",2,0,0,null,"OAVFND305121SEL","OAV","KRW Corporate Loan","PF KRW Corporate Loan","KRW","C13",2.2000000000000002,0,"1",85,{"$f":"VLOOKUP(K4142,[1]EXRATE!C$3:F$43,4,0)","v":1},85,"",178,"",0,0,"","","","","","W","HIE","","",20230926,160849,0.02,51.71,"CIBM              AI80184","OAVFND",305,"121SEL",null,"GTRF PF","KRW Corporate Loan",{"$f":"R4142","v":85},"Matched with local data"]
["KR","HSBC",2,0,0,null,"OAVFND305125SEL","OAV","KRW Corporate Loan","PF KRW Corporate Loan","KRW","C13",2.2000000000000002,0,"1",16,{"$f":"VLOOKUP(K4150,[1]EXRATE!C$3:F$43,4,0)","v":1},16,"",178,"",0,0,"","","","","","W","HIE","","",20230926,160849,0.02,51.71,"CIBM              AI80184","OAVFND",305,"125SEL",null,"GTRF PF","KRW Corporate Loan",{"$f":"R4150","v":16},"Matched with local data"]
["KR","HSBC",2,0,0,null,"OAVFND305127SEL","UCD",{"$f":"VLOOKUP(H4155,[2]SSIFSEP!$H$2:$I$7593,2,0)","v":"미사용약정"},"Unused Credit Line","KRW","C13",2.2000000000000002,0,"1",1,{"$f":"VLOOKUP(K4155,[1]EXRATE!C$3:F$43,4,0)","v":1},1,"",283,"",0,0,"","","","","","W","HIE","","",20230926,160849,0.02,51.71,"CIBM              MG30100","OAVFND",305,"127SEL"]
["KR","HSBC",2,0,0,null,"OAVFND305132SEL","UCD",{"$f":"VLOOKUP(H4163,[2]SSIFSEP!$H$2:$I$7593,2,0)","v":"미사용약정"},"Unused Credit Line","KRW","C13",2.2000000000000002,0,"1",43,{"$f":"VLOOKUP(K4163,[1]EXRATE!C$3:F$43,4,0)","v":1},43,"",283,"",0,0,"","","","","","W","HIE","","",20230926,160849,0.02,51.71,"CIBM              MG30100","OAVFND",305,"132SEL"]
["KR","HSBC",2,0,0,null,"OAVFND305134SEL","UCD",{"$f":"VLOOKUP(H4167,[2]SSIFSEP!$H$2:$I$7593,2,0)","v":"미사용약정"},"Unused Credit Line","KRW","C13",2.2000000000000002,0,"1",71,{"$f":"VLOOKUP(K4167,[1]EXRATE!C$3:F$43,4,0)","v":1},71,"",283,"",0,0,"","","","","","W","HIE","","",20230926,160849,0.02,51.71,"CIBM              MG30100","OAVFND",305,"134SEL"]
["KR","HSBC",2,0,0,null,"OAVFND305138SEL","UCD",{"$f":"VLOOKUP(H4175,[2]SSIFSEP!$H$2:$I$7593,2,0)","v":"미사용약정"},"Unused Credit Line","KRW","C13",2.2000000000000002,0,"1",0,{"$f":"VLOOKUP(K4175,[1]EXRATE!C$3:F$43,4,0)","v":1},0,"",283,"",0,0,"","","","","","W","HIE","","",20230926,160849,0.02,51.71,"CIBM              MG30100","OAVFND",305,"138SEL"]
["KR","HSBC",2,0,0,null,"OAVFND305142SEL","UCD",{"$f":"VLOOKUP(H4183,[2]SSIFSEP!$H$2:$I$7593,2,0)","v":"미사용약정"},"Unused Credit Line","KRW","C13",2.2000000000000002,0,"1",1,{"$f":"VLOOKUP(K4183,[1]EXRATE!C$3:F$43,4,0)","v":1},1,"",283,"",0,0,"","","","","","W","HIE","","",20230926,160849,0.02,51.71,"CIBM              MG30100","OAVFND",305,"142SEL"]
["KR","HSBC",2,0,0,null,"OAVFND305146SEL","OAV","KRW Corporate Loan","PF KRW Corporate Loan","KRW","C13",2.2000000000000002,0,"1",3,{"$f":"VLOOKUP(K4186,[1]EXRATE!C$3:F$43,4,0)","v":1},3,"",178,"",0,0,"","","","","","W","HIE","","",20230926,160849,0.02,51.71,"CIBM              AI80184","OAVFND",305,"146SEL",null,"GTRF PF","KRW Corporate Loan",{"$f":"R4186","v":3},"Matched with local data"]
["KR","HSBC",2,0,0,null,"OAVFND305150SEL","OAV","KRW Corporate Loan","PF KRW Corporate Loan","KRW","C13",2.2000000000000002,0,"1",1,{"$f":"VLOOKUP(K4195,[1]EXRATE!C$3:F$43,4,0)","v":1},1,"",178,"",0,0,"","","","","","W","HIE","","",20230926,160849,0.02,51.71,"CIBM              AI80184","OAVFND",305,"150SEL",null,"GTRF PF","KRW Corporate Loan",{"$f":"R4195","v":1}]
["KR","HSBC",2,0,0,null,"OAVFND305154SEL","UCD",{"$f":"VLOOKUP(H4200,[2]SSIFSEP!$H$2:$I$7593,2,0)","v":"미사용약정"},"Unused Credit Line","KRW","C13",2.2000000000000002,0,"1",38,{"$f":"VLOOKUP(K4200,[1]EXRATE!C$3:F$43,4,0)","v":1},38,"",283,"",0,0,"","","","","","W","HIE","","",20230926,160849,0.02,51.71,"CIBM              MG30100","OAVFND",305,"154SEL"]
["KR","HSBC",2,0,0,null,"OAVFND305169SEL","UCD",{"$f":"VLOOKUP(H4208,[2]SSIFSEP!$H$2:$I$7593,2,0)","v":"미사용약정"},"Unused Credit Line","KRW","MFS",1.2,0,"1",20,{"$f":"VLOOKUP(K4208,[1]EXRATE!C$3:F$43,4,0)","v":1},20,"",297,"",0,0,"","","","","","W","HIE","","",20230926,160849,0.01,52.015000000000001,"CIBM              MG30100","OAVFND",305,"169SEL"]
["KR","HSBC",2,0,0,null,"OAVFND305174SEL","OAV","KRW Corporate Loan","PF KRW Corporate Loan","KRW","MFS",1.2,0,"1",385,{"$f":"VLOOKUP(K4217,[1]EXRATE!C$3:F$43,4,0)","v":1},385,"",180,"",0,0,"","","","","","W","HIE","","",20230926,160849,0.01,52.015000000000001,"CIBM              AI80184","OAVFND",305,"174SEL",null,"GTRF PF","KRW Corporate Loan",{"$f":"R4217","v":385}]
["KR","HSBC",2,0,0,null,"OAVFND305178SEL","UCD",{"$f":"VLOOKUP(H4220,[2]SSIFSEP!$H$2:$I$7593,2,0)","v":"미사용약정"},"Unused Credit Line","KRW","MFS",1.2,0,"1",390,{"$f":"VLOOKUP(K4220,[1]EXRATE!C$3:F$43,4,0)","v":1},390,"",297,"",0,0,"","","","","","W","HIE","","",20230926,160849,0.01,52.015000000000001,"CIBM              MG30100","OAVFND",305,"178SEL"]
["KR","HSBC",2,0,0,null,"OAVFND305198SEL","OAV","KRW Corporate Loan","PF KRW Corporate Loan","KRW","C13",2.2000000000000002,0,"1",1257,{"$f":"VLOOKUP(K4228,[1]EXRATE!C$3:F$43,4,0)","v":1},1257,"",178,"",0,0,"","","","","","W","HIE","","",20230926,160849,0.02,51.71,"CIBM              AI80184","OAVFND",305,"198SEL",null,"GTRF PF","KRW Corporate Loan",{"$f":"R4228","v":1257},"Matched with local data"]
["KR","HSBC",2,0,0,null,"OAVFND305203SEL","OAV","KRW Corporate Loan","PF KRW Corporate Loan","KRW","C13",2.2000000000000002,0,"1",238,{"$f":"VLOOKUP(K4236,[1]EXRATE!C$3:F$43,4,0)","v":1},238,"",178,"",0,0,"","","","","","W","HIE","","",20230926,160849,0.02,51.71,"CIBM              AI80184","OAVFND",305,"203SEL",null,"GTRF PF","KRW Corporate Loan",{"$f":"R4236","v":238},"Matched with local data"]
["KR","HSBC",2,0,0,null,"OAVFND305210SEL","OAV","KRW Corporate Loan","PF KRW Corporate Loan","KRW","C23",2.2000000000000002,0,"1",117,{"$f":"VLOOKUP(K4240,[1]EXRATE!C$3:F$43,4,0)","v":1},117,"",179,"",0,0,"","","","","","W","HIE","","",20230926,160849,0.02,51.71,"CIBM              AI80184","OAVFND",305,"210SEL",null,"GTRF PF","KRW Corporate Loan",{"$f":"R4240","v":117},"Matched with local data"]
["KR","HSBC",2,0,0,null,"OAVFND305214SEL","OAV","KRW Corporate Loan","PF KRW Corporate Loan","KRW","C23",2.2000000000000002,0,"1",47,{"$f":"VLOOKUP(K4248,[1]EXRATE!C$3:F$43,4,0)","v":1},47,"",179,"",0,0,"","","","","","W","HIE","","",20230926,160849,0.02,51.71,"CIBM              AI80184","OAVFND",305,"214SEL",null,"GTRF PF","KRW Corporate Loan",{"$f":"R4248","v":47},"Matched with local data"]
["KR","HSBC",2,0,0,null,"OAVFND305216SEL","UCD",{"$f":"VLOOKUP(H4253,[2]SSIFSEP!$H$2:$I$7593,2,0)","v":"미사용약정"},"Unused Credit Line","KRW","C23",2.2000000000000002,0,"1",295,{"$f":"VLOOKUP(K4253,[1]EXRATE!C$3:F$43,4,0)","v":1},295,"",293,"",0,0,"","","","","","W","HIE","","",20230926,160849,0.02,51.71,"CIBM              MG30100","OAVFND",305,"216SEL"]
["KR","HSBC",2,0,0,null,"OAVFND305221SEL","OAV","KRW Corporate Loan","PF KRW Corporate Loan","KRW","C13",3.2,0,"1",551,{"$f":"VLOOKUP(K4261,[1]EXRATE!C$3:F$43,4,0)","v":1},{"$f":"+P4261*Q4261","v":551},"",178,"",0,0,"","","","","","W","HIE","","",20230926,160849,0.09,51.795000000000002,"CIBM              AI80184","OAVFND",305,"221SEL",null,"GTRF PF","KRW Corporate Loan",{"$f":"R4261","v":551}]
["KR","HSBC",2,0,0,null,"OAVFND305226SEL","UCD",{"$f":"VLOOKUP(H4271,[2]SSIFSEP!$H$2:$I$7593,2,0)","v":"미사용약정"},"Unused Credit Line","KRW","C23",2.2000000000000002,0,"1",34,{"$f":"VLOOKUP(K4271,[1]EXRATE!C$3:F$43,4,0)","v":1},34,"",293,"",0,0,"","","","","","W","HIE","","",20230926,160849,0.02,51.71,"CIBM              MG30100","OAVFND",305,"226SEL"]
["KR","HSBC",2,0,0,null,"OAVFND305227SEL","UCD",{"$f":"VLOOKUP(H4273,[2]SSIFSEP!$H$2:$I$7593,2,0)","v":"미사용약정"},"Unused Credit Line","KRW","C23",2.2000000000000002,0,"1",21,{"$f":"VLOOKUP(K4273,[1]EXRATE!C$3:F$43,4,0)","v":1},21,"",293,"",0,0,"","","","","","W","HIE","","",20230926,160849,0.02,51.71,"CIBM              MG30100","OAVFND",305,"227SEL"]
["KR","HSBC",2,0,0,null,"OAVFND305231SEL","UCD",{"$f":"VLOOKUP(H4281,[2]SSIFSEP!$H$2:$I$7593,2,0)","v":"미사용약정"},"Unused Credit Line","KRW","C23",2.2000000000000002,0,"1",100,{"$f":"VLOOKUP(K4281,[1]EXRATE!C$3:F$43,4,0)","v":1},100,"",293,"",0,0,"","","","","","W","HIE","","",20230926,160849,0.02,51.71,"CIBM              MG30100","OAVFND",305,"231SEL"]
["KR","HSBC",2,0,0,null,"OAVFND305234SEL","UCD",{"$f":"VLOOKUP(H4286,[2]SSIFSEP!$H$2:$I$7593,2,0)","v":"미사용약정"},"Unused Credit Line","KRW","C13",2.2000000000000002,0,"1",11,{"$f":"VLOOKUP(K4286,[1]EXRATE!C$3:F$43,4,0)","v":1},11,"",283,"",0,0,"","","","","","W","HIE","","",20230926,160849,0.02,51.71,"CIBM              MG30100","OAVFND",305,"234SEL"]
["KR","HSBC",2,0,0,null,"OAVFND305238SEL","OAV","KRW Corporate Loan","PF KRW Corporate Loan","KRW","C23",2.2000000000000002,0,"1",2,{"$f":"VLOOKUP(K4294,[1]EXRATE!C$3:F$43,4,0)","v":1},2,"",179,"",0,0,"","","","","","W","HIE","","",20230926,160849,0.02,51.71,"CIBM              AI80184","OAVFND",305,"238SEL",null,"GTRF PF","KRW Corporate Loan",{"$f":"R4294","v":2},"Matched with local data"]
["KR","HSBC",2,0,0,null,"OAVFND305242SEL","UCD",{"$f":"VLOOKUP(H4301,[2]SSIFSEP!$H$2:$I$7593,2,0)","v":"미사용약정"},"Unused Credit Line","KRW","C23",2.2000000000000002,0,"1",2,{"$f":"VLOOKUP(K4301,[1]EXRATE!C$3:F$43,4,0)","v":1},2,"",293,"",0,0,"","","","","","W","HIE","","",20230926,160849,0.02,51.71,"CIBM              MG30100","OAVFND",305,"242SEL"]
["KR","HSBC",2,0,0,null,"OAVFND305246SEL","OAV","KRW Corporate Loan","PF KRW Corporate Loan","KRW","C13",2.2000000000000002,0,"1",1466,{"$f":"VLOOKUP(K4306,[1]EXRATE!C$3:F$43,4,0)","v":1},1466,"",178,"",0,0,"","","","","","W","HIE","","",20230926,160849,0.02,51.71,"CIBM              AI80184","OAVFND",305,"246SEL",null,"GTRF PF","KRW Corporate Loan",{"$f":"R4306","v":1466},"Matched with local data"]
["KR","HSBC",2,0,0,null,"OAVFND305252SEL","OAV","KRW Corporate Loan","PF KRW Corporate Loan","KRW","C23",2.2000000000000002,0,"1",5642,{"$f":"VLOOKUP(K4314,[1]EXRATE!C$3:F$43,4,0)","v":1},5642,"",179,"",0,0,"","","","","","W","HIE","","",20230926,160849,0.02,51.71,"CIBM              AI80184","OAVFND",305,"252SEL",null,"GTRF PF","KRW Corporate Loan",{"$f":"R4314","v":5642},"Matched with local data"]
["KR","HSBC",2,0,0,null,"OAVFND305266SEL","OAV","KRW Corporate Loan","PF KRW Corporate Loan","KRW","C13",3.2,0,"1",381,{"$f":"VLOOKUP(K4325,[1]EXRATE!C$3:F$43,4,0)","v":1},{"$f":"+P4325*Q4325","v":381},"",178,"",0,0,"","","","","","W","HIE","","",20230926,160849,0.09,51.795000000000002,"CIBM              AI80184","OAVFND",305,"266SEL",null,"GTRF PF","KRW Corporate Loan",{"$f":"R4325","v":381},"Matched with local data"]
["KR","HSBC",2,0,0,null,"OAVFND305267SEL","OAV","KRW Corporate Loan","PF KRW Corporate Loan","KRW","C23",2.2000000000000002,0,"1",306,{"$f":"VLOOKUP(K4326,[1]EXRATE!C$3:F$43,4,0)","v":1},306,"",179,"",0,0,"","","","","","W","HIE","","",20230926,160849,0.02,51.71,"CIBM              AI80184","OAVFND",305,"267SEL",null,"GTRF PF","KRW Corporate Loan",{"$f":"R4326","v":306},"Matched with local data"]
["KR","HSBC",2,0,0,null,"OAVFND305616SEL","OAV","KRW Corporate Loan","PF KRW Corporate Loan","KRW","C13",2.2000000000000002,0,"1",3583,{"$f":"VLOOKUP(K4334,[1]EXRATE!C$3:F$43,4,0)","v":1},3583,"",178,"",0,0,"","","","","","W","HIE","","",20230926,160849,0.02,51.71,"CIBM              AI80184","OAVFND",305,"616SEL",null,"GTRF PF","KRW Corporate Loan",{"$f":"R4334","v":3583},"Matched with local data"]
["KR","HSBC",2,0,0,null,"OAVFND305662SEL","OAV","KRW Corporate Loan","PF KRW Corporate Loan","KRW","C13",2.2000000000000002,0,"1",19,{"$f":"VLOOKUP(K4346,[1]EXRATE!C$3:F$43,4,0)","v":1},19,"",178,"",0,0,"","","","","","W","HIE","","",20230926,160849,0.02,51.695,"CIBM              AI80184","OAVFND",305,"662SEL",null,"GTRF PF","KRW Corporate Loan",{"$f":"R4346","v":19},"Matched with local data"]
["KR","HSBC",2,0,0,null,"OAVFND305663SEL","OAV","KRW Corporate Loan","PF KRW Corporate Loan","KRW","C13",2.2000000000000002,0,"1",324,{"$f":"VLOOKUP(K4348,[1]EXRATE!C$3:F$43,4,0)","v":1},324,"",178,"",0,0,"","","","","","W","HIE","","",20230926,160849,0.02,51.695,"CIBM              AI80184","OAVFND",305,"663SEL",null,"GTRF PF","KRW Corporate Loan",{"$f":"R4348","v":324},"Matched with local data"]
["KR","HSBC",2,0,0,null,"OAVFND305846SEL","UCD",{"$f":"VLOOKUP(H4354,[2]SSIFSEP!$H$2:$I$7593,2,0)","v":"미사용약정"},"Unused Credit Line","KRW","C13",3.2,0,"1",2637,{"$f":"VLOOKUP(K4354,[1]EXRATE!C$3:F$43,4,0)","v":1},2637,"",283,"",0,0,"","","","","","W","HIE","","",20230926,160849,0.09,51.7,"CIBM              MG30100","OAVFND",305,"846SEL"]
["KR","HSBC",2,0,0,null,"OAVFND305852SEL","OAV","KRW Corporate Loan","PF KRW Corporate Loan","KRW","C13",3.2,0,"1",1257,{"$f":"VLOOKUP(K4366,[1]EXRATE!C$3:F$43,4,0)","v":1},1257,"",178,"",0,0,"","","","","","W","HIE","","",20230926,160849,0.09,51.7,"CIBM              AI80184","OAVFND",305,"852SEL",null,"GTRF PF","KRW Corporate Loan",{"$f":"R4366","v":1257},"Matched with local data"]
["KR","HSBC",2,0,0,null,"OAVFND305852SEL","UCD",{"$f":"VLOOKUP(H4367,[2]SSIFSEP!$H$2:$I$7593,2,0)","v":"미사용약정"},"Unused Credit Line","KRW","C13",3.2,0,"1",842,{"$f":"VLOOKUP(K4367,[1]EXRATE!C$3:F$43,4,0)","v":1},842,"",283,"",0,0,"","","","","","W","HIE","","",20230926,160849,0.09,51.7,"CIBM              MG30100","OAVFND",305,"852SEL"]
["KR","HSBC",2,0,0,null,"OAVFND305858SEL","UCD",{"$f":"VLOOKUP(H4379,[2]SSIFSEP!$H$2:$I$7593,2,0)","v":"미사용약정"},"Unused Credit Line","KRW","C13",3.2,0,"1",2657,{"$f":"VLOOKUP(K4379,[1]EXRATE!C$3:F$43,4,0)","v":1},2657,"",283,"",0,0,"","","","","","W","HIE","","",20230926,160849,0.09,51.7,"CIBM              MG30100","OAVFND",305,"858SEL"]
["KR","HSBC",2,0,0,null,"OAVFND305862SEL","UCD",{"$f":"VLOOKUP(H4386,[2]SSIFSEP!$H$2:$I$7593,2,0)","v":"미사용약정"},"Unused Credit Line","KRW","C13",3.2,0,"1",81,{"$f":"VLOOKUP(K4386,[1]EXRATE!C$3:F$43,4,0)","v":1},81,"",283,"",0,0,"","","","","","W","HIE","","",20230926,160849,0.09,51.7,"CIBM              MG30100","OAVFND",305,"862SEL"]
["KR","HSBC",2,0,0,null,"OAVFND305862SEL","OAV","KRW Corporate Loan","PF KRW Corporate Loan","KRW","C13",3.2,0,"1",80,{"$f":"VLOOKUP(K4387,[1]EXRATE!C$3:F$43,4,0)","v":1},80,"",178,"",0,0,"","","","","","W","HIE","","",20230926,160849,0.09,51.7,"CIBM              AI80184","OAVFND",305,"862SEL",null,"GTRF PF","KRW Corporate Loan",{"$f":"R4387","v":80},"Matched with local data"]
["KR","HSBC",2,0,0,null,"OAVFND305868SEL","UCD",{"$f":"VLOOKUP(H4398,[2]SSIFSEP!$H$2:$I$7593,2,0)","v":"미사용약정"},"Unused Credit Line","KRW","C13",3.2,0,"1",4596,{"$f":"VLOOKUP(K4398,[1]EXRATE!C$3:F$43,4,0)","v":1},4596,"",283,"",0,0,"","","","","","W","HIE","","",20230926,160849,0.09,51.7,"CIBM              MG30100","OAVFND",305,"868SEL"]
["KR","HSBC",2,0,0,null,"OAVFND305872SEL","OAV","KRW Corporate Loan","PF KRW Corporate Loan","KRW","C13",3.2,0,"1",457,{"$f":"VLOOKUP(K4406,[1]EXRATE!C$3:F$43,4,0)","v":1},457,"",178,"",0,0,"","","","","","W","HIE","","",20230926,160849,0.09,51.7,"CIBM              AI80184","OAVFND",305,"872SEL",null,"GTRF PF","KRW Corporate Loan",{"$f":"R4406","v":457},"Matched with local data"]
["KR","HSBC",2,0,0,null,"OAVFND305872SEL","UCD",{"$f":"VLOOKUP(H4407,[2]SSIFSEP!$H$2:$I$7593,2,0)","v":"미사용약정"},"Unused Credit Line","KRW","C13",3.2,0,"1",306,{"$f":"VLOOKUP(K4407,[1]EXRATE!C$3:F$43,4,0)","v":1},306,"",283,"",0,0,"","","","","","W","HIE","","",20230926,160849,0.09,51.7,"CIBM              MG30100","OAVFND",305,"872SEL"]
["KR","HSBC",2,0,0,null,"OAVFND305878SEL","OAV","KRW Corporate Loan","PF KRW Corporate Loan","KRW","C13",3.2,0,"1",1797,{"$f":"VLOOKUP(K4419,[1]EXRATE!C$3:F$43,4,0)","v":1},1797,"",178,"",0,0,"","","","","","W","HIE","","",20230926,160849,0.09,51.7,"CIBM              AI80184","OAVFND",305,"878SEL",null,"GTRF PF","KRW Corporate Loan",{"$f":"R4419","v":1797},"Matched with local data"]
["KR","HSBC",2,0,0,null,"OAVFND305880SEL","OAV","KRW Corporate Loan","PF KRW Corporate Loan","KRW","C13",3.2,0,"1",80,{"$f":"VLOOKUP(K4423,[1]EXRATE!C$3:F$43,4,0)","v":1},80,"",178,"",0,0,"","","","","","W","HIE","","",20230926,160849,0.09,51.7,"CIBM              AI80184","OAVFND",305,"880SEL",null,"GTRF PF","KRW Corporate Loan",{"$f":"R4423","v":80},"Matched with local data"]
["KR","HSBC",2,0,0,null,"OAVFND305884SEL","OAV","KRW Corporate Loan","PF KRW Corporate Loan","KRW","C13",3.2,0,"1",36,{"$f":"VLOOKUP(K4431,[1]EXRATE!C$3:F$43,4,0)","v":1},36,"",178,"",0,0,"","","","","","W","HIE","","",20230926,160849,0.09,51.7,"CIBM              AI80184","OAVFND",305,"884SEL",null,"GTRF PF","KRW Corporate Loan",{"$f":"R4431","v":36},"Matched with local data"]
["KR","HSBC",2,0,0,null,"OAVFND305888SEL","OAV","KRW Corporate Loan","PF KRW Corporate Loan","KRW","C13",3.2,0,"1",5913,{"$f":"VLOOKUP(K4439,[1]EXRATE!C$3:F$43,4,0)","v":1},5913,"",178,"",0,0,"","","","","","W","HIE","","",20230926,160849,0.09,51.7,"CIBM              AI80184","OAVFND",305,"888SEL",null,"GTRF PF","KRW Corporate Loan",{"$f":"R4439","v":5913},"Matched with local data"]
["KR","HSBC",2,0,0,null,"OAVFND305892SEL","UCD",{"$f":"VLOOKUP(H4447,[2]SSIFSEP!$H$2:$I$7593,2,0)","v":"미사용약정"},"Unused Credit Line","KRW","C13",3.2,0,"1",817,{"$f":"VLOOKUP(K4447,[1]EXRATE!C$3:F$43,4,0)","v":1},817,"",283,"",0,0,"","","","","","W","HIE","","",20230926,160849,0.09,51.7,"CIBM              MG30100","OAVFND",305,"892SEL"]
["KR","HSBC",2,0,0,null,"OAVFND305895SEL","OAV","KRW Corporate Loan","PF KRW Corporate Loan","KRW","C13",3.2,0,"1",407,{"$f":"VLOOKUP(K4452,[1]EXRATE!C$3:F$43,4,0)","v":1},407,"",178,"",0,0,"","","","","","W","HIE","","",20230926,160849,0.09,51.7,"CIBM              AI80184","OAVFND",305,"895SEL",null,"GTRF PF","KRW Corporate Loan",{"$f":"R4452","v":407},"Matched with local data"]
["KR","HSBC",2,0,0,null,"OAVFND305898SEL","UCD",{"$f":"VLOOKUP(H4459,[2]SSIFSEP!$H$2:$I$7593,2,0)","v":"미사용약정"},"Unused Credit Line","KRW","C13",3.2,0,"1",21587,{"$f":"VLOOKUP(K4459,[1]EXRATE!C$3:F$43,4,0)","v":1},21587,"",283,"",0,0,"","","","","","W","HIE","","",20230926,160849,0.09,51.7,"CIBM              MG30100","OAVFND",305,"898SEL"]
["KR","HSBC",2,0,0,null,"OAVFND305902SEL","OAV","KRW Corporate Loan","PF KRW Corporate Loan","KRW","C13",3.2,0,"1",281,{"$f":"VLOOKUP(K4467,[1]EXRATE!C$3:F$43,4,0)","v":1},281,"",178,"",0,0,"","","","","","W","HIE","","",20230926,160849,0.09,51.7,"CIBM              AI80184","OAVFND",305,"902SEL",null,"GTRF PF","KRW Corporate Loan",{"$f":"R4467","v":281},"Matched with local data"]
["KR","HSBC",2,0,0,null,"OAVFND305905SEL","OAV","KRW Corporate Loan","PF KRW Corporate Loan","KRW","C13",3.2,0,"1",646,{"$f":"VLOOKUP(K4472,[1]EXRATE!C$3:F$43,4,0)","v":1},646,"",178,"",0,0,"","","","","","W","HIE","","",20230926,160849,0.09,51.7,"CIBM              AI80184","OAVFND",305,"905SEL",null,"GTRF PF","KRW Corporate Loan",{"$f":"R4472","v":646},"Matched with local data"]
["KR","HSBC",2,0,0,null,"OAVFND305907SEL","UCD",{"$f":"VLOOKUP(H4477,[2]SSIFSEP!$H$2:$I$7593,2,0)","v":"미사용약정"},"Unused Credit Line","KRW","C13",3.2,0,"1",559,{"$f":"VLOOKUP(K4477,[1]EXRATE!C$3:F$43,4,0)","v":1},559,"",283,"",0,0,"","","","","","W","HIE","","",20230926,160849,0.09,51.7,"CIBM              MG30100","OAVFND",305,"907SEL"]
["KR","HSBC",2,0,0,null,"OAVFND305911SEL","OAV","KRW Corporate Loan","PF KRW Corporate Loan","KRW","C13",3.2,0,"1",1018,{"$f":"VLOOKUP(K4484,[1]EXRATE!C$3:F$43,4,0)","v":1},1018,"",178,"",0,0,"","","","","","W","HIE","","",20230926,160849,0.09,51.7,"CIBM              AI80184","OAVFND",305,"911SEL",null,"GTRF PF","KRW Corporate Loan",{"$f":"R4484","v":1018},"Matched with local data"]
["KR","HSBC",2,0,0,null,"OAVFND305915SEL","UCD",{"$f":"VLOOKUP(H4492,[2]SSIFSEP!$H$2:$I$7593,2,0)","v":"미사용약정"},"Unused Credit Line","KRW","C13",3.2,0,"1",561,{"$f":"VLOOKUP(K4492,[1]EXRATE!C$3:F$43,4,0)","v":1},561,"",283,"",0,0,"","","","","","W","HIE","","",20230926,160849,0.09,51.7,"CIBM              MG30100","OAVFND",305,"915SEL"]
["KR","HSBC",2,0,0,null,"OAVFND305929SEL","OAV","KRW Corporate Loan","PF KRW Corporate Loan","KRW","C13",3.2,0,"1",101,{"$f":"VLOOKUP(K4500,[1]EXRATE!C$3:F$43,4,0)","v":1},101,"",178,"",0,0,"","","","","","W","HIE","","",20230926,160849,0.09,51.71,"CIBM              AI80184","OAVFND",305,"929SEL",null,"GTRF PF","KRW Corporate Loan",{"$f":"R4500","v":101},"Matched with local data"]
["KR","HSBC",2,0,0,null,"OAVFND305932SEL","OAV","KRW Corporate Loan","PF KRW Corporate Loan","KRW","C13",2.2000000000000002,0,"1",322,{"$f":"VLOOKUP(K4506,[1]EXRATE!C$3:F$43,4,0)","v":1},322,"",178,"",0,0,"","","","","","W","HIE","","",20230926,160849,0.02,51.61,"CIBM              AI80184","OAVFND",305,"932SEL",null,"GTRF PF","KRW Corporate Loan",{"$f":"R4506","v":322},"Matched with local data"]
["KR","HSBC",2,0,0,null,"OAVFND305935SEL","OAV","KRW Corporate Loan","PF KRW Corporate Loan","KRW","C13",2.2000000000000002,0,"1",503,{"$f":"VLOOKUP(K4512,[1]EXRATE!C$3:F$43,4,0)","v":1},503,"",178,"",0,0,"","","","","","W","HIE","","",20230926,160849,0.02,51.61,"CIBM              AI80184","OAVFND",305,"935SEL",null,"GTRF PF","KRW Corporate Loan",{"$f":"R4512","v":503},"Matched with local data"]
["KR","HSBC",2,0,0,null,"OAVFND305937SEL","OAV","KRW Corporate Loan","PF KRW Corporate Loan","KRW","C13",2.2000000000000002,0,"1",0,{"$f":"VLOOKUP(K4517,[1]EXRATE!C$3:F$43,4,0)","v":1},{"$f":"+P4517*Q4517","v":0},"",178,"",0,0,"","","","","","W","HIE","","",20230926,160849,0.02,51.61,"CIBM              AI80184","OAVFND",305,"937SEL",null,"GTRF PF","KRW Corporate Loan",{"$f":"R4517","v":0}]
["KR","HSBC",2,0,0,null,"OAVFND305941SEL","UCD",{"$f":"VLOOKUP(H4525,[2]SSIFSEP!$H$2:$I$7593,2,0)","v":"미사용약정"},"Unused Credit Line","KRW","C13",3.2,0,"1",14377,{"$f":"VLOOKUP(K4525,[1]EXRATE!C$3:F$43,4,0)","v":1},14377,"",283,"",0,0,"","","","","","W","HIE","","",20230926,160849,0.09,51.03,"CIBM              MG30100","OAVFND",305,"941SEL"]
["KR","HSBC",2,0,0,null,"OAVFND305944SEL","OAV","KRW Corporate Loan","PF KRW Corporate Loan","KRW","C13",3.2,0,"1",1565,{"$f":"VLOOKUP(K4531,[1]EXRATE!C$3:F$43,4,0)","v":1},1565,"",178,"",0,0,"","","","","","W","HIE","","",20230926,160849,0.09,51.03,"CIBM              AI80184","OAVFND",305,"944SEL",null,"GTRF PF","KRW Corporate Loan",{"$f":"R4531","v":1565},"Matched with local data"]
["KR","HSBC",2,0,0,null,"OAVFND305947SEL","UCD",{"$f":"VLOOKUP(H4537,[2]SSIFSEP!$H$2:$I$7593,2,0)","v":"미사용약정"},"Unused Credit Line","KRW","C13",2.2000000000000002,0,"1",11,{"$f":"VLOOKUP(K4537,[1]EXRATE!C$3:F$43,4,0)","v":1},11,"",283,"",0,0,"","","","","","W","HIE","","",20230926,160849,0.02,51.61,"CIBM              MG30100","OAVFND",305,"947SEL"]
["KR","HSBC",2,0,0,null,"OAVFND305951SEL","UCD",{"$f":"VLOOKUP(H4545,[2]SSIFSEP!$H$2:$I$7593,2,0)","v":"미사용약정"},"Unused Credit Line","KRW","C13",2.2000000000000002,0,"1",0,{"$f":"VLOOKUP(K4545,[1]EXRATE!C$3:F$43,4,0)","v":1},0,"",283,"",0,0,"","","","","","W","HIE","","",20230926,160849,0.02,51.61,"CIBM              MG30100","OAVFND",305,"951SEL"]
["KR","HSBC",2,0,0,null,"OAVFND305955SEL","UCD",{"$f":"VLOOKUP(H4553,[2]SSIFSEP!$H$2:$I$7593,2,0)","v":"미사용약정"},"Unused Credit Line","KRW","C13",2.2000000000000002,0,"1",29,{"$f":"VLOOKUP(K4553,[1]EXRATE!C$3:F$43,4,0)","v":1},29,"",283,"",0,0,"","","","","","W","HIE","","",20230926,160849,0.02,51.61,"CIBM              MG30100","OAVFND",305,"955SEL"]
["KR","HSBC",2,0,0,null,"OAVFND305959SEL","OAV","KRW Corporate Loan","PF KRW Corporate Loan","KRW","C13",2.2000000000000002,0,"1",12,{"$f":"VLOOKUP(K4560,[1]EXRATE!C$3:F$43,4,0)","v":1},12,"",178,"",0,0,"","","","","","W","HIE","","",20230926,160849,0.02,51.61,"CIBM              AI80184","OAVFND",305,"959SEL",null,"GTRF PF","KRW Corporate Loan",{"$f":"R4560","v":12},"Matched with local data"]
["KR","HSBC",2,0,0,null,"OAVFND305961SEL","UCD",{"$f":"VLOOKUP(H4565,[2]SSIFSEP!$H$2:$I$7593,2,0)","v":"미사용약정"},"Unused Credit Line","KRW","C13",2.2000000000000002,0,"1",760,{"$f":"VLOOKUP(K4565,[1]EXRATE!C$3:F$43,4,0)","v":1},760,"",283,"",0,0,"","","","","","W","HIE","","",20230926,160849,0.02,51.61,"CIBM              MG30100","OAVFND",305,"961SEL"]
["KR","HSBC",2,0,0,null,"OAVFND305964SEL","OAV","KRW Corporate Loan","PF KRW Corporate Loan","KRW","C13",2.2000000000000002,0,"1",50,{"$f":"VLOOKUP(K4570,[1]EXRATE!C$3:F$43,4,0)","v":1},50,"",178,"",0,0,"","","","","","W","HIE","","",20230926,160849,0.02,51.61,"CIBM              AI80184","OAVFND",305,"964SEL",null,"GTRF PF","KRW Corporate Loan",{"$f":"R4570","v":50},"Matched with local data"]
["KR","HSBC",2,0,0,null,"OAVFND305968SEL","OAV","KRW Corporate Loan","PF KRW Corporate Loan","KRW","C13",2.2000000000000002,0,"1",9,{"$f":"VLOOKUP(K4578,[1]EXRATE!C$3:F$43,4,0)","v":1},9,"",178,"",0,0,"","","","","","W","HIE","","",20230926,160849,0.02,51.61,"CIBM              AI80184","OAVFND",305,"968SEL",null,"GTRF PF","KRW Corporate Loan",{"$f":"R4578","v":9},"Matched with local data"]
["KR","HSBC",2,0,0,null,"OAVFND305971SEL","OAV","KRW Corporate Loan","PF KRW Corporate Loan","KRW","C13",2.2000000000000002,0,"1",1,{"$f":"VLOOKUP(K4585,[1]EXRATE!C$3:F$43,4,0)","v":1},1,"",178,"",0,0,"","","","","","W","HIE","","",20230926,160849,0.02,51.61,"CIBM              AI80184","OAVFND",305,"971SEL",null,"GTRF PF","KRW Corporate Loan",{"$f":"R4585","v":1}]
["KR","HSBC",2,0,0,null,"OAVFND305974SEL","OAV","KRW Corporate Loan","PF KRW Corporate Loan","KRW","C13",2.2000000000000002,0,"1",478,{"$f":"VLOOKUP(K4590,[1]EXRATE!C$3:F$43,4,0)","v":1},478,"",178,"",0,0,"","","","","","W","HIE","","",20230926,160849,0.02,51.61,"CIBM              AI80184","OAVFND",305,"974SEL",null,"GTRF PF","KRW Corporate Loan",{"$f":"R4590","v":478},"Matched with local data"]
["KR","HSBC",2,0,0,null,"OAVFND305989SEL","UCD",{"$f":"VLOOKUP(H4598,[2]SSIFSEP!$H$2:$I$7593,2,0)","v":"미사용약정"},"Unused Credit Line","KRW","MFS",1.2,0,"1",34,{"$f":"VLOOKUP(K4598,[1]EXRATE!C$3:F$43,4,0)","v":1},34,"",297,"",0,0,"","","","","","W","HIE","","",20230926,160849,0.01,51.994999999999997,"CIBM              MG30100","OAVFND",305,"989SEL"]
["KR","HSBC",2,0,0,null,"OAVFND305993SEL","UCD",{"$f":"VLOOKUP(H4606,[2]SSIFSEP!$H$2:$I$7593,2,0)","v":"미사용약정"},"Unused Credit Line","KRW","MFS",1.2,0,"1",22,{"$f":"VLOOKUP(K4606,[1]EXRATE!C$3:F$43,4,0)","v":1},22,"",297,"",0,0,"","","","","","W","HIE","","",20230926,160849,0.01,51.994999999999997,"CIBM              MG30100","OAVFND",305,"993SEL"]
["KR","HSBC",2,0,0,null,"OAVFND305997SEL","UCD",{"$f":"VLOOKUP(H4614,[2]SSIFSEP!$H$2:$I$7593,2,0)","v":"미사용약정"},"Unused Credit Line","KRW","MFS",1.2,0,"1",364,{"$f":"VLOOKUP(K4614,[1]EXRATE!C$3:F$43,4,0)","v":1},364,"",297,"",0,0,"","","","","","W","HIE","","",20230926,160849,0.01,51.994999999999997,"CIBM              MG30100","OAVFND",305,"997SEL"]
["KR","HSBC",2,0,0,null,"OAVFND305999SEL","OAV","KRW Corporate Loan","PF KRW Corporate Loan","KRW","C13",3.2,0,"1",1768,{"$f":"VLOOKUP(K4618,[1]EXRATE!C$3:F$43,4,0)","v":1},1768,"",178,"",0,0,"","","","","","W","HIE","","",20230926,160849,0.09,51.71,"CIBM              AI80184","OAVFND",305,"999SEL",null,"GTRF PF","KRW Corporate Loan",{"$f":"R4618","v":1768},"Matched with local data"]
["KR","HSBC",2,0,0,null,"OAVFND306001SEL","OAV","KRW Corporate Loan","PF KRW Corporate Loan","KRW","MFS",1.2,0,"1",25,{"$f":"VLOOKUP(K4623,[1]EXRATE!C$3:F$43,4,0)","v":1},25,"",180,"",0,0,"","","","","","W","HIE","","",20230926,160849,0.01,51.994999999999997,"CIBM              AI80184","OAVFND",306,"001SEL",null,"GTRF PF","KRW Corporate Loan",{"$f":"R4623","v":25},"Matched with local data"]
["KR","HSBC",2,0,0,null,"OAVFND306005SEL","UCD",{"$f":"VLOOKUP(H4631,[2]SSIFSEP!$H$2:$I$7593,2,0)","v":"미사용약정"},"Unused Credit Line","KRW","C13",3.2,0,"1",68,{"$f":"VLOOKUP(K4631,[1]EXRATE!C$3:F$43,4,0)","v":1},68,"",283,"",0,0,"","","","","","W","HIE","","",20230926,160849,0.09,51.71,"CIBM              MG30100","OAVFND",306,"005SEL"]
["KR","HSBC",2,0,0,null,"OAVFND306023SEL","UCD",{"$f":"VLOOKUP(H4639,[2]SSIFSEP!$H$2:$I$7593,2,0)","v":"미사용약정"},"Unused Credit Line","KRW","C23",2.2000000000000002,0,"1",15,{"$f":"VLOOKUP(K4639,[1]EXRATE!C$3:F$43,4,0)","v":1},15,"",293,"",0,0,"","","","","","W","HIE","","",20230926,160849,0.02,51.61,"CIBM              MG30100","OAVFND",306,"023SEL"]
["KR","HSBC",2,0,0,null,"OAVFND306032SEL","UCD",{"$f":"VLOOKUP(H4643,[2]SSIFSEP!$H$2:$I$7593,2,0)","v":"미사용약정"},"Unused Credit Line","KRW","C23",2.2000000000000002,0,"1",0,{"$f":"VLOOKUP(K4643,[1]EXRATE!C$3:F$43,4,0)","v":1},0,"",293,"",0,0,"","","","","","W","HIE","","",20230926,160849,0.02,51.61,"CIBM              MG30100","OAVFND",306,"032SEL"]
["KR","HSBC",2,0,0,null,"OAVFND306036SEL","UCD",{"$f":"VLOOKUP(H4651,[2]SSIFSEP!$H$2:$I$7593,2,0)","v":"미사용약정"},"Unused Credit Line","KRW","C23",2.2000000000000002,0,"1",4,{"$f":"VLOOKUP(K4651,[1]EXRATE!C$3:F$43,4,0)","v":1},4,"",293,"",0,0,"","","","","","W","HIE","","",20230926,160849,0.02,51.61,"CIBM              MG30100","OAVFND",306,"036SEL"]
["KR","HSBC",2,0,0,null,"OAVFND306042SEL","UCD",{"$f":"VLOOKUP(H4663,[2]SSIFSEP!$H$2:$I$7593,2,0)","v":"미사용약정"},"Unused Credit Line","KRW","C23",2.2000000000000002,0,"1",3,{"$f":"VLOOKUP(K4663,[1]EXRATE!C$3:F$43,4,0)","v":1},3,"",293,"",0,0,"","","","","","W","HIE","","",20230926,160849,0.02,51.61,"CIBM              MG30100","OAVFND",306,"042SEL"]
["KR","HSBC",2,0,0,null,"OAVFND306045SEL","OAV","KRW Corporate Loan","PF KRW Corporate Loan","KRW","C23",2.2000000000000002,0,"1",41,{"$f":"VLOOKUP(K4668,[1]EXRATE!C$3:F$43,4,0)","v":1},41,"",179,"",0,0,"","","","","","W","HIE","","",20230926,160849,0.02,51.61,"CIBM              AI80184","OAVFND",306,"045SEL",null,"GTRF PF","KRW Corporate Loan",{"$f":"R4668","v":41},"Matched with local data"]
["KR","HSBC",2,0,0,null,"OAVFND306046SEL","UCD",{"$f":"VLOOKUP(H4671,[2]SSIFSEP!$H$2:$I$7593,2,0)","v":"미사용약정"},"Unused Credit Line","KRW","C23",2.2000000000000002,0,"1",255,{"$f":"VLOOKUP(K4671,[1]EXRATE!C$3:F$43,4,0)","v":1},255,"",293,"",0,0,"","","","","","W","HIE","","",20230926,160849,0.02,51.61,"CIBM              MG30100","OAVFND",306,"046SEL"]
["KR","HSBC",2,0,0,null,"OAVFND306052SEL","UCD",{"$f":"VLOOKUP(H4683,[2]SSIFSEP!$H$2:$I$7593,2,0)","v":"미사용약정"},"Unused Credit Line","KRW","C23",2.2000000000000002,0,"1",3,{"$f":"VLOOKUP(K4683,[1]EXRATE!C$3:F$43,4,0)","v":1},3,"",293,"",0,0,"","","","","","W","HIE","","",20230926,160849,0.02,51.61,"CIBM              MG30100","OAVFND",306,"052SEL"]
["KR","HSBC",2,0,0,null,"OAVFND306053SEL","OAV","KRW Corporate Loan","PF KRW Corporate Loan","KRW","C23",2.2000000000000002,0,"1",2486,{"$f":"VLOOKUP(K4684,[1]EXRATE!C$3:F$43,4,0)","v":1},2486,"",179,"",0,0,"","","","","","W","HIE","","",20230926,160849,0.02,51.61,"CIBM              AI80184","OAVFND",306,"053SEL",null,"GTRF PF","KRW Corporate Loan",{"$f":"R4684","v":2486},"Matched with local data"]
["KR","HSBC",2,0,0,null,"OAVFND306057SEL","UCD",{"$f":"VLOOKUP(H4693,[2]SSIFSEP!$H$2:$I$7593,2,0)","v":"미사용약정"},"Unused Credit Line","KRW","C23",2.2000000000000002,0,"1",0,{"$f":"VLOOKUP(K4693,[1]EXRATE!C$3:F$43,4,0)","v":1},0,"",293,"",0,0,"","","","","","W","HIE","","",20230926,160849,0.02,51.61,"CIBM              MG30100","OAVFND",306,"057SEL"]
["KR","HSBC",2,0,0,null,"OAVFND306062SEL","UCD",{"$f":"VLOOKUP(H4703,[2]SSIFSEP!$H$2:$I$7593,2,0)","v":"미사용약정"},"Unused Credit Line","KRW","C23",2.2000000000000002,0,"1",133,{"$f":"VLOOKUP(K4703,[1]EXRATE!C$3:F$43,4,0)","v":1},133,"",293,"",0,0,"","","","","","W","HIE","","",20230926,160849,0.02,51.61,"CIBM              MG30100","OAVFND",306,"062SEL"]
["KR","HSBC",2,0,0,null,"OAVFND306064SEL","OAV","KRW Corporate Loan","PF KRW Corporate Loan","KRW","C23",2.2000000000000002,0,"1",89,{"$f":"VLOOKUP(K4704,[1]EXRATE!C$3:F$43,4,0)","v":1},89,"",179,"",0,0,"","","","","","W","HIE","","",20230926,160849,0.02,51.61,"CIBM              AI80184","OAVFND",306,"064SEL",null,"GTRF PF","KRW Corporate Loan",{"$f":"R4704","v":89},"Matched with local data"]
["KR","HSBC",2,0,0,null,"OAVFND306080SEL","UCD",{"$f":"VLOOKUP(H4716,[2]SSIFSEP!$H$2:$I$7593,2,0)","v":"미사용약정"},"Unused Credit Line","KRW","C13",3.2,0,"1",7830,{"$f":"VLOOKUP(K4716,[1]EXRATE!C$3:F$43,4,0)","v":1},7830,"",283,"",0,0,"","","","","","W","HIE","","",20230926,160849,0.09,51.7,"CIBM              MG30100","OAVFND",306,"080SEL"]
["KR","HSBC",2,0,0,null,"OAVFND306083SEL","UCD",{"$f":"VLOOKUP(H4722,[2]SSIFSEP!$H$2:$I$7593,2,0)","v":"미사용약정"},"Unused Credit Line","KRW","C13",3.2,0,"1",13848,{"$f":"VLOOKUP(K4722,[1]EXRATE!C$3:F$43,4,0)","v":1},13848,"",283,"",0,0,"","","","","","W","HIE","","",20230926,160849,0.09,51.7,"CIBM              MG30100","OAVFND",306,"083SEL"]
["KR","HSBC",2,0,0,null,"OAVFND306176SEL","OAV","KRW Corporate Loan","PF KRW Corporate Loan","KRW","C23",2.2000000000000002,0,"1",4358,{"$f":"VLOOKUP(K4724,[1]EXRATE!C$3:F$43,4,0)","v":1},4358,"",179,"",0,0,"","","","","","W","HIE","","",20230926,160849,0.02,51.61,"CIBM              AI80184","OAVFND",306,"176SEL",null,"GTRF PF","KRW Corporate Loan",{"$f":"R4724","v":4358},"Matched with local data"]
["KR","HSBC",2,0,0,null,"OAVFND306304SEL","OAV","KRW Corporate Loan","PF KRW Corporate Loan","KRW","C23",2.2000000000000002,0,"1",70,{"$f":"VLOOKUP(K4736,[1]EXRATE!C$3:F$43,4,0)","v":1},70,"",179,"",0,0,"","","","","","W","HIE","","",20230926,160849,0.02,51.61,"CIBM              AI80184","OAVFND",306,"304SEL",null,"GTRF PF","KRW Corporate Loan",{"$f":"R4736","v":70},"Matched with local data"]
["KR","HSBC",2,0,0,null,"OAVFND306469SEL","UCD",{"$f":"VLOOKUP(H4744,[2]SSIFSEP!$H$2:$I$7593,2,0)","v":"미사용약정"},"Unused Credit Line","KRW","C13",3.2,0,"1",2060,{"$f":"VLOOKUP(K4744,[1]EXRATE!C$3:F$43,4,0)","v":1},2060,"",283,"",0,0,"","","","","","W","HIE","","",20230926,160849,0.09,51.7,"CIBM              MG30100","OAVFND",306,"469SEL"]
["KR","HSBC",2,0,0,null,"PEBSEL000088","UCD",{"$f":"VLOOKUP(H4747,[2]SSIFSEP!$H$2:$I$7593,2,0)","v":"미사용약정"},"Unused Credit Line","KRW","C13",2.1,0,"1",0,{"$f":"VLOOKUP(K4747,[1]EXRATE!C$3:F$43,4,0)","v":1},0,"",283,"",0,0,"","","","","","W","HIE","","",20230926,160849,0.01,40.854999999999997,"CIBM              MG30100","PEBSEL",0,88]
["KR","HSBC",2,0,0,null,"PEBSEL000406","PEB",{"$f":"VLOOKUP(H4756,[2]SSIFSEP!$H$2:$I$7593,2,0)","v":"확정지급보증"},"Confirmed Payment Guarantee","USD","C13",2.2000000000000002,0,"1",8999,{"$f":"VLOOKUP(K4756,[1]EXRATE!C$3:F$43,4,0)","v":1344.8},121018.552,"",231,"",0,0,"","","","","","W","HIE","","",20230926,160849,0.02,40.854999999999997,"CIBM              MA21540","PEBSEL",0,406,null,"GTRF GTE","Confirmed Payment Guarantee",{"$f":"R4756","v":121018.552},"Matched with Local data"]
["KR","HSBC",2,0,0,null,"PEBSEL000505","PEB",{"$f":"VLOOKUP(H4764,[2]SSIFSEP!$H$2:$I$7593,2,0)","v":"확정지급보증"},"Confirmed Payment Guarantee","USD","C13",3.3,0,"1",162,{"$f":"VLOOKUP(K4764,[1]EXRATE!C$3:F$43,4,0)","v":1344.8},2178.576,"",231,"",0,0,"","","","","","W","HIE","","",20230926,160849,0.14000000000000001,40.854999999999997,"CIBM              MA21540","PEBSEL",0,505,null,"GTRF GTE","Confirmed Payment Guarantee",2178.576,"Matched with Local data"]
["KR","HSBC",2,0,0,null,"PEBSEL000731","PEB",{"$f":"VLOOKUP(H4769,[2]SSIFSEP!$H$2:$I$7593,2,0)","v":"확정지급보증"},"Confirmed Payment Guarantee","KRW","C13",2.1,0,"1",1789,{"$f":"VLOOKUP(K4769,[1]EXRATE!C$3:F$43,4,0)","v":1},{"$f":"+P4769*Q4769","v":1789},"",224,"",0,0,"","","","","","W","HIE","","",20230926,160849,0.01,40.854999999999997,"CIBM              MA21540","PEBSEL",0,731,null,"GTRF GTE","Confirmed Payment Guarantee",{"$f":"R4769","v":1789},"Matched with Local data"]
["KR","HSBC",2,0,0,null,"PEBSEL100037","UCD",{"$f":"VLOOKUP(H4776,[2]SSIFSEP!$H$2:$I$7593,2,0)","v":"미사용약정"},"Unused Credit Line","USD","C13",3.1,0,"1",0,{"$f":"VLOOKUP(K4776,[1]EXRATE!C$3:F$43,4,0)","v":1344.8},0,"",287,"",0,0,"","","","","","W","HIE","","",20230926,160849,0.04,40.854999999999997,"CIBM              MG30100","PEBSEL",100,37]
["KR","HSBC",2,0,0,null,"PEBSEL100173","PEB",{"$f":"VLOOKUP(H4784,[2]SSIFSEP!$H$2:$I$7593,2,0)","v":"확정지급보증"},"Confirmed Payment Guarantee","USD","C11",2.2000000000000002,0,"1",664,{"$f":"VLOOKUP(K4784,[1]EXRATE!C$3:F$43,4,0)","v":1344.8},8929.4719999999998,"",220,"",0,0,"","","","","","W","HIE","","",20230926,160849,0.02,40.854999999999997,"CIBM              MA21540","PEBSEL",100,173,null,"GTRF GTE","Confirmed Payment Guarantee",8929.4719999999998,"Matched with Local data"]
["KR","HSBC",2,0,0,null,"PEBSEL100188","PEB",{"$f":"VLOOKUP(H4789,[2]SSIFSEP!$H$2:$I$7593,2,0)","v":"확정지급보증"},"Confirmed Payment Guarantee","USD","C13",3.3,0,"1",67,{"$f":"VLOOKUP(K4789,[1]EXRATE!C$3:F$43,4,0)","v":1344.8},901.01599999999996,"",231,"",0,0,"","","","","","W","HIE","","",20230926,160849,0.14000000000000001,40.854999999999997,"CIBM              MA21540","PEBSEL",100,188,null,"GTRF GTE","Confirmed Payment Guarantee",{"$f":"R4789","v":901.01599999999996},"Matched with Local data"]
["KR","HSBC",2,0,0,null,"PEBSEL100389","UCD",{"$f":"VLOOKUP(H4797,[2]SSIFSEP!$H$2:$I$7593,2,0)","v":"미사용약정"},"Unused Credit Line","KRW","C13",3.2,0,"1",0,{"$f":"VLOOKUP(K4797,[1]EXRATE!C$3:F$43,4,0)","v":1},{"$f":"+P4797*Q4797","v":0},"",283,"",0,0,"","","","","","W","HIE","","",20230926,160849,0.09,40.854999999999997,"CIBM              MG30100","PEBSEL",100,389]
["KR","HSBC",2,0,0,null,"PEBSEL100422","UCD",{"$f":"VLOOKUP(H4801,[2]SSIFSEP!$H$2:$I$7593,2,0)","v":"미사용약정"},"Unused Credit Line","USD","C13",3.2,0,"1",0,{"$f":"VLOOKUP(K4801,[1]EXRATE!C$3:F$43,4,0)","v":1344.8},{"$f":"+P4801*Q4801/100","v":0},"",287,"",0,0,"","","","","","W","HIE","","",20230926,160849,0.09,40.854999999999997,"CIBM              MG30100","PEBSEL",100,422]
["KR","HSBC",2,0,0,null,"PEBSEL100470","UCD",{"$f":"VLOOKUP(H4809,[2]SSIFSEP!$H$2:$I$7593,2,0)","v":"미사용약정"},"Unused Credit Line","KRW","C13",2.1,0,"1",0,{"$f":"VLOOKUP(K4809,[1]EXRATE!C$3:F$43,4,0)","v":1},{"$f":"+P4809*Q4809","v":0},"",283,"",0,0,"","","","","","W","HIE","","",20230926,160849,0.01,40.854999999999997,"CIBM              MG30100","PEBSEL",100,470]
["KR","HSBC",2,0,0,null,"PEBSEL100500","UCD",{"$f":"VLOOKUP(H4817,[2]SSIFSEP!$H$2:$I$7593,2,0)","v":"미사용약정"},"Unused Credit Line","USD","C13",3.2,0,"1",0,{"$f":"VLOOKUP(K4817,[1]EXRATE!C$3:F$43,4,0)","v":1344.8},0,"",287,"",0,0,"","","","","","W","HIE","","",20230926,160849,0.09,40.854999999999997,"CIBM              MG30100","PEBSEL",100,500]
["KR","HSBC",2,0,0,null,"PEBSEL100503","PEB",{"$f":"VLOOKUP(H4820,[2]SSIFSEP!$H$2:$I$7593,2,0)","v":"확정지급보증"},"Confirmed Payment Guarantee","INR","C13",3.3,0,"1",30796,{"$f":"VLOOKUP(K4820,[1]EXRATE!C$3:F$43,4,0)","v":16.144445244783785},4971.8433575836143,"",223,"",0,0,"","","","","","W","HIE","","",20230926,160849,0.14000000000000001,40.854999999999997,"CIBM              MA21540","PEBSEL",100,503,null,"GTRF GTE","Confirmed Payment Guarantee",{"$f":"R4820","v":4971.8433575836143},"Matched with Local data"]
["KR","HSBC",2,0,0,null,"PEBSEL100755","PEB",{"$f":"VLOOKUP(H4829,[2]SSIFSEP!$H$2:$I$7593,2,0)","v":"확정지급보증"},"Confirmed Payment Guarantee","USD","C11",2.2000000000000002,0,"1",0,{"$f":"VLOOKUP(K4829,[1]EXRATE!C$3:F$43,4,0)","v":1344.8},0,"",220,"",0,0,"","","","","","W","HIE","","",20230926,160849,0.02,40.854999999999997,"CIBM              MA21540","PEBSEL",100,755,null,"GTRF GTE","Confirmed Payment Guarantee",{"$f":"R4829","v":0},"Matched with Local data"]
["KR","HSBC",2,0,0,null,"PEBSEL200062","PEB",{"$f":"VLOOKUP(H4837,[2]SSIFSEP!$H$2:$I$7593,2,0)","v":"확정지급보증"},"Confirmed Payment Guarantee","KRW","C13",2.1,0,"1",284080,{"$f":"VLOOKUP(K4837,[1]EXRATE!C$3:F$43,4,0)","v":1},{"$f":"+P4837*Q4837","v":284080},"",224,"",0,0,"","","","","","W","HIE","","",20230926,160849,0.01,40.854999999999997,"CIBM              MA21540","PEBSEL",200,62,null,"GTRF GTE","Confirmed Payment Guarantee",{"$f":"R4837","v":284080},"Matched with Local data"]
["KR","HSBC",2,0,0,null,"PEBSEL200160","UCD",{"$f":"VLOOKUP(H4842,[2]SSIFSEP!$H$2:$I$7593,2,0)","v":"미사용약정"},"Unused Credit Line","KRW","C13",2.2000000000000002,0,"1",0,{"$f":"VLOOKUP(K4842,[1]EXRATE!C$3:F$43,4,0)","v":1},0,"",283,"",0,0,"","","","","","W","HIE","","",20230926,160849,0.02,40.854999999999997,"CIBM              MG30100","PEBSEL",200,160]
["KR","HSBC",2,0,0,null,"PEBSEL200299","UCD",{"$f":"VLOOKUP(H4851,[2]SSIFSEP!$H$2:$I$7593,2,0)","v":"미사용약정"},"Unused Credit Line","USD","C13",3.2,0,"1",0,{"$f":"VLOOKUP(K4851,[1]EXRATE!C$3:F$43,4,0)","v":1344.8},{"$f":"+P4851*Q4851/100","v":0},"",287,"",0,0,"","","","","","W","HIE","","",20230926,160849,0.09,40.854999999999997,"CIBM              MG30100","PEBSEL",200,299]
["KR","HSBC",2,0,0,null,"PEBSEL200320","PEB",{"$f":"VLOOKUP(H4854,[2]SSIFSEP!$H$2:$I$7593,2,0)","v":"확정지급보증"},"Confirmed Payment Guarantee","USD","C13",3.2,0,"1",1228,{"$f":"VLOOKUP(K4854,[1]EXRATE!C$3:F$43,4,0)","v":1344.8},{"$f":"+P4854*Q4854/100","v":16514.144},"",231,"",0,0,"","","","","","W","HIE","","",20230926,160849,0.09,40.854999999999997,"CIBM              MA21540","PEBSEL",200,320,null,"GTRF GTE","Confirmed Payment Guarantee",{"$f":"R4854","v":16514.144},"Matched with Local data"]
["KR","HSBC",2,0,0,null,"PEBSEL200406","UCD",{"$f":"VLOOKUP(H4862,[2]SSIFSEP!$H$2:$I$7593,2,0)","v":"미사용약정"},"Unused Credit Line","KRW","C13",1.2,0,"1",0,{"$f":"VLOOKUP(K4862,[1]EXRATE!C$3:F$43,4,0)","v":1},{"$f":"+P4862*Q4862","v":0},"",283,"",0,0,"","","","","","W","HIE","","",20230926,160849,0.01,40.854999999999997,"CIBM              MG30100","PEBSEL",200,406]
["KR","HSBC",2,0,0,null,"PEBSEL200415","UCD",{"$f":"VLOOKUP(H4870,[2]SSIFSEP!$H$2:$I$7593,2,0)","v":"미사용약정"},"Unused Credit Line","USD","C13",3.2,0,"1",0,{"$f":"VLOOKUP(K4870,[1]EXRATE!C$3:F$43,4,0)","v":1344.8},{"$f":"+P4870*Q4870/100","v":0},"",287,"",0,0,"","","","","","W","HIE","","",20230926,160849,0.09,40.854999999999997,"CIBM              MG30100","PEBSEL",200,415]
["KR","HSBC",2,0,0,null,"PEBSEL200417","UCD",{"$f":"VLOOKUP(H4874,[2]SSIFSEP!$H$2:$I$7593,2,0)","v":"미사용약정"},"Unused Credit Line","KRW","C13",3.2,0,"1",0,{"$f":"VLOOKUP(K4874,[1]EXRATE!C$3:F$43,4,0)","v":1},0,"",283,"",0,0,"","","","","","W","HIE","","",20230926,160849,0.09,40.854999999999997,"CIBM              MG30100","PEBSEL",200,417]
["KR","HSBC",2,0,0,null,"PEBSEL200457","PEB",{"$f":"VLOOKUP(H4882,[2]SSIFSEP!$H$2:$I$7593,2,0)","v":"확정지급보증"},"Confirmed Payment Guarantee","PHP","C13",2.2000000000000002,0,"1",2969188,{"$f":"VLOOKUP(K4882,[1]EXRATE!C$3:F$43,4,0)","v":23.539296341676874},{"$f":"+P4882*Q4882/100","v":698925.96226150868},"",227,"",0,0,"","","","","","W","HIE","","",20230926,160849,0.02,40.854999999999997,"CIBM              MA21540","PEBSEL",200,457,null,"GTRF GTE","Confirmed Payment Guarantee",{"$f":"R4882","v":698925.96226150868},"Matched with Local data"]
["KR","HSBC",2,0,0,null,"PEBSEL200461","PEB",{"$f":"VLOOKUP(H4887,[2]SSIFSEP!$H$2:$I$7593,2,0)","v":"확정지급보증"},"Confirmed Payment Guarantee","PHP","BNK",1.1000000000000001,0,"1",303561,{"$f":"VLOOKUP(K4887,[1]EXRATE!C$3:F$43,4,0)","v":23.539296341676874},71456.123367757726,"",215,"",0,0,"","","","","","W","HIE","","",20230926,160849,0.04,17.585000000000001,"CIBM              MA21540","PEBSEL",200,461,null,"GTRF GTE","Confirmed Payment Guarantee",{"$f":"R4887","v":71456.123367757726},"Matched with Local data"]
["KR","HSBC",2,0,0,null,"PEBSEL200489","PEB",{"$f":"VLOOKUP(H4895,[2]SSIFSEP!$H$2:$I$7593,2,0)","v":"확정지급보증"},"Confirmed Payment Guarantee","KRW","C13",4.3,0,"1",1583,{"$f":"VLOOKUP(K4895,[1]EXRATE!C$3:F$43,4,0)","v":1},1583,"",224,"",0,0,"","","","","","W","HIE","","",20230926,160849,0.25,40.854999999999997,"CIBM              MA21540","PEBSEL",200,489,null,"GTRF GTE","Confirmed Payment Guarantee",{"$f":"R4895","v":1583},"Matched with Local data"]
["KR","HSBC",2,0,0,null,"PEBSEL200577","PEB",{"$f":"VLOOKUP(H4905,[2]SSIFSEP!$H$2:$I$7593,2,0)","v":"확정지급보증"},"Confirmed Payment Guarantee","KRW","C13",2.2000000000000002,0,"1",853,{"$f":"VLOOKUP(K4905,[1]EXRATE!C$3:F$43,4,0)","v":1},853,"",224,"",0,0,"","","","","","W","HIE","","",20230926,160849,0.02,40.854999999999997,"CIBM              MA21540","PEBSEL",200,577,null,"GTRF GTE","Confirmed Payment Guarantee",{"$f":"R4905","v":853},"Matched with Local data"]
["KR","HSBC",2,0,0,null,"PEBSEL200578","PEB",{"$f":"VLOOKUP(H4907,[2]SSIFSEP!$H$2:$I$7593,2,0)","v":"확정지급보증"},"Confirmed Payment Guarantee","KRW","C13",2.2000000000000002,0,"1",171,{"$f":"VLOOKUP(K4907,[1]EXRATE!C$3:F$43,4,0)","v":1},171,"",224,"",0,0,"","","","","","W","HIE","","",20230926,160849,0.02,40.854999999999997,"CIBM              MA21540","PEBSEL",200,578,null,"GTRF GTE","Confirmed Payment Guarantee",{"$f":"R4907","v":171},"Matched with Local data"]
["KR","HSBC",2,0,0,null,"PEBSEL200582","PEB",{"$f":"VLOOKUP(H4915,[2]SSIFSEP!$H$2:$I$7593,2,0)","v":"확정지급보증"},"Confirmed Payment Guarantee","KRW","C13",2.2000000000000002,0,"1",1137,{"$f":"VLOOKUP(K4915,[1]EXRATE!C$3:F$43,4,0)","v":1},1137,"",224,"",0,0,"","","","","","W","HIE","","",20230926,160849,0.02,40.854999999999997,"CIBM              MA21540","PEBSEL",200,582,null,"GTRF GTE","Confirmed Payment Guarantee",{"$f":"R4915","v":1137},"Matched with Local data"]
["KR","HSBC",2,0,0,null,"PEBSEL200586","PEB",{"$f":"VLOOKUP(H4923,[2]SSIFSEP!$H$2:$I$7593,2,0)","v":"확정지급보증"},"Confirmed Payment Guarantee","KRW","C13",2.2000000000000002,0,"1",910,{"$f":"VLOOKUP(K4923,[1]EXRATE!C$3:F$43,4,0)","v":1},910,"",224,"",0,0,"","","","","","W","HIE","","",20230926,160849,0.02,40.854999999999997,"CIBM              MA21540","PEBSEL",200,586,null,"GTRF GTE","Confirmed Payment Guarantee",{"$f":"R4923","v":910},"Matched with Local data"]
["KR","HSBC",2,0,0,null,"PEBSEL200588","UCD",{"$f":"VLOOKUP(H4928,[2]SSIFSEP!$H$2:$I$7593,2,0)","v":"미사용약정"},"Unused Credit Line","KRW","C13",2.2000000000000002,0,"1",0,{"$f":"VLOOKUP(K4928,[1]EXRATE!C$3:F$43,4,0)","v":1},0,"",283,"",0,0,"","","","","","W","HIE","","",20230926,160849,0.02,40.854999999999997,"CIBM              MG30100","PEBSEL",200,588]
["KR","HSBC",2,0,0,null,"PEBSEL200592","PEB",{"$f":"VLOOKUP(H4935,[2]SSIFSEP!$H$2:$I$7593,2,0)","v":"확정지급보증"},"Confirmed Payment Guarantee","KRW","C13",2.2000000000000002,0,"1",682,{"$f":"VLOOKUP(K4935,[1]EXRATE!C$3:F$43,4,0)","v":1},682,"",224,"",0,0,"","","","","","W","HIE","","",20230926,160849,0.02,40.854999999999997,"CIBM              MA21540","PEBSEL",200,592,null,"GTRF GTE","Confirmed Payment Guarantee",{"$f":"R4935","v":682},"Matched with Local data"]
["KR","HSBC",2,0,0,null,"PEBSEL200594","UCD",{"$f":"VLOOKUP(H4940,[2]SSIFSEP!$H$2:$I$7593,2,0)","v":"미사용약정"},"Unused Credit Line","KRW","C13",2.2000000000000002,0,"1",0,{"$f":"VLOOKUP(K4940,[1]EXRATE!C$3:F$43,4,0)","v":1},0,"",283,"",0,0,"","","","","","W","HIE","","",20230926,160849,0.02,40.854999999999997,"CIBM              MG30100","PEBSEL",200,594]
["KR","HSBC",2,0,0,null,"PEBSEL200598","UCD",{"$f":"VLOOKUP(H4948,[2]SSIFSEP!$H$2:$I$7593,2,0)","v":"미사용약정"},"Unused Credit Line","KRW","C13",2.2000000000000002,0,"1",0,{"$f":"VLOOKUP(K4948,[1]EXRATE!C$3:F$43,4,0)","v":1},0,"",283,"",0,0,"","","","","","W","HIE","","",20230926,160849,0.02,40.854999999999997,"CIBM              MG30100","PEBSEL",200,598]
["KR","HSBC",2,0,0,null,"PEBSEL200604","PEB",{"$f":"VLOOKUP(H4959,[2]SSIFSEP!$H$2:$I$7593,2,0)","v":"확정지급보증"},"Confirmed Payment Guarantee","KRW","C13",2.2000000000000002,0,"1",227,{"$f":"VLOOKUP(K4959,[1]EXRATE!C$3:F$43,4,0)","v":1},227,"",224,"",0,0,"","","","","","W","HIE","","",20230926,160849,0.02,40.854999999999997,"CIBM              MA21540","PEBSEL",200,604,null,"GTRF GTE","Confirmed Payment Guarantee",{"$f":"R4959","v":227},"Matched with Local data"]
["KR","HSBC",2,0,0,null,"PEBSEL200604","UCD",{"$f":"VLOOKUP(H4960,[2]SSIFSEP!$H$2:$I$7593,2,0)","v":"미사용약정"},"Unused Credit Line","KRW","C13",2.2000000000000002,0,"1",0,{"$f":"VLOOKUP(K4960,[1]EXRATE!C$3:F$43,4,0)","v":1},0,"",283,"",0,0,"","","","","","W","HIE","","",20230926,160849,0.02,40.854999999999997,"CIBM              MG30100","PEBSEL",200,604]
["KR","HSBC",2,0,0,null,"PEBSEL200608","UCD",{"$f":"VLOOKUP(H4968,[2]SSIFSEP!$H$2:$I$7593,2,0)","v":"미사용약정"},"Unused Credit Line","KRW","C13",2.2000000000000002,0,"1",0,{"$f":"VLOOKUP(K4968,[1]EXRATE!C$3:F$43,4,0)","v":1},0,"",283,"",0,0,"","","","","","W","HIE","","",20230926,160849,0.02,40.854999999999997,"CIBM              MG30100","PEBSEL",200,608]
["KR","HSBC",2,0,0,null,"PEBSEL200615","UCD",{"$f":"VLOOKUP(H4976,[2]SSIFSEP!$H$2:$I$7593,2,0)","v":"미사용약정"},"Unused Credit Line","KRW","C13",2.1,0,"2J",0,{"$f":"VLOOKUP(K4976,[1]EXRATE!C$3:F$43,4,0)","v":1},0,"",285,"",0,0,"","","","","","W","HIE","","",20230926,160849,0.01,40.854999999999997,"CIBM              MG30100","PEBSEL",200,615]
["KR","HSBC",2,0,0,null,"PEBSEL200618","UCD",{"$f":"VLOOKUP(H4982,[2]SSIFSEP!$H$2:$I$7593,2,0)","v":"미사용약정"},"Unused Credit Line","KRW","C13",2.2000000000000002,0,"1",0,{"$f":"VLOOKUP(K4982,[1]EXRATE!C$3:F$43,4,0)","v":1},0,"",283,"",0,0,"","","","","","W","HIE","","",20230926,160849,0.02,40.854999999999997,"CIBM              MG30100","PEBSEL",200,618]
["KR","HSBC",2,0,0,null,"PEBSEL200621","UCD",{"$f":"VLOOKUP(H4988,[2]SSIFSEP!$H$2:$I$7593,2,0)","v":"미사용약정"},"Unused Credit Line","KRW","C13",2.2000000000000002,0,"1",0,{"$f":"VLOOKUP(K4988,[1]EXRATE!C$3:F$43,4,0)","v":1},0,"",283,"",0,0,"","","","","","W","HIE","","",20230926,160849,0.02,40.854999999999997,"CIBM              MG30100","PEBSEL",200,621]
["KR","HSBC",2,0,0,null,"PEBSEL200627","UCD",{"$f":"VLOOKUP(H5000,[2]SSIFSEP!$H$2:$I$7593,2,0)","v":"미사용약정"},"Unused Credit Line","KRW","C13",2.2000000000000002,0,"1",0,{"$f":"VLOOKUP(K5000,[1]EXRATE!C$3:F$43,4,0)","v":1},0,"",283,"",0,0,"","","","","","W","HIE","","",20230926,160849,0.02,40.854999999999997,"CIBM              MG30100","PEBSEL",200,627]
["KR","HSBC",2,0,0,null,"PEBSEL200628","PEB",{"$f":"VLOOKUP(H5001,[2]SSIFSEP!$H$2:$I$7593,2,0)","v":"확정지급보증"},"Confirmed Payment Guarantee","KRW","C13",2.2000000000000002,0,"1",359,{"$f":"VLOOKUP(K5001,[1]EXRATE!C$3:F$43,4,0)","v":1},359,"",224,"",0,0,"","","","","","W","HIE","","",20230926,160849,0.02,40.854999999999997,"CIBM              MA21540","PEBSEL",200,628,null,"GTRF GTE","Confirmed Payment Guarantee",{"$f":"R5001","v":359},"Matched with Local data"]
["KR","HSBC",2,0,0,null,"PEBSEL200634","PEB",{"$f":"VLOOKUP(H5013,[2]SSIFSEP!$H$2:$I$7593,2,0)","v":"확정지급보증"},"Confirmed Payment Guarantee","KRW","C13",2.2000000000000002,0,"1",8370,{"$f":"VLOOKUP(K5013,[1]EXRATE!C$3:F$43,4,0)","v":1},8370,"",224,"",0,0,"","","","","","W","HIE","","",20230926,160849,0.02,40.854999999999997,"CIBM              MA21540","PEBSEL",200,634,null,"GTRF GTE","Confirmed Payment Guarantee",{"$f":"R5013","v":8370},"Matched with Local data"]
["KR","HSBC",2,0,0,null,"PEBSEL200637","UCD",{"$f":"VLOOKUP(H5020,[2]SSIFSEP!$H$2:$I$7593,2,0)","v":"미사용약정"},"Unused Credit Line","KRW","C13",2.2000000000000002,0,"1",0,{"$f":"VLOOKUP(K5020,[1]EXRATE!C$3:F$43,4,0)","v":1},0,"",283,"",0,0,"","","","","","W","HIE","","",20230926,160849,0.02,40.854999999999997,"CIBM              MG30100","PEBSEL",200,637]
["KR","HSBC",2,0,0,null,"PEBSEL200638","PEB",{"$f":"VLOOKUP(H5021,[2]SSIFSEP!$H$2:$I$7593,2,0)","v":"확정지급보증"},"Confirmed Payment Guarantee","KRW","C13",2.2000000000000002,0,"1",777,{"$f":"VLOOKUP(K5021,[1]EXRATE!C$3:F$43,4,0)","v":1},777,"",224,"",0,0,"","","","","","W","HIE","","",20230926,160849,0.02,40.854999999999997,"CIBM              MA21540","PEBSEL",200,638,null,"GTRF GTE","Confirmed Payment Guarantee",{"$f":"R5021","v":777},"Matched with Local data"]
["KR","HSBC",2,0,0,null,"PEBSEL200644","PEB",{"$f":"VLOOKUP(H5033,[2]SSIFSEP!$H$2:$I$7593,2,0)","v":"확정지급보증"},"Confirmed Payment Guarantee","KRW","C13",2.2000000000000002,0,"1",1196,{"$f":"VLOOKUP(K5033,[1]EXRATE!C$3:F$43,4,0)","v":1},1196,"",224,"",0,0,"","","","","","W","HIE","","",20230926,160849,0.02,40.854999999999997,"CIBM              MA21540","PEBSEL",200,644,null,"GTRF GTE","Confirmed Payment Guarantee",{"$f":"R5033","v":1196},"Matched with Local data"]
["KR","HSBC",2,0,0,null,"PEBSEL200645","UCD",{"$f":"VLOOKUP(H5036,[2]SSIFSEP!$H$2:$I$7593,2,0)","v":"미사용약정"},"Unused Credit Line","KRW","C13",2.2000000000000002,0,"1",0,{"$f":"VLOOKUP(K5036,[1]EXRATE!C$3:F$43,4,0)","v":1},0,"",283,"",0,0,"","","","","","W","HIE","","",20230926,160849,0.02,40.854999999999997,"CIBM              MG30100","PEBSEL",200,645]
["KR","HSBC",2,0,0,null,"PEBSEL200648","PEB",{"$f":"VLOOKUP(H5041,[2]SSIFSEP!$H$2:$I$7593,2,0)","v":"확정지급보증"},"Confirmed Payment Guarantee","KRW","C13",2.2000000000000002,0,"1",598,{"$f":"VLOOKUP(K5041,[1]EXRATE!C$3:F$43,4,0)","v":1},598,"",224,"",0,0,"","","","","","W","HIE","","",20230926,160849,0.02,40.854999999999997,"CIBM              MA21540","PEBSEL",200,648,null,"GTRF GTE","Confirmed Payment Guarantee",{"$f":"R5041","v":598},"Matched with Local data"]
["KR","HSBC",2,0,0,null,"PEBSEL200654","PEB",{"$f":"VLOOKUP(H5053,[2]SSIFSEP!$H$2:$I$7593,2,0)","v":"확정지급보증"},"Confirmed Payment Guarantee","KRW","C13",2.2000000000000002,0,"1",5620,{"$f":"VLOOKUP(K5053,[1]EXRATE!C$3:F$43,4,0)","v":1},5620,"",224,"",0,0,"","","","","","W","HIE","","",20230926,160849,0.02,40.854999999999997,"CIBM              MA21540","PEBSEL",200,654,null,"GTRF GTE","Confirmed Payment Guarantee",{"$f":"R5053","v":5620},"Matched with Local data"]
["KR","HSBC",2,0,0,null,"PEBSEL200658","PEB",{"$f":"VLOOKUP(H5061,[2]SSIFSEP!$H$2:$I$7593,2,0)","v":"확정지급보증"},"Confirmed Payment Guarantee","KRW","C13",2.2000000000000002,0,"1",239,{"$f":"VLOOKUP(K5061,[1]EXRATE!C$3:F$43,4,0)","v":1},{"$f":"+P5061*Q5061","v":239},"",224,"",0,0,"","","","","","W","HIE","","",20230926,160849,0.02,40.854999999999997,"CIBM              MA21540","PEBSEL",200,658,null,"GTRF GTE","Confirmed Payment Guarantee",{"$f":"R5061","v":239},"Matched with Local data"]
["KR","HSBC",2,0,0,null,"PEBSEL200691","PEB",{"$f":"VLOOKUP(H5067,[2]SSIFSEP!$H$2:$I$7593,2,0)","v":"확정지급보증"},"Confirmed Payment Guarantee","KRW","C13",2.1,0,"1",321,{"$f":"VLOOKUP(K5067,[1]EXRATE!C$3:F$43,4,0)","v":1},321,"",224,"",0,0,"","","","","","W","HIE","","",20230926,160849,0.01,40.854999999999997,"CIBM              MA21540","PEBSEL",200,691,null,"GTRF GTE","Confirmed Payment Guarantee",{"$f":"R5067","v":321},"Matched with Local data"]
["KR","HSBC",2,0,0,null,"PEBSEL200706","UCD",{"$f":"VLOOKUP(H5073,[2]SSIFSEP!$H$2:$I$7593,2,0)","v":"미사용약정"},"Unused Credit Line","KRW","C13",3.2,0,"1",422,{"$f":"VLOOKUP(K5073,[1]EXRATE!C$3:F$43,4,0)","v":1},422,"",283,"",0,0,"","","","","","W","HIE","","",20230926,160849,0.09,40.854999999999997,"CIBM              MG30100","PEBSEL",200,706]
["KR","HSBC",2,0,0,null,"PEBSEL300039","PEB",{"$f":"VLOOKUP(H5081,[2]SSIFSEP!$H$2:$I$7593,2,0)","v":"확정지급보증"},"Confirmed Payment Guarantee","KRW","MFS",3.3,0,"1",15968,{"$f":"VLOOKUP(K5081,[1]EXRATE!C$3:F$43,4,0)","v":1},15968,"",236,"",0,0,"","","","","","W","HIE","","",20230926,160849,0.14000000000000001,40.854999999999997,"CIBM              MA21540","PEBSEL",300,39,null,"GTRF GTE","Confirmed Payment Guarantee",{"$f":"R5081","v":15968},"Matched with Local data"]
["KR","HSBC",2,0,0,null,"PEBSEL300094","UCD",{"$f":"VLOOKUP(H5086,[2]SSIFSEP!$H$2:$I$7593,2,0)","v":"미사용약정"},"Unused Credit Line","USD","C13",3.2,0,"1",0,{"$f":"VLOOKUP(K5086,[1]EXRATE!C$3:F$43,4,0)","v":1344.8},{"$f":"+P5086*Q5086/100","v":0},"",287,"",0,0,"","","","","","W","HIE","","",20230926,160849,0.09,40.854999999999997,"CIBM              MG30100","PEBSEL",300,94]
["KR","HSBC",2,0,0,null,"PEBSEL300100","UCD",{"$f":"VLOOKUP(H5090,[2]SSIFSEP!$H$2:$I$7593,2,0)","v":"미사용약정"},"Unused Credit Line","KRW","C13",2.1,0,"1",0,{"$f":"VLOOKUP(K5090,[1]EXRATE!C$3:F$43,4,0)","v":1},0,"",283,"",0,0,"","","","","","W","HIE","","",20230926,160849,0.01,40.854999999999997,"CIBM              MG30100","PEBSEL",300,100]
["KR","HSBC",2,0,0,null,"PEBSEL300106","PEB",{"$f":"VLOOKUP(H5101,[2]SSIFSEP!$H$2:$I$7593,2,0)","v":"확정지급보증"},"Confirmed Payment Guarantee","KRW","C13",2.1,0,"1",1093,{"$f":"VLOOKUP(K5101,[1]EXRATE!C$3:F$43,4,0)","v":1},1093,"",224,"",0,0,"","","","","","W","HIE","","",20230926,160849,0.01,40.854999999999997,"CIBM              MA21540","PEBSEL",300,106,null,"GTRF GTE","Confirmed Payment Guarantee",{"$f":"R5101","v":1093},"Matched with Local data"]
["KR","HSBC",2,0,0,null,"PEBSEL300108","UCD",{"$f":"VLOOKUP(H5106,[2]SSIFSEP!$H$2:$I$7593,2,0)","v":"미사용약정"},"Unused Credit Line","KRW","C13",2.1,0,"1",0,{"$f":"VLOOKUP(K5106,[1]EXRATE!C$3:F$43,4,0)","v":1},0,"",283,"",0,0,"","","","","","W","HIE","","",20230926,160849,0.01,40.854999999999997,"CIBM              MG30100","PEBSEL",300,108]
["KR","HSBC",2,0,0,null,"PEBSEL300112","UCD",{"$f":"VLOOKUP(H5114,[2]SSIFSEP!$H$2:$I$7593,2,0)","v":"미사용약정"},"Unused Credit Line","KRW","C13",2.1,0,"1",0,{"$f":"VLOOKUP(K5114,[1]EXRATE!C$3:F$43,4,0)","v":1},0,"",283,"",0,0,"","","","","","W","HIE","","",20230926,160849,0.01,40.854999999999997,"CIBM              MG30100","PEBSEL",300,112]
["KR","HSBC",2,0,0,null,"PEBSEL300138","PEB",{"$f":"VLOOKUP(H5121,[2]SSIFSEP!$H$2:$I$7593,2,0)","v":"확정지급보증"},"Confirmed Payment Guarantee","KRW","MFS",3.3,0,"1",28116,{"$f":"VLOOKUP(K5121,[1]EXRATE!C$3:F$43,4,0)","v":1},28116,"",236,"",0,0,"","","","","","W","HIE","","",20230926,160849,0.14000000000000001,40.854999999999997,"CIBM              MA21540","PEBSEL",300,138,null,"GTRF GTE","Confirmed Payment Guarantee",{"$f":"R5121","v":28116},"Matched with Local data"]
["KR","HSBC",2,0,0,null,"PEBSEL300148","UCD",{"$f":"VLOOKUP(H5126,[2]SSIFSEP!$H$2:$I$7593,2,0)","v":"미사용약정"},"Unused Credit Line","KRW","C13",1.2,0,"1",3,{"$f":"VLOOKUP(K5126,[1]EXRATE!C$3:F$43,4,0)","v":1},3,"",283,"",0,0,"","","","","","W","HIE","","",20230926,160849,0.01,40.854999999999997,"CIBM              MG30100","PEBSEL",300,148]
["KR","HSBC",2,0,0,null,"PEBSEL300164","UCD",{"$f":"VLOOKUP(H5134,[2]SSIFSEP!$H$2:$I$7593,2,0)","v":"미사용약정"},"Unused Credit Line","KRW","C13",2.2000000000000002,0,"1",3,{"$f":"VLOOKUP(K5134,[1]EXRATE!C$3:F$43,4,0)","v":1},3,"",283,"",0,0,"","","","","","W","HIE","","",20230926,160849,0.02,40.854999999999997,"CIBM              MG30100","PEBSEL",300,164]
["KR","HSBC",2,0,0,null,"PEBSEL300168","PEB",{"$f":"VLOOKUP(H5139,[2]SSIFSEP!$H$2:$I$7593,2,0)","v":"확정지급보증"},"Confirmed Payment Guarantee","KRW","C13",2.1,0,"2J",77,{"$f":"VLOOKUP(K5139,[1]EXRATE!C$3:F$43,4,0)","v":1},77,"",225,"",0,0,"","","","","","W","HIE","","",20230926,160849,0.01,40.854999999999997,"CIBM              MA21540","PEBSEL",300,168,null,"GTRF GTE","Confirmed Payment Guarantee",{"$f":"R5139","v":77},"Matched with Local data"]
["KR","HSBC",2,0,0,null,"PEBSEL300180","UCD",{"$f":"VLOOKUP(H5144,[2]SSIFSEP!$H$2:$I$7593,2,0)","v":"미사용약정"},"Unused Credit Line","USD","C13",3.2,0,"1",0,{"$f":"VLOOKUP(K5144,[1]EXRATE!C$3:F$43,4,0)","v":1344.8},{"$f":"+P5144*Q5144/100","v":0},"",287,"",0,0,"","","","","","W","HIE","","",20230926,160849,0.09,40.854999999999997,"CIBM              MG30100","PEBSEL",300,180]
["KR","HSBC",2,0,0,null,"PEBSEL300203","UCD",{"$f":"VLOOKUP(H5154,[2]SSIFSEP!$H$2:$I$7593,2,0)","v":"미사용약정"},"Unused Credit Line","KRW","MFS",3.3,0,"1",0,{"$f":"VLOOKUP(K5154,[1]EXRATE!C$3:F$43,4,0)","v":1},0,"",297,"",0,0,"","","","","","W","HIE","","",20230926,160849,0.14000000000000001,40.854999999999997,"CIBM              MG30100","PEBSEL",300,203]
["KR","HSBC",2,0,0,null,"PEBSEL300210","UCD",{"$f":"VLOOKUP(H5159,[2]SSIFSEP!$H$2:$I$7593,2,0)","v":"미사용약정"},"Unused Credit Line","USD","C13",3.2,0,"1",0,{"$f":"VLOOKUP(K5159,[1]EXRATE!C$3:F$43,4,0)","v":1344.8},{"$f":"+P5159*Q5159/100","v":0},"",287,"",0,0,"","","","","","W","HIE","","",20230926,160849,0.09,40.854999999999997,"CIBM              MG30100","PEBSEL",300,210]
["KR","HSBC",2,0,0,null,"PEBSEL300230","PEB",{"$f":"VLOOKUP(H5167,[2]SSIFSEP!$H$2:$I$7593,2,0)","v":"확정지급보증"},"Confirmed Payment Guarantee","USD","C11",2.2000000000000002,0,"1",160,{"$f":"VLOOKUP(K5167,[1]EXRATE!C$3:F$43,4,0)","v":1344.8},{"$f":"+P5167*Q5167/100","v":2151.6799999999998},"",220,"",0,0,"","","","","","W","HIE","","",20230926,160849,0.02,40.854999999999997,"CIBM              MA21540","PEBSEL",300,230,null,"GTRF GTE","Confirmed Payment Guarantee",{"$f":"R5167","v":2151.6799999999998},"Matched with Local data"]
["KR","HSBC",2,0,0,null,"PEBSEL300236","UCD",{"$f":"VLOOKUP(H5173,[2]SSIFSEP!$H$2:$I$7593,2,0)","v":"미사용약정"},"Unused Credit Line","KRW","C13",1.1000000000000001,0,"1",0,{"$f":"VLOOKUP(K5173,[1]EXRATE!C$3:F$43,4,0)","v":1},0,"",283,"",0,0,"","","","","","W","HIE","","",20230926,160849,0.01,40.854999999999997,"CIBM              MG30100","PEBSEL",300,236]
["KR","HSBC",2,0,0,null,"PEBSEL300263","UCD",{"$f":"VLOOKUP(H5179,[2]SSIFSEP!$H$2:$I$7593,2,0)","v":"미사용약정"},"Unused Credit Line","KRW","C13",2.1,0,"2J",0,{"$f":"VLOOKUP(K5179,[1]EXRATE!C$3:F$43,4,0)","v":1},0,"",285,"",0,0,"","","","","","W","HIE","","",20230926,160849,0.01,40.854999999999997,"CIBM              MG30100","PEBSEL",300,263]
["KR","HSBC",2,0,0,null,"PEBSEL300280","PEB",{"$f":"VLOOKUP(H5187,[2]SSIFSEP!$H$2:$I$7593,2,0)","v":"확정지급보증"},"Confirmed Payment Guarantee","USD","BNK",1.1000000000000001,0,"1",95,{"$f":"VLOOKUP(K5187,[1]EXRATE!C$3:F$43,4,0)","v":1344.8},{"$f":"+P5187*Q5187/100","v":1277.56},"",216,"",0,0,"","","","","","W","HIE","","",20230926,160849,0.04,17.585000000000001,"CIBM              MA21540","PEBSEL",300,280,null,"GTRF GTE","Confirmed Payment Guarantee",{"$f":"R5187","v":1277.56},"Matched with Local data"]
["KR","HSBC",2,0,0,null,"PEBSEL300315","PEB",{"$f":"VLOOKUP(H5192,[2]SSIFSEP!$H$2:$I$7593,2,0)","v":"확정지급보증"},"Confirmed Payment Guarantee","KRW","C13",2.1,0,"1",263,{"$f":"VLOOKUP(K5192,[1]EXRATE!C$3:F$43,4,0)","v":1},263,"",224,"",0,0,"","","","","","W","HIE","","",20230926,160849,0.01,40.854999999999997,"CIBM              MA21540","PEBSEL",300,315,null,"GTRF GTE","Confirmed Payment Guarantee",{"$f":"R5192","v":263},"Matched with Local data"]
["KR","HSBC",2,0,0,null,"PEBSEL300383","PEB",{"$f":"VLOOKUP(H5198,[2]SSIFSEP!$H$2:$I$7593,2,0)","v":"확정지급보증"},"Confirmed Payment Guarantee","KRW","C13",3.2,0,"1",122101,{"$f":"VLOOKUP(K5198,[1]EXRATE!C$3:F$43,4,0)","v":1},{"$f":"+P5198*Q5198","v":122101},"",224,"",0,0,"","","","","","W","HIE","","",20230926,160849,0.09,40.854999999999997,"CIBM              MA21540","PEBSEL",300,383,null,"GTRF GTE","Confirmed Payment Guarantee",{"$f":"R5198","v":122101},"Matched with Local data"]
["KR","HSBC",2,0,0,null,"PEBSEL300417","UCD",{"$f":"VLOOKUP(H5207,[2]SSIFSEP!$H$2:$I$7593,2,0)","v":"미사용약정"},"Unused Credit Line","KRW","MFS",3.1,0,"1",465,{"$f":"VLOOKUP(K5207,[1]EXRATE!C$3:F$43,4,0)","v":1},465,"",297,"",0,0,"","","","","","W","HIE","","",20230926,160849,0.04,40.854999999999997,"CIBM              MG30100","PEBSEL",300,417]
["KR","HSBC",2,0,0,null,"PEBSEL300440","PEB",{"$f":"VLOOKUP(H5212,[2]SSIFSEP!$H$2:$I$7593,2,0)","v":"확정지급보증"},"Confirmed Payment Guarantee","KRW","C13",2.2000000000000002,0,"1",6104,{"$f":"VLOOKUP(K5212,[1]EXRATE!C$3:F$43,4,0)","v":1},6104,"",224,"",0,0,"","","","","","W","HIE","","",20230926,160849,0.02,40.854999999999997,"CIBM              MA21540","PEBSEL",300,440,null,"GTRF GTE","Confirmed Payment Guarantee",{"$f":"R5212","v":6104},"Matched with Local data"]
["KR","HSBC",2,0,0,null,"PEBSEL300465","UCD",{"$f":"VLOOKUP(H5219,[2]SSIFSEP!$H$2:$I$7593,2,0)","v":"미사용약정"},"Unused Credit Line","KRW","C13",2.2000000000000002,0,"1",7,{"$f":"VLOOKUP(K5219,[1]EXRATE!C$3:F$43,4,0)","v":1},7,"",283,"",0,0,"","","","","","W","HIE","","",20230926,160849,0.02,40.854999999999997,"CIBM              MG30100","PEBSEL",300,465]
["KR","HSBC",2,0,0,null,"PEBSEL300468","PEB",{"$f":"VLOOKUP(H5224,[2]SSIFSEP!$H$2:$I$7593,2,0)","v":"확정지급보증"},"Confirmed Payment Guarantee","KRW","C13",2.2000000000000002,0,"1",21363,{"$f":"VLOOKUP(K5224,[1]EXRATE!C$3:F$43,4,0)","v":1},21363,"",224,"",0,0,"","","","","","W","HIE","","",20230926,160849,0.02,40.854999999999997,"CIBM              MA21540","PEBSEL",300,468,null,"GTRF GTE","Confirmed Payment Guarantee",{"$f":"R5224","v":21363},"Matched with Local data"]
["KR","HSBC",2,0,0,null,"PEBSEL300475","PEB",{"$f":"VLOOKUP(H5232,[2]SSIFSEP!$H$2:$I$7593,2,0)","v":"확정지급보증"},"Confirmed Payment Guarantee","KRW","C13",3.1,0,"1",3453,{"$f":"VLOOKUP(K5232,[1]EXRATE!C$3:F$43,4,0)","v":1},3453,"",224,"",0,0,"","","","","","W","HIE","","",20230926,160849,0.04,40.854999999999997,"CIBM              MA21540","PEBSEL",300,475,null,"GTRF GTE","Confirmed Payment Guarantee",{"$f":"R5232","v":3453},"Matched with Local data"]
["KR","HSBC",2,0,0,null,"PEBSEL300482","PEB",{"$f":"VLOOKUP(H5240,[2]SSIFSEP!$H$2:$I$7593,2,0)","v":"확정지급보증"},"Confirmed Payment Guarantee","USD","C13",1.1000000000000001,0,"2J",54,{"$f":"VLOOKUP(K5240,[1]EXRATE!C$3:F$43,4,0)","v":1344.8},726.19200000000001,"",232,"",0,0,"","","","","","W","HIE","","",20230926,160849,0.11,40.854999999999997,"CIBM              MA21540","PEBSEL",300,482,null,"GTRF GTE","Confirmed Payment Guarantee",{"$f":"R5240","v":726.19200000000001},"Matched with Local data"]
["KR","HSBC",2,0,0,null,"PEBSEL900386","UCD",{"$f":"VLOOKUP(H5248,[2]SSIFSEP!$H$2:$I$7593,2,0)","v":"미사용약정"},"Unused Credit Line","USD","C13",3.2,0,"1",0,{"$f":"VLOOKUP(K5248,[1]EXRATE!C$3:F$43,4,0)","v":1344.8},0,"",287,"",0,0,"","","","","","W","HIE","","",20230926,160849,0.09,40.854999999999997,"CIBM              MG30100","PEBSEL",900,386]
["KR","HSBC",2,0,0,null,"PNPSEL300013","PNP",{"$f":"VLOOKUP(H5252,[2]SSIFSEP!$H$2:$I$7593,2,0)","v":"외화기업대출"},"IMP Foreign Currency Corporate Loan","USD","C13",4.2,0,"2A",220461,{"$f":"VLOOKUP(K5252,[1]EXRATE!C$3:F$43,4,0)","v":1344.8},{"$f":"+P5252*Q5252/100","v":2964759.5279999999},"",137,"",0,0,"","","","","","W","HIE","","",20230926,160849,0.22,54.86,"CIBM              AI80182","PNPSEL",300,13,null,"GTRF IMP",{"$f":"J5252","v":"IMP Foreign Currency Corporate Loan"},{"$f":"R5252","v":2964759.5279999999},"Matched with Local data"]
["KR","HSBC",2,0,0,null,"RBUSEL202560CT","RBU",{"$f":"VLOOKUP(H5257,[2]SSIFSEP!$H$2:$I$7593,2,0)","v":"은행간대여금"},"Interbank Loans","USD","BE1",1.1000000000000001,0,"1",112,{"$f":"VLOOKUP(K5257,[1]EXRATE!C$3:F$43,4,0)","v":1344.8},1506.1760000000002,"",35,"",0,0,"","","","","","W","HIE","","",20230926,160849,0.04,28.87,"CIBM              AF80327","RBUSEL",202,"560CT"]
["KR","HSBC",2,0,0,null,"RBUSEL202645CT","RBU",{"$f":"VLOOKUP(H5265,[2]SSIFSEP!$H$2:$I$7593,2,0)","v":"은행간대여금"},"Interbank Loans","USD","BE1",1.1000000000000001,0,"1",260,{"$f":"VLOOKUP(K5265,[1]EXRATE!C$3:F$43,4,0)","v":1344.8},3496.48,"",35,"",0,0,"","","","","","W","HIE","","",20230926,160849,0.04,28.97,"CIBM              AF80327","RBUSEL",202,"645CT"]
["KR","HSBC",2,0,0,null,"RBUSEL202733CT","RBU",{"$f":"VLOOKUP(H5273,[2]SSIFSEP!$H$2:$I$7593,2,0)","v":"은행간대여금"},"Interbank Loans","USD","BE1",1.1000000000000001,0,"1",283,{"$f":"VLOOKUP(K5273,[1]EXRATE!C$3:F$43,4,0)","v":1344.8},3805.7839999999997,"",35,"",0,0,"","","","","","W","HIE","","",20230926,160849,0.04,28.87,"CIBM              AF80327","RBUSEL",202,"733CT"]
["KR","HSBC",2,0,0,null,"RBUSEL202763KE","RBU",{"$f":"VLOOKUP(H5277,[2]SSIFSEP!$H$2:$I$7593,2,0)","v":"은행간대여금"},"Interbank Loans","USD","BE1",1.1000000000000001,0,"1",532,{"$f":"VLOOKUP(K5277,[1]EXRATE!C$3:F$43,4,0)","v":1344.8},7154.3359999999993,"",35,"",0,0,"","","","","","W","HIE","","",20230926,160849,0.04,29.07,"CIBM              AF80327","RBUSEL",202,"763KE"]
["KR","HSBC",2,0,0,null,"RBUSEL202789CT","RBU",{"$f":"VLOOKUP(H5285,[2]SSIFSEP!$H$2:$I$7593,2,0)","v":"은행간대여금"},"Interbank Loans","USD","BE1",1.1000000000000001,0,"1",268,{"$f":"VLOOKUP(K5285,[1]EXRATE!C$3:F$43,4,0)","v":1344.8},3604.0639999999999,"",35,"",0,0,"","","","","","W","HIE","","",20230926,160849,0.04,29.27,"CIBM              AF80327","RBUSEL",202,"789CT"]
["KR","HSBC",2,0,0,null,"RBUSEL202827CT","RBU",{"$f":"VLOOKUP(H5293,[2]SSIFSEP!$H$2:$I$7593,2,0)","v":"은행간대여금"},"Interbank Loans","USD","BE1",1.1000000000000001,0,"1",285,{"$f":"VLOOKUP(K5293,[1]EXRATE!C$3:F$43,4,0)","v":1344.8},3832.68,"",35,"",0,0,"","","","","","W","HIE","","",20230926,160849,0.04,28.995000000000001,"CIBM              AF80327","RBUSEL",202,"827CT"]
["KR","HSBC",2,0,0,null,"RBUSEL247127CB","RBU",{"$f":"VLOOKUP(H5302,[2]SSIFSEP!$H$2:$I$7593,2,0)","v":"은행간대여금"},"Interbank Loans","USD","BE1",1.1000000000000001,0,"1",27,{"$f":"VLOOKUP(K5302,[1]EXRATE!C$3:F$43,4,0)","v":1344.8},363.096,"",35,"",0,0,"","","","","","W","HIE","","",20230926,160849,0.04,26.785,"CIBM              AF80327","RBUSEL",247,"127CB"]
["KR","HSBC",2,0,0,null,"RBUSEL247177KE","RBU",{"$f":"VLOOKUP(H5305,[2]SSIFSEP!$H$2:$I$7593,2,0)","v":"은행간대여금"},"Interbank Loans","USD","BE1",1.1000000000000001,0,"1",158,{"$f":"VLOOKUP(K5305,[1]EXRATE!C$3:F$43,4,0)","v":1344.8},2124.7840000000001,"",35,"",0,0,"","","","","","W","HIE","","",20230926,160849,0.04,27.375,"CIBM              AF80327","RBUSEL",247,"177KE"]
["KR","HSBC",2,0,0,null,"RBUSEL247547KE","RBU",{"$f":"VLOOKUP(H5317,[2]SSIFSEP!$H$2:$I$7593,2,0)","v":"은행간대여금"},"Interbank Loans","USD","BE1",1.1000000000000001,0,"1",351,{"$f":"VLOOKUP(K5317,[1]EXRATE!C$3:F$43,4,0)","v":1344.8},4720.2479999999996,"",35,"",0,0,"","","","","","W","HIE","","",20230926,160849,0.04,28.07,"CIBM              AF80327","RBUSEL",247,"547KE"]
["KR","HSBC",2,0,0,null,"RBUSEL247572KE","RBU",{"$f":"VLOOKUP(H5318,[2]SSIFSEP!$H$2:$I$7593,2,0)","v":"은행간대여금"},"Interbank Loans","USD","BE1",1.1000000000000001,0,"1",148,{"$f":"VLOOKUP(K5318,[1]EXRATE!C$3:F$43,4,0)","v":1344.8},1990.3039999999999,"",35,"",0,0,"","","","","","W","HIE","","",20230926,160849,0.04,27.37,"CIBM              AF80327","RBUSEL",247,"572KE"]
["KR","HSBC",2,0,0,null,"RBUSEL247776CT","RBU",{"$f":"VLOOKUP(H5327,[2]SSIFSEP!$H$2:$I$7593,2,0)","v":"은행간대여금"},"Interbank Loans","USD","BE1",1.1000000000000001,0,"1",0,{"$f":"VLOOKUP(K5327,[1]EXRATE!C$3:F$43,4,0)","v":1344.8},0,"",35,"",0,0,"","","","","","W","HIE","","",20230926,160849,0.04,27.774999999999999,"CIBM              AF80327","RBUSEL",247,"776CT"]
["KR","HSBC",2,0,0,null,"RBUSEL248089NA","RBU",{"$f":"VLOOKUP(H5337,[2]SSIFSEP!$H$2:$I$7593,2,0)","v":"은행간대여금"},"Interbank Loans","USD","BE1",1.1000000000000001,0,"1",166,{"$f":"VLOOKUP(K5337,[1]EXRATE!C$3:F$43,4,0)","v":1344.8},2232.3679999999999,"",35,"",0,0,"","","","","","W","HIE","","",20230926,160849,0.04,27.97,"CIBM              AF80327","RBUSEL",248,"089NA"]
["KR","HSBC",2,0,0,null,"RBUSEL248115KE","RBU",{"$f":"VLOOKUP(H5338,[2]SSIFSEP!$H$2:$I$7593,2,0)","v":"은행간대여금"},"Interbank Loans","USD","BE1",1.1000000000000001,0,"1",14,{"$f":"VLOOKUP(K5338,[1]EXRATE!C$3:F$43,4,0)","v":1344.8},188.27200000000002,"",35,"",0,0,"","","","","","W","HIE","","",20230926,160849,0.04,28.074999999999999,"CIBM              AF80327","RBUSEL",248,"115KE"]
["KR","HSBC",2,0,0,null,"RBUSEL248206SH","RBU",{"$f":"VLOOKUP(H5346,[2]SSIFSEP!$H$2:$I$7593,2,0)","v":"은행간대여금"},"Interbank Loans","USD","BE1",1.1000000000000001,0,"1",274,{"$f":"VLOOKUP(K5346,[1]EXRATE!C$3:F$43,4,0)","v":1344.8},3684.752,"",35,"",0,0,"","","","","","W","HIE","","",20230926,160849,0.04,28.67,"CIBM              AF80327","RBUSEL",248,"206SH"]
["KR","HSBC",2,0,0,null,"RBUSEL248387CT","RBU",{"$f":"VLOOKUP(H5356,[2]SSIFSEP!$H$2:$I$7593,2,0)","v":"은행간대여금"},"Interbank Loans","USD","BE1",1.1000000000000001,0,"1",25,{"$f":"VLOOKUP(K5356,[1]EXRATE!C$3:F$43,4,0)","v":1344.8},336.2,"",35,"",0,0,"","","","","","W","HIE","","",20230926,160849,0.04,28.07,"CIBM              AF80327","RBUSEL",248,"387CT"]
["KR","HSBC",2,0,0,null,"RBUSEL248445KE","RBU",{"$f":"VLOOKUP(H5358,[2]SSIFSEP!$H$2:$I$7593,2,0)","v":"은행간대여금"},"Interbank Loans","USD","BE1",1.1000000000000001,0,"1",520,{"$f":"VLOOKUP(K5358,[1]EXRATE!C$3:F$43,4,0)","v":1344.8},6992.96,"",35,"",0,0,"","","","","","W","HIE","","",20230926,160849,0.04,28.795000000000002,"CIBM              AF80327","RBUSEL",248,"445KE"]
["KR","HSBC",2,0,0,null,"RBUSEL248579KE","RBU",{"$f":"VLOOKUP(H5370,[2]SSIFSEP!$H$2:$I$7593,2,0)","v":"은행간대여금"},"Interbank Loans","USD","BE1",1.1000000000000001,0,"1",56,{"$f":"VLOOKUP(K5370,[1]EXRATE!C$3:F$43,4,0)","v":1344.8},753.08800000000008,"",35,"",0,0,"","","","","","W","HIE","","",20230926,160849,0.04,28.27,"CIBM              AF80327","RBUSEL",248,"579KE"]
["KR","HSBC",2,0,0,null,"RBUSEL248658CB","RBU",{"$f":"VLOOKUP(H5378,[2]SSIFSEP!$H$2:$I$7593,2,0)","v":"은행간대여금"},"Interbank Loans","USD","BE1",1.1000000000000001,0,"1",2195,{"$f":"VLOOKUP(K5378,[1]EXRATE!C$3:F$43,4,0)","v":1344.8},29518.36,"",35,"",0,0,"","","","","","W","HIE","","",20230926,160849,0.04,28.87,"CIBM              AF80327","RBUSEL",248,"658CB"]
["KR","HSBC",2,0,0,null,"RBUSEL248687CT","RBU",{"$f":"VLOOKUP(H5381,[2]SSIFSEP!$H$2:$I$7593,2,0)","v":"은행간대여금"},"Interbank Loans","USD","BE1",1.1000000000000001,0,"1",940,{"$f":"VLOOKUP(K5381,[1]EXRATE!C$3:F$43,4,0)","v":1344.8},12641.12,"",35,"",0,0,"","","","","","W","HIE","","",20230926,160849,0.04,28.87,"CIBM              AF80327","RBUSEL",248,"687CT"]
["KR","HSBC",2,0,0,null,"RBUSEL248784KE","RBU",{"$f":"VLOOKUP(H5390,[2]SSIFSEP!$H$2:$I$7593,2,0)","v":"은행간대여금"},"Interbank Loans","USD","BE1",1.1000000000000001,0,"1",138,{"$f":"VLOOKUP(K5390,[1]EXRATE!C$3:F$43,4,0)","v":1344.8},1855.8239999999998,"",35,"",0,0,"","","","","","W","HIE","","",20230926,160849,0.04,29.094999999999999,"CIBM              AF80327","RBUSEL",248,"784KE"]
["KR","HSBC",2,0,0,null,"RBUSEL248856KE","RBU",{"$f":"VLOOKUP(H5398,[2]SSIFSEP!$H$2:$I$7593,2,0)","v":"은행간대여금"},"Interbank Loans","USD","BE1",1.1000000000000001,0,"1",213,{"$f":"VLOOKUP(K5398,[1]EXRATE!C$3:F$43,4,0)","v":1344.8},2864.4239999999995,"",35,"",0,0,"","","","","","W","HIE","","",20230926,160849,0.04,29.07,"CIBM              AF80327","RBUSEL",248,"856KE"]
["KR","HSBC",2,0,0,null,"RBUSEL248885CT","RBU",{"$f":"VLOOKUP(H5403,[2]SSIFSEP!$H$2:$I$7593,2,0)","v":"은행간대여금"},"Interbank Loans","USD","BE1",1.1000000000000001,0,"1",593,{"$f":"VLOOKUP(K5403,[1]EXRATE!C$3:F$43,4,0)","v":1344.8},7974.6640000000007,"",35,"",0,0,"","","","","","W","HIE","","",20230926,160849,0.04,29.07,"CIBM              AF80327","RBUSEL",248,"885CT"]
["KR","HSBC",2,0,0,null,"RBUSEL248935MD","RBU",{"$f":"VLOOKUP(H5410,[2]SSIFSEP!$H$2:$I$7593,2,0)","v":"은행간대여금"},"Interbank Loans","USD","BK4",1.1000000000000001,0,"1",734,{"$f":"VLOOKUP(K5410,[1]EXRATE!C$3:F$43,4,0)","v":1344.8},9870.8320000000003,"",44,"",0,0,"","","","","","W","HIE","","",20230926,160849,0.02,40.29,"CIBM              AF80327","RBUSEL",248,"935MD"]
["KR","HSBC",2,0,0,null,"RBUSEL249054CT","RBU",{"$f":"VLOOKUP(H5418,[2]SSIFSEP!$H$2:$I$7593,2,0)","v":"은행간대여금"},"Interbank Loans","USD","BE1",1.1000000000000001,0,"1",127,{"$f":"VLOOKUP(K5418,[1]EXRATE!C$3:F$43,4,0)","v":1344.8},1707.896,"",35,"",0,0,"","","","","","W","HIE","","",20230926,160849,0.04,28.795000000000002,"CIBM              AF80327","RBUSEL",249,"054CT"]
["KR","HSBC",2,0,0,null,"RBUSEL249091CT","RBU",{"$f":"VLOOKUP(H5423,[2]SSIFSEP!$H$2:$I$7593,2,0)","v":"은행간대여금"},"Interbank Loans","USD","BE1",1.1000000000000001,0,"1",511,{"$f":"VLOOKUP(K5423,[1]EXRATE!C$3:F$43,4,0)","v":1344.8},6871.927999999999,"",35,"",0,0,"","","","","","W","HIE","","",20230926,160849,0.04,28.97,"CIBM              AF80327","RBUSEL",249,"091CT"]
["KR","HSBC",2,0,0,null,"RBUSEL249197CT","RBU",{"$f":"VLOOKUP(H5431,[2]SSIFSEP!$H$2:$I$7593,2,0)","v":"은행간대여금"},"Interbank Loans","USD","BE1",1.1000000000000001,0,"1",125,{"$f":"VLOOKUP(K5431,[1]EXRATE!C$3:F$43,4,0)","v":1344.8},1681,"",35,"",0,0,"","","","","","W","HIE","","",20230926,160849,0.04,29.07,"CIBM              AF80327","RBUSEL",249,"197CT"]
["KR","HSBC",2,0,0,null,"RBUSEL249260CT","RBU",{"$f":"VLOOKUP(H5435,[2]SSIFSEP!$H$2:$I$7593,2,0)","v":"은행간대여금"},"Interbank Loans","USD","BE1",1.1000000000000001,0,"1",760,{"$f":"VLOOKUP(K5435,[1]EXRATE!C$3:F$43,4,0)","v":1344.8},10220.48,"",35,"",0,0,"","","","","","W","HIE","","",20230926,160849,0.04,29.07,"CIBM              AF80327","RBUSEL",249,"260CT"]
["KR","HSBC",2,0,0,null,"RBUSEL249339CT","RBU",{"$f":"VLOOKUP(H5443,[2]SSIFSEP!$H$2:$I$7593,2,0)","v":"은행간대여금"},"Interbank Loans","USD","BE1",1.1000000000000001,0,"1",234,{"$f":"VLOOKUP(K5443,[1]EXRATE!C$3:F$43,4,0)","v":1344.8},3146.8320000000003,"",35,"",0,0,"","","","","","W","HIE","","",20230926,160849,0.04,29.27,"CIBM              AF80327","RBUSEL",249,"339CT"]
["KR","HSBC",2,0,0,null,"RBUSEL249382CT","RBU",{"$f":"VLOOKUP(H5451,[2]SSIFSEP!$H$2:$I$7593,2,0)","v":"은행간대여금"},"Interbank Loans","USD","BE1",1.1000000000000001,0,"1",482,{"$f":"VLOOKUP(K5451,[1]EXRATE!C$3:F$43,4,0)","v":1344.8},6481.9359999999997,"",35,"",0,0,"","","","","","W","HIE","","",20230926,160849,0.04,29.07,"CIBM              AF80327","RBUSEL",249,"382CT"]
["KR","HSBC",2,0,0,null,"RBUSEL249470CB","RBU",{"$f":"VLOOKUP(H5456,[2]SSIFSEP!$H$2:$I$7593,2,0)","v":"은행간대여금"},"Interbank Loans","USD","BE1",1.1000000000000001,0,"1",163,{"$f":"VLOOKUP(K5456,[1]EXRATE!C$3:F$43,4,0)","v":1344.8},2192.0239999999999,"",35,"",0,0,"","","","","","W","HIE","","",20230926,160849,0.04,29.07,"CIBM              AF80327","RBUSEL",249,"470CB"]
["KR","HSBC",2,0,0,null,"RBUSEL249517CT","RBU",{"$f":"VLOOKUP(H5464,[2]SSIFSEP!$H$2:$I$7593,2,0)","v":"은행간대여금"},"Interbank Loans","USD","BE1",1.1000000000000001,0,"1",524,{"$f":"VLOOKUP(K5464,[1]EXRATE!C$3:F$43,4,0)","v":1344.8},7046.7519999999995,"",35,"",0,0,"","","","","","W","HIE","","",20230926,160849,0.04,28.87,"CIBM              AF80327","RBUSEL",249,"517CT"]
["KR","HSBC",2,0,0,null,"RBUSEL249608CT","RBU",{"$f":"VLOOKUP(H5471,[2]SSIFSEP!$H$2:$I$7593,2,0)","v":"은행간대여금"},"Interbank Loans","USD","BE1",1.1000000000000001,0,"1",252,{"$f":"VLOOKUP(K5471,[1]EXRATE!C$3:F$43,4,0)","v":1344.8},3388.8959999999997,"",35,"",0,0,"","","","","","W","HIE","","",20230926,160849,0.04,29.27,"CIBM              AF80327","RBUSEL",249,"608CT"]
["KR","HSBC",2,0,0,null,"RBUSEL249631CT","RBU",{"$f":"VLOOKUP(H5476,[2]SSIFSEP!$H$2:$I$7593,2,0)","v":"은행간대여금"},"Interbank Loans","USD","BE1",1.1000000000000001,0,"1",72,{"$f":"VLOOKUP(K5476,[1]EXRATE!C$3:F$43,4,0)","v":1344.8},968.25599999999986,"",35,"",0,0,"","","","","","W","HIE","","",20230926,160849,0.04,29.07,"CIBM              AF80327","RBUSEL",249,"631CT"]
["KR","HSBC",2,0,0,null,"RBUSEL249666CT","RBU",{"$f":"VLOOKUP(H5484,[2]SSIFSEP!$H$2:$I$7593,2,0)","v":"은행간대여금"},"Interbank Loans","USD","BE1",1.1000000000000001,0,"1",584,{"$f":"VLOOKUP(K5484,[1]EXRATE!C$3:F$43,4,0)","v":1344.8},7853.6319999999996,"",35,"",0,0,"","","","","","W","HIE","","",20230926,160849,0.04,28.97,"CIBM              AF80327","RBUSEL",249,"666CT"]
["KR","HSBC",2,0,0,null,"RBUSEL249690NA","RBU",{"$f":"VLOOKUP(H5487,[2]SSIFSEP!$H$2:$I$7593,2,0)","v":"은행간대여금"},"Interbank Loans","USD","BE1",1.1000000000000001,0,"1",17195,{"$f":"VLOOKUP(K5487,[1]EXRATE!C$3:F$43,4,0)","v":1344.8},231238.36,"",35,"",0,0,"","","","","","W","HIE","","",20230926,160849,0.04,29.27,"CIBM              AF80327","RBUSEL",249,"690NA"]
["KR","HSBC",2,0,0,null,"RBUSEL249784CB","RBU",{"$f":"VLOOKUP(H5496,[2]SSIFSEP!$H$2:$I$7593,2,0)","v":"은행간대여금"},"Interbank Loans","USD","BE1",1.1000000000000001,0,"1",1976,{"$f":"VLOOKUP(K5496,[1]EXRATE!C$3:F$43,4,0)","v":1344.8},26573.248,"",35,"",0,0,"","","","","","W","HIE","","",20230926,160849,0.04,29.07,"CIBM              AF80327","RBUSEL",249,"784CB"]
["KR","HSBC",2,0,0,null,"RBUSEL249845NA","RBU",{"$f":"VLOOKUP(H5504,[2]SSIFSEP!$H$2:$I$7593,2,0)","v":"은행간대여금"},"Interbank Loans","USD","BE1",1.1000000000000001,0,"1",574,{"$f":"VLOOKUP(K5504,[1]EXRATE!C$3:F$43,4,0)","v":1344.8},7719.1519999999991,"",35,"",0,0,"","","","","","W","HIE","","",20230926,160849,0.04,28.57,"CIBM              AF80327","RBUSEL",249,"845NA"]
["KR","HSBC",2,0,0,null,"RBUSEL249873CT","RBU",{"$f":"VLOOKUP(H5509,[2]SSIFSEP!$H$2:$I$7593,2,0)","v":"은행간대여금"},"Interbank Loans","USD","BE1",1.1000000000000001,0,"1",2036,{"$f":"VLOOKUP(K5509,[1]EXRATE!C$3:F$43,4,0)","v":1344.8},27380.127999999997,"",35,"",0,0,"","","","","","W","HIE","","",20230926,160849,0.04,28.995000000000001,"CIBM              AF80327","RBUSEL",249,"873CT"]
["KR","HSBC",2,0,0,null,"RBUSEL249933CT","RBU",{"$f":"VLOOKUP(H5518,[2]SSIFSEP!$H$2:$I$7593,2,0)","v":"은행간대여금"},"Interbank Loans","USD","BE1",1.1000000000000001,0,"1",900,{"$f":"VLOOKUP(K5518,[1]EXRATE!C$3:F$43,4,0)","v":1344.8},12103.2,"",35,"",0,0,"","","","","","W","HIE","","",20230926,160849,0.04,29.07,"CIBM              AF80327","RBUSEL",249,"933CT"]
["KR","HSBC",2,0,0,null,"RBUSEL249959CB","RBU",{"$f":"VLOOKUP(H5524,[2]SSIFSEP!$H$2:$I$7593,2,0)","v":"은행간대여금"},"Interbank Loans","USD","BE1",1.1000000000000001,0,"1",462,{"$f":"VLOOKUP(K5524,[1]EXRATE!C$3:F$43,4,0)","v":1344.8},6212.9759999999997,"",35,"",0,0,"","","","","","W","HIE","","",20230926,160849,0.04,29.17,"CIBM              AF80327","RBUSEL",249,"959CB"]
["KR","HSBC",2,0,0,null,"RBUSEL250001NA","RBU",{"$f":"VLOOKUP(H5529,[2]SSIFSEP!$H$2:$I$7593,2,0)","v":"은행간대여금"},"Interbank Loans","USD","BE1",1.1000000000000001,0,"1",232,{"$f":"VLOOKUP(K5529,[1]EXRATE!C$3:F$43,4,0)","v":1344.8},3119.9359999999997,"",35,"",0,0,"","","","","","W","HIE","","",20230926,160849,0.04,29.07,"CIBM              AF80327","RBUSEL",250,"001NA"]
["KR","HSBC",2,0,0,null,"RBUSEL300012KE","RBU",{"$f":"VLOOKUP(H5537,[2]SSIFSEP!$H$2:$I$7593,2,0)","v":"은행간대여금"},"Interbank Loans","USD","BE1",1.1000000000000001,0,"1",1496,{"$f":"VLOOKUP(K5537,[1]EXRATE!C$3:F$43,4,0)","v":1344.8},20118.207999999999,"",35,"",0,0,"","","","","","W","HIE","","",20230926,160849,0.04,29.17,"CIBM              AF80327","RBUSEL",300,"012KE"]
["KR","HSBC",2,0,0,null,"RBUSEL300047CB","RBU",{"$f":"VLOOKUP(H5541,[2]SSIFSEP!$H$2:$I$7593,2,0)","v":"은행간대여금"},"Interbank Loans","USD","BE1",1.1000000000000001,0,"1",361,{"$f":"VLOOKUP(K5541,[1]EXRATE!C$3:F$43,4,0)","v":1344.8},4854.7280000000001,"",35,"",0,0,"","","","","","W","HIE","","",20230926,160849,0.04,28.97,"CIBM              AF80327","RBUSEL",300,"047CB"]
["KR","HSBC",2,0,0,null,"RBUSEL300179KE","RBU",{"$f":"VLOOKUP(H5549,[2]SSIFSEP!$H$2:$I$7593,2,0)","v":"은행간대여금"},"Interbank Loans","USD","BE1",1.1000000000000001,0,"1",593,{"$f":"VLOOKUP(K5549,[1]EXRATE!C$3:F$43,4,0)","v":1344.8},7974.6640000000007,"",35,"",0,0,"","","","","","W","HIE","","",20230926,160849,0.04,29.965,"CIBM              AF80327","RBUSEL",300,"179KE"]
["KR","HSBC",2,0,0,null,"RBUSEL300266SH","RBU",{"$f":"VLOOKUP(H5557,[2]SSIFSEP!$H$2:$I$7593,2,0)","v":"은행간대여금"},"Interbank Loans","USD","BE1",1.1000000000000001,0,"1",2519,{"$f":"VLOOKUP(K5557,[1]EXRATE!C$3:F$43,4,0)","v":1344.8},33875.511999999995,"",35,"",0,0,"","","","","","W","HIE","","",20230926,160849,0.04,30.364999999999998,"CIBM              AF80327","RBUSEL",300,"266SH"]
["KR","HSBC",2,0,0,null,"RBUSEL300277MD","RBU",{"$f":"VLOOKUP(H5562,[2]SSIFSEP!$H$2:$I$7593,2,0)","v":"은행간대여금"},"Interbank Loans","EUR","BK4",1.1000000000000001,0,"1",430,{"$f":"VLOOKUP(K5562,[1]EXRATE!C$3:F$43,4,0)","v":1421.7225599999999},6113.4070080000001,"",39,"",0,0,"","","","","","W","HIE","","",20230926,160849,0.02,40.29,"CIBM              AF80327","RBUSEL",300,"277MD"]
["KR","HSBC",2,0,0,null,"RBUSEL300344SH","RBU",{"$f":"VLOOKUP(H5572,[2]SSIFSEP!$H$2:$I$7593,2,0)","v":"은행간대여금"},"Interbank Loans","USD","BE1",1.1000000000000001,0,"1",17,{"$f":"VLOOKUP(K5572,[1]EXRATE!C$3:F$43,4,0)","v":1344.8},{"$f":"+P5572*Q5572/100","v":228.61599999999999},"",35,"",0,0,"","","","","","W","HIE","","",20230926,160849,0.04,28.97,"CIBM              AF80327","RBUSEL",300,"344SH"]
["KR","HSBC",2,0,0,null,"RBUSEL300397SH","RBU",{"$f":"VLOOKUP(H5577,[2]SSIFSEP!$H$2:$I$7593,2,0)","v":"은행간대여금"},"Interbank Loans","USD","BE1",1.1000000000000001,0,"1",3865,{"$f":"VLOOKUP(K5577,[1]EXRATE!C$3:F$43,4,0)","v":1344.8},51976.52,"",35,"",0,0,"","","","","","W","HIE","","",20230926,160849,0.04,28.594999999999999,"CIBM              AF80327","RBUSEL",300,"397SH"]
["KR","HSBC",2,0,0,null,"RBUSEL300411CT","RBU",{"$f":"VLOOKUP(H5582,[2]SSIFSEP!$H$2:$I$7593,2,0)","v":"은행간대여금"},"Interbank Loans","USD","BE1",1.1000000000000001,0,"1",55,{"$f":"VLOOKUP(K5582,[1]EXRATE!C$3:F$43,4,0)","v":1344.8},739.64,"",35,"",0,0,"","","","","","W","HIE","","",20230926,160849,0.04,28.87,"CIBM              AF80327","RBUSEL",300,"411CT"]
["KR","HSBC",2,0,0,null,"RBUSEL300442SH","RBU",{"$f":"VLOOKUP(H5590,[2]SSIFSEP!$H$2:$I$7593,2,0)","v":"은행간대여금"},"Interbank Loans","USD","BE1",1.1000000000000001,0,"1",46,{"$f":"VLOOKUP(K5590,[1]EXRATE!C$3:F$43,4,0)","v":1344.8},618.60799999999995,"",35,"",0,0,"","","","","","W","HIE","","",20230926,160849,0.04,29.37,"CIBM              AF80327","RBUSEL",300,"442SH"]
["KR","HSBC",2,0,0,null,"RBUSEL300452SH","RBU",{"$f":"VLOOKUP(H5595,[2]SSIFSEP!$H$2:$I$7593,2,0)","v":"은행간대여금"},"Interbank Loans","USD","BE1",1.1000000000000001,0,"1",21,{"$f":"VLOOKUP(K5595,[1]EXRATE!C$3:F$43,4,0)","v":1344.8},282.40800000000002,"",35,"",0,0,"","","","","","W","HIE","","",20230926,160849,0.04,29.47,"CIBM              AF80327","RBUSEL",300,"452SH"]
["KR","HSBC",2,0,0,null,"RBUSEL300469SH","RBU",{"$f":"VLOOKUP(H5602,[2]SSIFSEP!$H$2:$I$7593,2,0)","v":"은행간대여금"},"Interbank Loans","CNY","BE1",1.1000000000000001,0,"1",698,{"$f":"VLOOKUP(K5602,[1]EXRATE!C$3:F$43,4,0)","v":184.26999873814515},1286.2045911922532,"",29,"",0,0,"","","","","","W","HIE","","",20230926,160849,0.04,25.385000000000002,"CIBM              AF80327","RBUSEL",300,"469SH"]
["KR","HSBC",2,0,0,null,"RBUSEL300498CT","RBU",{"$f":"VLOOKUP(H5610,[2]SSIFSEP!$H$2:$I$7593,2,0)","v":"은행간대여금"},"Interbank Loans","USD","BE1",1.1000000000000001,0,"1",157,{"$f":"VLOOKUP(K5610,[1]EXRATE!C$3:F$43,4,0)","v":1344.8},2111.3360000000002,"",35,"",0,0,"","","","","","W","HIE","","",20230926,160849,0.04,29.07,"CIBM              AF80327","RBUSEL",300,"498CT"]
["KR","HSBC",2,0,0,null,"RBUSEL300516SH","RBU",{"$f":"VLOOKUP(H5615,[2]SSIFSEP!$H$2:$I$7593,2,0)","v":"은행간대여금"},"Interbank Loans","USD","BE1",1.1000000000000001,0,"1",162,{"$f":"VLOOKUP(K5615,[1]EXRATE!C$3:F$43,4,0)","v":1344.8},2178.576,"",35,"",0,0,"","","","","","W","HIE","","",20230926,160849,0.04,29.27,"CIBM              AF80327","RBUSEL",300,"516SH"]
["KR","HSBC",2,0,0,null,"RBUSEL300559SH","RBU",{"$f":"VLOOKUP(H5626,[2]SSIFSEP!$H$2:$I$7593,2,0)","v":"은행간대여금"},"Interbank Loans","CNY","BE1",1.1000000000000001,0,"1",137,{"$f":"VLOOKUP(K5626,[1]EXRATE!C$3:F$43,4,0)","v":184.26999873814515},252.44989827125886,"",29,"",0,0,"","","","","","W","HIE","","",20230926,160849,0.04,26.574999999999999,"CIBM              AF80327","RBUSEL",300,"559SH"]
["KR","HSBC",2,0,0,null,"RBUSEL300609NA","RBU",{"$f":"VLOOKUP(H5634,[2]SSIFSEP!$H$2:$I$7593,2,0)","v":"은행간대여금"},"Interbank Loans","USD","BE1",1.1000000000000001,0,"1",113,{"$f":"VLOOKUP(K5634,[1]EXRATE!C$3:F$43,4,0)","v":1344.8},1519.624,"",35,"",0,0,"","","","","","W","HIE","","",20230926,160849,0.04,29.57,"CIBM              AF80327","RBUSEL",300,"609NA"]
["KR","HSBC",2,0,0,null,"RBUSEL300610CB","RBU",{"$f":"VLOOKUP(H5635,[2]SSIFSEP!$H$2:$I$7593,2,0)","v":"은행간대여금"},"Interbank Loans","USD","BE1",1.1000000000000001,0,"1",1068,{"$f":"VLOOKUP(K5635,[1]EXRATE!C$3:F$43,4,0)","v":1344.8},14362.464,"",35,"",0,0,"","","","","","W","HIE","","",20230926,160849,0.04,29.38,"CIBM              AF80327","RBUSEL",300,"610CB"]
["KR","HSBC",2,0,0,null,"RBUSEL300643NA","RBU",{"$f":"VLOOKUP(H5647,[2]SSIFSEP!$H$2:$I$7593,2,0)","v":"은행간대여금"},"Interbank Loans","USD","BE1",1.1000000000000001,0,"1",3,{"$f":"VLOOKUP(K5647,[1]EXRATE!C$3:F$43,4,0)","v":1344.8},40.343999999999994,"",35,"",0,0,"","","","","","W","HIE","","",20230926,160849,0.04,29.37,"CIBM              AF80327","RBUSEL",300,"643NA"]
["KR","HSBC",2,0,0,null,"RBUSEL300666SH","RBU",{"$f":"VLOOKUP(H5654,[2]SSIFSEP!$H$2:$I$7593,2,0)","v":"은행간대여금"},"Interbank Loans","USD","BE1",1.1000000000000001,0,"1",49,{"$f":"VLOOKUP(K5654,[1]EXRATE!C$3:F$43,4,0)","v":1344.8},658.952,"",35,"",0,0,"","","","","","W","HIE","","",20230926,160849,0.04,29.37,"CIBM              AF80327","RBUSEL",300,"666SH"]
["KR","HSBC",2,0,0,null,"RBUSEL300667SH","RBU",{"$f":"VLOOKUP(H5655,[2]SSIFSEP!$H$2:$I$7593,2,0)","v":"은행간대여금"},"Interbank Loans","USD","BE1",1.1000000000000001,0,"1",129,{"$f":"VLOOKUP(K5655,[1]EXRATE!C$3:F$43,4,0)","v":1344.8},1734.7919999999999,"",35,"",0,0,"","","","","","W","HIE","","",20230926,160849,0.04,29.18,"CIBM              AF80327","RBUSEL",300,"667SH"]
["KR","HSBC",2,0,0,null,"RBUSEL300682MD","RBU",{"$f":"VLOOKUP(H5663,[2]SSIFSEP!$H$2:$I$7593,2,0)","v":"은행간대여금"},"Interbank Loans","SEK","BK4",1.1000000000000001,0,"1",2773,{"$f":"VLOOKUP(K5663,[1]EXRATE!C$3:F$43,4,0)","v":122.27566579681944},3390.7042125458033,"",42,"",0,0,"","","","","","W","HIE","","",20230926,160849,0.02,40.29,"CIBM              AF80327","RBUSEL",300,"682MD"]
["KR","HSBC",2,0,0,null,"RBUSEL300690KE","RBU",{"$f":"VLOOKUP(H5670,[2]SSIFSEP!$H$2:$I$7593,2,0)","v":"은행간대여금"},"Interbank Loans","USD","BE1",1.1000000000000001,0,"1",34,{"$f":"VLOOKUP(K5670,[1]EXRATE!C$3:F$43,4,0)","v":1344.8},457.23199999999997,"",35,"",0,0,"","","","","","W","HIE","","",20230926,160849,0.04,29.18,"CIBM              AF80327","RBUSEL",300,"690KE"]
["KR","HSBC",2,0,0,null,"RBUSEL300695SH","RBU",{"$f":"VLOOKUP(H5675,[2]SSIFSEP!$H$2:$I$7593,2,0)","v":"은행간대여금"},"Interbank Loans","USD","BE1",1.1000000000000001,0,"1",420,{"$f":"VLOOKUP(K5675,[1]EXRATE!C$3:F$43,4,0)","v":1344.8},5648.16,"",35,"",0,0,"","","","","","W","HIE","","",20230926,160849,0.04,29.87,"CIBM              AF80327","RBUSEL",300,"695SH"]
["KR","HSBC",2,0,0,null,"RBUSEL300727CT","RBU",{"$f":"VLOOKUP(H5687,[2]SSIFSEP!$H$2:$I$7593,2,0)","v":"은행간대여금"},"Interbank Loans","USD","BE1",1.1000000000000001,0,"1",1257,{"$f":"VLOOKUP(K5687,[1]EXRATE!C$3:F$43,4,0)","v":1344.8},16904.135999999999,"",35,"",0,0,"","","","","","W","HIE","","",20230926,160849,0.04,28.77,"CIBM              AF80327","RBUSEL",300,"727CT"]
["KR","HSBC",2,0,0,null,"RBUSEL300743MD","RBU",{"$f":"VLOOKUP(H5695,[2]SSIFSEP!$H$2:$I$7593,2,0)","v":"은행간대여금"},"Interbank Loans","USD","BK4",1.1000000000000001,0,"1",2058,{"$f":"VLOOKUP(K5695,[1]EXRATE!C$3:F$43,4,0)","v":1344.8},27675.984,"",44,"",0,0,"","","","","","W","HIE","","",20230926,160849,0.02,40.29,"CIBM              AF80327","RBUSEL",300,"743MD"]
["KR","HSBC",2,0,0,null,"RBUSEL300770SH","RBU",{"$f":"VLOOKUP(H5701,[2]SSIFSEP!$H$2:$I$7593,2,0)","v":"은행간대여금"},"Interbank Loans","USD","BE1",1.1000000000000001,0,"1",33,{"$f":"VLOOKUP(K5701,[1]EXRATE!C$3:F$43,4,0)","v":1344.8},443.78399999999999,"",35,"",0,0,"","","","","","W","HIE","","",20230926,160849,0.04,29.68,"CIBM              AF80327","RBUSEL",300,"770SH"]
["KR","HSBC",2,0,0,null,"RBUSEL300790MD","RBU",{"$f":"VLOOKUP(H5707,[2]SSIFSEP!$H$2:$I$7593,2,0)","v":"은행간대여금"},"Interbank Loans","USD","BK4",1.1000000000000001,0,"1",1476,{"$f":"VLOOKUP(K5707,[1]EXRATE!C$3:F$43,4,0)","v":1344.8},19849.248,"",44,"",0,0,"","","","","","W","HIE","","",20230926,160849,0.02,40.29,"CIBM              AF80327","RBUSEL",300,"790MD"]
["KR","HSBC",2,0,0,null,"RBUSEL300807NA","RBU",{"$f":"VLOOKUP(H5715,[2]SSIFSEP!$H$2:$I$7593,2,0)","v":"은행간대여금"},"Interbank Loans","USD","BE1",1.1000000000000001,0,"1",234,{"$f":"VLOOKUP(K5715,[1]EXRATE!C$3:F$43,4,0)","v":1344.8},3146.8320000000003,"",35,"",0,0,"","","","","","W","HIE","","",20230926,160849,0.04,29.97,"CIBM              AF80327","RBUSEL",300,"807NA"]
["KR","HSBC",2,0,0,null,"RBUSEL300808KE","RBU",{"$f":"VLOOKUP(H5716,[2]SSIFSEP!$H$2:$I$7593,2,0)","v":"은행간대여금"},"Interbank Loans","USD","BE1",1.1000000000000001,0,"1",3011,{"$f":"VLOOKUP(K5716,[1]EXRATE!C$3:F$43,4,0)","v":1344.8},40491.928,"",35,"",0,0,"","","","","","W","HIE","","",20230926,160849,0.04,29.58,"CIBM              AF80327","RBUSEL",300,"808KE"]
["KR","HSBC",2,0,0,null,"RBUSEL300820CB","RBU",{"$f":"VLOOKUP(H5724,[2]SSIFSEP!$H$2:$I$7593,2,0)","v":"은행간대여금"},"Interbank Loans","AUD","BE1",1.1000000000000001,0,"1",218,{"$f":"VLOOKUP(K5724,[1]EXRATE!C$3:F$43,4,0)","v":859.99959999999987},1874.7991279999997,"",26,"",0,0,"","","","","","W","HIE","","",20230926,160849,0.04,31.58,"CIBM              AF80327","RBUSEL",300,"820CB"]
["KR","HSBC",2,0,0,null,"RBUSEL300853CT","RBU",{"$f":"VLOOKUP(H5735,[2]SSIFSEP!$H$2:$I$7593,2,0)","v":"은행간대여금"},"Interbank Loans","SGD","BE1",1.1000000000000001,0,"1",16,{"$f":"VLOOKUP(K5735,[1]EXRATE!C$3:F$43,4,0)","v":982.07178588381339},157.13148574141013,"",34,"",0,0,"","","","","","W","HIE","","",20230926,160849,0.04,29.57,"CIBM              AF80327","RBUSEL",300,"853CT"]
["KR","HSBC",2,0,0,null,"RBUSEL300870CT","RBU",{"$f":"VLOOKUP(H5740,[2]SSIFSEP!$H$2:$I$7593,2,0)","v":"은행간대여금"},"Interbank Loans","USD","BE1",1.1000000000000001,0,"1",1492,{"$f":"VLOOKUP(K5740,[1]EXRATE!C$3:F$43,4,0)","v":1344.8},20064.415999999997,"",35,"",0,0,"","","","","","W","HIE","","",20230926,160849,0.04,29.57,"CIBM              AF80327","RBUSEL",300,"870CT"]
["KR","HSBC",2,0,0,null,"RBUSEL300880NA","RBU",{"$f":"VLOOKUP(H5748,[2]SSIFSEP!$H$2:$I$7593,2,0)","v":"은행간대여금"},"Interbank Loans","USD","BE1",1.1000000000000001,0,"1",162,{"$f":"VLOOKUP(K5748,[1]EXRATE!C$3:F$43,4,0)","v":1344.8},2178.576,"",35,"",0,0,"","","","","","W","HIE","","",20230926,160849,0.04,29.97,"CIBM              AF80327","RBUSEL",300,"880NA"]
["KR","HSBC",2,0,0,null,"RBUSEL300896KE","RBU",{"$f":"VLOOKUP(H5755,[2]SSIFSEP!$H$2:$I$7593,2,0)","v":"은행간대여금"},"Interbank Loans","USD","BE1",1.1000000000000001,0,"1",49,{"$f":"VLOOKUP(K5755,[1]EXRATE!C$3:F$43,4,0)","v":1344.8},658.952,"",35,"",0,0,"","","","","","W","HIE","","",20230926,160849,0.04,29.57,"CIBM              AF80327","RBUSEL",300,"896KE"]
["KR","HSBC",2,0,0,null,"RBUSEL300915KE","RBU",{"$f":"VLOOKUP(H5760,[2]SSIFSEP!$H$2:$I$7593,2,0)","v":"은행간대여금"},"Interbank Loans","USD","BE1",1.1000000000000001,0,"1",202,{"$f":"VLOOKUP(K5760,[1]EXRATE!C$3:F$43,4,0)","v":1344.8},2716.4959999999996,"",35,"",0,0,"","","","","","W","HIE","","",20230926,160849,0.04,29.77,"CIBM              AF80327","RBUSEL",300,"915KE"]
["KR","HSBC",2,0,0,null,"RBUSEL300927NA","RBU",{"$f":"VLOOKUP(H5768,[2]SSIFSEP!$H$2:$I$7593,2,0)","v":"은행간대여금"},"Interbank Loans","USD","BE1",1.1000000000000001,0,"1",837,{"$f":"VLOOKUP(K5768,[1]EXRATE!C$3:F$43,4,0)","v":1344.8},11255.975999999999,"",35,"",0,0,"","","","","","W","HIE","","",20230926,160849,0.04,29.77,"CIBM              AF80327","RBUSEL",300,"927NA"]
["KR","HSBC",2,0,0,null,"RBUSEL300938SH","RBU",{"$f":"VLOOKUP(H5773,[2]SSIFSEP!$H$2:$I$7593,2,0)","v":"은행간대여금"},"Interbank Loans","USD","BE1",1.1000000000000001,0,"1",173,{"$f":"VLOOKUP(K5773,[1]EXRATE!C$3:F$43,4,0)","v":1344.8},2326.5039999999999,"",35,"",0,0,"","","","","","W","HIE","","",20230926,160849,0.04,29.77,"CIBM              AF80327","RBUSEL",300,"938SH"]
["KR","HSBC",2,0,0,null,"RBUSEL300943MD","RBU",{"$f":"VLOOKUP(H5778,[2]SSIFSEP!$H$2:$I$7593,2,0)","v":"은행간대여금"},"Interbank Loans","USD","BK4",1.1000000000000001,0,"1",290,{"$f":"VLOOKUP(K5778,[1]EXRATE!C$3:F$43,4,0)","v":1344.8},3899.92,"",44,"",0,0,"","","","","","W","HIE","","",20230926,160849,0.02,40.29,"CIBM              AF80327","RBUSEL",300,"943MD"]
["KR","HSBC",2,0,0,null,"RBUSEL300966MD","RBU",{"$f":"VLOOKUP(H5788,[2]SSIFSEP!$H$2:$I$7593,2,0)","v":"은행간대여금"},"Interbank Loans","USD","BK4",1.1000000000000001,0,"1",1520,{"$f":"VLOOKUP(K5788,[1]EXRATE!C$3:F$43,4,0)","v":1344.8},20440.96,"",44,"",0,0,"","","","","","W","HIE","","",20230926,160849,0.02,40.29,"CIBM              AF80327","RBUSEL",300,"966MD"]
["KR","HSBC",2,0,0,null,"RBUSEL300976CB","RBU",{"$f":"VLOOKUP(H5793,[2]SSIFSEP!$H$2:$I$7593,2,0)","v":"은행간대여금"},"Interbank Loans","USD","BE1",1.1000000000000001,0,"1",317,{"$f":"VLOOKUP(K5793,[1]EXRATE!C$3:F$43,4,0)","v":1344.8},4263.0159999999996,"",35,"",0,0,"","","","","","W","HIE","","",20230926,160849,0.04,30.18,"CIBM              AF80327","RBUSEL",300,"976CB"]
["KR","HSBC",2,0,0,null,"RBUSEL300993SH","RBU",{"$f":"VLOOKUP(H5801,[2]SSIFSEP!$H$2:$I$7593,2,0)","v":"은행간대여금"},"Interbank Loans","USD","BE1",1.1000000000000001,0,"1",79,{"$f":"VLOOKUP(K5801,[1]EXRATE!C$3:F$43,4,0)","v":1344.8},1062.3920000000001,"",35,"",0,0,"","","","","","W","HIE","","",20230926,160849,0.04,29.77,"CIBM              AF80327","RBUSEL",300,"993SH"]
["KR","HSBC",2,0,0,null,"RBUSEL301003SH","RBU",{"$f":"VLOOKUP(H5809,[2]SSIFSEP!$H$2:$I$7593,2,0)","v":"은행간대여금"},"Interbank Loans","USD","BE1",1.1000000000000001,0,"1",371,{"$f":"VLOOKUP(K5809,[1]EXRATE!C$3:F$43,4,0)","v":1344.8},4989.2079999999996,"",35,"",0,0,"","","","","","W","HIE","","",20230926,160849,0.04,30.18,"CIBM              AF80327","RBUSEL",301,"003SH"]
["KR","HSBC",2,0,0,null,"RBUSEL301011MD","RBU",{"$f":"VLOOKUP(H5813,[2]SSIFSEP!$H$2:$I$7593,2,0)","v":"은행간대여금"},"Interbank Loans","USD","BK4",1.1000000000000001,0,"1",1574,{"$f":"VLOOKUP(K5813,[1]EXRATE!C$3:F$43,4,0)","v":1344.8},21167.151999999998,"",44,"",0,0,"","","","","","W","HIE","","",20230926,160849,0.02,40.29,"CIBM              AF80327","RBUSEL",301,"011MD"]
["KR","HSBC",2,0,0,null,"RBUSEL301026CB","RBU",{"$f":"VLOOKUP(H5821,[2]SSIFSEP!$H$2:$I$7593,2,0)","v":"은행간대여금"},"Interbank Loans","USD","BE1",1.1000000000000001,0,"1",2842,{"$f":"VLOOKUP(K5821,[1]EXRATE!C$3:F$43,4,0)","v":1344.8},38219.216,"",35,"",0,0,"","","","","","W","HIE","","",20230926,160849,0.04,30.07,"CIBM              AF80327","RBUSEL",301,"026CB"]
["KR","HSBC",2,0,0,null,"RBUSEL301031NA","RBU",{"$f":"VLOOKUP(H5826,[2]SSIFSEP!$H$2:$I$7593,2,0)","v":"은행간대여금"},"Interbank Loans","USD","BE1",1.1000000000000001,0,"1",98,{"$f":"VLOOKUP(K5826,[1]EXRATE!C$3:F$43,4,0)","v":1344.8},1317.904,"",35,"",0,0,"","","","","","W","HIE","","",20230926,160849,0.04,29.78,"CIBM              AF80327","RBUSEL",301,"031NA"]
["KR","HSBC",2,0,0,null,"RBUSEL301049SH","RBU",{"$f":"VLOOKUP(H5832,[2]SSIFSEP!$H$2:$I$7593,2,0)","v":"은행간대여금"},"Interbank Loans","USD","BE1",1.1000000000000001,0,"1",128,{"$f":"VLOOKUP(K5832,[1]EXRATE!C$3:F$43,4,0)","v":1344.8},1721.3440000000001,"",35,"",0,0,"","","","","","W","HIE","","",20230926,160849,0.04,29.87,"CIBM              AF80327","RBUSEL",301,"049SH"]
["KR","HSBC",2,0,0,null,"RBUSEL301073NA","RBU",{"$f":"VLOOKUP(H5841,[2]SSIFSEP!$H$2:$I$7593,2,0)","v":"은행간대여금"},"Interbank Loans","USD","BE1",1.1000000000000001,0,"1",31,{"$f":"VLOOKUP(K5841,[1]EXRATE!C$3:F$43,4,0)","v":1344.8},416.88799999999998,"",35,"",0,0,"","","","","","W","HIE","","",20230926,160849,0.04,29.97,"CIBM              AF80327","RBUSEL",301,"073NA"]
["KR","HSBC",2,0,0,null,"RBUSEL301082CB","RBU",{"$f":"VLOOKUP(H5846,[2]SSIFSEP!$H$2:$I$7593,2,0)","v":"은행간대여금"},"Interbank Loans","USD","BE1",1.1000000000000001,0,"1",384,{"$f":"VLOOKUP(K5846,[1]EXRATE!C$3:F$43,4,0)","v":1344.8},5164.0319999999992,"",35,"",0,0,"","","","","","W","HIE","","",20230926,160849,0.04,29.98,"CIBM              AF80327","RBUSEL",301,"082CB"]
["KR","HSBC",2,0,0,null,"RBUSEL301094KD","RBU",{"$f":"VLOOKUP(H5854,[2]SSIFSEP!$H$2:$I$7593,2,0)","v":"은행간대여금"},"Interbank Loans","USD","BK6",1.1000000000000001,0,"1",225,{"$f":"VLOOKUP(K5854,[1]EXRATE!C$3:F$43,4,0)","v":1344.8},3025.8,"",47,"",0,0,"","","","","","W","HIE","","",20230926,160849,0.04,29.69,"CIBM              AF80327","RBUSEL",301,"094KD"]
["KR","HSBC",2,0,0,null,"RBUSEL301116CB","RBU",{"$f":"VLOOKUP(H5861,[2]SSIFSEP!$H$2:$I$7593,2,0)","v":"은행간대여금"},"Interbank Loans","USD","BE1",1.1000000000000001,0,"1",195,{"$f":"VLOOKUP(K5861,[1]EXRATE!C$3:F$43,4,0)","v":1344.8},2622.36,"",35,"",0,0,"","","","","","W","HIE","","",20230926,160849,0.04,29.97,"CIBM              AF80327","RBUSEL",301,"116CB"]
["KR","HSBC",2,0,0,null,"RBUSEL301128SH","RBU",{"$f":"VLOOKUP(H5866,[2]SSIFSEP!$H$2:$I$7593,2,0)","v":"은행간대여금"},"Interbank Loans","CHF","BE1",1.1000000000000001,0,"1",84,{"$f":"VLOOKUP(K5866,[1]EXRATE!C$3:F$43,4,0)","v":1468.7636522498908},1233.7614678899083,"",28,"",0,0,"","","","","","W","HIE","","",20230926,160849,0.04,22.99,"CIBM              AF80327","RBUSEL",301,"128SH"]
["KR","HSBC",2,0,0,null,"RBUSEL301138SH","RBU",{"$f":"VLOOKUP(H5874,[2]SSIFSEP!$H$2:$I$7593,2,0)","v":"은행간대여금"},"Interbank Loans","CNY","BE1",1.1000000000000001,0,"1",612,{"$f":"VLOOKUP(K5874,[1]EXRATE!C$3:F$43,4,0)","v":184.26999873814515},1127.7323922774483,"",29,"",0,0,"","","","","","W","HIE","","",20230926,160849,0.04,24.385000000000002,"CIBM              AF80327","RBUSEL",301,"138SH"]
["KR","HSBC",2,0,0,null,"RBUSEL301147KE","RBU",{"$f":"VLOOKUP(H5879,[2]SSIFSEP!$H$2:$I$7593,2,0)","v":"은행간대여금"},"Interbank Loans","USD","BE1",1.1000000000000001,0,"1",987,{"$f":"VLOOKUP(K5879,[1]EXRATE!C$3:F$43,4,0)","v":1344.8},13273.175999999999,"",35,"",0,0,"","","","","","W","HIE","","",20230926,160849,0.04,29.77,"CIBM              AF80327","RBUSEL",301,"147KE"]
["KR","HSBC",2,0,0,null,"RBUSEL301164NA","RBU",{"$f":"VLOOKUP(H5886,[2]SSIFSEP!$H$2:$I$7593,2,0)","v":"은행간대여금"},"Interbank Loans","USD","BE1",1.1000000000000001,0,"1",122,{"$f":"VLOOKUP(K5886,[1]EXRATE!C$3:F$43,4,0)","v":1344.8},1640.6559999999999,"",35,"",0,0,"","","","","","W","HIE","","",20230926,160849,0.04,29.97,"CIBM              AF80327","RBUSEL",301,"164NA"]
["KR","HSBC",2,0,0,null,"RBUSEL301179MD","RBU",{"$f":"VLOOKUP(H5894,[2]SSIFSEP!$H$2:$I$7593,2,0)","v":"은행간대여금"},"Interbank Loans","USD","BK4",1.1000000000000001,0,"1",286,{"$f":"VLOOKUP(K5894,[1]EXRATE!C$3:F$43,4,0)","v":1344.8},3846.1279999999997,"",44,"",0,0,"","","","","","W","HIE","","",20230926,160849,0.02,40.29,"CIBM              AF80327","RBUSEL",301,"179MD"]
["KR","HSBC",2,0,0,null,"RBUSEL301189CB","RBU",{"$f":"VLOOKUP(H5899,[2]SSIFSEP!$H$2:$I$7593,2,0)","v":"은행간대여금"},"Interbank Loans","USD","BE1",1.1000000000000001,0,"1",5386,{"$f":"VLOOKUP(K5899,[1]EXRATE!C$3:F$43,4,0)","v":1344.8},72430.928,"",35,"",0,0,"","","","","","W","HIE","","",20230926,160849,0.04,30.07,"CIBM              AF80327","RBUSEL",301,"189CB"]
["KR","HSBC",2,0,0,null,"RBUSEL301205NA","RBU",{"$f":"VLOOKUP(H5907,[2]SSIFSEP!$H$2:$I$7593,2,0)","v":"은행간대여금"},"Interbank Loans","CNY","BE1",1.1000000000000001,0,"1",1193,{"$f":"VLOOKUP(K5907,[1]EXRATE!C$3:F$43,4,0)","v":184.26999873814515},2198.3410849460715,"",29,"",0,0,"","","","","","W","HIE","","",20230926,160849,0.04,24.175000000000001,"CIBM              AF80327","RBUSEL",301,"205NA"]
["KR","HSBC",2,0,0,null,"RBUSEL301217SH","RBU",{"$f":"VLOOKUP(H5915,[2]SSIFSEP!$H$2:$I$7593,2,0)","v":"은행간대여금"},"Interbank Loans","USD","BE1",1.1000000000000001,0,"1",476,{"$f":"VLOOKUP(K5915,[1]EXRATE!C$3:F$43,4,0)","v":1344.8},6401.2479999999996,"",35,"",0,0,"","","","","","W","HIE","","",20230926,160849,0.04,29.97,"CIBM              AF80327","RBUSEL",301,"217SH"]
["KR","HSBC",2,0,0,null,"RBUSEL301227KD","RBU",{"$f":"VLOOKUP(H5919,[2]SSIFSEP!$H$2:$I$7593,2,0)","v":"은행간대여금"},"Interbank Loans","USD","BK6",1.1000000000000001,0,"1",478,{"$f":"VLOOKUP(K5919,[1]EXRATE!C$3:F$43,4,0)","v":1344.8},6428.1440000000002,"",47,"",0,0,"","","","","","W","HIE","","",20230926,160849,0.04,29.78,"CIBM              AF80327","RBUSEL",301,"227KD"]
["KR","HSBC",2,0,0,null,"RBUSEL301236MD","RBU",{"$f":"VLOOKUP(H5927,[2]SSIFSEP!$H$2:$I$7593,2,0)","v":"은행간대여금"},"Interbank Loans","USD","BK4",1.1000000000000001,0,"1",257,{"$f":"VLOOKUP(K5927,[1]EXRATE!C$3:F$43,4,0)","v":1344.8},3456.136,"",44,"",0,0,"","","","","","W","HIE","","",20230926,160849,0.02,40.29,"CIBM              AF80327","RBUSEL",301,"236MD"]
["KR","HSBC",2,0,0,null,"RBUSEL301247CB","RBU",{"$f":"VLOOKUP(H5932,[2]SSIFSEP!$H$2:$I$7593,2,0)","v":"은행간대여금"},"Interbank Loans","USD","BE1",1.1000000000000001,0,"1",432,{"$f":"VLOOKUP(K5932,[1]EXRATE!C$3:F$43,4,0)","v":1344.8},5809.5360000000001,"",35,"",0,0,"","","","","","W","HIE","","",20230926,160849,0.04,30.07,"CIBM              AF80327","RBUSEL",301,"247CB"]
["KR","HSBC",2,0,0,null,"RBUSEL301277KE","RBU",{"$f":"VLOOKUP(H5940,[2]SSIFSEP!$H$2:$I$7593,2,0)","v":"은행간대여금"},"Interbank Loans","EUR","BE1",1.1000000000000001,0,"1",247,{"$f":"VLOOKUP(K5940,[1]EXRATE!C$3:F$43,4,0)","v":1421.7225599999999},3511.6547231999998,"",30,"",0,0,"","","","","","W","HIE","","",20230926,160849,0.04,27.094999999999999,"CIBM              AF80327","RBUSEL",301,"277KE"]
["KR","HSBC",2,0,0,null,"RBUSEL301293EI","RBU",{"$f":"VLOOKUP(H5947,[2]SSIFSEP!$H$2:$I$7593,2,0)","v":"은행간대여금"},"Interbank Loans","USD","C15",1.1000000000000001,0,"1",11,{"$f":"VLOOKUP(K5947,[1]EXRATE!C$3:F$43,4,0)","v":1344.8},147.928,"",138,"",0,0,"","","","","","W","HIE","","",20230926,160849,0.02,40.29,"CIBM              AI80182","RBUSEL",301,"293EI"]
["KR","HSBC",2,0,0,null,"RBUSEL301307CB","RBU",{"$f":"VLOOKUP(H5952,[2]SSIFSEP!$H$2:$I$7593,2,0)","v":"은행간대여금"},"Interbank Loans","USD","BE1",1.1000000000000001,0,"1",351,{"$f":"VLOOKUP(K5952,[1]EXRATE!C$3:F$43,4,0)","v":1344.8},4720.2479999999996,"",35,"",0,0,"","","","","","W","HIE","","",20230926,160849,0.04,30.58,"CIBM              AF80327","RBUSEL",301,"307CB"]
["KR","HSBC",2,0,0,null,"RBUSEL301328KE","RBU",{"$f":"VLOOKUP(H5960,[2]SSIFSEP!$H$2:$I$7593,2,0)","v":"은행간대여금"},"Interbank Loans","USD","BE1",1.1000000000000001,0,"1",3889,{"$f":"VLOOKUP(K5960,[1]EXRATE!C$3:F$43,4,0)","v":1344.8},52299.272000000004,"",35,"",0,0,"","","","","","W","HIE","","",20230926,160849,0.04,29.97,"CIBM              AF80327","RBUSEL",301,"328KE"]
["KR","HSBC",2,0,0,null,"RBUSEL301341SH","RBU",{"$f":"VLOOKUP(H5969,[2]SSIFSEP!$H$2:$I$7593,2,0)","v":"은행간대여금"},"Interbank Loans","USD","BE1",1.1000000000000001,0,"1",1158,{"$f":"VLOOKUP(K5969,[1]EXRATE!C$3:F$43,4,0)","v":1344.8},15572.784,"",35,"",0,0,"","","","","","W","HIE","","",20230926,160849,0.04,29.97,"CIBM              AF80327","RBUSEL",301,"341SH"]
["KR","HSBC",2,0,0,null,"RBUSEL301344MD","RBU",{"$f":"VLOOKUP(H5972,[2]SSIFSEP!$H$2:$I$7593,2,0)","v":"은행간대여금"},"Interbank Loans","USD","BK4",1.1000000000000001,0,"1",1085,{"$f":"VLOOKUP(K5972,[1]EXRATE!C$3:F$43,4,0)","v":1344.8},14591.08,"",44,"",0,0,"","","","","","W","HIE","","",20230926,160849,0.02,40.29,"CIBM              AF80327","RBUSEL",301,"344MD"]
["KR","HSBC",2,0,0,null,"RBUSEL301360MD","RBU",{"$f":"VLOOKUP(H5980,[2]SSIFSEP!$H$2:$I$7593,2,0)","v":"은행간대여금"},"Interbank Loans","SGD","BK4",1.1000000000000001,0,"1",77,{"$f":"VLOOKUP(K5980,[1]EXRATE!C$3:F$43,4,0)","v":982.07178588381339},756.19527513053629,"",43,"",0,0,"","","","","","W","HIE","","",20230926,160849,0.02,40.29,"CIBM              AF80327","RBUSEL",301,"360MD"]
["KR","HSBC",2,0,0,null,"RBUSEL301392KE","RBU",{"$f":"VLOOKUP(H5992,[2]SSIFSEP!$H$2:$I$7593,2,0)","v":"은행간대여금"},"Interbank Loans","USD","BE1",1.1000000000000001,0,"1",1338,{"$f":"VLOOKUP(K5992,[1]EXRATE!C$3:F$43,4,0)","v":1344.8},17993.423999999999,"",35,"",0,0,"","","","","","W","HIE","","",20230926,160849,0.04,29.98,"CIBM              AF80327","RBUSEL",301,"392KE"]
["KR","HSBC",2,0,0,null,"RBUSEL301394CB","RBU",{"$f":"VLOOKUP(H5994,[2]SSIFSEP!$H$2:$I$7593,2,0)","v":"은행간대여금"},"Interbank Loans","USD","BE1",1.1000000000000001,0,"1",4160,{"$f":"VLOOKUP(K5994,[1]EXRATE!C$3:F$43,4,0)","v":1344.8},55943.68,"",35,"",0,0,"","","","","","W","HIE","","",20230926,160849,0.04,29.97,"CIBM              AF80327","RBUSEL",301,"394CB"]
["KR","HSBC",2,0,0,null,"RBUSEL301435NA","RBU",{"$f":"VLOOKUP(H6004,[2]SSIFSEP!$H$2:$I$7593,2,0)","v":"은행간대여금"},"Interbank Loans","USD","BE1",1.1000000000000001,0,"1",161,{"$f":"VLOOKUP(K6004,[1]EXRATE!C$3:F$43,4,0)","v":1344.8},2165.1279999999997,"",35,"",0,0,"","","","","","W","HIE","","",20230926,160849,0.04,30.164999999999999,"CIBM              AF80327","RBUSEL",301,"435NA"]
["KR","HSBC",2,0,0,null,"RBUSEL350077CT","RBU",{"$f":"VLOOKUP(H6012,[2]SSIFSEP!$H$2:$I$7593,2,0)","v":"은행간대여금"},"Interbank Loans","USD","BE1",1.1000000000000001,0,"1",3804,{"$f":"VLOOKUP(K6012,[1]EXRATE!C$3:F$43,4,0)","v":1344.8},51156.192000000003,"",35,"",0,0,"","","","","","W","HIE","","",20230926,160849,0.04,29.07,"CIBM              AF80327","RBUSEL",350,"077CT"]
["KR","HSBC",2,0,0,null,"RBUSEL350078CT","RBU",{"$f":"VLOOKUP(H6013,[2]SSIFSEP!$H$2:$I$7593,2,0)","v":"은행간대여금"},"Interbank Loans","USD","BE1",1.1000000000000001,0,"1",3354,{"$f":"VLOOKUP(K6013,[1]EXRATE!C$3:F$43,4,0)","v":1344.8},45104.592000000004,"",35,"",0,0,"","","","","","W","HIE","","",20230926,160849,0.04,29.07,"CIBM              AF80327","RBUSEL",350,"078CT"]
["KR","HSBC",2,0,0,null,"RBUSEL350212SH","RBU",{"$f":"VLOOKUP(H6023,[2]SSIFSEP!$H$2:$I$7593,2,0)","v":"은행간대여금"},"Interbank Loans","USD","BE1",1.1000000000000001,0,"1",1344,{"$f":"VLOOKUP(K6023,[1]EXRATE!C$3:F$43,4,0)","v":1344.8},18074.112000000001,"",35,"",0,0,"","","","","","W","HIE","","",20230926,160849,0.04,28.97,"CIBM              AF80327","RBUSEL",350,"212SH"]
["KR","HSBC",2,0,0,null,"RBUSEL350266KE","RBU",{"$f":"VLOOKUP(H6032,[2]SSIFSEP!$H$2:$I$7593,2,0)","v":"은행간대여금"},"Interbank Loans","USD","BE1",1.1000000000000001,0,"1",126,{"$f":"VLOOKUP(K6032,[1]EXRATE!C$3:F$43,4,0)","v":1344.8},1694.4479999999999,"",35,"",0,0,"","","","","","W","HIE","","",20230926,160849,0.04,28.87,"CIBM              AF80327","RBUSEL",350,"266KE"]
["KR","HSBC",2,0,0,null,"RBUSEL350272CT","RBU",{"$f":"VLOOKUP(H6033,[2]SSIFSEP!$H$2:$I$7593,2,0)","v":"은행간대여금"},"Interbank Loans","USD","BE1",1.1000000000000001,0,"1",4915,{"$f":"VLOOKUP(K6033,[1]EXRATE!C$3:F$43,4,0)","v":1344.8},66096.92,"",35,"",0,0,"","","","","","W","HIE","","",20230926,160849,0.04,29.17,"CIBM              AF80327","RBUSEL",350,"272CT"]
["KR","HSBC",2,0,0,null,"RBUSEL350396CT","RBU",{"$f":"VLOOKUP(H6045,[2]SSIFSEP!$H$2:$I$7593,2,0)","v":"은행간대여금"},"Interbank Loans","USD","BE1",1.1000000000000001,0,"1",1124,{"$f":"VLOOKUP(K6045,[1]EXRATE!C$3:F$43,4,0)","v":1344.8},15115.552,"",35,"",0,0,"","","","","","W","HIE","","",20230926,160849,0.04,29.07,"CIBM              AF80327","RBUSEL",350,"396CT"]
["KR","HSBC",2,0,0,null,"RBUSEL350420CT","RBU",{"$f":"VLOOKUP(H6048,[2]SSIFSEP!$H$2:$I$7593,2,0)","v":"은행간대여금"},"Interbank Loans","USD","BE1",1.1000000000000001,0,"1",333,{"$f":"VLOOKUP(K6048,[1]EXRATE!C$3:F$43,4,0)","v":1344.8},4478.1839999999993,"",35,"",0,0,"","","","","","W","HIE","","",20230926,160849,0.04,29.17,"CIBM              AF80327","RBUSEL",350,"420CT"]
["KR","HSBC",2,0,0,null,"RBUSEL350461SH","RBU",{"$f":"VLOOKUP(H6057,[2]SSIFSEP!$H$2:$I$7593,2,0)","v":"은행간대여금"},"Interbank Loans","USD","BE1",1.1000000000000001,0,"1",5449,{"$f":"VLOOKUP(K6057,[1]EXRATE!C$3:F$43,4,0)","v":1344.8},73278.152000000002,"",35,"",0,0,"","","","","","W","HIE","","",20230926,160849,0.04,29.17,"CIBM              AF80327","RBUSEL",350,"461SH"]
["KR","HSBC",2,0,0,null,"RBUSEL350518CB","RBU",{"$f":"VLOOKUP(H6065,[2]SSIFSEP!$H$2:$I$7593,2,0)","v":"은행간대여금"},"Interbank Loans","USD","BE1",1.1000000000000001,0,"1",52,{"$f":"VLOOKUP(K6065,[1]EXRATE!C$3:F$43,4,0)","v":1344.8},699.29599999999994,"",35,"",0,0,"","","","","","W","HIE","","",20230926,160849,0.04,29.17,"CIBM              AF80327","RBUSEL",350,"518CB"]
["KR","HSBC",2,0,0,null,"RBUSEL350541CT","RBU",{"$f":"VLOOKUP(H6069,[2]SSIFSEP!$H$2:$I$7593,2,0)","v":"은행간대여금"},"Interbank Loans","USD","BE1",1.1000000000000001,0,"1",18,{"$f":"VLOOKUP(K6069,[1]EXRATE!C$3:F$43,4,0)","v":1344.8},242.06399999999996,"",35,"",0,0,"","","","","","W","HIE","","",20230926,160849,0.04,28.47,"CIBM              AF80327","RBUSEL",350,"541CT"]
["KR","HSBC",2,0,0,null,"RBUSEL350580CT","RBU",{"$f":"VLOOKUP(H6077,[2]SSIFSEP!$H$2:$I$7593,2,0)","v":"은행간대여금"},"Interbank Loans","USD","BE1",1.1000000000000001,0,"1",393,{"$f":"VLOOKUP(K6077,[1]EXRATE!C$3:F$43,4,0)","v":1344.8},5285.0640000000003,"",35,"",0,0,"","","","","","W","HIE","","",20230926,160849,0.04,29.17,"CIBM              AF80327","RBUSEL",350,"580CT"]
["KR","HSBC",2,0,0,null,"RBUSEL350613CT","RBU",{"$f":"VLOOKUP(H6085,[2]SSIFSEP!$H$2:$I$7593,2,0)","v":"은행간대여금"},"Interbank Loans","USD","BE1",1.1000000000000001,0,"1",3931,{"$f":"VLOOKUP(K6085,[1]EXRATE!C$3:F$43,4,0)","v":1344.8},52864.087999999996,"",35,"",0,0,"","","","","","W","HIE","","",20230926,160849,0.04,28.97,"CIBM              AF80327","RBUSEL",350,"613CT"]
["KR","HSBC",2,0,0,null,"RBUSEL350645CT","RBU",{"$f":"VLOOKUP(H6090,[2]SSIFSEP!$H$2:$I$7593,2,0)","v":"은행간대여금"},"Interbank Loans","USD","BE1",1.1000000000000001,0,"1",1627,{"$f":"VLOOKUP(K6090,[1]EXRATE!C$3:F$43,4,0)","v":1344.8},21879.896000000001,"",35,"",0,0,"","","","","","W","HIE","","",20230926,160849,0.04,28.97,"CIBM              AF80327","RBUSEL",350,"645CT"]
["KR","HSBC",2,0,0,null,"RBUSEL350712CT","RBU",{"$f":"VLOOKUP(H6098,[2]SSIFSEP!$H$2:$I$7593,2,0)","v":"은행간대여금"},"Interbank Loans","USD","BE1",1.1000000000000001,0,"1",886,{"$f":"VLOOKUP(K6098,[1]EXRATE!C$3:F$43,4,0)","v":1344.8},11914.928,"",35,"",0,0,"","","","","","W","HIE","","",20230926,160849,0.04,29.47,"CIBM              AF80327","RBUSEL",350,"712CT"]
["KR","HSBC",2,0,0,null,"RBUSEL350734SH","RBU",{"$f":"VLOOKUP(H6105,[2]SSIFSEP!$H$2:$I$7593,2,0)","v":"은행간대여금"},"Interbank Loans","USD","BE1",1.1000000000000001,0,"1",2725,{"$f":"VLOOKUP(K6105,[1]EXRATE!C$3:F$43,4,0)","v":1344.8},36645.800000000003,"",35,"",0,0,"","","","","","W","HIE","","",20230926,160849,0.04,29.49,"CIBM              AF80327","RBUSEL",350,"734SH"]
["KR","HSBC",2,0,0,null,"RBUSEL350760CT","RBU",{"$f":"VLOOKUP(H6110,[2]SSIFSEP!$H$2:$I$7593,2,0)","v":"은행간대여금"},"Interbank Loans","USD","BE1",1.1000000000000001,0,"1",956,{"$f":"VLOOKUP(K6110,[1]EXRATE!C$3:F$43,4,0)","v":1344.8},12856.288,"",35,"",0,0,"","","","","","W","HIE","","",20230926,160849,0.04,29.37,"CIBM              AF80327","RBUSEL",350,"760CT"]
["KR","HSBC",2,0,0,null,"RBUSEL350857CT","RBU",{"$f":"VLOOKUP(H6118,[2]SSIFSEP!$H$2:$I$7593,2,0)","v":"은행간대여금"},"Interbank Loans","USD","BE1",1.1000000000000001,0,"1",269,{"$f":"VLOOKUP(K6118,[1]EXRATE!C$3:F$43,4,0)","v":1344.8},3617.5120000000002,"",35,"",0,0,"","","","","","W","HIE","","",20230926,160849,0.04,29.58,"CIBM              AF80327","RBUSEL",350,"857CT"]
["KR","HSBC",2,0,0,null,"RBUSEL350882CT","RBU",{"$f":"VLOOKUP(H6123,[2]SSIFSEP!$H$2:$I$7593,2,0)","v":"은행간대여금"},"Interbank Loans","USD","BE1",1.1000000000000001,0,"1",2043,{"$f":"VLOOKUP(K6123,[1]EXRATE!C$3:F$43,4,0)","v":1344.8},27474.263999999999,"",35,"",0,0,"","","","","","W","HIE","","",20230926,160849,0.04,29.77,"CIBM              AF80327","RBUSEL",350,"882CT"]
["KR","HSBC",2,0,0,null,"RBUSEL350907CT","RBU",{"$f":"VLOOKUP(H6130,[2]SSIFSEP!$H$2:$I$7593,2,0)","v":"은행간대여금"},"Interbank Loans","USD","BE1",1.1000000000000001,0,"1",373,{"$f":"VLOOKUP(K6130,[1]EXRATE!C$3:F$43,4,0)","v":1344.8},5016.1039999999994,"",35,"",0,0,"","","","","","W","HIE","","",20230926,160849,0.04,29.58,"CIBM              AF80327","RBUSEL",350,"907CT"]
["KR","HSBC",2,0,0,null,"RBUSEL350999CT","RBU",{"$f":"VLOOKUP(H6138,[2]SSIFSEP!$H$2:$I$7593,2,0)","v":"은행간대여금"},"Interbank Loans","USD","BE1",1.1000000000000001,0,"1",1890,{"$f":"VLOOKUP(K6138,[1]EXRATE!C$3:F$43,4,0)","v":1344.8},25416.720000000001,"",35,"",0,0,"","","","","","W","HIE","","",20230926,160849,0.04,29.97,"CIBM              AF80327","RBUSEL",350,"999CT"]
["KR","HSBC",2,0,0,null,"RBUSEL351039NA","RBU",{"$f":"VLOOKUP(H6143,[2]SSIFSEP!$H$2:$I$7593,2,0)","v":"은행간대여금"},"Interbank Loans","USD","BE1",1.1000000000000001,0,"1",21574,{"$f":"VLOOKUP(K6143,[1]EXRATE!C$3:F$43,4,0)","v":1344.8},290127.152,"",35,"",0,0,"","","","","","W","HIE","","",20230926,160849,0.04,30.07,"CIBM              AF80327","RBUSEL",351,"039NA"]
["KR","HSBC",2,0,0,null,"RBUSEL351119KE","RBU",{"$f":"VLOOKUP(H6152,[2]SSIFSEP!$H$2:$I$7593,2,0)","v":"은행간대여금"},"Interbank Loans","USD","BE1",1.1000000000000001,0,"1",293,{"$f":"VLOOKUP(K6152,[1]EXRATE!C$3:F$43,4,0)","v":1344.8},3940.2639999999997,"",35,"",0,0,"","","","","","W","HIE","","",20230926,160849,0.04,29.57,"CIBM              AF80327","RBUSEL",351,"119KE"]
["KR","HSBC",2,0,0,null,"RBUSEL351151CT","RBU",{"$f":"VLOOKUP(H6158,[2]SSIFSEP!$H$2:$I$7593,2,0)","v":"은행간대여금"},"Interbank Loans","USD","BE1",1.1000000000000001,0,"1",2479,{"$f":"VLOOKUP(K6158,[1]EXRATE!C$3:F$43,4,0)","v":1344.8},33337.591999999997,"",35,"",0,0,"","","","","","W","HIE","","",20230926,160849,0.04,30.17,"CIBM              AF80327","RBUSEL",351,"151CT"]
["KR","HSBC",2,0,0,null,"RBUSEL351166KD","RBU",{"$f":"VLOOKUP(H6163,[2]SSIFSEP!$H$2:$I$7593,2,0)","v":"은행간대여금"},"Interbank Loans","USD","BK6",1.1000000000000001,0,"1",4385,{"$f":"VLOOKUP(K6163,[1]EXRATE!C$3:F$43,4,0)","v":1344.8},58969.48,"",47,"",0,0,"","","","","","W","HIE","","",20230926,160849,0.04,29.88,"CIBM              AF80327","RBUSEL",351,"166KD"]
["KR","HSBC",2,0,0,null,"RBUSEL351194CT","RBU",{"$f":"VLOOKUP(H6171,[2]SSIFSEP!$H$2:$I$7593,2,0)","v":"은행간대여금"},"Interbank Loans","USD","BE1",1.1000000000000001,0,"1",1406,{"$f":"VLOOKUP(K6171,[1]EXRATE!C$3:F$43,4,0)","v":1344.8},18907.887999999999,"",35,"",0,0,"","","","","","W","HIE","","",20230926,160849,0.04,29.97,"CIBM              AF80327","RBUSEL",351,"194CT"]
["KR","HSBC",2,0,0,null,"RBUSEL351223NA","RBU",{"$f":"VLOOKUP(H6177,[2]SSIFSEP!$H$2:$I$7593,2,0)","v":"은행간대여금"},"Interbank Loans","USD","BE1",1.1000000000000001,0,"1",48,{"$f":"VLOOKUP(K6177,[1]EXRATE!C$3:F$43,4,0)","v":1344.8},645.50399999999991,"",35,"",0,0,"","","","","","W","HIE","","",20230926,160849,0.04,30.18,"CIBM              AF80327","RBUSEL",351,"223NA"]
["KR","HSBC",2,0,0,null,"RBUSEL351249CT","RBU",{"$f":"VLOOKUP(H6183,[2]SSIFSEP!$H$2:$I$7593,2,0)","v":"은행간대여금"},"Interbank Loans","USD","BE1",1.1000000000000001,0,"1",5030,{"$f":"VLOOKUP(K6183,[1]EXRATE!C$3:F$43,4,0)","v":1344.8},67643.44,"",35,"",0,0,"","","","","","W","HIE","","",20230926,160849,0.04,30.364999999999998,"CIBM              AF80327","RBUSEL",351,"249CT"]
["KR","HSBC",2,0,0,null,"RBUSEL351267KE","RBU",{"$f":"VLOOKUP(H6191,[2]SSIFSEP!$H$2:$I$7593,2,0)","v":"은행간대여금"},"Interbank Loans","USD","BE1",1.1000000000000001,0,"1",6633,{"$f":"VLOOKUP(K6191,[1]EXRATE!C$3:F$43,4,0)","v":1344.8},89200.584000000003,"",35,"",0,0,"","","","","","W","HIE","","",20230926,160849,0.04,30.27,"CIBM              AF80327","RBUSEL",351,"267KE"]
["KR","HSBC",2,0,0,null,"RBUSEL351290KE","RBU",{"$f":"VLOOKUP(H6196,[2]SSIFSEP!$H$2:$I$7593,2,0)","v":"은행간대여금"},"Interbank Loans","USD","BE1",1.1000000000000001,0,"1",407,{"$f":"VLOOKUP(K6196,[1]EXRATE!C$3:F$43,4,0)","v":1344.8},5473.3359999999993,"",35,"",0,0,"","","","","","W","HIE","","",20230926,160849,0.04,29.87,"CIBM              AF80327","RBUSEL",351,"290KE"]
["KR","HSBC",2,0,0,null,"RBUSEL351312CB","RBU",{"$f":"VLOOKUP(H6206,[2]SSIFSEP!$H$2:$I$7593,2,0)","v":"은행간대여금"},"Interbank Loans","USD","BE1",1.1000000000000001,0,"1",72,{"$f":"VLOOKUP(K6206,[1]EXRATE!C$3:F$43,4,0)","v":1344.8},968.25599999999986,"",35,"",0,0,"","","","","","W","HIE","","",20230926,160849,0.04,29.67,"CIBM              AF80327","RBUSEL",351,"312CB"]
["KR","HSBC",2,0,0,null,"RBUSEL351330KE","RBU",{"$f":"VLOOKUP(H6211,[2]SSIFSEP!$H$2:$I$7593,2,0)","v":"은행간대여금"},"Interbank Loans","USD","BE1",1.1000000000000001,0,"1",428,{"$f":"VLOOKUP(K6211,[1]EXRATE!C$3:F$43,4,0)","v":1344.8},5755.7440000000006,"",35,"",0,0,"","","","","","W","HIE","","",20230926,160849,0.04,28.57,"CIBM              AF80327","RBUSEL",351,"330KE"]
["KR","HSBC",2,0,0,null,"RBUSEL351353NA","RBU",{"$f":"VLOOKUP(H6216,[2]SSIFSEP!$H$2:$I$7593,2,0)","v":"은행간대여금"},"Interbank Loans","USD","BE1",1.1000000000000001,0,"1",17,{"$f":"VLOOKUP(K6216,[1]EXRATE!C$3:F$43,4,0)","v":1344.8},228.61599999999999,"",35,"",0,0,"","","","","","W","HIE","","",20230926,160849,0.04,29.07,"CIBM              AF80327","RBUSEL",351,"353NA"]
["KR","HSBC",2,0,0,null,"RBUSEL351389SH","RBU",{"$f":"VLOOKUP(H6224,[2]SSIFSEP!$H$2:$I$7593,2,0)","v":"은행간대여금"},"Interbank Loans","USD","BE1",1.1000000000000001,0,"1",2752,{"$f":"VLOOKUP(K6224,[1]EXRATE!C$3:F$43,4,0)","v":1344.8},37008.896000000001,"",35,"",0,0,"","","","","","W","HIE","","",20230926,160849,0.04,27.87,"CIBM              AF80327","RBUSEL",351,"389SH"]
["KR","HSBC",2,0,0,null,"RBUSEL351409SH","RBU",{"$f":"VLOOKUP(H6229,[2]SSIFSEP!$H$2:$I$7593,2,0)","v":"은행간대여금"},"Interbank Loans","USD","BE1",1.1000000000000001,0,"1",25,{"$f":"VLOOKUP(K6229,[1]EXRATE!C$3:F$43,4,0)","v":1344.8},336.2,"",35,"",0,0,"","","","","","W","HIE","","",20230926,160849,0.04,28.67,"CIBM              AF80327","RBUSEL",351,"409SH"]
["KR","HSBC",2,0,0,null,"RBUSEL351430CT","RBU",{"$f":"VLOOKUP(H6236,[2]SSIFSEP!$H$2:$I$7593,2,0)","v":"은행간대여금"},"Interbank Loans","USD","BE1",1.1000000000000001,0,"1",223,{"$f":"VLOOKUP(K6236,[1]EXRATE!C$3:F$43,4,0)","v":1344.8},2998.9039999999995,"",35,"",0,0,"","","","","","W","HIE","","",20230926,160849,0.04,28.47,"CIBM              AF80327","RBUSEL",351,"430CT"]
["KR","HSBC",2,0,0,null,"RBUSEL351473KE","RBU",{"$f":"VLOOKUP(H6244,[2]SSIFSEP!$H$2:$I$7593,2,0)","v":"은행간대여금"},"Interbank Loans","USD","BE1",1.1000000000000001,0,"1",262,{"$f":"VLOOKUP(K6244,[1]EXRATE!C$3:F$43,4,0)","v":1344.8},3523.3759999999997,"",35,"",0,0,"","","","","","W","HIE","","",20230926,160849,0.04,28.87,"CIBM              AF80327","RBUSEL",351,"473KE"]
["KR","HSBC",2,0,0,null,"RBUSEL351487NA","RBU",{"$f":"VLOOKUP(H6249,[2]SSIFSEP!$H$2:$I$7593,2,0)","v":"은행간대여금"},"Interbank Loans","USD","BE1",1.1000000000000001,0,"1",14,{"$f":"VLOOKUP(K6249,[1]EXRATE!C$3:F$43,4,0)","v":1344.8},188.27200000000002,"",35,"",0,0,"","","","","","W","HIE","","",20230926,160849,0.04,29.07,"CIBM              AF80327","RBUSEL",351,"487NA"]
["KR","HSBC",2,0,0,null,"RBUSEL351542CT","RBU",{"$f":"VLOOKUP(H6260,[2]SSIFSEP!$H$2:$I$7593,2,0)","v":"은행간대여금"},"Interbank Loans","USD","BE1",1.1000000000000001,0,"1",462,{"$f":"VLOOKUP(K6260,[1]EXRATE!C$3:F$43,4,0)","v":1344.8},6212.9759999999997,"",35,"",0,0,"","","","","","W","HIE","","",20230926,160849,0.04,28.57,"CIBM              AF80327","RBUSEL",351,"542CT"]
["KR","HSBC",2,0,0,null,"RBUSEL351557SH","RBU",{"$f":"VLOOKUP(H6264,[2]SSIFSEP!$H$2:$I$7593,2,0)","v":"은행간대여금"},"Interbank Loans","USD","BE1",1.1000000000000001,0,"1",1,{"$f":"VLOOKUP(K6264,[1]EXRATE!C$3:F$43,4,0)","v":1344.8},13.448,"",35,"",0,0,"","","","","","W","HIE","","",20230926,160849,0.04,28.495000000000001,"CIBM              AF80327","RBUSEL",351,"557SH"]
["KR","HSBC",2,0,0,null,"RBUSEL351575CB","RBU",{"$f":"VLOOKUP(H6269,[2]SSIFSEP!$H$2:$I$7593,2,0)","v":"은행간대여금"},"Interbank Loans","USD","BE1",1.1000000000000001,0,"1",205,{"$f":"VLOOKUP(K6269,[1]EXRATE!C$3:F$43,4,0)","v":1344.8},2756.84,"",35,"",0,0,"","","","","","W","HIE","","",20230926,160849,0.04,28.795000000000002,"CIBM              AF80327","RBUSEL",351,"575CB"]
["KR","HSBC",2,0,0,null,"RBUSEL351592KE","RBU",{"$f":"VLOOKUP(H6277,[2]SSIFSEP!$H$2:$I$7593,2,0)","v":"은행간대여금"},"Interbank Loans","USD","BE1",1.1000000000000001,0,"1",19295,{"$f":"VLOOKUP(K6277,[1]EXRATE!C$3:F$43,4,0)","v":1344.8},259479.16,"",35,"",0,0,"","","","","","W","HIE","","",20230926,160849,0.04,28.67,"CIBM              AF80327","RBUSEL",351,"592KE"]
["KR","HSBC",2,0,0,null,"RBUSEL351620KE","RBU",{"$f":"VLOOKUP(H6283,[2]SSIFSEP!$H$2:$I$7593,2,0)","v":"은행간대여금"},"Interbank Loans","USD","BE1",1.1000000000000001,0,"1",374,{"$f":"VLOOKUP(K6283,[1]EXRATE!C$3:F$43,4,0)","v":1344.8},5029.5519999999997,"",35,"",0,0,"","","","","","W","HIE","","",20230926,160849,0.04,28.87,"CIBM              AF80327","RBUSEL",351,"620KE"]
["KR","HSBC",2,0,0,null,"RBUSEL351634CT","RBU",{"$f":"VLOOKUP(H6289,[2]SSIFSEP!$H$2:$I$7593,2,0)","v":"은행간대여금"},"Interbank Loans","USD","BE1",1.1000000000000001,0,"1",1550,{"$f":"VLOOKUP(K6289,[1]EXRATE!C$3:F$43,4,0)","v":1344.8},20844.400000000001,"",35,"",0,0,"","","","","","W","HIE","","",20230926,160849,0.04,28.594999999999999,"CIBM              AF80327","RBUSEL",351,"634CT"]
["KR","HSBC",2,0,0,null,"RBUSEL351660KE","RBU",{"$f":"VLOOKUP(H6297,[2]SSIFSEP!$H$2:$I$7593,2,0)","v":"은행간대여금"},"Interbank Loans","USD","BE1",1.1000000000000001,0,"1",4360,{"$f":"VLOOKUP(K6297,[1]EXRATE!C$3:F$43,4,0)","v":1344.8},58633.279999999999,"",35,"",0,0,"","","","","","W","HIE","","",20230926,160849,0.04,28.77,"CIBM              AF80327","RBUSEL",351,"660KE"]
["KR","HSBC",2,0,0,null,"RBUSEL351710CB","RBU",{"$f":"VLOOKUP(H6309,[2]SSIFSEP!$H$2:$I$7593,2,0)","v":"은행간대여금"},"Interbank Loans","USD","BE1",1.1000000000000001,0,"1",223,{"$f":"VLOOKUP(K6309,[1]EXRATE!C$3:F$43,4,0)","v":1344.8},2998.9039999999995,"",35,"",0,0,"","","","","","W","HIE","","",20230926,160849,0.04,29.07,"CIBM              AF80327","RBUSEL",351,"710CB"]
["KR","HSBC",2,0,0,null,"RBUSEL351720KE","RBU",{"$f":"VLOOKUP(H6314,[2]SSIFSEP!$H$2:$I$7593,2,0)","v":"은행간대여금"},"Interbank Loans","USD","BE1",1.1000000000000001,0,"1",52852,{"$f":"VLOOKUP(K6314,[1]EXRATE!C$3:F$43,4,0)","v":1344.8},710753.696,"",35,"",0,0,"","","","","","W","HIE","","",20230926,160849,0.04,28.594999999999999,"CIBM              AF80327","RBUSEL",351,"720KE"]
["KR","HSBC",2,0,0,null,"RBUSEL351724CB","RBU",{"$f":"VLOOKUP(H6317,[2]SSIFSEP!$H$2:$I$7593,2,0)","v":"은행간대여금"},"Interbank Loans","USD","BE1",1.1000000000000001,0,"1",28,{"$f":"VLOOKUP(K6317,[1]EXRATE!C$3:F$43,4,0)","v":1344.8},376.54400000000004,"",35,"",0,0,"","","","","","W","HIE","","",20230926,160849,0.04,28.984999999999999,"CIBM              AF80327","RBUSEL",351,"724CB"]
["KR","HSBC",2,0,0,null,"RBUSEL351775CB","RBU",{"$f":"VLOOKUP(H6329,[2]SSIFSEP!$H$2:$I$7593,2,0)","v":"은행간대여금"},"Interbank Loans","USD","BE1",1.1000000000000001,0,"1",319,{"$f":"VLOOKUP(K6329,[1]EXRATE!C$3:F$43,4,0)","v":1344.8},4289.9120000000003,"",35,"",0,0,"","","","","","W","HIE","","",20230926,160849,0.04,29.87,"CIBM              AF80327","RBUSEL",351,"775CB"]
["KR","HSBC",2,0,0,null,"RBUSEL351783CT","RBU",{"$f":"VLOOKUP(H6330,[2]SSIFSEP!$H$2:$I$7593,2,0)","v":"은행간대여금"},"Interbank Loans","USD","BE1",1.1000000000000001,0,"1",1323,{"$f":"VLOOKUP(K6330,[1]EXRATE!C$3:F$43,4,0)","v":1344.8},17791.703999999998,"",35,"",0,0,"","","","","","W","HIE","","",20230926,160849,0.04,28.37,"CIBM              AF80327","RBUSEL",351,"783CT"]
["KR","HSBC",2,0,0,null,"RBUSEL351810KE","RBU",{"$f":"VLOOKUP(H6337,[2]SSIFSEP!$H$2:$I$7593,2,0)","v":"은행간대여금"},"Interbank Loans","USD","BE1",1.1000000000000001,0,"1",19,{"$f":"VLOOKUP(K6337,[1]EXRATE!C$3:F$43,4,0)","v":1344.8},255.512,"",35,"",0,0,"","","","","","W","HIE","","",20230926,160849,0.04,29.37,"CIBM              AF80327","RBUSEL",351,"810KE"]
["KR","HSBC",2,0,0,null,"RBUSEL351840CT","RBU",{"$f":"VLOOKUP(H6349,[2]SSIFSEP!$H$2:$I$7593,2,0)","v":"은행간대여금"},"Interbank Loans","USD","BE1",1.1000000000000001,0,"1",40,{"$f":"VLOOKUP(K6349,[1]EXRATE!C$3:F$43,4,0)","v":1344.8},537.91999999999996,"",35,"",0,0,"","","","","","W","HIE","","",20230926,160849,0.04,29.07,"CIBM              AF80327","RBUSEL",351,"840CT"]
["KR","HSBC",2,0,0,null,"RBUSEL351841SH","RBU",{"$f":"VLOOKUP(H6350,[2]SSIFSEP!$H$2:$I$7593,2,0)","v":"은행간대여금"},"Interbank Loans","USD","BE1",1.1000000000000001,0,"1",143,{"$f":"VLOOKUP(K6350,[1]EXRATE!C$3:F$43,4,0)","v":1344.8},1923.0639999999999,"",35,"",0,0,"","","","","","W","HIE","","",20230926,160849,0.04,29.07,"CIBM              AF80327","RBUSEL",351,"841SH"]
["KR","HSBC",2,0,0,null,"RBUSEL351860KE","RBU",{"$f":"VLOOKUP(H6362,[2]SSIFSEP!$H$2:$I$7593,2,0)","v":"은행간대여금"},"Interbank Loans","USD","BE1",1.1000000000000001,0,"1",1519,{"$f":"VLOOKUP(K6362,[1]EXRATE!C$3:F$43,4,0)","v":1344.8},20427.511999999999,"",35,"",0,0,"","","","","","W","HIE","","",20230926,160849,0.04,28.785,"CIBM              AF80327","RBUSEL",351,"860KE"]
["KR","HSBC",2,0,0,null,"RBUSEL351875KE","RBU",{"$f":"VLOOKUP(H6368,[2]SSIFSEP!$H$2:$I$7593,2,0)","v":"은행간대여금"},"Interbank Loans","USD","BE1",1.1000000000000001,0,"1",317,{"$f":"VLOOKUP(K6368,[1]EXRATE!C$3:F$43,4,0)","v":1344.8},4263.0159999999996,"",35,"",0,0,"","","","","","W","HIE","","",20230926,160849,0.04,28.67,"CIBM              AF80327","RBUSEL",351,"875KE"]
["KR","HSBC",2,0,0,null,"RBUSEL351894CT","RBU",{"$f":"VLOOKUP(H6374,[2]SSIFSEP!$H$2:$I$7593,2,0)","v":"은행간대여금"},"Interbank Loans","USD","BE1",1.1000000000000001,0,"1",2893,{"$f":"VLOOKUP(K6374,[1]EXRATE!C$3:F$43,4,0)","v":1344.8},38905.063999999998,"",35,"",0,0,"","","","","","W","HIE","","",20230926,160849,0.04,28.67,"CIBM              AF80327","RBUSEL",351,"894CT"]
["KR","HSBC",2,0,0,null,"RBUSEL351918CT","RBU",{"$f":"VLOOKUP(H6382,[2]SSIFSEP!$H$2:$I$7593,2,0)","v":"은행간대여금"},"Interbank Loans","USD","BE1",1.1000000000000001,0,"1",442,{"$f":"VLOOKUP(K6382,[1]EXRATE!C$3:F$43,4,0)","v":1344.8},5944.0159999999996,"",35,"",0,0,"","","","","","W","HIE","","",20230926,160849,0.04,29.085000000000001,"CIBM              AF80327","RBUSEL",351,"918CT"]
["KR","HSBC",2,0,0,null,"RBUSEL351946CT","RBU",{"$f":"VLOOKUP(H6390,[2]SSIFSEP!$H$2:$I$7593,2,0)","v":"은행간대여금"},"Interbank Loans","USD","BE1",1.1000000000000001,0,"1",576,{"$f":"VLOOKUP(K6390,[1]EXRATE!C$3:F$43,4,0)","v":1344.8},7746.0479999999989,"",35,"",0,0,"","","","","","W","HIE","","",20230926,160849,0.04,29.17,"CIBM              AF80327","RBUSEL",351,"946CT"]
["KR","HSBC",2,0,0,null,"RBUSEL351950CT","RBU",{"$f":"VLOOKUP(H6391,[2]SSIFSEP!$H$2:$I$7593,2,0)","v":"은행간대여금"},"Interbank Loans","USD","BE1",1.1000000000000001,0,"1",1398,{"$f":"VLOOKUP(K6391,[1]EXRATE!C$3:F$43,4,0)","v":1344.8},18800.304,"",35,"",0,0,"","","","","","W","HIE","","",20230926,160849,0.04,28.67,"CIBM              AF80327","RBUSEL",351,"950CT"]
["KR","HSBC",2,0,0,null,"RBUSEL351980KE","RBU",{"$f":"VLOOKUP(H6402,[2]SSIFSEP!$H$2:$I$7593,2,0)","v":"은행간대여금"},"Interbank Loans","USD","BE1",1.1000000000000001,0,"1",29,{"$f":"VLOOKUP(K6402,[1]EXRATE!C$3:F$43,4,0)","v":1344.8},389.99199999999996,"",35,"",0,0,"","","","","","W","HIE","","",20230926,160849,0.04,29.085000000000001,"CIBM              AF80327","RBUSEL",351,"980KE"]
["KR","HSBC",2,0,0,null,"RBUSEL352010SH","RBU",{"$f":"VLOOKUP(H6410,[2]SSIFSEP!$H$2:$I$7593,2,0)","v":"은행간대여금"},"Interbank Loans","USD","BE1",1.1000000000000001,0,"1",70,{"$f":"VLOOKUP(K6410,[1]EXRATE!C$3:F$43,4,0)","v":1344.8},941.36,"",35,"",0,0,"","","","","","W","HIE","","",20230926,160849,0.04,29.47,"CIBM              AF80327","RBUSEL",352,"010SH"]
["KR","HSBC",2,0,0,null,"RBUSEL352027NA","RBU",{"$f":"VLOOKUP(H6415,[2]SSIFSEP!$H$2:$I$7593,2,0)","v":"은행간대여금"},"Interbank Loans","CNY","BE1",1.1000000000000001,0,"1",200,{"$f":"VLOOKUP(K6415,[1]EXRATE!C$3:F$43,4,0)","v":184.26999873814515},368.5399974762903,"",29,"",0,0,"","","","","","W","HIE","","",20230926,160849,0.04,25.164999999999999,"CIBM              AF80327","RBUSEL",352,"027NA"]
["KR","HSBC",2,0,0,null,"RBUSEL352037KE","RBU",{"$f":"VLOOKUP(H6422,[2]SSIFSEP!$H$2:$I$7593,2,0)","v":"은행간대여금"},"Interbank Loans","USD","BE1",1.1000000000000001,0,"1",44,{"$f":"VLOOKUP(K6422,[1]EXRATE!C$3:F$43,4,0)","v":1344.8},591.71199999999999,"",35,"",0,0,"","","","","","W","HIE","","",20230926,160849,0.04,28.995000000000001,"CIBM              AF80327","RBUSEL",352,"037KE"]
["KR","HSBC",2,0,0,null,"RBUSEL352052KE","RBU",{"$f":"VLOOKUP(H6427,[2]SSIFSEP!$H$2:$I$7593,2,0)","v":"은행간대여금"},"Interbank Loans","USD","BE1",1.1000000000000001,0,"1",25121,{"$f":"VLOOKUP(K6427,[1]EXRATE!C$3:F$43,4,0)","v":1344.8},337827.20799999998,"",35,"",0,0,"","","","","","W","HIE","","",20230926,160849,0.04,28.995000000000001,"CIBM              AF80327","RBUSEL",352,"052KE"]
["KR","HSBC",2,0,0,null,"RBUSEL352065CT","RBU",{"$f":"VLOOKUP(H6435,[2]SSIFSEP!$H$2:$I$7593,2,0)","v":"은행간대여금"},"Interbank Loans","USD","BE1",1.1000000000000001,0,"1",246,{"$f":"VLOOKUP(K6435,[1]EXRATE!C$3:F$43,4,0)","v":1344.8},3308.2080000000001,"",35,"",0,0,"","","","","","W","HIE","","",20230926,160849,0.04,28.97,"CIBM              AF80327","RBUSEL",352,"065CT"]
["KR","HSBC",2,0,0,null,"RBUSEL352083CB","RBU",{"$f":"VLOOKUP(H6443,[2]SSIFSEP!$H$2:$I$7593,2,0)","v":"은행간대여금"},"Interbank Loans","USD","BE1",1.1000000000000001,0,"1",403,{"$f":"VLOOKUP(K6443,[1]EXRATE!C$3:F$43,4,0)","v":1344.8},5419.5439999999999,"",35,"",0,0,"","","","","","W","HIE","","",20230926,160849,0.04,29.18,"CIBM              AF80327","RBUSEL",352,"083CB"]
["KR","HSBC",2,0,0,null,"RBUSEL352090SH","RBU",{"$f":"VLOOKUP(H6445,[2]SSIFSEP!$H$2:$I$7593,2,0)","v":"은행간대여금"},"Interbank Loans","USD","BE1",1.1000000000000001,0,"1",444,{"$f":"VLOOKUP(K6445,[1]EXRATE!C$3:F$43,4,0)","v":1344.8},5970.9119999999994,"",35,"",0,0,"","","","","","W","HIE","","",20230926,160849,0.04,29.295000000000002,"CIBM              AF80327","RBUSEL",352,"090SH"]
["KR","HSBC",2,0,0,null,"RBUSEL352114SH","RBU",{"$f":"VLOOKUP(H6455,[2]SSIFSEP!$H$2:$I$7593,2,0)","v":"은행간대여금"},"Interbank Loans","CNY","BE1",1.1000000000000001,0,"1",188,{"$f":"VLOOKUP(K6455,[1]EXRATE!C$3:F$43,4,0)","v":184.26999873814515},346.42759762771288,"",29,"",0,0,"","","","","","W","HIE","","",20230926,160849,0.04,26.774999999999999,"CIBM              AF80327","RBUSEL",352,"114SH"]
["KR","HSBC",2,0,0,null,"RBUSEL352127CT","RBU",{"$f":"VLOOKUP(H6460,[2]SSIFSEP!$H$2:$I$7593,2,0)","v":"은행간대여금"},"Interbank Loans","USD","BE1",1.1000000000000001,0,"1",3051,{"$f":"VLOOKUP(K6460,[1]EXRATE!C$3:F$43,4,0)","v":1344.8},41029.847999999998,"",35,"",0,0,"","","","","","W","HIE","","",20230926,160849,0.04,28.895,"CIBM              AF80327","RBUSEL",352,"127CT"]
["KR","HSBC",2,0,0,null,"RBUSEL352143NA","RBU",{"$f":"VLOOKUP(H6468,[2]SSIFSEP!$H$2:$I$7593,2,0)","v":"은행간대여금"},"Interbank Loans","USD","BE1",1.1000000000000001,0,"1",496,{"$f":"VLOOKUP(K6468,[1]EXRATE!C$3:F$43,4,0)","v":1344.8},{"$f":"+P6468*Q6468/100","v":6670.2079999999996},"",35,"",0,0,"","","","","","W","HIE","","",20230926,160849,0.04,29.37,"CIBM              AF80327","RBUSEL",352,"143NA"]
["KR","HSBC",2,0,0,null,"RBUSEL352161NA","RBU",{"$f":"VLOOKUP(H6476,[2]SSIFSEP!$H$2:$I$7593,2,0)","v":"은행간대여금"},"Interbank Loans","USD","BE1",1.1000000000000001,0,"1",260,{"$f":"VLOOKUP(K6476,[1]EXRATE!C$3:F$43,4,0)","v":1344.8},3496.48,"",35,"",0,0,"","","","","","W","HIE","","",20230926,160849,0.04,29.57,"CIBM              AF80327","RBUSEL",352,"161NA"]
["KR","HSBC",2,0,0,null,"RBUSEL352170KE","RBU",{"$f":"VLOOKUP(H6480,[2]SSIFSEP!$H$2:$I$7593,2,0)","v":"은행간대여금"},"Interbank Loans","USD","BE1",1.1000000000000001,0,"1",241,{"$f":"VLOOKUP(K6480,[1]EXRATE!C$3:F$43,4,0)","v":1344.8},3240.9679999999998,"",35,"",0,0,"","","","","","W","HIE","","",20230926,160849,0.04,29.37,"CIBM              AF80327","RBUSEL",352,"170KE"]
["KR","HSBC",2,0,0,null,"RBUSEL352201SH","RBU",{"$f":"VLOOKUP(H6488,[2]SSIFSEP!$H$2:$I$7593,2,0)","v":"은행간대여금"},"Interbank Loans","USD","BE1",1.1000000000000001,0,"1",345,{"$f":"VLOOKUP(K6488,[1]EXRATE!C$3:F$43,4,0)","v":1344.8},4639.5600000000004,"",35,"",0,0,"","","","","","W","HIE","","",20230926,160849,0.04,29.18,"CIBM              AF80327","RBUSEL",352,"201SH"]
["KR","HSBC",2,0,0,null,"RBUSEL352240NA","RBU",{"$f":"VLOOKUP(H6497,[2]SSIFSEP!$H$2:$I$7593,2,0)","v":"은행간대여금"},"Interbank Loans","USD","BE1",1.1000000000000001,0,"1",128,{"$f":"VLOOKUP(K6497,[1]EXRATE!C$3:F$43,4,0)","v":1344.8},1721.3440000000001,"",35,"",0,0,"","","","","","W","HIE","","",20230926,160849,0.04,29.27,"CIBM              AF80327","RBUSEL",352,"240NA"]
["KR","HSBC",2,0,0,null,"RBUSEL352244CB","RBU",{"$f":"VLOOKUP(H6500,[2]SSIFSEP!$H$2:$I$7593,2,0)","v":"은행간대여금"},"Interbank Loans","USD","BE1",1.1000000000000001,0,"1",150,{"$f":"VLOOKUP(K6500,[1]EXRATE!C$3:F$43,4,0)","v":1344.8},2017.2,"",35,"",0,0,"","","","","","W","HIE","","",20230926,160849,0.04,29.07,"CIBM              AF80327","RBUSEL",352,"244CB"]
["KR","HSBC",2,0,0,null,"RBUSEL352266CB","RBU",{"$f":"VLOOKUP(H6508,[2]SSIFSEP!$H$2:$I$7593,2,0)","v":"은행간대여금"},"Interbank Loans","USD","BE1",1.1000000000000001,0,"1",103,{"$f":"VLOOKUP(K6508,[1]EXRATE!C$3:F$43,4,0)","v":1344.8},1385.144,"",35,"",0,0,"","","","","","W","HIE","","",20230926,160849,0.04,28.57,"CIBM              AF80327","RBUSEL",352,"266CB"]
["KR","HSBC",2,0,0,null,"RBUSEL352272CB","RBU",{"$f":"VLOOKUP(H6513,[2]SSIFSEP!$H$2:$I$7593,2,0)","v":"은행간대여금"},"Interbank Loans","USD","BE1",1.1000000000000001,0,"1",620,{"$f":"VLOOKUP(K6513,[1]EXRATE!C$3:F$43,4,0)","v":1344.8},8337.76,"",35,"",0,0,"","","","","","W","HIE","","",20230926,160849,0.04,28.57,"CIBM              AF80327","RBUSEL",352,"272CB"]
["KR","HSBC",2,0,0,null,"RBUSEL352283NA","RBU",{"$f":"VLOOKUP(H6520,[2]SSIFSEP!$H$2:$I$7593,2,0)","v":"은행간대여금"},"Interbank Loans","USD","BE1",1.1000000000000001,0,"1",440,{"$f":"VLOOKUP(K6520,[1]EXRATE!C$3:F$43,4,0)","v":1344.8},5917.12,"",35,"",0,0,"","","","","","W","HIE","","",20230926,160849,0.04,29.27,"CIBM              AF80327","RBUSEL",352,"283NA"]
["KR","HSBC",2,0,0,null,"RBUSEL352301CB","RBU",{"$f":"VLOOKUP(H6528,[2]SSIFSEP!$H$2:$I$7593,2,0)","v":"은행간대여금"},"Interbank Loans","USD","BE1",1.1000000000000001,0,"1",640,{"$f":"VLOOKUP(K6528,[1]EXRATE!C$3:F$43,4,0)","v":1344.8},8606.7199999999993,"",35,"",0,0,"","","","","","W","HIE","","",20230926,160849,0.04,28.67,"CIBM              AF80327","RBUSEL",352,"301CB"]
["KR","HSBC",2,0,0,null,"RBUSEL352307CT","RBU",{"$f":"VLOOKUP(H6533,[2]SSIFSEP!$H$2:$I$7593,2,0)","v":"은행간대여금"},"Interbank Loans","USD","BE1",1.1000000000000001,0,"1",7046,{"$f":"VLOOKUP(K6533,[1]EXRATE!C$3:F$43,4,0)","v":1344.8},94754.607999999993,"",35,"",0,0,"","","","","","W","HIE","","",20230926,160849,0.04,28.57,"CIBM              AF80327","RBUSEL",352,"307CT"]
["KR","HSBC",2,0,0,null,"RBUSEL352320KE","RBU",{"$f":"VLOOKUP(H6541,[2]SSIFSEP!$H$2:$I$7593,2,0)","v":"은행간대여금"},"Interbank Loans","USD","BE1",1.1000000000000001,0,"1",21239,{"$f":"VLOOKUP(K6541,[1]EXRATE!C$3:F$43,4,0)","v":1344.8},285622.07199999999,"",35,"",0,0,"","","","","","W","HIE","","",20230926,160849,0.04,28.67,"CIBM              AF80327","RBUSEL",352,"320KE"]
["KR","HSBC",2,0,0,null,"RBUSEL352332CB","RBU",{"$f":"VLOOKUP(H6551,[2]SSIFSEP!$H$2:$I$7593,2,0)","v":"은행간대여금"},"Interbank Loans","USD","BE1",1.1000000000000001,0,"1",84,{"$f":"VLOOKUP(K6551,[1]EXRATE!C$3:F$43,4,0)","v":1344.8},1129.6320000000001,"",35,"",0,0,"","","","","","W","HIE","","",20230926,160849,0.04,29.37,"CIBM              AF80327","RBUSEL",352,"332CB"]
["KR","HSBC",2,0,0,null,"RBUSEL352336KE","RBU",{"$f":"VLOOKUP(H6553,[2]SSIFSEP!$H$2:$I$7593,2,0)","v":"은행간대여금"},"Interbank Loans","USD","BE1",1.1000000000000001,0,"1",4924,{"$f":"VLOOKUP(K6553,[1]EXRATE!C$3:F$43,4,0)","v":1344.8},66217.952000000005,"",35,"",0,0,"","","","","","W","HIE","","",20230926,160849,0.04,28.77,"CIBM              AF80327","RBUSEL",352,"336KE"]
["KR","HSBC",2,0,0,null,"RBUSEL352358SH","RBU",{"$f":"VLOOKUP(H6561,[2]SSIFSEP!$H$2:$I$7593,2,0)","v":"은행간대여금"},"Interbank Loans","USD","BE1",1.1000000000000001,0,"1",23,{"$f":"VLOOKUP(K6561,[1]EXRATE!C$3:F$43,4,0)","v":1344.8},309.30399999999997,"",35,"",0,0,"","","","","","W","HIE","","",20230926,160849,0.04,29.17,"CIBM              AF80327","RBUSEL",352,"358SH"]
["KR","HSBC",2,0,0,null,"RBUSEL352365CB","RBU",{"$f":"VLOOKUP(H6566,[2]SSIFSEP!$H$2:$I$7593,2,0)","v":"은행간대여금"},"Interbank Loans","USD","BE1",1.1000000000000001,0,"1",483,{"$f":"VLOOKUP(K6566,[1]EXRATE!C$3:F$43,4,0)","v":1344.8},6495.384,"",35,"",0,0,"","","","","","W","HIE","","",20230926,160849,0.04,29.17,"CIBM              AF80327","RBUSEL",352,"365CB"]
["KR","HSBC",2,0,0,null,"RBUSEL352390CT","RBU",{"$f":"VLOOKUP(H6574,[2]SSIFSEP!$H$2:$I$7593,2,0)","v":"은행간대여금"},"Interbank Loans","USD","BE1",1.1000000000000001,0,"1",86,{"$f":"VLOOKUP(K6574,[1]EXRATE!C$3:F$43,4,0)","v":1344.8},1156.528,"",35,"",0,0,"","","","","","W","HIE","","",20230926,160849,0.04,28.67,"CIBM              AF80327","RBUSEL",352,"390CT"]
["KR","HSBC",2,0,0,null,"RBUSEL352398CT","RBU",{"$f":"VLOOKUP(H6581,[2]SSIFSEP!$H$2:$I$7593,2,0)","v":"은행간대여금"},"Interbank Loans","USD","BE1",1.1000000000000001,0,"1",1752,{"$f":"VLOOKUP(K6581,[1]EXRATE!C$3:F$43,4,0)","v":1344.8},23560.896000000001,"",35,"",0,0,"","","","","","W","HIE","","",20230926,160849,0.04,28.67,"CIBM              AF80327","RBUSEL",352,"398CT"]
["KR","HSBC",2,0,0,null,"RBUSEL352403KE","RBU",{"$f":"VLOOKUP(H6586,[2]SSIFSEP!$H$2:$I$7593,2,0)","v":"은행간대여금"},"Interbank Loans","USD","BE1",1.1000000000000001,0,"1",355,{"$f":"VLOOKUP(K6586,[1]EXRATE!C$3:F$43,4,0)","v":1344.8},4774.04,"",35,"",0,0,"","","","","","W","HIE","","",20230926,160849,0.04,28.67,"CIBM              AF80327","RBUSEL",352,"403KE"]
["KR","HSBC",2,0,0,null,"RBUSEL352414KE","RBU",{"$f":"VLOOKUP(H6594,[2]SSIFSEP!$H$2:$I$7593,2,0)","v":"은행간대여금"},"Interbank Loans","USD","BE1",1.1000000000000001,0,"1",162,{"$f":"VLOOKUP(K6594,[1]EXRATE!C$3:F$43,4,0)","v":1344.8},2178.576,"",35,"",0,0,"","","","","","W","HIE","","",20230926,160849,0.04,29.18,"CIBM              AF80327","RBUSEL",352,"414KE"]
["KR","HSBC",2,0,0,null,"RBUSEL352452KE","RBU",{"$f":"VLOOKUP(H6603,[2]SSIFSEP!$H$2:$I$7593,2,0)","v":"은행간대여금"},"Interbank Loans","USD","BE1",1.1000000000000001,0,"1",6719,{"$f":"VLOOKUP(K6603,[1]EXRATE!C$3:F$43,4,0)","v":1344.8},90357.111999999994,"",35,"",0,0,"","","","","","W","HIE","","",20230926,160849,0.04,28.77,"CIBM              AF80327","RBUSEL",352,"452KE"]
["KR","HSBC",2,0,0,null,"RBUSEL352457CB","RBU",{"$f":"VLOOKUP(H6606,[2]SSIFSEP!$H$2:$I$7593,2,0)","v":"은행간대여금"},"Interbank Loans","USD","BE1",1.1000000000000001,0,"1",87,{"$f":"VLOOKUP(K6606,[1]EXRATE!C$3:F$43,4,0)","v":1344.8},1169.9759999999999,"",35,"",0,0,"","","","","","W","HIE","","",20230926,160849,0.04,29.37,"CIBM              AF80327","RBUSEL",352,"457CB"]
["KR","HSBC",2,0,0,null,"RBUSEL352465KE","RBU",{"$f":"VLOOKUP(H6614,[2]SSIFSEP!$H$2:$I$7593,2,0)","v":"은행간대여금"},"Interbank Loans","USD","BE1",1.1000000000000001,0,"1",1467,{"$f":"VLOOKUP(K6614,[1]EXRATE!C$3:F$43,4,0)","v":1344.8},19728.216,"",35,"",0,0,"","","","","","W","HIE","","",20230926,160849,0.04,28.77,"CIBM              AF80327","RBUSEL",352,"465KE"]
["KR","HSBC",2,0,0,null,"RBUSEL352490NA","RBU",{"$f":"VLOOKUP(H6626,[2]SSIFSEP!$H$2:$I$7593,2,0)","v":"은행간대여금"},"Interbank Loans","USD","BE1",1.1000000000000001,0,"1",90,{"$f":"VLOOKUP(K6626,[1]EXRATE!C$3:F$43,4,0)","v":1344.8},1210.32,"",35,"",0,0,"","","","","","W","HIE","","",20230926,160849,0.04,29.48,"CIBM              AF80327","RBUSEL",352,"490NA"]
["KR","HSBC",2,0,0,null,"RBUSEL352493KE","RBU",{"$f":"VLOOKUP(H6628,[2]SSIFSEP!$H$2:$I$7593,2,0)","v":"은행간대여금"},"Interbank Loans","USD","BE1",1.1000000000000001,0,"1",165,{"$f":"VLOOKUP(K6628,[1]EXRATE!C$3:F$43,4,0)","v":1344.8},2218.92,"",35,"",0,0,"","","","","","W","HIE","","",20230926,160849,0.04,29.37,"CIBM              AF80327","RBUSEL",352,"493KE"]
["KR","HSBC",2,0,0,null,"RBUSEL352504CT","RBU",{"$f":"VLOOKUP(H6634,[2]SSIFSEP!$H$2:$I$7593,2,0)","v":"은행간대여금"},"Interbank Loans","USD","BE1",1.1000000000000001,0,"1",241,{"$f":"VLOOKUP(K6634,[1]EXRATE!C$3:F$43,4,0)","v":1344.8},3240.9679999999998,"",35,"",0,0,"","","","","","W","HIE","","",20230926,160849,0.04,28.995000000000001,"CIBM              AF80327","RBUSEL",352,"504CT"]
["KR","HSBC",2,0,0,null,"RBUSEL352535NA","RBU",{"$f":"VLOOKUP(H6646,[2]SSIFSEP!$H$2:$I$7593,2,0)","v":"은행간대여금"},"Interbank Loans","USD","BE1",1.1000000000000001,0,"1",89,{"$f":"VLOOKUP(K6646,[1]EXRATE!C$3:F$43,4,0)","v":1344.8},1196.8720000000001,"",35,"",0,0,"","","","","","W","HIE","","",20230926,160849,0.04,29.48,"CIBM              AF80327","RBUSEL",352,"535NA"]
["KR","HSBC",2,0,0,null,"RBUSEL352537CT","RBU",{"$f":"VLOOKUP(H6647,[2]SSIFSEP!$H$2:$I$7593,2,0)","v":"은행간대여금"},"Interbank Loans","USD","BE1",1.1000000000000001,0,"1",1141,{"$f":"VLOOKUP(K6647,[1]EXRATE!C$3:F$43,4,0)","v":1344.8},15344.168,"",35,"",0,0,"","","","","","W","HIE","","",20230926,160849,0.04,29.07,"CIBM              AF80327","RBUSEL",352,"537CT"]
["KR","HSBC",2,0,0,null,"RBUSEL352579CT","RBU",{"$f":"VLOOKUP(H6657,[2]SSIFSEP!$H$2:$I$7593,2,0)","v":"은행간대여금"},"Interbank Loans","USD","BE1",1.1000000000000001,0,"1",7486,{"$f":"VLOOKUP(K6657,[1]EXRATE!C$3:F$43,4,0)","v":1344.8},100671.72799999999,"",35,"",0,0,"","","","","","W","HIE","","",20230926,160849,0.04,29.17,"CIBM              AF80327","RBUSEL",352,"579CT"]
["KR","HSBC",2,0,0,null,"RBUSEL352597KE","RBU",{"$f":"VLOOKUP(H6666,[2]SSIFSEP!$H$2:$I$7593,2,0)","v":"은행간대여금"},"Interbank Loans","USD","BE1",1.1000000000000001,0,"1",5416,{"$f":"VLOOKUP(K6666,[1]EXRATE!C$3:F$43,4,0)","v":1344.8},72834.368000000002,"",35,"",0,0,"","","","","","W","HIE","","",20230926,160849,0.04,29.57,"CIBM              AF80327","RBUSEL",352,"597KE"]
["KR","HSBC",2,0,0,null,"RBUSEL352598KE","RBU",{"$f":"VLOOKUP(H6667,[2]SSIFSEP!$H$2:$I$7593,2,0)","v":"은행간대여금"},"Interbank Loans","USD","BE1",1.1000000000000001,0,"1",4688,{"$f":"VLOOKUP(K6667,[1]EXRATE!C$3:F$43,4,0)","v":1344.8},63044.223999999995,"",35,"",0,0,"","","","","","W","HIE","","",20230926,160849,0.04,29.57,"CIBM              AF80327","RBUSEL",352,"598KE"]
["KR","HSBC",2,0,0,null,"RBUSEL352634KE","RBU",{"$f":"VLOOKUP(H6679,[2]SSIFSEP!$H$2:$I$7593,2,0)","v":"은행간대여금"},"Interbank Loans","USD","BE1",1.1000000000000001,0,"1",3086,{"$f":"VLOOKUP(K6679,[1]EXRATE!C$3:F$43,4,0)","v":1344.8},41500.527999999998,"",35,"",0,0,"","","","","","W","HIE","","",20230926,160849,0.04,29.47,"CIBM              AF80327","RBUSEL",352,"634KE"]
["KR","HSBC",2,0,0,null,"RBUSEL352653CT","RBU",{"$f":"VLOOKUP(H6682,[2]SSIFSEP!$H$2:$I$7593,2,0)","v":"은행간대여금"},"Interbank Loans","USD","BE1",1.1000000000000001,0,"1",801,{"$f":"VLOOKUP(K6682,[1]EXRATE!C$3:F$43,4,0)","v":1344.8},10771.848,"",35,"",0,0,"","","","","","W","HIE","","",20230926,160849,0.04,29.67,"CIBM              AF80327","RBUSEL",352,"653CT"]
["KR","HSBC",2,0,0,null,"RBUSEL352658SH","RBU",{"$f":"VLOOKUP(H6687,[2]SSIFSEP!$H$2:$I$7593,2,0)","v":"은행간대여금"},"Interbank Loans","USD","BE1",1.1000000000000001,0,"1",4015,{"$f":"VLOOKUP(K6687,[1]EXRATE!C$3:F$43,4,0)","v":1344.8},53993.72,"",35,"",0,0,"","","","","","W","HIE","","",20230926,160849,0.04,29.47,"CIBM              AF80327","RBUSEL",352,"658SH"]
["KR","HSBC",2,0,0,null,"RBUSEL352685CT","RBU",{"$f":"VLOOKUP(H6699,[2]SSIFSEP!$H$2:$I$7593,2,0)","v":"은행간대여금"},"Interbank Loans","USD","BE1",1.1000000000000001,0,"1",2055,{"$f":"VLOOKUP(K6699,[1]EXRATE!C$3:F$43,4,0)","v":1344.8},27635.64,"",35,"",0,0,"","","","","","W","HIE","","",20230926,160849,0.04,29.57,"CIBM              AF80327","RBUSEL",352,"685CT"]
["KR","HSBC",2,0,0,null,"RBUSEL352714KE","RBU",{"$f":"VLOOKUP(H6707,[2]SSIFSEP!$H$2:$I$7593,2,0)","v":"은행간대여금"},"Interbank Loans","USD","BE1",1.1000000000000001,0,"1",135,{"$f":"VLOOKUP(K6707,[1]EXRATE!C$3:F$43,4,0)","v":1344.8},1815.48,"",35,"",0,0,"","","","","","W","HIE","","",20230926,160849,0.04,29.77,"CIBM              AF80327","RBUSEL",352,"714KE"]
["KR","HSBC",2,0,0,null,"RBUSEL352729KE","RBU",{"$f":"VLOOKUP(H6711,[2]SSIFSEP!$H$2:$I$7593,2,0)","v":"은행간대여금"},"Interbank Loans","USD","BE1",1.1000000000000001,0,"1",30,{"$f":"VLOOKUP(K6711,[1]EXRATE!C$3:F$43,4,0)","v":1344.8},403.44,"",35,"",0,0,"","","","","","W","HIE","","",20230926,160849,0.04,29.37,"CIBM              AF80327","RBUSEL",352,"729KE"]
["KR","HSBC",2,0,0,null,"RBUSEL352748CT","RBU",{"$f":"VLOOKUP(H6719,[2]SSIFSEP!$H$2:$I$7593,2,0)","v":"은행간대여금"},"Interbank Loans","USD","BE1",1.1000000000000001,0,"1",3258,{"$f":"VLOOKUP(K6719,[1]EXRATE!C$3:F$43,4,0)","v":1344.8},43813.583999999995,"",35,"",0,0,"","","","","","W","HIE","","",20230926,160849,0.04,29.37,"CIBM              AF80327","RBUSEL",352,"748CT"]
["KR","HSBC",2,0,0,null,"RBUSEL352759CT","RBU",{"$f":"VLOOKUP(H6727,[2]SSIFSEP!$H$2:$I$7593,2,0)","v":"은행간대여금"},"Interbank Loans","USD","BE1",1.1000000000000001,0,"1",2138,{"$f":"VLOOKUP(K6727,[1]EXRATE!C$3:F$43,4,0)","v":1344.8},28751.824000000001,"",35,"",0,0,"","","","","","W","HIE","","",20230926,160849,0.04,29.27,"CIBM              AF80327","RBUSEL",352,"759CT"]
["KR","HSBC",2,0,0,null,"RBUSEL352768NA","RBU",{"$f":"VLOOKUP(H6732,[2]SSIFSEP!$H$2:$I$7593,2,0)","v":"은행간대여금"},"Interbank Loans","USD","BE1",1.1000000000000001,0,"1",664,{"$f":"VLOOKUP(K6732,[1]EXRATE!C$3:F$43,4,0)","v":1344.8},8929.4719999999998,"",35,"",0,0,"","","","","","W","HIE","","",20230926,160849,0.04,29.78,"CIBM              AF80327","RBUSEL",352,"768NA"]
["KR","HSBC",2,0,0,null,"RBUSEL352772SH","RBU",{"$f":"VLOOKUP(H6736,[2]SSIFSEP!$H$2:$I$7593,2,0)","v":"은행간대여금"},"Interbank Loans","USD","BE1",1.1000000000000001,0,"1",517,{"$f":"VLOOKUP(K6736,[1]EXRATE!C$3:F$43,4,0)","v":1344.8},6952.616,"",35,"",0,0,"","","","","","W","HIE","","",20230926,160849,0.04,29.58,"CIBM              AF80327","RBUSEL",352,"772SH"]
["KR","HSBC",2,0,0,null,"RBUSEL352780CB","RBU",{"$f":"VLOOKUP(H6744,[2]SSIFSEP!$H$2:$I$7593,2,0)","v":"은행간대여금"},"Interbank Loans","USD","BE1",1.1000000000000001,0,"1",322,{"$f":"VLOOKUP(K6744,[1]EXRATE!C$3:F$43,4,0)","v":1344.8},4330.2559999999994,"",35,"",0,0,"","","","","","W","HIE","","",20230926,160849,0.04,29.58,"CIBM              AF80327","RBUSEL",352,"780CB"]
["KR","HSBC",2,0,0,null,"RBUSEL352792KE","RBU",{"$f":"VLOOKUP(H6752,[2]SSIFSEP!$H$2:$I$7593,2,0)","v":"은행간대여금"},"Interbank Loans","USD","BE1",1.1000000000000001,0,"1",14,{"$f":"VLOOKUP(K6752,[1]EXRATE!C$3:F$43,4,0)","v":1344.8},188.27200000000002,"",35,"",0,0,"","","","","","W","HIE","","",20230926,160849,0.04,29.48,"CIBM              AF80327","RBUSEL",352,"792KE"]
["KR","HSBC",2,0,0,null,"RBUSEL352802NA","RBU",{"$f":"VLOOKUP(H6760,[2]SSIFSEP!$H$2:$I$7593,2,0)","v":"은행간대여금"},"Interbank Loans","USD","BE1",1.1000000000000001,0,"1",18,{"$f":"VLOOKUP(K6760,[1]EXRATE!C$3:F$43,4,0)","v":1344.8},242.06399999999996,"",35,"",0,0,"","","","","","W","HIE","","",20230926,160849,0.04,29.77,"CIBM              AF80327","RBUSEL",352,"802NA"]
["KR","HSBC",2,0,0,null,"RBUSEL352808CT","RBU",{"$f":"VLOOKUP(H6765,[2]SSIFSEP!$H$2:$I$7593,2,0)","v":"은행간대여금"},"Interbank Loans","USD","BE1",1.1000000000000001,0,"1",1236,{"$f":"VLOOKUP(K6765,[1]EXRATE!C$3:F$43,4,0)","v":1344.8},16621.727999999999,"",35,"",0,0,"","","","","","W","HIE","","",20230926,160849,0.04,29.47,"CIBM              AF80327","RBUSEL",352,"808CT"]
["KR","HSBC",2,0,0,null,"RBUSEL352816CB","RBU",{"$f":"VLOOKUP(H6772,[2]SSIFSEP!$H$2:$I$7593,2,0)","v":"은행간대여금"},"Interbank Loans","USD","BE1",1.1000000000000001,0,"1",332,{"$f":"VLOOKUP(K6772,[1]EXRATE!C$3:F$43,4,0)","v":1344.8},4464.7359999999999,"",35,"",0,0,"","","","","","W","HIE","","",20230926,160849,0.04,29.67,"CIBM              AF80327","RBUSEL",352,"816CB"]
["KR","HSBC",2,0,0,null,"RBUSEL352826NA","RBU",{"$f":"VLOOKUP(H6780,[2]SSIFSEP!$H$2:$I$7593,2,0)","v":"은행간대여금"},"Interbank Loans","USD","BE1",1.1000000000000001,0,"1",2476,{"$f":"VLOOKUP(K6780,[1]EXRATE!C$3:F$43,4,0)","v":1344.8},33297.248,"",35,"",0,0,"","","","","","W","HIE","","",20230926,160849,0.04,29.67,"CIBM              AF80327","RBUSEL",352,"826NA"]
["KR","HSBC",2,0,0,null,"RBUSEL352845KE","RBU",{"$f":"VLOOKUP(H6785,[2]SSIFSEP!$H$2:$I$7593,2,0)","v":"은행간대여금"},"Interbank Loans","USD","BE1",1.1000000000000001,0,"1",9282,{"$f":"VLOOKUP(K6785,[1]EXRATE!C$3:F$43,4,0)","v":1344.8},124824.336,"",35,"",0,0,"","","","","","W","HIE","","",20230926,160849,0.04,29.495000000000001,"CIBM              AF80327","RBUSEL",352,"845KE"]
["KR","HSBC",2,0,0,null,"RBUSEL352850CB","RBU",{"$f":"VLOOKUP(H6790,[2]SSIFSEP!$H$2:$I$7593,2,0)","v":"은행간대여금"},"Interbank Loans","USD","BE1",1.1000000000000001,0,"1",667,{"$f":"VLOOKUP(K6790,[1]EXRATE!C$3:F$43,4,0)","v":1344.8},8969.8159999999989,"",35,"",0,0,"","","","","","W","HIE","","",20230926,160849,0.04,29.97,"CIBM              AF80327","RBUSEL",352,"850CB"]
["KR","HSBC",2,0,0,null,"RBUSEL352860MD","RBU",{"$f":"VLOOKUP(H6797,[2]SSIFSEP!$H$2:$I$7593,2,0)","v":"은행간대여금"},"Interbank Loans","USD","BK4",1.1000000000000001,0,"1",59,{"$f":"VLOOKUP(K6797,[1]EXRATE!C$3:F$43,4,0)","v":1344.8},793.43200000000002,"",44,"",0,0,"","","","","","W","HIE","","",20230926,160849,0.02,40.29,"CIBM              AF80327","RBUSEL",352,"860MD"]
["KR","HSBC",2,0,0,null,"RBUSEL352888KE","RBU",{"$f":"VLOOKUP(H6805,[2]SSIFSEP!$H$2:$I$7593,2,0)","v":"은행간대여금"},"Interbank Loans","USD","BE1",1.1000000000000001,0,"1",83,{"$f":"VLOOKUP(K6805,[1]EXRATE!C$3:F$43,4,0)","v":1344.8},1116.184,"",35,"",0,0,"","","","","","W","HIE","","",20230926,160849,0.04,29.67,"CIBM              AF80327","RBUSEL",352,"888KE"]
["KR","HSBC",2,0,0,null,"RBUSEL352901CT","RBU",{"$f":"VLOOKUP(H6813,[2]SSIFSEP!$H$2:$I$7593,2,0)","v":"은행간대여금"},"Interbank Loans","USD","BE1",1.1000000000000001,0,"1",21409,{"$f":"VLOOKUP(K6813,[1]EXRATE!C$3:F$43,4,0)","v":1344.8},287908.23200000002,"",35,"",0,0,"","","","","","W","HIE","","",20230926,160849,0.04,29.47,"CIBM              AF80327","RBUSEL",352,"901CT"]
["KR","HSBC",2,0,0,null,"RBUSEL352923SH","RBU",{"$f":"VLOOKUP(H6819,[2]SSIFSEP!$H$2:$I$7593,2,0)","v":"은행간대여금"},"Interbank Loans","USD","BE1",1.1000000000000001,0,"1",4205,{"$f":"VLOOKUP(K6819,[1]EXRATE!C$3:F$43,4,0)","v":1344.8},56548.84,"",35,"",0,0,"","","","","","W","HIE","","",20230926,160849,0.04,29.57,"CIBM              AF80327","RBUSEL",352,"923SH"]
["KR","HSBC",2,0,0,null,"RBUSEL352943KE","RBU",{"$f":"VLOOKUP(H6825,[2]SSIFSEP!$H$2:$I$7593,2,0)","v":"은행간대여금"},"Interbank Loans","USD","BE1",1.1000000000000001,0,"1",606,{"$f":"VLOOKUP(K6825,[1]EXRATE!C$3:F$43,4,0)","v":1344.8},8149.4879999999994,"",35,"",0,0,"","","","","","W","HIE","","",20230926,160849,0.04,29.68,"CIBM              AF80327","RBUSEL",352,"943KE"]
["KR","HSBC",2,0,0,null,"RBUSEL352951NA","RBU",{"$f":"VLOOKUP(H6830,[2]SSIFSEP!$H$2:$I$7593,2,0)","v":"은행간대여금"},"Interbank Loans","USD","BE1",1.1000000000000001,0,"1",9,{"$f":"VLOOKUP(K6830,[1]EXRATE!C$3:F$43,4,0)","v":1344.8},121.03199999999998,"",35,"",0,0,"","","","","","W","HIE","","",20230926,160849,0.04,29.87,"CIBM              AF80327","RBUSEL",352,"951NA"]
["KR","HSBC",2,0,0,null,"RBUSEL352984SH","RBU",{"$f":"VLOOKUP(H6838,[2]SSIFSEP!$H$2:$I$7593,2,0)","v":"은행간대여금"},"Interbank Loans","USD","BE1",1.1000000000000001,0,"1",1215,{"$f":"VLOOKUP(K6838,[1]EXRATE!C$3:F$43,4,0)","v":1344.8},16339.32,"",35,"",0,0,"","","","","","W","HIE","","",20230926,160849,0.04,29.77,"CIBM              AF80327","RBUSEL",352,"984SH"]
["KR","HSBC",2,0,0,null,"RBUSEL352990NA","RBU",{"$f":"VLOOKUP(H6844,[2]SSIFSEP!$H$2:$I$7593,2,0)","v":"은행간대여금"},"Interbank Loans","AUD","BE1",1.1000000000000001,0,"1",3511,{"$f":"VLOOKUP(K6844,[1]EXRATE!C$3:F$43,4,0)","v":859.99959999999987},30194.585955999995,"",26,"",0,0,"","","","","","W","HIE","","",20230926,160849,0.04,28.295000000000002,"CIBM              AF80327","RBUSEL",352,"990NA"]
["KR","HSBC",2,0,0,null,"RBUSEL353002SH","RBU",{"$f":"VLOOKUP(H6850,[2]SSIFSEP!$H$2:$I$7593,2,0)","v":"은행간대여금"},"Interbank Loans","CNY","BE1",1.1000000000000001,0,"1",847,{"$f":"VLOOKUP(K6850,[1]EXRATE!C$3:F$43,4,0)","v":184.26999873814515},1560.7668893120895,"",29,"",0,0,"","","","","","W","HIE","","",20230926,160849,0.04,24.19,"CIBM              AF80327","RBUSEL",353,"002SH"]
["KR","HSBC",2,0,0,null,"RBUSEL353010KE","RBU",{"$f":"VLOOKUP(H6858,[2]SSIFSEP!$H$2:$I$7593,2,0)","v":"은행간대여금"},"Interbank Loans","USD","BE1",1.1000000000000001,0,"1",17571,{"$f":"VLOOKUP(K6858,[1]EXRATE!C$3:F$43,4,0)","v":1344.8},236294.80800000002,"",35,"",0,0,"","","","","","W","HIE","","",20230926,160849,0.04,29.67,"CIBM              AF80327","RBUSEL",353,"010KE"]
["KR","HSBC",2,0,0,null,"RBUSEL353040SH","RBU",{"$f":"VLOOKUP(H6866,[2]SSIFSEP!$H$2:$I$7593,2,0)","v":"은행간대여금"},"Interbank Loans","USD","BE1",1.1000000000000001,0,"1",143,{"$f":"VLOOKUP(K6866,[1]EXRATE!C$3:F$43,4,0)","v":1344.8},1923.0639999999999,"",35,"",0,0,"","","","","","W","HIE","","",20230926,160849,0.04,29.67,"CIBM              AF80327","RBUSEL",353,"040SH"]
["KR","HSBC",2,0,0,null,"RBUSEL353052KE","RBU",{"$f":"VLOOKUP(H6873,[2]SSIFSEP!$H$2:$I$7593,2,0)","v":"은행간대여금"},"Interbank Loans","USD","BE1",1.1000000000000001,0,"1",586,{"$f":"VLOOKUP(K6873,[1]EXRATE!C$3:F$43,4,0)","v":1344.8},7880.5279999999993,"",35,"",0,0,"","","","","","W","HIE","","",20230926,160849,0.04,29.67,"CIBM              AF80327","RBUSEL",353,"052KE"]
["KR","HSBC",2,0,0,null,"RBUSEL353065KE","RBU",{"$f":"VLOOKUP(H6878,[2]SSIFSEP!$H$2:$I$7593,2,0)","v":"은행간대여금"},"Interbank Loans","USD","BE1",1.1000000000000001,0,"1",395,{"$f":"VLOOKUP(K6878,[1]EXRATE!C$3:F$43,4,0)","v":1344.8},5311.96,"",35,"",0,0,"","","","","","W","HIE","","",20230926,160849,0.04,29.67,"CIBM              AF80327","RBUSEL",353,"065KE"]
["KR","HSBC",2,0,0,null,"RBUSEL353073CT","RBU",{"$f":"VLOOKUP(H6883,[2]SSIFSEP!$H$2:$I$7593,2,0)","v":"은행간대여금"},"Interbank Loans","USD","BE1",1.1000000000000001,0,"1",74,{"$f":"VLOOKUP(K6883,[1]EXRATE!C$3:F$43,4,0)","v":1344.8},995.15199999999993,"",35,"",0,0,"","","","","","W","HIE","","",20230926,160849,0.04,29.67,"CIBM              AF80327","RBUSEL",353,"073CT"]
["KR","HSBC",2,0,0,null,"RBUSEL353092KE","RBU",{"$f":"VLOOKUP(H6891,[2]SSIFSEP!$H$2:$I$7593,2,0)","v":"은행간대여금"},"Interbank Loans","USD","BE1",1.1000000000000001,0,"1",468,{"$f":"VLOOKUP(K6891,[1]EXRATE!C$3:F$43,4,0)","v":1344.8},6293.6640000000007,"",35,"",0,0,"","","","","","W","HIE","","",20230926,160849,0.04,29.77,"CIBM              AF80327","RBUSEL",353,"092KE"]
["KR","HSBC",2,0,0,null,"RBUSEL353103SH","RBU",{"$f":"VLOOKUP(H6898,[2]SSIFSEP!$H$2:$I$7593,2,0)","v":"은행간대여금"},"Interbank Loans","USD","BE1",1.1000000000000001,0,"1",1877,{"$f":"VLOOKUP(K6898,[1]EXRATE!C$3:F$43,4,0)","v":1344.8},25241.896000000001,"",35,"",0,0,"","","","","","W","HIE","","",20230926,160849,0.04,29.97,"CIBM              AF80327","RBUSEL",353,"103SH"]
["KR","HSBC",2,0,0,null,"RBUSEL353108CT","RBU",{"$f":"VLOOKUP(H6903,[2]SSIFSEP!$H$2:$I$7593,2,0)","v":"은행간대여금"},"Interbank Loans","USD","BE1",1.1000000000000001,0,"1",7441,{"$f":"VLOOKUP(K6903,[1]EXRATE!C$3:F$43,4,0)","v":1344.8},100066.56799999998,"",35,"",0,0,"","","","","","W","HIE","","",20230926,160849,0.04,29.68,"CIBM              AF80327","RBUSEL",353,"108CT"]
["KR","HSBC",2,0,0,null,"RBUSEL353120CB","RBU",{"$f":"VLOOKUP(H6911,[2]SSIFSEP!$H$2:$I$7593,2,0)","v":"은행간대여금"},"Interbank Loans","CNY","BE1",1.1000000000000001,0,"1",159,{"$f":"VLOOKUP(K6911,[1]EXRATE!C$3:F$43,4,0)","v":184.26999873814515},292.98929799365078,"",29,"",0,0,"","","","","","W","HIE","","",20230926,160849,0.04,29.47,"CIBM              AF80327","RBUSEL",353,"120CB"]
["KR","HSBC",2,0,0,null,"RBUSEL353132NA","RBU",{"$f":"VLOOKUP(H6919,[2]SSIFSEP!$H$2:$I$7593,2,0)","v":"은행간대여금"},"Interbank Loans","CNY","BE1",1.1000000000000001,0,"1",48,{"$f":"VLOOKUP(K6919,[1]EXRATE!C$3:F$43,4,0)","v":184.26999873814515},88.449599394309658,"",29,"",0,0,"","","","","","W","HIE","","",20230926,160849,0.04,25.085000000000001,"CIBM              AF80327","RBUSEL",353,"132NA"]
["KR","HSBC",2,0,0,null,"RBUSEL353136KE","RBU",{"$f":"VLOOKUP(H6923,[2]SSIFSEP!$H$2:$I$7593,2,0)","v":"은행간대여금"},"Interbank Loans","USD","BE1",1.1000000000000001,0,"1",100,{"$f":"VLOOKUP(K6923,[1]EXRATE!C$3:F$43,4,0)","v":1344.8},1344.8,"",35,"",0,0,"","","","","","W","HIE","","",20230926,160849,0.04,29.68,"CIBM              AF80327","RBUSEL",353,"136KE"]
["KR","HSBC",2,0,0,null,"RBUSEL353150CT","RBU",{"$f":"VLOOKUP(H6931,[2]SSIFSEP!$H$2:$I$7593,2,0)","v":"은행간대여금"},"Interbank Loans","USD","BE1",1.1000000000000001,0,"1",230,{"$f":"VLOOKUP(K6931,[1]EXRATE!C$3:F$43,4,0)","v":1344.8},3093.04,"",35,"",0,0,"","","","","","W","HIE","","",20230926,160849,0.04,29.77,"CIBM              AF80327","RBUSEL",353,"150CT"]
["KR","HSBC",2,0,0,null,"RBUSEL353175KE","RBU",{"$f":"VLOOKUP(H6943,[2]SSIFSEP!$H$2:$I$7593,2,0)","v":"은행간대여금"},"Interbank Loans","USD","BE1",1.1000000000000001,0,"1",137,{"$f":"VLOOKUP(K6943,[1]EXRATE!C$3:F$43,4,0)","v":1344.8},1842.376,"",35,"",0,0,"","","","","","W","HIE","","",20230926,160849,0.04,29.48,"CIBM              AF80327","RBUSEL",353,"175KE"]
["KR","HSBC",2,0,0,null,"RBUSEL353181KE","RBU",{"$f":"VLOOKUP(H6948,[2]SSIFSEP!$H$2:$I$7593,2,0)","v":"은행간대여금"},"Interbank Loans","USD","BE1",1.1000000000000001,0,"1",3728,{"$f":"VLOOKUP(K6948,[1]EXRATE!C$3:F$43,4,0)","v":1344.8},50134.143999999993,"",35,"",0,0,"","","","","","W","HIE","","",20230926,160849,0.04,29.77,"CIBM              AF80327","RBUSEL",353,"181KE"]
["KR","HSBC",2,0,0,null,"RBUSEL353196KE","RBU",{"$f":"VLOOKUP(H6951,[2]SSIFSEP!$H$2:$I$7593,2,0)","v":"은행간대여금"},"Interbank Loans","USD","BE1",1.1000000000000001,0,"1",96,{"$f":"VLOOKUP(K6951,[1]EXRATE!C$3:F$43,4,0)","v":1344.8},1291.0079999999998,"",35,"",0,0,"","","","","","W","HIE","","",20230926,160849,0.04,29.77,"CIBM              AF80327","RBUSEL",353,"196KE"]
["KR","HSBC",2,0,0,null,"RBUSEL353229KE","RBU",{"$f":"VLOOKUP(H6963,[2]SSIFSEP!$H$2:$I$7593,2,0)","v":"은행간대여금"},"Interbank Loans","USD","BE1",1.1000000000000001,0,"1",338,{"$f":"VLOOKUP(K6963,[1]EXRATE!C$3:F$43,4,0)","v":1344.8},4545.424,"",35,"",0,0,"","","","","","W","HIE","","",20230926,160849,0.04,29.77,"CIBM              AF80327","RBUSEL",353,"229KE"]
["KR","HSBC",2,0,0,null,"RBUSEL353230NA","RBU",{"$f":"VLOOKUP(H6964,[2]SSIFSEP!$H$2:$I$7593,2,0)","v":"은행간대여금"},"Interbank Loans","CNY","BE1",1.1000000000000001,0,"1",328,{"$f":"VLOOKUP(K6964,[1]EXRATE!C$3:F$43,4,0)","v":184.26999873814515},604.40559586111613,"",29,"",0,0,"","","","","","W","HIE","","",20230926,160849,0.04,24.684999999999999,"CIBM              AF80327","RBUSEL",353,"230NA"]
["KR","HSBC",2,0,0,null,"RBUSEL353243CB","RBU",{"$f":"VLOOKUP(H6971,[2]SSIFSEP!$H$2:$I$7593,2,0)","v":"은행간대여금"},"Interbank Loans","USD","BE1",1.1000000000000001,0,"1",339,{"$f":"VLOOKUP(K6971,[1]EXRATE!C$3:F$43,4,0)","v":1344.8},4558.8720000000003,"",35,"",0,0,"","","","","","W","HIE","","",20230926,160849,0.04,29.87,"CIBM              AF80327","RBUSEL",353,"243CB"]
["KR","HSBC",2,0,0,null,"RBUSEL353269CT","RBU",{"$f":"VLOOKUP(H6983,[2]SSIFSEP!$H$2:$I$7593,2,0)","v":"은행간대여금"},"Interbank Loans","USD","BE1",1.1000000000000001,0,"1",88,{"$f":"VLOOKUP(K6983,[1]EXRATE!C$3:F$43,4,0)","v":1344.8},1183.424,"",35,"",0,0,"","","","","","W","HIE","","",20230926,160849,0.04,29.78,"CIBM              AF80327","RBUSEL",353,"269CT"]
["KR","HSBC",2,0,0,null,"RBUSEL353270KE","RBU",{"$f":"VLOOKUP(H6984,[2]SSIFSEP!$H$2:$I$7593,2,0)","v":"은행간대여금"},"Interbank Loans","USD","BE1",1.1000000000000001,0,"1",129,{"$f":"VLOOKUP(K6984,[1]EXRATE!C$3:F$43,4,0)","v":1344.8},1734.7919999999999,"",35,"",0,0,"","","","","","W","HIE","","",20230926,160849,0.04,29.78,"CIBM              AF80327","RBUSEL",353,"270KE"]
["KR","HSBC",2,0,0,null,"RBUSEL353286KE","RBU",{"$f":"VLOOKUP(H6996,[2]SSIFSEP!$H$2:$I$7593,2,0)","v":"은행간대여금"},"Interbank Loans","USD","BE1",1.1000000000000001,0,"1",514,{"$f":"VLOOKUP(K6996,[1]EXRATE!C$3:F$43,4,0)","v":1344.8},6912.2719999999999,"",35,"",0,0,"","","","","","W","HIE","","",20230926,160849,0.04,29.87,"CIBM              AF80327","RBUSEL",353,"286KE"]
["KR","HSBC",2,0,0,null,"RBUSEL353294KE","RBU",{"$f":"VLOOKUP(H7002,[2]SSIFSEP!$H$2:$I$7593,2,0)","v":"은행간대여금"},"Interbank Loans","USD","BE1",1.1000000000000001,0,"1",255,{"$f":"VLOOKUP(K7002,[1]EXRATE!C$3:F$43,4,0)","v":1344.8},3429.24,"",35,"",0,0,"","","","","","W","HIE","","",20230926,160849,0.04,29.57,"CIBM              AF80327","RBUSEL",353,"294KE"]
["KR","HSBC",2,0,0,null,"RBUSEL353296CT","RBU",{"$f":"VLOOKUP(H7004,[2]SSIFSEP!$H$2:$I$7593,2,0)","v":"은행간대여금"},"Interbank Loans","USD","BNK",1.1000000000000001,0,"1",0,{"$f":"VLOOKUP(K7004,[1]EXRATE!C$3:F$43,4,0)","v":1344.8},0,"",48,"",0,0,"","","","","","W","HIE","","",20230926,160849,0.04,29.97,"CIBM              AF80327","RBUSEL",353,"296CT"]
["KR","HSBC",2,0,0,null,"RBUSEL353321SH","RBU",{"$f":"VLOOKUP(H7016,[2]SSIFSEP!$H$2:$I$7593,2,0)","v":"은행간대여금"},"Interbank Loans","USD","BE1",1.1000000000000001,0,"1",997,{"$f":"VLOOKUP(K7016,[1]EXRATE!C$3:F$43,4,0)","v":1344.8},13407.655999999999,"",35,"",0,0,"","","","","","W","HIE","","",20230926,160849,0.04,29.87,"CIBM              AF80327","RBUSEL",353,"321SH"]
["KR","HSBC",2,0,0,null,"RBUSEL353345NA","RBU",{"$f":"VLOOKUP(H7024,[2]SSIFSEP!$H$2:$I$7593,2,0)","v":"은행간대여금"},"Interbank Loans","USD","BE1",1.1000000000000001,0,"1",17,{"$f":"VLOOKUP(K7024,[1]EXRATE!C$3:F$43,4,0)","v":1344.8},228.61599999999999,"",35,"",0,0,"","","","","","W","HIE","","",20230926,160849,0.04,30.08,"CIBM              AF80327","RBUSEL",353,"345NA"]
["KR","HSBC",2,0,0,null,"RBUSEL353348KE","RBU",{"$f":"VLOOKUP(H7025,[2]SSIFSEP!$H$2:$I$7593,2,0)","v":"은행간대여금"},"Interbank Loans","USD","BE1",1.1000000000000001,0,"1",218,{"$f":"VLOOKUP(K7025,[1]EXRATE!C$3:F$43,4,0)","v":1344.8},2931.6639999999998,"",35,"",0,0,"","","","","","W","HIE","","",20230926,160849,0.04,29.87,"CIBM              AF80327","RBUSEL",353,"348KE"]
["KR","HSBC",2,0,0,null,"RBUSEL353362MD","RBU",{"$f":"VLOOKUP(H7036,[2]SSIFSEP!$H$2:$I$7593,2,0)","v":"은행간대여금"},"Interbank Loans","AUD","BK4",1.1000000000000001,0,"1",12,{"$f":"VLOOKUP(K7036,[1]EXRATE!C$3:F$43,4,0)","v":859.99959999999987},103.19995199999998,"",36,"",0,0,"","","","","","W","HIE","","",20230926,160849,0.02,40.29,"CIBM              AF80327","RBUSEL",353,"362MD"]
["KR","HSBC",2,0,0,null,"RBUSEL353376SH","RBU",{"$f":"VLOOKUP(H7044,[2]SSIFSEP!$H$2:$I$7593,2,0)","v":"은행간대여금"},"Interbank Loans","USD","BE1",1.1000000000000001,0,"1",2031,{"$f":"VLOOKUP(K7044,[1]EXRATE!C$3:F$43,4,0)","v":1344.8},27312.887999999999,"",35,"",0,0,"","","","","","W","HIE","","",20230926,160849,0.04,29.87,"CIBM              AF80327","RBUSEL",353,"376SH"]
["KR","HSBC",2,0,0,null,"RBUSEL353381CT","RBU",{"$f":"VLOOKUP(H7049,[2]SSIFSEP!$H$2:$I$7593,2,0)","v":"은행간대여금"},"Interbank Loans","USD","BE1",1.1000000000000001,0,"1",9382,{"$f":"VLOOKUP(K7049,[1]EXRATE!C$3:F$43,4,0)","v":1344.8},126169.136,"",35,"",0,0,"","","","","","W","HIE","","",20230926,160849,0.04,29.97,"CIBM              AF80327","RBUSEL",353,"381CT"]
["KR","HSBC",2,0,0,null,"RBUSEL353388EI","RBU",{"$f":"VLOOKUP(H7056,[2]SSIFSEP!$H$2:$I$7593,2,0)","v":"은행간대여금"},"Interbank Loans","USD","C15",1.1000000000000001,0,"1",1919,{"$f":"VLOOKUP(K7056,[1]EXRATE!C$3:F$43,4,0)","v":1344.8},25806.711999999996,"",138,"",0,0,"","","","","","W","HIE","","",20230926,160849,0.02,40.29,"CIBM              AI80182","RBUSEL",353,"388EI"]
["KR","HSBC",2,0,0,null,"RBUSEL353401KE","RBU",{"$f":"VLOOKUP(H7061,[2]SSIFSEP!$H$2:$I$7593,2,0)","v":"은행간대여금"},"Interbank Loans","USD","BE1",1.1000000000000001,0,"1",51999,{"$f":"VLOOKUP(K7061,[1]EXRATE!C$3:F$43,4,0)","v":1344.8},699282.55200000003,"",35,"",0,0,"","","","","","W","HIE","","",20230926,160849,0.04,30.07,"CIBM              AF80327","RBUSEL",353,"401KE"]
["KR","HSBC",2,0,0,null,"RBUSEL353419MD","RBU",{"$f":"VLOOKUP(H7069,[2]SSIFSEP!$H$2:$I$7593,2,0)","v":"은행간대여금"},"Interbank Loans","AUD","BK4",1.1000000000000001,0,"1",186,{"$f":"VLOOKUP(K7069,[1]EXRATE!C$3:F$43,4,0)","v":859.99959999999987},1599.599256,"",36,"",0,0,"","","","","","W","HIE","","",20230926,160849,0.02,40.29,"CIBM              AF80327","RBUSEL",353,"419MD"]
["KR","HSBC",2,0,0,null,"RBUSEL353434MD","RBU",{"$f":"VLOOKUP(H7077,[2]SSIFSEP!$H$2:$I$7593,2,0)","v":"은행간대여금"},"Interbank Loans","AUD","BK4",1.1000000000000001,0,"1",160,{"$f":"VLOOKUP(K7077,[1]EXRATE!C$3:F$43,4,0)","v":859.99959999999987},1375.9993599999998,"",36,"",0,0,"","","","","","W","HIE","","",20230926,160849,0.02,40.29,"CIBM              AF80327","RBUSEL",353,"434MD"]
["KR","HSBC",2,0,0,null,"RBUSEL353436CB","RBU",{"$f":"VLOOKUP(H7079,[2]SSIFSEP!$H$2:$I$7593,2,0)","v":"은행간대여금"},"Interbank Loans","USD","BE1",1.1000000000000001,0,"1",57,{"$f":"VLOOKUP(K7079,[1]EXRATE!C$3:F$43,4,0)","v":1344.8},766.53599999999994,"",35,"",0,0,"","","","","","W","HIE","","",20230926,160849,0.04,29.78,"CIBM              AF80327","RBUSEL",353,"436CB"]
["KR","HSBC",2,0,0,null,"RBUSEL353451NA","RBU",{"$f":"VLOOKUP(H7089,[2]SSIFSEP!$H$2:$I$7593,2,0)","v":"은행간대여금"},"Interbank Loans","USD","BE1",1.1000000000000001,0,"1",119,{"$f":"VLOOKUP(K7089,[1]EXRATE!C$3:F$43,4,0)","v":1344.8},1600.3119999999999,"",35,"",0,0,"","","","","","W","HIE","","",20230926,160849,0.04,29.98,"CIBM              AF80327","RBUSEL",353,"451NA"]
["KR","HSBC",2,0,0,null,"RBUSEL353461NA","RBU",{"$f":"VLOOKUP(H7097,[2]SSIFSEP!$H$2:$I$7593,2,0)","v":"은행간대여금"},"Interbank Loans","CNY","BE1",1.1000000000000001,0,"1",1706,{"$f":"VLOOKUP(K7097,[1]EXRATE!C$3:F$43,4,0)","v":184.26999873814515},{"$f":"+P7097*Q7097/100","v":3143.6461784727562},"",29,"",0,0,"","","","","","W","HIE","","",20230926,160849,0.04,24.285,"CIBM              AF80327","RBUSEL",353,"461NA"]
["KR","HSBC",2,0,0,null,"RBUSEL353475KE","RBU",{"$f":"VLOOKUP(H7102,[2]SSIFSEP!$H$2:$I$7593,2,0)","v":"은행간대여금"},"Interbank Loans","USD","BE1",1.1000000000000001,0,"1",1874,{"$f":"VLOOKUP(K7102,[1]EXRATE!C$3:F$43,4,0)","v":1344.8},25201.551999999996,"",35,"",0,0,"","","","","","W","HIE","","",20230926,160849,0.04,29.97,"CIBM              AF80327","RBUSEL",353,"475KE"]
["KR","HSBC",2,0,0,null,"RBUSEL353483CB","RBU",{"$f":"VLOOKUP(H7110,[2]SSIFSEP!$H$2:$I$7593,2,0)","v":"은행간대여금"},"Interbank Loans","USD","BE1",1.1000000000000001,0,"1",513,{"$f":"VLOOKUP(K7110,[1]EXRATE!C$3:F$43,4,0)","v":1344.8},6898.8240000000005,"",35,"",0,0,"","","","","","W","HIE","","",20230926,160849,0.04,31.664999999999999,"CIBM              AF80327","RBUSEL",353,"483CB"]
["KR","HSBC",2,0,0,null,"RBUSEL353488KE","RBU",{"$f":"VLOOKUP(H7114,[2]SSIFSEP!$H$2:$I$7593,2,0)","v":"은행간대여금"},"Interbank Loans","USD","BE1",1.1000000000000001,0,"1",66,{"$f":"VLOOKUP(K7114,[1]EXRATE!C$3:F$43,4,0)","v":1344.8},887.56799999999998,"",35,"",0,0,"","","","","","W","HIE","","",20230926,160849,0.04,30.07,"CIBM              AF80327","RBUSEL",353,"488KE"]
["KR","HSBC",2,0,0,null,"RBUSEL353499CT","RBU",{"$f":"VLOOKUP(H7122,[2]SSIFSEP!$H$2:$I$7593,2,0)","v":"은행간대여금"},"Interbank Loans","USD","BE1",1.1000000000000001,0,"1",953,{"$f":"VLOOKUP(K7122,[1]EXRATE!C$3:F$43,4,0)","v":1344.8},12815.944,"",35,"",0,0,"","","","","","W","HIE","","",20230926,160849,0.04,30.17,"CIBM              AF80327","RBUSEL",353,"499CT"]
["KR","HSBC",2,0,0,null,"RBUSEL353509KE","RBU",{"$f":"VLOOKUP(H7130,[2]SSIFSEP!$H$2:$I$7593,2,0)","v":"은행간대여금"},"Interbank Loans","USD","BE1",1.1000000000000001,0,"1",599,{"$f":"VLOOKUP(K7130,[1]EXRATE!C$3:F$43,4,0)","v":1344.8},8055.3519999999999,"",35,"",0,0,"","","","","","W","HIE","","",20230926,160849,0.04,30.48,"CIBM              AF80327","RBUSEL",353,"509KE"]
["KR","HSBC",2,0,0,null,"RBUSEL353512KE","RBU",{"$f":"VLOOKUP(H7133,[2]SSIFSEP!$H$2:$I$7593,2,0)","v":"은행간대여금"},"Interbank Loans","USD","BE1",1.1000000000000001,0,"1",51,{"$f":"VLOOKUP(K7133,[1]EXRATE!C$3:F$43,4,0)","v":1344.8},685.84800000000007,"",35,"",0,0,"","","","","","W","HIE","","",20230926,160849,0.04,29.67,"CIBM              AF80327","RBUSEL",353,"512KE"]
["KR","HSBC",2,0,0,null,"RBUSEL353530KE","RBU",{"$f":"VLOOKUP(H7142,[2]SSIFSEP!$H$2:$I$7593,2,0)","v":"은행간대여금"},"Interbank Loans","USD","BE1",1.1000000000000001,0,"1",204,{"$f":"VLOOKUP(K7142,[1]EXRATE!C$3:F$43,4,0)","v":1344.8},2743.3920000000003,"",35,"",0,0,"","","","","","W","HIE","","",20230926,160849,0.04,29.87,"CIBM              AF80327","RBUSEL",353,"530KE"]
["KR","HSBC",2,0,0,null,"RBUSEL353539CT","RBU",{"$f":"VLOOKUP(H7150,[2]SSIFSEP!$H$2:$I$7593,2,0)","v":"은행간대여금"},"Interbank Loans","USD","BE1",1.1000000000000001,0,"1",3808,{"$f":"VLOOKUP(K7150,[1]EXRATE!C$3:F$43,4,0)","v":1344.8},51209.983999999997,"",35,"",0,0,"","","","","","W","HIE","","",20230926,160849,0.04,29.87,"CIBM              AF80327","RBUSEL",353,"539CT"]
["KR","HSBC",2,0,0,null,"RBUSEL353544SH","RBU",{"$f":"VLOOKUP(H7155,[2]SSIFSEP!$H$2:$I$7593,2,0)","v":"은행간대여금"},"Interbank Loans","USD","BE1",1.1000000000000001,0,"1",52,{"$f":"VLOOKUP(K7155,[1]EXRATE!C$3:F$43,4,0)","v":1344.8},699.29599999999994,"",35,"",0,0,"","","","","","W","HIE","","",20230926,160849,0.04,29.87,"CIBM              AF80327","RBUSEL",353,"544SH"]
["KR","HSBC",2,0,0,null,"RBUSEL353562SH","RBU",{"$f":"VLOOKUP(H7164,[2]SSIFSEP!$H$2:$I$7593,2,0)","v":"은행간대여금"},"Interbank Loans","USD","BE1",1.1000000000000001,0,"1",634,{"$f":"VLOOKUP(K7164,[1]EXRATE!C$3:F$43,4,0)","v":1344.8},8526.0319999999992,"",35,"",0,0,"","","","","","W","HIE","","",20230926,160849,0.04,29.87,"CIBM              AF80327","RBUSEL",353,"562SH"]
["KR","HSBC",2,0,0,null,"RBUSEL353565CT","RBU",{"$f":"VLOOKUP(H7167,[2]SSIFSEP!$H$2:$I$7593,2,0)","v":"은행간대여금"},"Interbank Loans","USD","BE1",1.1000000000000001,0,"1",385,{"$f":"VLOOKUP(K7167,[1]EXRATE!C$3:F$43,4,0)","v":1344.8},5177.4799999999996,"",35,"",0,0,"","","","","","W","HIE","","",20230926,160849,0.04,29.69,"CIBM              AF80327","RBUSEL",353,"565CT"]
["KR","HSBC",2,0,0,null,"RBUSEL353578SH","RBU",{"$f":"VLOOKUP(H7175,[2]SSIFSEP!$H$2:$I$7593,2,0)","v":"은행간대여금"},"Interbank Loans","USD","BE1",1.1000000000000001,0,"1",145,{"$f":"VLOOKUP(K7175,[1]EXRATE!C$3:F$43,4,0)","v":1344.8},1949.96,"",35,"",0,0,"","","","","","W","HIE","","",20230926,160849,0.04,29.87,"CIBM              AF80327","RBUSEL",353,"578SH"]
["KR","HSBC",2,0,0,null,"RBUSEL353602MD","RBU",{"$f":"VLOOKUP(H7183,[2]SSIFSEP!$H$2:$I$7593,2,0)","v":"은행간대여금"},"Interbank Loans","AUD","BK4",1.1000000000000001,0,"1",282,{"$f":"VLOOKUP(K7183,[1]EXRATE!C$3:F$43,4,0)","v":859.99959999999987},2425.1988719999995,"",36,"",0,0,"","","","","","W","HIE","","",20230926,160849,0.02,40.29,"CIBM              AF80327","RBUSEL",353,"602MD"]
["KR","HSBC",2,0,0,null,"RBUSEL353606CT","RBU",{"$f":"VLOOKUP(H7187,[2]SSIFSEP!$H$2:$I$7593,2,0)","v":"은행간대여금"},"Interbank Loans","USD","BE1",1.1000000000000001,0,"1",6747,{"$f":"VLOOKUP(K7187,[1]EXRATE!C$3:F$43,4,0)","v":1344.8},90733.656000000003,"",35,"",0,0,"","","","","","W","HIE","","",20230926,160849,0.04,29.77,"CIBM              AF80327","RBUSEL",353,"606CT"]
["KR","HSBC",2,0,0,null,"RBUSEL353620KE","RBU",{"$f":"VLOOKUP(H7195,[2]SSIFSEP!$H$2:$I$7593,2,0)","v":"은행간대여금"},"Interbank Loans","USD","BE1",1.1000000000000001,0,"1",100,{"$f":"VLOOKUP(K7195,[1]EXRATE!C$3:F$43,4,0)","v":1344.8},1344.8,"",35,"",0,0,"","","","","","W","HIE","","",20230926,160849,0.04,29.67,"CIBM              AF80327","RBUSEL",353,"620KE"]
["KR","HSBC",2,0,0,null,"RBUSEL353625KE","RBU",{"$f":"VLOOKUP(H7200,[2]SSIFSEP!$H$2:$I$7593,2,0)","v":"은행간대여금"},"Interbank Loans","USD","BE1",1.1000000000000001,0,"1",4116,{"$f":"VLOOKUP(K7200,[1]EXRATE!C$3:F$43,4,0)","v":1344.8},55351.968000000001,"",35,"",0,0,"","","","","","W","HIE","","",20230926,160849,0.04,29.78,"CIBM              AF80327","RBUSEL",353,"625KE"]
["KR","HSBC",2,0,0,null,"RBUSEL353635EI","RBU",{"$f":"VLOOKUP(H7208,[2]SSIFSEP!$H$2:$I$7593,2,0)","v":"은행간대여금"},"Interbank Loans","USD","C15",1.1000000000000001,0,"1",3304,{"$f":"VLOOKUP(K7208,[1]EXRATE!C$3:F$43,4,0)","v":1344.8},44432.192000000003,"",138,"",0,0,"","","","","","W","HIE","","",20230926,160849,0.02,40.29,"CIBM              AI80182","RBUSEL",353,"635EI"]
["KR","HSBC",2,0,0,null,"RBUSEL353653CT","RBU",{"$f":"VLOOKUP(H7218,[2]SSIFSEP!$H$2:$I$7593,2,0)","v":"은행간대여금"},"Interbank Loans","USD","BE1",1.1000000000000001,0,"1",27,{"$f":"VLOOKUP(K7218,[1]EXRATE!C$3:F$43,4,0)","v":1344.8},363.096,"",35,"",0,0,"","","","","","W","HIE","","",20230926,160849,0.04,29.864999999999998,"CIBM              AF80327","RBUSEL",353,"653CT"]
["KR","HSBC",2,0,0,null,"RBUSEL353660CB","RBU",{"$f":"VLOOKUP(H7220,[2]SSIFSEP!$H$2:$I$7593,2,0)","v":"은행간대여금"},"Interbank Loans","USD","BE1",1.1000000000000001,0,"1",362,{"$f":"VLOOKUP(K7220,[1]EXRATE!C$3:F$43,4,0)","v":1344.8},4868.1759999999995,"",35,"",0,0,"","","","","","W","HIE","","",20230926,160849,0.04,29.89,"CIBM              AF80327","RBUSEL",353,"660CB"]
["KR","HSBC",2,0,0,null,"RBUSEL353676KE","RBU",{"$f":"VLOOKUP(H7228,[2]SSIFSEP!$H$2:$I$7593,2,0)","v":"은행간대여금"},"Interbank Loans","USD","BE1",1.1000000000000001,0,"1",545,{"$f":"VLOOKUP(K7228,[1]EXRATE!C$3:F$43,4,0)","v":1344.8},7329.16,"",35,"",0,0,"","","","","","W","HIE","","",20230926,160849,0.04,29.89,"CIBM              AF80327","RBUSEL",353,"676KE"]
["KR","HSBC",2,0,0,null,"RBUSEL353684KE","RBU",{"$f":"VLOOKUP(H7236,[2]SSIFSEP!$H$2:$I$7593,2,0)","v":"은행간대여금"},"Interbank Loans","USD","BE1",1.1000000000000001,0,"1",1114,{"$f":"VLOOKUP(K7236,[1]EXRATE!C$3:F$43,4,0)","v":1344.8},14981.072,"",35,"",0,0,"","","","","","W","HIE","","",20230926,160849,0.04,29.89,"CIBM              AF80327","RBUSEL",353,"684KE"]
["KR","HSBC",2,0,0,null,"RBUSEL353692KE","RBU",{"$f":"VLOOKUP(H7241,[2]SSIFSEP!$H$2:$I$7593,2,0)","v":"은행간대여금"},"Interbank Loans","USD","BE1",1.1000000000000001,0,"1",41,{"$f":"VLOOKUP(K7241,[1]EXRATE!C$3:F$43,4,0)","v":1344.8},551.36799999999994,"",35,"",0,0,"","","","","","W","HIE","","",20230926,160849,0.04,29.89,"CIBM              AF80327","RBUSEL",353,"692KE"]
["KR","HSBC",2,0,0,null,"RBUSEL353719KE","RBU",{"$f":"VLOOKUP(H7248,[2]SSIFSEP!$H$2:$I$7593,2,0)","v":"은행간대여금"},"Interbank Loans","USD","BE1",1.1000000000000001,0,"1",5898,{"$f":"VLOOKUP(K7248,[1]EXRATE!C$3:F$43,4,0)","v":1344.8},79316.303999999989,"",35,"",0,0,"","","","","","W","HIE","","",20230926,160849,0.04,29.965,"CIBM              AF80327","RBUSEL",353,"719KE"]
["KR","HSBC",2,0,0,null,"RBUSEL353739NA","RBU",{"$f":"VLOOKUP(H7260,[2]SSIFSEP!$H$2:$I$7593,2,0)","v":"은행간대여금"},"Interbank Loans","CNY","BE1",1.1000000000000001,0,"1",313,{"$f":"VLOOKUP(K7260,[1]EXRATE!C$3:F$43,4,0)","v":184.26999873814515},576.76509605039428,"",29,"",0,0,"","","","","","W","HIE","","",20230926,160849,0.04,24.69,"CIBM              AF80327","RBUSEL",353,"739NA"]
["KR","HSBC",2,0,0,null,"RBUSEL353740NA","RBU",{"$f":"VLOOKUP(H7261,[2]SSIFSEP!$H$2:$I$7593,2,0)","v":"은행간대여금"},"Interbank Loans","USD","BE1",1.1000000000000001,0,"1",3826,{"$f":"VLOOKUP(K7261,[1]EXRATE!C$3:F$43,4,0)","v":1344.8},51452.047999999995,"",35,"",0,0,"","","","","","W","HIE","","",20230926,160849,0.04,29.97,"CIBM              AF80327","RBUSEL",353,"740NA"]
["KR","HSBC",2,0,0,null,"RBUSEL353766KE","RBU",{"$f":"VLOOKUP(H7272,[2]SSIFSEP!$H$2:$I$7593,2,0)","v":"은행간대여금"},"Interbank Loans","USD","BE1",1.1000000000000001,0,"1",403,{"$f":"VLOOKUP(K7272,[1]EXRATE!C$3:F$43,4,0)","v":1344.8},5419.5439999999999,"",35,"",0,0,"","","","","","W","HIE","","",20230926,160849,0.04,29.97,"CIBM              AF80327","RBUSEL",353,"766KE"]
["KR","HSBC",2,0,0,null,"RBUSEL353776KE","RBU",{"$f":"VLOOKUP(H7280,[2]SSIFSEP!$H$2:$I$7593,2,0)","v":"은행간대여금"},"Interbank Loans","USD","BE1",1.1000000000000001,0,"1",168,{"$f":"VLOOKUP(K7280,[1]EXRATE!C$3:F$43,4,0)","v":1344.8},2259.2640000000001,"",35,"",0,0,"","","","","","W","HIE","","",20230926,160849,0.04,29.87,"CIBM              AF80327","RBUSEL",353,"776KE"]
["KR","HSBC",2,0,0,null,"RBUSEL353777EI","RBU",{"$f":"VLOOKUP(H7281,[2]SSIFSEP!$H$2:$I$7593,2,0)","v":"은행간대여금"},"Interbank Loans","USD","C15",1.1000000000000001,0,"1",2435,{"$f":"VLOOKUP(K7281,[1]EXRATE!C$3:F$43,4,0)","v":1344.8},32745.88,"",138,"",0,0,"","","","","","W","HIE","","",20230926,160849,0.02,40.29,"CIBM              AI80182","RBUSEL",353,"777EI"]
["KR","HSBC",2,0,0,null,"RBUSEL353788EI","RBU",{"$f":"VLOOKUP(H7289,[2]SSIFSEP!$H$2:$I$7593,2,0)","v":"은행간대여금"},"Interbank Loans","USD","C15",1.1000000000000001,0,"1",100,{"$f":"VLOOKUP(K7289,[1]EXRATE!C$3:F$43,4,0)","v":1344.8},{"$f":"+P7289*Q7289/100","v":1344.8},"",138,"",0,0,"","","","","","W","HIE","","",20230926,160849,0.02,40.29,"CIBM              AI80182","RBUSEL",353,"788EI"]
["KR","HSBC",2,0,0,null,"RBUSEL353795KE","RBU",{"$f":"VLOOKUP(H7295,[2]SSIFSEP!$H$2:$I$7593,2,0)","v":"은행간대여금"},"Interbank Loans","USD","BE1",1.1000000000000001,0,"1",9394,{"$f":"VLOOKUP(K7295,[1]EXRATE!C$3:F$43,4,0)","v":1344.8},126330.51199999999,"",35,"",0,0,"","","","","","W","HIE","","",20230926,160849,0.04,29.97,"CIBM              AF80327","RBUSEL",353,"795KE"]
["KR","HSBC",2,0,0,null,"RBUSEL353804NA","RBU",{"$f":"VLOOKUP(H7301,[2]SSIFSEP!$H$2:$I$7593,2,0)","v":"은행간대여금"},"Interbank Loans","CNY","BE1",1.1000000000000001,0,"1",358,{"$f":"VLOOKUP(K7301,[1]EXRATE!C$3:F$43,4,0)","v":184.26999873814515},659.6865954825596,"",29,"",0,0,"","","","","","W","HIE","","",20230926,160849,0.04,24.475000000000001,"CIBM              AF80327","RBUSEL",353,"804NA"]
["KR","HSBC",2,0,0,null,"RBUSEL353838KE","RBU",{"$f":"VLOOKUP(H7313,[2]SSIFSEP!$H$2:$I$7593,2,0)","v":"은행간대여금"},"Interbank Loans","USD","BE1",1.1000000000000001,0,"1",61,{"$f":"VLOOKUP(K7313,[1]EXRATE!C$3:F$43,4,0)","v":1344.8},820.32799999999997,"",35,"",0,0,"","","","","","W","HIE","","",20230926,160849,0.04,29.77,"CIBM              AF80327","RBUSEL",353,"838KE"]
["KR","HSBC",2,0,0,null,"RBUSEL353854CB","RBU",{"$f":"VLOOKUP(H7321,[2]SSIFSEP!$H$2:$I$7593,2,0)","v":"은행간대여금"},"Interbank Loans","AUD","BE1",1.1000000000000001,0,"1",72,{"$f":"VLOOKUP(K7321,[1]EXRATE!C$3:F$43,4,0)","v":859.99959999999987},619.19971199999998,"",26,"",0,0,"","","","","","W","HIE","","",20230926,160849,0.04,28.37,"CIBM              AF80327","RBUSEL",353,"854CB"]
["KR","HSBC",2,0,0,null,"RBUSEL353863KE","RBU",{"$f":"VLOOKUP(H7326,[2]SSIFSEP!$H$2:$I$7593,2,0)","v":"은행간대여금"},"Interbank Loans","USD","BE1",1.1000000000000001,0,"1",63,{"$f":"VLOOKUP(K7326,[1]EXRATE!C$3:F$43,4,0)","v":1344.8},847.22399999999993,"",35,"",0,0,"","","","","","W","HIE","","",20230926,160849,0.04,29.97,"CIBM              AF80327","RBUSEL",353,"863KE"]
["KR","HSBC",2,0,0,null,"RBUSEL353879SH","RBU",{"$f":"VLOOKUP(H7333,[2]SSIFSEP!$H$2:$I$7593,2,0)","v":"은행간대여금"},"Interbank Loans","USD","BE1",1.1000000000000001,0,"1",1775,{"$f":"VLOOKUP(K7333,[1]EXRATE!C$3:F$43,4,0)","v":1344.8},23870.2,"",35,"",0,0,"","","","","","W","HIE","","",20230926,160849,0.04,29.97,"CIBM              AF80327","RBUSEL",353,"879SH"]
["KR","HSBC",2,0,0,null,"RBUSEL353904CT","RBU",{"$f":"VLOOKUP(H7341,[2]SSIFSEP!$H$2:$I$7593,2,0)","v":"은행간대여금"},"Interbank Loans","USD","BE1",1.1000000000000001,0,"1",27943,{"$f":"VLOOKUP(K7341,[1]EXRATE!C$3:F$43,4,0)","v":1344.8},375777.46399999998,"",35,"",0,0,"","","","","","W","HIE","","",20230926,160849,0.04,29.97,"CIBM              AF80327","RBUSEL",353,"904CT"]
["KR","HSBC",2,0,0,null,"RBUSEL353908MD","RBU",{"$f":"VLOOKUP(H7345,[2]SSIFSEP!$H$2:$I$7593,2,0)","v":"은행간대여금"},"Interbank Loans","CAD","BK4",1.1000000000000001,0,"1",5,{"$f":"VLOOKUP(K7345,[1]EXRATE!C$3:F$43,4,0)","v":994.56421255038265},49.728210627519132,"",37,"",0,0,"","","","","","W","HIE","","",20230926,160849,0.02,40.29,"CIBM              AF80327","RBUSEL",353,"908MD"]
["KR","HSBC",2,0,0,null,"RBUSEL353918KE","RBU",{"$f":"VLOOKUP(H7353,[2]SSIFSEP!$H$2:$I$7593,2,0)","v":"은행간대여금"},"Interbank Loans","USD","BE1",1.1000000000000001,0,"1",2892,{"$f":"VLOOKUP(K7353,[1]EXRATE!C$3:F$43,4,0)","v":1344.8},{"$f":"+P7353*Q7353/100","v":38891.616000000002},"",35,"",0,0,"","","","","","W","HIE","","",20230926,160849,0.04,29.97,"CIBM              AF80327","RBUSEL",353,"918KE"]
["KR","HSBC",2,0,0,null,"RBUSEL353934SH","RBU",{"$f":"VLOOKUP(H7361,[2]SSIFSEP!$H$2:$I$7593,2,0)","v":"은행간대여금"},"Interbank Loans","USD","BE1",1.1000000000000001,0,"1",180,{"$f":"VLOOKUP(K7361,[1]EXRATE!C$3:F$43,4,0)","v":1344.8},2420.64,"",35,"",0,0,"","","","","","W","HIE","","",20230926,160849,0.04,29.97,"CIBM              AF80327","RBUSEL",353,"934SH"]
["KR","HSBC",2,0,0,null,"RBUSEL353942KE","RBU",{"$f":"VLOOKUP(H7366,[2]SSIFSEP!$H$2:$I$7593,2,0)","v":"은행간대여금"},"Interbank Loans","USD","BE1",1.1000000000000001,0,"1",2891,{"$f":"VLOOKUP(K7366,[1]EXRATE!C$3:F$43,4,0)","v":1344.8},38878.167999999998,"",35,"",0,0,"","","","","","W","HIE","","",20230926,160849,0.04,29.97,"CIBM              AF80327","RBUSEL",353,"942KE"]
["KR","HSBC",2,0,0,null,"RBUSEL353954KE","RBU",{"$f":"VLOOKUP(H7370,[2]SSIFSEP!$H$2:$I$7593,2,0)","v":"은행간대여금"},"Interbank Loans","USD","BE1",1.1000000000000001,0,"1",2749,{"$f":"VLOOKUP(K7370,[1]EXRATE!C$3:F$43,4,0)","v":1344.8},36968.551999999996,"",35,"",0,0,"","","","","","W","HIE","","",20230926,160849,0.04,29.97,"CIBM              AF80327","RBUSEL",353,"954KE"]
["KR","HSBC",2,0,0,null,"RBUSEL353968KE","RBU",{"$f":"VLOOKUP(H7381,[2]SSIFSEP!$H$2:$I$7593,2,0)","v":"은행간대여금"},"Interbank Loans","USD","BE1",1.1000000000000001,0,"1",189,{"$f":"VLOOKUP(K7381,[1]EXRATE!C$3:F$43,4,0)","v":1344.8},2541.672,"",35,"",0,0,"","","","","","W","HIE","","",20230926,160849,0.04,29.97,"CIBM              AF80327","RBUSEL",353,"968KE"]
["KR","HSBC",2,0,0,null,"RBUSEL353974KE","RBU",{"$f":"VLOOKUP(H7386,[2]SSIFSEP!$H$2:$I$7593,2,0)","v":"은행간대여금"},"Interbank Loans","USD","BE1",1.1000000000000001,0,"1",1190,{"$f":"VLOOKUP(K7386,[1]EXRATE!C$3:F$43,4,0)","v":1344.8},16003.12,"",35,"",0,0,"","","","","","W","HIE","","",20230926,160849,0.04,29.87,"CIBM              AF80327","RBUSEL",353,"974KE"]
["KR","HSBC",2,0,0,null,"RBUSEL353988KE","RBU",{"$f":"VLOOKUP(H7394,[2]SSIFSEP!$H$2:$I$7593,2,0)","v":"은행간대여금"},"Interbank Loans","USD","BE1",1.1000000000000001,0,"1",134,{"$f":"VLOOKUP(K7394,[1]EXRATE!C$3:F$43,4,0)","v":1344.8},1802.0319999999999,"",35,"",0,0,"","","","","","W","HIE","","",20230926,160849,0.04,29.97,"CIBM              AF80327","RBUSEL",353,"988KE"]
["KR","HSBC",2,0,0,null,"RBUSEL353996KE","RBU",{"$f":"VLOOKUP(H7399,[2]SSIFSEP!$H$2:$I$7593,2,0)","v":"은행간대여금"},"Interbank Loans","USD","BE1",1.1000000000000001,0,"1",628,{"$f":"VLOOKUP(K7399,[1]EXRATE!C$3:F$43,4,0)","v":1344.8},8445.344000000001,"",35,"",0,0,"","","","","","W","HIE","","",20230926,160849,0.04,29.97,"CIBM              AF80327","RBUSEL",353,"996KE"]
["KR","HSBC",2,0,0,null,"RBUSEL354019KE","RBU",{"$f":"VLOOKUP(H7406,[2]SSIFSEP!$H$2:$I$7593,2,0)","v":"은행간대여금"},"Interbank Loans","USD","BE1",1.1000000000000001,0,"1",1289,{"$f":"VLOOKUP(K7406,[1]EXRATE!C$3:F$43,4,0)","v":1344.8},17334.471999999998,"",35,"",0,0,"","","","","","W","HIE","","",20230926,160849,0.04,29.97,"CIBM              AF80327","RBUSEL",354,"019KE"]
["KR","HSBC",2,0,0,null,"RBUSEL354027NA","RBU",{"$f":"VLOOKUP(H7414,[2]SSIFSEP!$H$2:$I$7593,2,0)","v":"은행간대여금"},"Interbank Loans","CNY","BE1",1.1000000000000001,0,"1",536,{"$f":"VLOOKUP(K7414,[1]EXRATE!C$3:F$43,4,0)","v":184.26999873814515},987.68719323645792,"",29,"",0,0,"","","","","","W","HIE","","",20230926,160849,0.04,22.59,"CIBM              AF80327","RBUSEL",354,"027NA"]
["KR","HSBC",2,0,0,null,"RBUSEL354032KE","RBU",{"$f":"VLOOKUP(H7419,[2]SSIFSEP!$H$2:$I$7593,2,0)","v":"은행간대여금"},"Interbank Loans","USD","BE1",1.1000000000000001,0,"1",4370,{"$f":"VLOOKUP(K7419,[1]EXRATE!C$3:F$43,4,0)","v":1344.8},58767.76,"",35,"",0,0,"","","","","","W","HIE","","",20230926,160849,0.04,29.97,"CIBM              AF80327","RBUSEL",354,"032KE"]
["KR","HSBC",2,0,0,null,"RBUSEL354039SH","RBU",{"$f":"VLOOKUP(H7424,[2]SSIFSEP!$H$2:$I$7593,2,0)","v":"은행간대여금"},"Interbank Loans","USD","BE1",1.1000000000000001,0,"1",344,{"$f":"VLOOKUP(K7424,[1]EXRATE!C$3:F$43,4,0)","v":1344.8},4626.1120000000001,"",35,"",0,0,"","","","","","W","HIE","","",20230926,160849,0.04,29.97,"CIBM              AF80327","RBUSEL",354,"039SH"]
["KR","HSBC",2,0,0,null,"RBUSEL354048KE","RBU",{"$f":"VLOOKUP(H7431,[2]SSIFSEP!$H$2:$I$7593,2,0)","v":"은행간대여금"},"Interbank Loans","USD","BE1",1.1000000000000001,0,"1",500,{"$f":"VLOOKUP(K7431,[1]EXRATE!C$3:F$43,4,0)","v":1344.8},6724,"",35,"",0,0,"","","","","","W","HIE","","",20230926,160849,0.04,29.77,"CIBM              AF80327","RBUSEL",354,"048KE"]
["KR","HSBC",2,0,0,null,"RBUSEL354060CT","RBU",{"$f":"VLOOKUP(H7439,[2]SSIFSEP!$H$2:$I$7593,2,0)","v":"은행간대여금"},"Interbank Loans","USD","BE1",1.1000000000000001,0,"1",746,{"$f":"VLOOKUP(K7439,[1]EXRATE!C$3:F$43,4,0)","v":1344.8},10032.207999999999,"",35,"",0,0,"","","","","","W","HIE","","",20230926,160849,0.04,29.87,"CIBM              AF80327","RBUSEL",354,"060CT"]
["KR","HSBC",2,0,0,null,"RBUSEL354076NA","RBU",{"$f":"VLOOKUP(H7447,[2]SSIFSEP!$H$2:$I$7593,2,0)","v":"은행간대여금"},"Interbank Loans","CNY","BE1",1.1000000000000001,0,"1",757,{"$f":"VLOOKUP(K7447,[1]EXRATE!C$3:F$43,4,0)","v":184.26999873814515},1394.9238904477588,"",29,"",0,0,"","","","","","W","HIE","","",20230926,160849,0.04,24.09,"CIBM              AF80327","RBUSEL",354,"076NA"]
["KR","HSBC",2,0,0,null,"RBUSEL354085KE","RBU",{"$f":"VLOOKUP(H7453,[2]SSIFSEP!$H$2:$I$7593,2,0)","v":"은행간대여금"},"Interbank Loans","EUR","BE1",1.1000000000000001,0,"1",220,{"$f":"VLOOKUP(K7453,[1]EXRATE!C$3:F$43,4,0)","v":1421.7225599999999},3127.789632,"",30,"",0,0,"","","","","","W","HIE","","",20230926,160849,0.04,27.375,"CIBM              AF80327","RBUSEL",354,"085KE"]
["KR","HSBC",2,0,0,null,"RBUSEL354091KE","RBU",{"$f":"VLOOKUP(H7459,[2]SSIFSEP!$H$2:$I$7593,2,0)","v":"은행간대여금"},"Interbank Loans","USD","BE1",1.1000000000000001,0,"1",414,{"$f":"VLOOKUP(K7459,[1]EXRATE!C$3:F$43,4,0)","v":1344.8},5567.4719999999998,"",35,"",0,0,"","","","","","W","HIE","","",20230926,160849,0.04,29.98,"CIBM              AF80327","RBUSEL",354,"091KE"]
["KR","HSBC",2,0,0,null,"RBUSEL354099KE","RBU",{"$f":"VLOOKUP(H7467,[2]SSIFSEP!$H$2:$I$7593,2,0)","v":"은행간대여금"},"Interbank Loans","USD","BE1",1.1000000000000001,0,"1",123,{"$f":"VLOOKUP(K7467,[1]EXRATE!C$3:F$43,4,0)","v":1344.8},1654.104,"",35,"",0,0,"","","","","","W","HIE","","",20230926,160849,0.04,29.97,"CIBM              AF80327","RBUSEL",354,"099KE"]
["KR","HSBC",2,0,0,null,"RBUSEL354105NA","RBU",{"$f":"VLOOKUP(H7472,[2]SSIFSEP!$H$2:$I$7593,2,0)","v":"은행간대여금"},"Interbank Loans","USD","BE1",1.1000000000000001,0,"1",73,{"$f":"VLOOKUP(K7472,[1]EXRATE!C$3:F$43,4,0)","v":1344.8},981.70399999999995,"",35,"",0,0,"","","","","","W","HIE","","",20230926,160849,0.04,29.98,"CIBM              AF80327","RBUSEL",354,"105NA"]
["KR","HSBC",2,0,0,null,"RBUSEL354111MD","RBU",{"$f":"VLOOKUP(H7478,[2]SSIFSEP!$H$2:$I$7593,2,0)","v":"은행간대여금"},"Interbank Loans","AUD","BK4",1.1000000000000001,0,"1",56,{"$f":"VLOOKUP(K7478,[1]EXRATE!C$3:F$43,4,0)","v":859.99959999999987},481.59977599999991,"",36,"",0,0,"","","","","","W","HIE","","",20230926,160849,0.02,40.29,"CIBM              AF80327","RBUSEL",354,"111MD"]
["KR","HSBC",2,0,0,null,"RBUSEL354117KE","RBU",{"$f":"VLOOKUP(H7484,[2]SSIFSEP!$H$2:$I$7593,2,0)","v":"은행간대여금"},"Interbank Loans","USD","BE1",1.1000000000000001,0,"1",2402,{"$f":"VLOOKUP(K7484,[1]EXRATE!C$3:F$43,4,0)","v":1344.8},32302.096000000001,"",35,"",0,0,"","","","","","W","HIE","","",20230926,160849,0.04,29.77,"CIBM              AF80327","RBUSEL",354,"117KE"]
["KR","HSBC",2,0,0,null,"RBUSEL354125SH","RBU",{"$f":"VLOOKUP(H7492,[2]SSIFSEP!$H$2:$I$7593,2,0)","v":"은행간대여금"},"Interbank Loans","USD","BE1",1.1000000000000001,0,"1",16427,{"$f":"VLOOKUP(K7492,[1]EXRATE!C$3:F$43,4,0)","v":1344.8},220910.29599999997,"",35,"",0,0,"","","","","","W","HIE","","",20230926,160849,0.04,29.78,"CIBM              AF80327","RBUSEL",354,"125SH"]
["KR","HSBC",2,0,0,null,"RBUSEL354134CT","RBU",{"$f":"VLOOKUP(H7500,[2]SSIFSEP!$H$2:$I$7593,2,0)","v":"은행간대여금"},"Interbank Loans","SEK","BE1",1.1000000000000001,0,"1",6424,{"$f":"VLOOKUP(K7500,[1]EXRATE!C$3:F$43,4,0)","v":122.27566579681944},7854.9887707876806,"",33,"",0,0,"","","","","","W","HIE","","",20230926,160849,0.04,28.07,"CIBM              AF80327","RBUSEL",354,"134CT"]
["KR","HSBC",2,0,0,null,"RBUSEL354155KE","RBU",{"$f":"VLOOKUP(H7507,[2]SSIFSEP!$H$2:$I$7593,2,0)","v":"은행간대여금"},"Interbank Loans","USD","BE1",1.1000000000000001,0,"1",952,{"$f":"VLOOKUP(K7507,[1]EXRATE!C$3:F$43,4,0)","v":1344.8},12802.495999999999,"",35,"",0,0,"","","","","","W","HIE","","",20230926,160849,0.04,29.97,"CIBM              AF80327","RBUSEL",354,"155KE"]
["KR","HSBC",2,0,0,null,"RBUSEL354167CT","RBU",{"$f":"VLOOKUP(H7512,[2]SSIFSEP!$H$2:$I$7593,2,0)","v":"은행간대여금"},"Interbank Loans","USD","BE1",1.1000000000000001,0,"1",10580,{"$f":"VLOOKUP(K7512,[1]EXRATE!C$3:F$43,4,0)","v":1344.8},142279.84,"",35,"",0,0,"","","","","","W","HIE","","",20230926,160849,0.04,29.97,"CIBM              AF80327","RBUSEL",354,"167CT"]
["KR","HSBC",2,0,0,null,"RBUSEL354180KE","RBU",{"$f":"VLOOKUP(H7520,[2]SSIFSEP!$H$2:$I$7593,2,0)","v":"은행간대여금"},"Interbank Loans","USD","BE1",1.1000000000000001,0,"1",13348,{"$f":"VLOOKUP(K7520,[1]EXRATE!C$3:F$43,4,0)","v":1344.8},179503.90399999998,"",35,"",0,0,"","","","","","W","HIE","","",20230926,160849,0.04,29.97,"CIBM              AF80327","RBUSEL",354,"180KE"]
["KR","HSBC",2,0,0,null,"RBUSEL354195NA","RBU",{"$f":"VLOOKUP(H7525,[2]SSIFSEP!$H$2:$I$7593,2,0)","v":"은행간대여금"},"Interbank Loans","USD","BE1",1.1000000000000001,0,"1",108,{"$f":"VLOOKUP(K7525,[1]EXRATE!C$3:F$43,4,0)","v":1344.8},1452.384,"",35,"",0,0,"","","","","","W","HIE","","",20230926,160849,0.04,29.965,"CIBM              AF80327","RBUSEL",354,"195NA"]
["KR","HSBC",2,0,0,null,"RBUSEL354202KE","RBU",{"$f":"VLOOKUP(H7532,[2]SSIFSEP!$H$2:$I$7593,2,0)","v":"은행간대여금"},"Interbank Loans","USD","BE1",1.1000000000000001,0,"1",2164,{"$f":"VLOOKUP(K7532,[1]EXRATE!C$3:F$43,4,0)","v":1344.8},29101.471999999998,"",35,"",0,0,"","","","","","W","HIE","","",20230926,160849,0.04,29.97,"CIBM              AF80327","RBUSEL",354,"202KE"]
["KR","HSBC",2,0,0,null,"RBUSEL354209MD","RBU",{"$f":"VLOOKUP(H7537,[2]SSIFSEP!$H$2:$I$7593,2,0)","v":"은행간대여금"},"Interbank Loans","AUD","BK4",1.1000000000000001,0,"1",347,{"$f":"VLOOKUP(K7537,[1]EXRATE!C$3:F$43,4,0)","v":859.99959999999987},2984.1986119999997,"",36,"",0,0,"","","","","","W","HIE","","",20230926,160849,0.02,40.29,"CIBM              AF80327","RBUSEL",354,"209MD"]
["KR","HSBC",2,0,0,null,"RBUSEL354229CT","RBU",{"$f":"VLOOKUP(H7545,[2]SSIFSEP!$H$2:$I$7593,2,0)","v":"은행간대여금"},"Interbank Loans","USD","BE1",1.1000000000000001,0,"1",14489,{"$f":"VLOOKUP(K7545,[1]EXRATE!C$3:F$43,4,0)","v":1344.8},{"$f":"+P7545*Q7545/100","v":194848.07199999999},"",35,"",0,0,"","","","","","W","HIE","","",20230926,160849,0.04,29.88,"CIBM              AF80327","RBUSEL",354,"229CT"]
["KR","HSBC",2,0,0,null,"RBUSEL354239CB","RBU",{"$f":"VLOOKUP(H7553,[2]SSIFSEP!$H$2:$I$7593,2,0)","v":"은행간대여금"},"Interbank Loans","USD","BE1",1.1000000000000001,0,"1",963,{"$f":"VLOOKUP(K7553,[1]EXRATE!C$3:F$43,4,0)","v":1344.8},12950.423999999999,"",35,"",0,0,"","","","","","W","HIE","","",20230926,160849,0.04,29.97,"CIBM              AF80327","RBUSEL",354,"239CB"]
["KR","HSBC",2,0,0,null,"RBUSEL354249KE","RBU",{"$f":"VLOOKUP(H7561,[2]SSIFSEP!$H$2:$I$7593,2,0)","v":"은행간대여금"},"Interbank Loans","USD","BE1",1.1000000000000001,0,"1",2104,{"$f":"VLOOKUP(K7561,[1]EXRATE!C$3:F$43,4,0)","v":1344.8},28294.591999999997,"",35,"",0,0,"","","","","","W","HIE","","",20230926,160849,0.04,29.97,"CIBM              AF80327","RBUSEL",354,"249KE"]
["KR","HSBC",2,0,0,null,"RBUSEL354262KE","RBU",{"$f":"VLOOKUP(H7565,[2]SSIFSEP!$H$2:$I$7593,2,0)","v":"은행간대여금"},"Interbank Loans","USD","BE1",1.1000000000000001,0,"1",253,{"$f":"VLOOKUP(K7565,[1]EXRATE!C$3:F$43,4,0)","v":1344.8},3402.3439999999996,"",35,"",0,0,"","","","","","W","HIE","","",20230926,160849,0.04,29.97,"CIBM              AF80327","RBUSEL",354,"262KE"]
["KR","HSBC",2,0,0,null,"RBUSEL354284KE","RBU",{"$f":"VLOOKUP(H7577,[2]SSIFSEP!$H$2:$I$7593,2,0)","v":"은행간대여금"},"Interbank Loans","USD","BE1",1.1000000000000001,0,"1",577,{"$f":"VLOOKUP(K7577,[1]EXRATE!C$3:F$43,4,0)","v":1344.8},7759.4960000000001,"",35,"",0,0,"","","","","","W","HIE","","",20230926,160849,0.04,29.77,"CIBM              AF80327","RBUSEL",354,"284KE"]
["KR","HSBC",2,0,0,null,"RBUSEL354286KE","RBU",{"$f":"VLOOKUP(H7578,[2]SSIFSEP!$H$2:$I$7593,2,0)","v":"은행간대여금"},"Interbank Loans","USD","BE1",1.1000000000000001,0,"1",799,{"$f":"VLOOKUP(K7578,[1]EXRATE!C$3:F$43,4,0)","v":1344.8},10744.951999999999,"",35,"",0,0,"","","","","","W","HIE","","",20230926,160849,0.04,29.98,"CIBM              AF80327","RBUSEL",354,"286KE"]
["KR","HSBC",2,0,0,null,"RBUSEL354299KE","RBU",{"$f":"VLOOKUP(H7586,[2]SSIFSEP!$H$2:$I$7593,2,0)","v":"은행간대여금"},"Interbank Loans","USD","BE1",1.1000000000000001,0,"1",787,{"$f":"VLOOKUP(K7586,[1]EXRATE!C$3:F$43,4,0)","v":1344.8},10583.575999999999,"",35,"",0,0,"","","","","","W","HIE","","",20230926,160849,0.04,29.98,"CIBM              AF80327","RBUSEL",354,"299KE"]
["KR","HSBC",2,0,0,null,"RBUSEL354317EI","RBU",{"$f":"VLOOKUP(H7597,[2]SSIFSEP!$H$2:$I$7593,2,0)","v":"은행간대여금"},"Interbank Loans","USD","C15",1.1000000000000001,0,"1",8107,{"$f":"VLOOKUP(K7597,[1]EXRATE!C$3:F$43,4,0)","v":1344.8},109022.936,"",138,"",0,0,"","","","","","W","HIE","","",20230926,160849,0.02,40.29,"CIBM              AI80182","RBUSEL",354,"317EI"]
["KR","HSBC",2,0,0,null,"RBUSEL354318NA","RBU",{"$f":"VLOOKUP(H7598,[2]SSIFSEP!$H$2:$I$7593,2,0)","v":"은행간대여금"},"Interbank Loans","USD","BE1",1.1000000000000001,0,"1",4220,{"$f":"VLOOKUP(K7598,[1]EXRATE!C$3:F$43,4,0)","v":1344.8},56750.559999999998,"",35,"",0,0,"","","","","","W","HIE","","",20230926,160849,0.04,29.97,"CIBM              AF80327","RBUSEL",354,"318NA"]
["KR","HSBC",2,0,0,null,"RBUSEL354333KE","RBU",{"$f":"VLOOKUP(H7606,[2]SSIFSEP!$H$2:$I$7593,2,0)","v":"은행간대여금"},"Interbank Loans","USD","BE1",1.1000000000000001,0,"1",142,{"$f":"VLOOKUP(K7606,[1]EXRATE!C$3:F$43,4,0)","v":1344.8},1909.616,"",35,"",0,0,"","","","","","W","HIE","","",20230926,160849,0.04,29.77,"CIBM              AF80327","RBUSEL",354,"333KE"]
["KR","HSBC",2,0,0,null,"RBUSEL354348KE","RBU",{"$f":"VLOOKUP(H7615,[2]SSIFSEP!$H$2:$I$7593,2,0)","v":"은행간대여금"},"Interbank Loans","USD","BE1",1.1000000000000001,0,"1",304,{"$f":"VLOOKUP(K7615,[1]EXRATE!C$3:F$43,4,0)","v":1344.8},4088.192,"",35,"",0,0,"","","","","","W","HIE","","",20230926,160849,0.04,29.98,"CIBM              AF80327","RBUSEL",354,"348KE"]
["KR","HSBC",2,0,0,null,"RBUSEL354351KE","RBU",{"$f":"VLOOKUP(H7618,[2]SSIFSEP!$H$2:$I$7593,2,0)","v":"은행간대여금"},"Interbank Loans","USD","BE1",1.1000000000000001,0,"1",287,{"$f":"VLOOKUP(K7618,[1]EXRATE!C$3:F$43,4,0)","v":1344.8},3859.5759999999996,"",35,"",0,0,"","","","","","W","HIE","","",20230926,160849,0.04,30.065000000000001,"CIBM              AF80327","RBUSEL",354,"351KE"]
["KR","HSBC",2,0,0,null,"RBUSEL354378CB","RBU",{"$f":"VLOOKUP(H7630,[2]SSIFSEP!$H$2:$I$7593,2,0)","v":"은행간대여금"},"Interbank Loans","AUD","BE1",1.1000000000000001,0,"1",217,{"$f":"VLOOKUP(K7630,[1]EXRATE!C$3:F$43,4,0)","v":859.99959999999987},1866.1991319999997,"",26,"",0,0,"","","","","","W","HIE","","",20230926,160849,0.04,31.58,"CIBM              AF80327","RBUSEL",354,"378CB"]
["KR","HSBC",2,0,0,null,"RBUSEL354397SH","RBU",{"$f":"VLOOKUP(H7638,[2]SSIFSEP!$H$2:$I$7593,2,0)","v":"은행간대여금"},"Interbank Loans","USD","BE1",1.1000000000000001,0,"1",574,{"$f":"VLOOKUP(K7638,[1]EXRATE!C$3:F$43,4,0)","v":1344.8},7719.1519999999991,"",35,"",0,0,"","","","","","W","HIE","","",20230926,160849,0.04,30.07,"CIBM              AF80327","RBUSEL",354,"397SH"]
["KR","HSBC",2,0,0,null,"RBUSEL354399EI","RBU",{"$f":"VLOOKUP(H7640,[2]SSIFSEP!$H$2:$I$7593,2,0)","v":"은행간대여금"},"Interbank Loans","USD","C15",1.1000000000000001,0,"1",91,{"$f":"VLOOKUP(K7640,[1]EXRATE!C$3:F$43,4,0)","v":1344.8},1223.768,"",138,"",0,0,"","","","","","W","HIE","","",20230926,160849,0.02,40.29,"CIBM              AI80182","RBUSEL",354,"399EI"]
["KR","HSBC",2,0,0,null,"RBUSEL354422KE","RBU",{"$f":"VLOOKUP(H7650,[2]SSIFSEP!$H$2:$I$7593,2,0)","v":"은행간대여금"},"Interbank Loans","USD","BE1",1.1000000000000001,0,"1",3138,{"$f":"VLOOKUP(K7650,[1]EXRATE!C$3:F$43,4,0)","v":1344.8},42199.823999999993,"",35,"",0,0,"","","","","","W","HIE","","",20230926,160849,0.04,29.864999999999998,"CIBM              AF80327","RBUSEL",354,"422KE"]
["KR","HSBC",2,0,0,null,"RBUSEL354430NA","RBU",{"$f":"VLOOKUP(H7658,[2]SSIFSEP!$H$2:$I$7593,2,0)","v":"은행간대여금"},"Interbank Loans","CNY","BE1",1.1000000000000001,0,"1",647,{"$f":"VLOOKUP(K7658,[1]EXRATE!C$3:F$43,4,0)","v":184.26999873814515},1192.2268918357993,"",29,"",0,0,"","","","","","W","HIE","","",20230926,160849,0.04,26.975000000000001,"CIBM              AF80327","RBUSEL",354,"430NA"]
["KR","HSBC",2,0,0,null,"RBUSEL354456SH","RBU",{"$f":"VLOOKUP(H7663,[2]SSIFSEP!$H$2:$I$7593,2,0)","v":"은행간대여금"},"Interbank Loans","CNY","BE1",1.1000000000000001,0,"1",10789,{"$f":"VLOOKUP(K7663,[1]EXRATE!C$3:F$43,4,0)","v":184.26999873814515},19880.890163858479,"",29,"",0,0,"","","","","","W","HIE","","",20230926,160849,0.04,26.875,"CIBM              AF80327","RBUSEL",354,"456SH"]
["KR","HSBC",2,0,0,null,"REBSEL000050","REB",{"$f":"VLOOKUP(H7669,[2]SSIFSEP!$H$2:$I$7593,2,0)","v":"확정지급보증"},"Confirmed Payment Guarantee","USD","C13",3.3,0,"1",484,{"$f":"VLOOKUP(K7669,[1]EXRATE!C$3:F$43,4,0)","v":1344.8},{"$f":"+P7669*Q7669/100","v":6508.8319999999994},"",243,"",0,0,"","","","","","W","HIE","","",20230926,160849,0.14000000000000001,40.854999999999997,"CIBM              MA21540","REBSEL",0,50,null,"GTRF GTE","Confirmed Payment Guarantee",{"$f":"R7669","v":6508.8319999999994},"Matched with Local data"]
["KR","HSBC",2,0,0,null,"REBSEL000188","REB",{"$f":"VLOOKUP(H7678,[2]SSIFSEP!$H$2:$I$7593,2,0)","v":"확정지급보증"},"Confirmed Payment Guarantee","KRW","C13",3.2,0,"1",20915,{"$f":"VLOOKUP(K7678,[1]EXRATE!C$3:F$43,4,0)","v":1},{"$f":"+P7678*Q7678","v":20915},"",241,"",0,0,"","","","","","W","HIE","","",20230926,160849,0.09,40.854999999999997,"CIBM              MA21540","REBSEL",0,188,null,"GTRF GTE","Confirmed Payment Guarantee",{"$f":"R7678","v":20915},"Matched with Local data"]
["KR","HSBC",2,0,0,null,"REBSEL000365","UCD",{"$f":"VLOOKUP(H7683,[2]SSIFSEP!$H$2:$I$7593,2,0)","v":"미사용약정"},"Unused Credit Line","USD","C13",3.2,0,"1",0,{"$f":"VLOOKUP(K7683,[1]EXRATE!C$3:F$43,4,0)","v":1344.8},0,"",287,"",0,0,"","","","","","W","HIE","","",20230926,160849,0.09,40.854999999999997,"CIBM              MG30100","REBSEL",0,365]
["KR","HSBC",2,0,0,null,"REBSEL000513","REB",{"$f":"VLOOKUP(H7691,[2]SSIFSEP!$H$2:$I$7593,2,0)","v":"확정지급보증"},"Confirmed Payment Guarantee","USD","C13",3.2,0,"1",401,{"$f":"VLOOKUP(K7691,[1]EXRATE!C$3:F$43,4,0)","v":1344.8},5392.6479999999992,"",243,"",0,0,"","","","","","W","HIE","","",20230926,160849,0.09,40.854999999999997,"CIBM              MA21540","REBSEL",0,513,null,"GTRF GTE","Confirmed Payment Guarantee",{"$f":"R7691","v":5392.6479999999992},"Matched with Local data"]
["KR","HSBC",2,0,0,null,"REBSEL000711","UCD",{"$f":"VLOOKUP(H7694,[2]SSIFSEP!$H$2:$I$7593,2,0)","v":"미사용약정"},"Unused Credit Line","USD","C13",3.2,0,"1",0,{"$f":"VLOOKUP(K7694,[1]EXRATE!C$3:F$43,4,0)","v":1344.8},0,"",287,"",0,0,"","","","","","W","HIE","","",20230926,160849,0.09,40.854999999999997,"CIBM              MG30100","REBSEL",0,711]
["KR","HSBC",2,0,0,null,"REBSEL100345","UCD",{"$f":"VLOOKUP(H7703,[2]SSIFSEP!$H$2:$I$7593,2,0)","v":"미사용약정"},"Unused Credit Line","USD","C13",5.0999999999999996,0,"1",0,{"$f":"VLOOKUP(K7703,[1]EXRATE!C$3:F$43,4,0)","v":1344.8},0,"",287,"",0,0,"","","","","","W","HIE","","",20230926,160849,0.28999999999999998,40.854999999999997,"CIBM              MG30100","REBSEL",100,345]
["KR","HSBC",2,0,0,null,"REBSEL100454","UCD",{"$f":"VLOOKUP(H7711,[2]SSIFSEP!$H$2:$I$7593,2,0)","v":"미사용약정"},"Unused Credit Line","USD","C13",3.2,0,"1",0,{"$f":"VLOOKUP(K7711,[1]EXRATE!C$3:F$43,4,0)","v":1344.8},0,"",287,"",0,0,"","","","","","W","HIE","","",20230926,160849,0.09,40.854999999999997,"CIBM              MG30100","REBSEL",100,454]
["KR","HSBC",2,0,0,null,"REBSEL100569","REB",{"$f":"VLOOKUP(H7716,[2]SSIFSEP!$H$2:$I$7593,2,0)","v":"확정지급보증"},"Confirmed Payment Guarantee","KRW","C13",3.2,0,"1",139,{"$f":"VLOOKUP(K7716,[1]EXRATE!C$3:F$43,4,0)","v":1},{"$f":"+P7716*Q7716","v":139},"",241,"",0,0,"","","","","","W","HIE","","",20230926,160849,0.09,40.854999999999997,"CIBM              MA21540","REBSEL",100,569,null,"GTRF GTE","Confirmed Payment Guarantee",{"$f":"R7716","v":139},"Matched with Local data"]
["KR","HSBC",2,0,0,null,"REBSEL200043","UCD",{"$f":"VLOOKUP(H7723,[2]SSIFSEP!$H$2:$I$7593,2,0)","v":"미사용약정"},"Unused Credit Line","USD","C13",3.2,0,"1",0,{"$f":"VLOOKUP(K7723,[1]EXRATE!C$3:F$43,4,0)","v":1344.8},{"$f":"+P7723*Q7723/100","v":0},"",287,"",0,0,"","","","","","W","HIE","","",20230926,160849,0.09,40.854999999999997,"CIBM              MG30100","REBSEL",200,43]
["KR","HSBC",2,0,0,null,"REBSEL200065","UCD",{"$f":"VLOOKUP(H7731,[2]SSIFSEP!$H$2:$I$7593,2,0)","v":"미사용약정"},"Unused Credit Line","USD","C13",3.2,0,"1",0,{"$f":"VLOOKUP(K7731,[1]EXRATE!C$3:F$43,4,0)","v":1344.8},{"$f":"+P7731*Q7731/100","v":0},"",287,"",0,0,"","","","","","W","HIE","","",20230926,160849,0.09,40.854999999999997,"CIBM              MG30100","REBSEL",200,65]
["KR","HSBC",2,0,0,null,"REBSEL200168","REB",{"$f":"VLOOKUP(H7736,[2]SSIFSEP!$H$2:$I$7593,2,0)","v":"확정지급보증"},"Confirmed Payment Guarantee","KRW","C13",3.2,0,"1",665,{"$f":"VLOOKUP(K7736,[1]EXRATE!C$3:F$43,4,0)","v":1},{"$f":"+P7736*Q7736","v":665},"",241,"",0,0,"","","","","","W","HIE","","",20230926,160849,0.09,40.854999999999997,"CIBM              MA21540","REBSEL",200,168,null,"GTRF GTE","Confirmed Payment Guarantee",{"$f":"R7736","v":665},"Matched with Local data"]
["KR","HSBC",2,0,0,null,"REBSEL200183","REB",{"$f":"VLOOKUP(H7744,[2]SSIFSEP!$H$2:$I$7593,2,0)","v":"확정지급보증"},"Confirmed Payment Guarantee","USD","C13",3.2,0,"1",957,{"$f":"VLOOKUP(K7744,[1]EXRATE!C$3:F$43,4,0)","v":1344.8},12869.735999999999,"",243,"",0,0,"","","","","","W","HIE","","",20230926,160849,0.09,40.854999999999997,"CIBM              MA21540","REBSEL",200,183,null,"GTRF GTE","Confirmed Payment Guarantee",{"$f":"R7744","v":12869.735999999999},"Matched with Local data"]
["KR","HSBC",2,0,0,null,"REBSEL200201","UCD",{"$f":"VLOOKUP(H7747,[2]SSIFSEP!$H$2:$I$7593,2,0)","v":"미사용약정"},"Unused Credit Line","USD","C13",3.2,0,"1",0,{"$f":"VLOOKUP(K7747,[1]EXRATE!C$3:F$43,4,0)","v":1344.8},{"$f":"+P7747*Q7747/100","v":0},"",287,"",0,0,"","","","","","W","HIE","","",20230926,160849,0.09,40.854999999999997,"CIBM              MG30100","REBSEL",200,201]
["KR","HSBC",2,0,0,null,"REBSEL200203","REB",{"$f":"VLOOKUP(H7748,[2]SSIFSEP!$H$2:$I$7593,2,0)","v":"확정지급보증"},"Confirmed Payment Guarantee","USD","C13",3.1,0,"1",30179,{"$f":"VLOOKUP(K7748,[1]EXRATE!C$3:F$43,4,0)","v":1344.8},405847.19199999998,"",243,"",0,0,"","","","","","W","HIE","","",20230926,160849,0.04,40.854999999999997,"CIBM              MA21540","REBSEL",200,203,null,"GTRF GTE","Confirmed Payment Guarantee",{"$f":"R7748","v":405847.19199999998},"Matched with Local data"]
["KR","HSBC",2,0,0,null,"REBSEL200203","UCD",{"$f":"VLOOKUP(H7749,[2]SSIFSEP!$H$2:$I$7593,2,0)","v":"미사용약정"},"Unused Credit Line","USD","C13",3.1,0,"1",0,{"$f":"VLOOKUP(K7749,[1]EXRATE!C$3:F$43,4,0)","v":1344.8},0,"",287,"",0,0,"","","","","","W","HIE","","",20230926,160849,0.04,40.854999999999997,"CIBM              MG30100","REBSEL",200,203]
["KR","HSBC",2,0,0,null,"REBSEL200204","REB",{"$f":"VLOOKUP(H7750,[2]SSIFSEP!$H$2:$I$7593,2,0)","v":"확정지급보증"},"Confirmed Payment Guarantee","EUR","C13",3.1,0,"1",47864,{"$f":"VLOOKUP(K7750,[1]EXRATE!C$3:F$43,4,0)","v":1421.7225599999999},680493.28611839993,"",240,"",0,0,"","","","","","W","HIE","","",20230926,160849,0.04,40.854999999999997,"CIBM              MA21540","REBSEL",200,204,null,"GTRF GTE","Confirmed Payment Guarantee",{"$f":"R7750","v":680493.28611839993},"Matched with Local data"]
["KR","HSBC",2,0,0,null,"REBSEL200204","UCD",{"$f":"VLOOKUP(H7751,[2]SSIFSEP!$H$2:$I$7593,2,0)","v":"미사용약정"},"Unused Credit Line","USD","C13",3.1,0,"1",0,{"$f":"VLOOKUP(K7751,[1]EXRATE!C$3:F$43,4,0)","v":1344.8},0,"",287,"",0,0,"","","","","","W","HIE","","",20230926,160849,0.04,40.854999999999997,"CIBM              MG30100","REBSEL",200,204]
["KR","HSBC",2,0,0,null,"REBSEL200205","REB",{"$f":"VLOOKUP(H7752,[2]SSIFSEP!$H$2:$I$7593,2,0)","v":"확정지급보증"},"Confirmed Payment Guarantee","MYR","C13",3.1,0,"1",226473,{"$f":"VLOOKUP(K7752,[1]EXRATE!C$3:F$43,4,0)","v":286.73773987206823},649383.56162046909,"",242,"",0,0,"","","","","","W","HIE","","",20230926,160849,0.04,40.854999999999997,"CIBM              MA21540","REBSEL",200,205,null,"GTRF GTE","Confirmed Payment Guarantee",{"$f":"R7752","v":649383.56162046909},"Matched with Local data"]
["KR","HSBC",2,0,0,null,"REBSEL200205","UCD",{"$f":"VLOOKUP(H7753,[2]SSIFSEP!$H$2:$I$7593,2,0)","v":"미사용약정"},"Unused Credit Line","USD","C13",3.1,0,"1",0,{"$f":"VLOOKUP(K7753,[1]EXRATE!C$3:F$43,4,0)","v":1344.8},0,"",287,"",0,0,"","","","","","W","HIE","","",20230926,160849,0.04,40.854999999999997,"CIBM              MG30100","REBSEL",200,205]
["KR","HSBC",2,0,0,null,"REBSEL200206","REB",{"$f":"VLOOKUP(H7754,[2]SSIFSEP!$H$2:$I$7593,2,0)","v":"확정지급보증"},"Confirmed Payment Guarantee","USD","C13",2.2000000000000002,0,"1",7382,{"$f":"VLOOKUP(K7754,[1]EXRATE!C$3:F$43,4,0)","v":1344.8},99273.135999999999,"",243,"",0,0,"","","","","","W","HIE","","",20230926,160849,0.02,40.854999999999997,"CIBM              MA21540","REBSEL",200,206,null,"GTRF GTE","Confirmed Payment Guarantee",{"$f":"R7754","v":99273.135999999999},"Matched with Local data"]
["KR","HSBC",2,0,0,null,"REBSEL200206","UCD",{"$f":"VLOOKUP(H7755,[2]SSIFSEP!$H$2:$I$7593,2,0)","v":"미사용약정"},"Unused Credit Line","USD","C13",2.2000000000000002,0,"1",0,{"$f":"VLOOKUP(K7755,[1]EXRATE!C$3:F$43,4,0)","v":1344.8},0,"",287,"",0,0,"","","","","","W","HIE","","",20230926,160849,0.02,40.854999999999997,"CIBM              MG30100","REBSEL",200,206]
["KR","HSBC",2,0,0,null,"REBSEL200207","REB",{"$f":"VLOOKUP(H7756,[2]SSIFSEP!$H$2:$I$7593,2,0)","v":"확정지급보증"},"Confirmed Payment Guarantee","EUR","C13",2.2000000000000002,0,"1",2676,{"$f":"VLOOKUP(K7756,[1]EXRATE!C$3:F$43,4,0)","v":1421.7225599999999},38045.295705600001,"",240,"",0,0,"","","","","","W","HIE","","",20230926,160849,0.02,40.854999999999997,"CIBM              MA21540","REBSEL",200,207,null,"GTRF GTE","Confirmed Payment Guarantee",{"$f":"R7756","v":38045.295705600001},"Matched with Local data"]
["KR","HSBC",2,0,0,null,"REBSEL200207","UCD",{"$f":"VLOOKUP(H7757,[2]SSIFSEP!$H$2:$I$7593,2,0)","v":"미사용약정"},"Unused Credit Line","USD","C13",2.2000000000000002,0,"1",0,{"$f":"VLOOKUP(K7757,[1]EXRATE!C$3:F$43,4,0)","v":1344.8},0,"",287,"",0,0,"","","","","","W","HIE","","",20230926,160849,0.02,40.854999999999997,"CIBM              MG30100","REBSEL",200,207]
["KR","HSBC",2,0,0,null,"REBSEL200212","REB",{"$f":"VLOOKUP(H7758,[2]SSIFSEP!$H$2:$I$7593,2,0)","v":"확정지급보증"},"Confirmed Payment Guarantee","EUR","C11",2.2000000000000002,0,"1",12,{"$f":"VLOOKUP(K7758,[1]EXRATE!C$3:F$43,4,0)","v":1421.7225599999999},170.60670719999999,"",237,"",0,0,"","","","","","W","HIE","","",20230926,160849,0.02,40.854999999999997,"CIBM              MA21540","REBSEL",200,212,null,"GTRF GTE","Confirmed Payment Guarantee",{"$f":"R7758","v":170.60670719999999},"Matched with Local data"]
["KR","HSBC",2,0,0,null,"REBSEL200273","REB",{"$f":"VLOOKUP(H7759,[2]SSIFSEP!$H$2:$I$7593,2,0)","v":"확정지급보증"},"Confirmed Payment Guarantee","KRW","C13",3.2,0,"1",10744,{"$f":"VLOOKUP(K7759,[1]EXRATE!C$3:F$43,4,0)","v":1},{"$f":"+P7759*Q7759","v":10744},"",241,"",0,0,"","","","","","W","HIE","","",20230926,160849,0.09,40.854999999999997,"CIBM              MA21540","REBSEL",200,273,null,"GTRF GTE","Confirmed Payment Guarantee",{"$f":"R7759","v":10744},"Matched with Local data"]
["KR","HSBC",2,0,0,null,"REBSEL200273","UCD",{"$f":"VLOOKUP(H7760,[2]SSIFSEP!$H$2:$I$7593,2,0)","v":"미사용약정"},"Unused Credit Line","USD","C13",3.2,0,"1",0,{"$f":"VLOOKUP(K7760,[1]EXRATE!C$3:F$43,4,0)","v":1344.8},{"$f":"+P7760*Q7760/100","v":0},"",287,"",0,0,"","","","","","W","HIE","","",20230926,160849,0.09,40.854999999999997,"CIBM              MG30100","REBSEL",200,273]
["KR","HSBC",2,0,0,null,"REBSEL200276","REB",{"$f":"VLOOKUP(H7761,[2]SSIFSEP!$H$2:$I$7593,2,0)","v":"확정지급보증"},"Confirmed Payment Guarantee","USD","C13",3.2,0,"1",372,{"$f":"VLOOKUP(K7761,[1]EXRATE!C$3:F$43,4,0)","v":1344.8},{"$f":"+P7761*Q7761/100","v":5002.6559999999999},"",243,"",0,0,"","","","","","W","HIE","","",20230926,160849,0.09,40.854999999999997,"CIBM              MA21540","REBSEL",200,276,null,"GTRF GTE","Confirmed Payment Guarantee",{"$f":"R7761","v":5002.6559999999999},"Matched with Local data"]
["KR","HSBC",2,0,0,null,"REBSEL200276","UCD",{"$f":"VLOOKUP(H7762,[2]SSIFSEP!$H$2:$I$7593,2,0)","v":"미사용약정"},"Unused Credit Line","USD","C13",3.2,0,"1",0,{"$f":"VLOOKUP(K7762,[1]EXRATE!C$3:F$43,4,0)","v":1344.8},{"$f":"+P7762*Q7762/100","v":0},"",287,"",0,0,"","","","","","W","HIE","","",20230926,160849,0.09,40.854999999999997,"CIBM              MG30100","REBSEL",200,276]
["KR","HSBC",2,0,0,null,"REBSEL200277","REB",{"$f":"VLOOKUP(H7763,[2]SSIFSEP!$H$2:$I$7593,2,0)","v":"확정지급보증"},"Confirmed Payment Guarantee","EUR","C11",2.2000000000000002,0,"1",4,{"$f":"VLOOKUP(K7763,[1]EXRATE!C$3:F$43,4,0)","v":1421.7225599999999},{"$f":"+P7763*Q7763/100","v":56.868902399999996},"",237,"",0,0,"","","","","","W","HIE","","",20230926,160849,0.02,40.854999999999997,"CIBM              MA21540","REBSEL",200,277,null,"GTRF GTE","Confirmed Payment Guarantee",{"$f":"R7763","v":56.868902399999996},"Matched with Local data"]
["KR","HSBC",2,0,0,null,"REBSEL200357","REB",{"$f":"VLOOKUP(H7764,[2]SSIFSEP!$H$2:$I$7593,2,0)","v":"확정지급보증"},"Confirmed Payment Guarantee","KRW","C13",3.2,0,"1",1058,{"$f":"VLOOKUP(K7764,[1]EXRATE!C$3:F$43,4,0)","v":1},{"$f":"+P7764*Q7764","v":1058},"",241,"",0,0,"","","","","","W","HIE","","",20230926,160849,0.09,40.854999999999997,"CIBM              MA21540","REBSEL",200,357,null,"GTRF GTE","Confirmed Payment Guarantee",{"$f":"R7764","v":1058},"Matched with Local data"]
["KR","HSBC",2,0,0,null,"REBSEL200357","UCD",{"$f":"VLOOKUP(H7765,[2]SSIFSEP!$H$2:$I$7593,2,0)","v":"미사용약정"},"Unused Credit Line","USD","C13",3.2,0,"1",0,{"$f":"VLOOKUP(K7765,[1]EXRATE!C$3:F$43,4,0)","v":1344.8},{"$f":"+P7765*Q7765/100","v":0},"",287,"",0,0,"","","","","","W","HIE","","",20230926,160849,0.09,40.854999999999997,"CIBM              MG30100","REBSEL",200,357]
["KR","HSBC",2,0,0,null,"REBSEL200358","REB",{"$f":"VLOOKUP(H7766,[2]SSIFSEP!$H$2:$I$7593,2,0)","v":"확정지급보증"},"Confirmed Payment Guarantee","KRW","C13",3.2,0,"1",503,{"$f":"VLOOKUP(K7766,[1]EXRATE!C$3:F$43,4,0)","v":1},{"$f":"+P7766*Q7766","v":503},"",241,"",0,0,"","","","","","W","HIE","","",20230926,160849,0.09,40.854999999999997,"CIBM              MA21540","REBSEL",200,358,null,"GTRF GTE","Confirmed Payment Guarantee",{"$f":"R7766","v":503},"Matched with Local data"]
["KR","HSBC",2,0,0,null,"REBSEL200358","UCD",{"$f":"VLOOKUP(H7767,[2]SSIFSEP!$H$2:$I$7593,2,0)","v":"미사용약정"},"Unused Credit Line","USD","C13",3.2,0,"1",0,{"$f":"VLOOKUP(K7767,[1]EXRATE!C$3:F$43,4,0)","v":1344.8},{"$f":"+P7767*Q7767/100","v":0},"",287,"",0,0,"","","","","","W","HIE","","",20230926,160849,0.09,40.854999999999997,"CIBM              MG30100","REBSEL",200,358]
["KR","HSBC",2,0,0,null,"REBSEL200427","REB",{"$f":"VLOOKUP(H7768,[2]SSIFSEP!$H$2:$I$7593,2,0)","v":"확정지급보증"},"Confirmed Payment Guarantee","KRW","C13",3.2,0,"1",262,{"$f":"VLOOKUP(K7768,[1]EXRATE!C$3:F$43,4,0)","v":1},{"$f":"+P7768*Q7768","v":262},"",241,"",0,0,"","","","","","W","HIE","","",20230926,160849,0.09,40.854999999999997,"CIBM              MA21540","REBSEL",200,427,null,"GTRF GTE","Confirmed Payment Guarantee",{"$f":"R7768","v":262},"Matched with Local data"]
["KR","HSBC",2,0,0,null,"REBSEL200427","UCD",{"$f":"VLOOKUP(H7769,[2]SSIFSEP!$H$2:$I$7593,2,0)","v":"미사용약정"},"Unused Credit Line","USD","C13",3.2,0,"1",0,{"$f":"VLOOKUP(K7769,[1]EXRATE!C$3:F$43,4,0)","v":1344.8},{"$f":"+P7769*Q7769/100","v":0},"",287,"",0,0,"","","","","","W","HIE","","",20230926,160849,0.09,40.854999999999997,"CIBM              MG30100","REBSEL",200,427]
["KR","HSBC",2,0,0,null,"REBSEL200452","REB",{"$f":"VLOOKUP(H7770,[2]SSIFSEP!$H$2:$I$7593,2,0)","v":"확정지급보증"},"Confirmed Payment Guarantee","EUR","C11",2.2000000000000002,0,"1",75,{"$f":"VLOOKUP(K7770,[1]EXRATE!C$3:F$43,4,0)","v":1421.7225599999999},{"$f":"+P7770*Q7770/100","v":1066.2919199999999},"",237,"",0,0,"","","","","","W","HIE","","",20230926,160849,0.02,40.854999999999997,"CIBM              MA21540","REBSEL",200,452,null,"GTRF GTE","Confirmed Payment Guarantee",{"$f":"R7770","v":1066.2919199999999},"Matched with Local data"]
["KR","HSBC",2,0,0,null,"REBSEL200484","REB",{"$f":"VLOOKUP(H7771,[2]SSIFSEP!$H$2:$I$7593,2,0)","v":"확정지급보증"},"Confirmed Payment Guarantee","USD","C13",3.2,0,"1",249,{"$f":"VLOOKUP(K7771,[1]EXRATE!C$3:F$43,4,0)","v":1344.8},{"$f":"+P7771*Q7771/100","v":3348.5520000000001},"",243,"",0,0,"","","","","","W","HIE","","",20230926,160849,0.09,40.854999999999997,"CIBM              MA21540","REBSEL",200,484,null,"GTRF GTE","Confirmed Payment Guarantee",{"$f":"R7771","v":3348.5520000000001},"Matched with Local data"]
["KR","HSBC",2,0,0,null,"REBSEL200484","UCD",{"$f":"VLOOKUP(H7772,[2]SSIFSEP!$H$2:$I$7593,2,0)","v":"미사용약정"},"Unused Credit Line","USD","C13",3.2,0,"1",0,{"$f":"VLOOKUP(K7772,[1]EXRATE!C$3:F$43,4,0)","v":1344.8},{"$f":"+P7772*Q7772/100","v":0},"",287,"",0,0,"","","","","","W","HIE","","",20230926,160849,0.09,40.854999999999997,"CIBM              MG30100","REBSEL",200,484]
["KR","HSBC",2,0,0,null,"REBSEL200685","REB",{"$f":"VLOOKUP(H7773,[2]SSIFSEP!$H$2:$I$7593,2,0)","v":"확정지급보증"},"Confirmed Payment Guarantee","KRW","C13",3.2,0,"1",11275,{"$f":"VLOOKUP(K7773,[1]EXRATE!C$3:F$43,4,0)","v":1},{"$f":"+P7773*Q7773","v":11275},"",241,"",0,0,"","","","","","W","HIE","","",20230926,160849,0.09,40.854999999999997,"CIBM              MA21540","REBSEL",200,685,null,"GTRF GTE","Confirmed Payment Guarantee",{"$f":"R7773","v":11275},"Matched with Local data"]
["KR","HSBC",2,0,0,null,"REBSEL200685","UCD",{"$f":"VLOOKUP(H7774,[2]SSIFSEP!$H$2:$I$7593,2,0)","v":"미사용약정"},"Unused Credit Line","USD","C13",3.2,0,"1",0,{"$f":"VLOOKUP(K7774,[1]EXRATE!C$3:F$43,4,0)","v":1344.8},{"$f":"+P7774*Q7774/100","v":0},"",287,"",0,0,"","","","","","W","HIE","","",20230926,160849,0.09,40.854999999999997,"CIBM              MG30100","REBSEL",200,685]
["KR","HSBC",2,0,0,null,"REBSEL200686","REB",{"$f":"VLOOKUP(H7775,[2]SSIFSEP!$H$2:$I$7593,2,0)","v":"확정지급보증"},"Confirmed Payment Guarantee","KRW","C13",3.2,0,"1",47,{"$f":"VLOOKUP(K7775,[1]EXRATE!C$3:F$43,4,0)","v":1},{"$f":"+P7775*Q7775","v":47},"",241,"",0,0,"","","","","","W","HIE","","",20230926,160849,0.09,40.854999999999997,"CIBM              MA21540","REBSEL",200,686,null,"GTRF GTE","Confirmed Payment Guarantee",{"$f":"R7775","v":47},"Matched with Local data"]
["KR","HSBC",2,0,0,null,"REBSEL200686","UCD",{"$f":"VLOOKUP(H7776,[2]SSIFSEP!$H$2:$I$7593,2,0)","v":"미사용약정"},"Unused Credit Line","USD","C13",3.2,0,"1",0,{"$f":"VLOOKUP(K7776,[1]EXRATE!C$3:F$43,4,0)","v":1344.8},{"$f":"+P7776*Q7776/100","v":0},"",287,"",0,0,"","","","","","W","HIE","","",20230926,160849,0.09,40.854999999999997,"CIBM              MG30100","REBSEL",200,686]
["KR","HSBC",2,0,0,null,"REBSEL200694","REB",{"$f":"VLOOKUP(H7777,[2]SSIFSEP!$H$2:$I$7593,2,0)","v":"확정지급보증"},"Confirmed Payment Guarantee","USD","C13",3.1,0,"1",46219,{"$f":"VLOOKUP(K7777,[1]EXRATE!C$3:F$43,4,0)","v":1344.8},{"$f":"+P7777*Q7777/100","v":621553.11199999996},"",243,"",0,0,"","","","","","W","HIE","","",20230926,160849,0.04,40.854999999999997,"CIBM              MA21540","REBSEL",200,694,null,"GTRF GTE","Confirmed Payment Guarantee",{"$f":"R7777","v":621553.11199999996},"Matched with Local data"]
["KR","HSBC",2,0,0,null,"REBSEL200694","UCD",{"$f":"VLOOKUP(H7778,[2]SSIFSEP!$H$2:$I$7593,2,0)","v":"미사용약정"},"Unused Credit Line","USD","C13",3.1,0,"1",150,{"$f":"VLOOKUP(K7778,[1]EXRATE!C$3:F$43,4,0)","v":1344.8},{"$f":"+P7778*Q7778/100","v":2017.2},"",287,"",0,0,"","","","","","W","HIE","","",20230926,160849,0.04,40.854999999999997,"CIBM              MG30100","REBSEL",200,694]
["KR","HSBC",2,0,0,null,"REBSEL200695","REB",{"$f":"VLOOKUP(H7779,[2]SSIFSEP!$H$2:$I$7593,2,0)","v":"확정지급보증"},"Confirmed Payment Guarantee","VND","C13",3.1,0,"1",440986168,{"$f":"VLOOKUP(K7779,[1]EXRATE!C$3:F$43,4,0)","v":5.514865696124667E-2},{"$f":"+P7779*Q7779","v":24319794.903686695},"",244,"",0,0,"","","","","","W","HIE","","",20230926,160849,0.04,40.854999999999997,"CIBM              MA21540","REBSEL",200,695,null,"GTRF GTE","Confirmed Payment Guarantee",{"$f":"R7779","v":24319794.903686695},"Matched with Local data"]
["KR","HSBC",2,0,0,null,"REBSEL200695","UCD",{"$f":"VLOOKUP(H7780,[2]SSIFSEP!$H$2:$I$7593,2,0)","v":"미사용약정"},"Unused Credit Line","USD","C13",3.1,0,"1",59,{"$f":"VLOOKUP(K7780,[1]EXRATE!C$3:F$43,4,0)","v":1344.8},{"$f":"+P7780*Q7780/100","v":793.43200000000002},"",287,"",0,0,"","","","","","W","HIE","","",20230926,160849,0.04,40.854999999999997,"CIBM              MG30100","REBSEL",200,695]
["KR","HSBC",2,0,0,null,"REBSEL200699","REB",{"$f":"VLOOKUP(H7781,[2]SSIFSEP!$H$2:$I$7593,2,0)","v":"확정지급보증"},"Confirmed Payment Guarantee","KRW","C13",3.2,0,"1",422,{"$f":"VLOOKUP(K7781,[1]EXRATE!C$3:F$43,4,0)","v":1},{"$f":"+P7781*Q7781","v":422},"",241,"",0,0,"","","","","","W","HIE","","",20230926,160849,0.09,40.854999999999997,"CIBM              MA21540","REBSEL",200,699,null,"GTRF GTE","Confirmed Payment Guarantee",{"$f":"R7781","v":422},"Matched with Local data"]
["KR","HSBC",2,0,0,null,"REBSEL200699","UCD",{"$f":"VLOOKUP(H7782,[2]SSIFSEP!$H$2:$I$7593,2,0)","v":"미사용약정"},"Unused Credit Line","USD","C13",3.2,0,"1",0,{"$f":"VLOOKUP(K7782,[1]EXRATE!C$3:F$43,4,0)","v":1344.8},{"$f":"+P7782*Q7782/100","v":0},"",287,"",0,0,"","","","","","W","HIE","","",20230926,160849,0.09,40.854999999999997,"CIBM              MG30100","REBSEL",200,699]
["KR","HSBC",2,0,0,null,"REBSEL200702","REB",{"$f":"VLOOKUP(H7783,[2]SSIFSEP!$H$2:$I$7593,2,0)","v":"확정지급보증"},"Confirmed Payment Guarantee","KRW","C13",3.2,0,"1",27,{"$f":"VLOOKUP(K7783,[1]EXRATE!C$3:F$43,4,0)","v":1},{"$f":"+P7783*Q7783","v":27},"",241,"",0,0,"","","","","","W","HIE","","",20230926,160849,0.09,40.854999999999997,"CIBM              MA21540","REBSEL",200,702,null,"GTRF GTE","Confirmed Payment Guarantee",{"$f":"R7783","v":27},"Matched with Local data"]
["KR","HSBC",2,0,0,null,"REBSEL200702","UCD",{"$f":"VLOOKUP(H7784,[2]SSIFSEP!$H$2:$I$7593,2,0)","v":"미사용약정"},"Unused Credit Line","USD","C13",3.2,0,"1",0,{"$f":"VLOOKUP(K7784,[1]EXRATE!C$3:F$43,4,0)","v":1344.8},{"$f":"+P7784*Q7784/100","v":0},"",287,"",0,0,"","","","","","W","HIE","","",20230926,160849,0.09,40.854999999999997,"CIBM              MG30100","REBSEL",200,702]
["KR","HSBC",2,0,0,null,"REBSEL300066","REB",{"$f":"VLOOKUP(H7785,[2]SSIFSEP!$H$2:$I$7593,2,0)","v":"확정지급보증"},"Confirmed Payment Guarantee","KRW","C13",3.2,0,"1",2070,{"$f":"VLOOKUP(K7785,[1]EXRATE!C$3:F$43,4,0)","v":1},{"$f":"+P7785*Q7785","v":2070},"",241,"",0,0,"","","","","","W","HIE","","",20230926,160849,0.09,40.854999999999997,"CIBM              MA21540","REBSEL",300,66,null,"GTRF GTE","Confirmed Payment Guarantee",{"$f":"R7785","v":2070},"Matched with Local data"]
["KR","HSBC",2,0,0,null,"REBSEL300066","UCD",{"$f":"VLOOKUP(H7786,[2]SSIFSEP!$H$2:$I$7593,2,0)","v":"미사용약정"},"Unused Credit Line","USD","C13",3.2,0,"1",0,{"$f":"VLOOKUP(K7786,[1]EXRATE!C$3:F$43,4,0)","v":1344.8},{"$f":"+P7786*Q7786/100","v":0},"",287,"",0,0,"","","","","","W","HIE","","",20230926,160849,0.09,40.854999999999997,"CIBM              MG30100","REBSEL",300,66]
["KR","HSBC",2,0,0,null,"REBSEL300070","REB",{"$f":"VLOOKUP(H7787,[2]SSIFSEP!$H$2:$I$7593,2,0)","v":"확정지급보증"},"Confirmed Payment Guarantee","KRW","C13",3.2,0,"1",853,{"$f":"VLOOKUP(K7787,[1]EXRATE!C$3:F$43,4,0)","v":1},{"$f":"+P7787*Q7787","v":853},"",241,"",0,0,"","","","","","W","HIE","","",20230926,160849,0.09,40.854999999999997,"CIBM              MA21540","REBSEL",300,70,null,"GTRF GTE","Confirmed Payment Guarantee",{"$f":"R7787","v":853},"Matched with Local data"]
["KR","HSBC",2,0,0,null,"REBSEL300070","UCD",{"$f":"VLOOKUP(H7788,[2]SSIFSEP!$H$2:$I$7593,2,0)","v":"미사용약정"},"Unused Credit Line","USD","C13",3.2,0,"1",0,{"$f":"VLOOKUP(K7788,[1]EXRATE!C$3:F$43,4,0)","v":1344.8},{"$f":"+P7788*Q7788/100","v":0},"",287,"",0,0,"","","","","","W","HIE","","",20230926,160849,0.09,40.854999999999997,"CIBM              MG30100","REBSEL",300,70]
["KR","HSBC",2,0,0,null,"REBSEL300071","REB",{"$f":"VLOOKUP(H7789,[2]SSIFSEP!$H$2:$I$7593,2,0)","v":"확정지급보증"},"Confirmed Payment Guarantee","KRW","C13",3.2,0,"1",2512,{"$f":"VLOOKUP(K7789,[1]EXRATE!C$3:F$43,4,0)","v":1},{"$f":"+P7789*Q7789","v":2512},"",241,"",0,0,"","","","","","W","HIE","","",20230926,160849,0.09,40.854999999999997,"CIBM              MA21540","REBSEL",300,71,null,"GTRF GTE","Confirmed Payment Guarantee",{"$f":"R7789","v":2512},"Matched with Local data"]
["KR","HSBC",2,0,0,null,"REBSEL300071","UCD",{"$f":"VLOOKUP(H7790,[2]SSIFSEP!$H$2:$I$7593,2,0)","v":"미사용약정"},"Unused Credit Line","USD","C13",3.2,0,"1",0,{"$f":"VLOOKUP(K7790,[1]EXRATE!C$3:F$43,4,0)","v":1344.8},{"$f":"+P7790*Q7790/100","v":0},"",287,"",0,0,"","","","","","W","HIE","","",20230926,160849,0.09,40.854999999999997,"CIBM              MG30100","REBSEL",300,71]
["KR","HSBC",2,0,0,null,"REBSEL300083","REB",{"$f":"VLOOKUP(H7791,[2]SSIFSEP!$H$2:$I$7593,2,0)","v":"확정지급보증"},"Confirmed Payment Guarantee","KRW","C13",3.2,0,"1",460,{"$f":"VLOOKUP(K7791,[1]EXRATE!C$3:F$43,4,0)","v":1},{"$f":"+P7791*Q7791","v":460},"",241,"",0,0,"","","","","","W","HIE","","",20230926,160849,0.09,40.854999999999997,"CIBM              MA21540","REBSEL",300,83,null,"GTRF GTE","Confirmed Payment Guarantee",{"$f":"R7791","v":460},"Matched with Local data"]
["KR","HSBC",2,0,0,null,"REBSEL300083","UCD",{"$f":"VLOOKUP(H7792,[2]SSIFSEP!$H$2:$I$7593,2,0)","v":"미사용약정"},"Unused Credit Line","USD","C13",3.2,0,"1",0,{"$f":"VLOOKUP(K7792,[1]EXRATE!C$3:F$43,4,0)","v":1344.8},{"$f":"+P7792*Q7792/100","v":0},"",287,"",0,0,"","","","","","W","HIE","","",20230926,160849,0.09,40.854999999999997,"CIBM              MG30100","REBSEL",300,83]
["KR","HSBC",2,0,0,null,"REBSEL300118","REB",{"$f":"VLOOKUP(H7793,[2]SSIFSEP!$H$2:$I$7593,2,0)","v":"확정지급보증"},"Confirmed Payment Guarantee","KRW","C13",3.2,0,"1",489,{"$f":"VLOOKUP(K7793,[1]EXRATE!C$3:F$43,4,0)","v":1},{"$f":"+P7793*Q7793","v":489},"",241,"",0,0,"","","","","","W","HIE","","",20230926,160849,0.09,40.854999999999997,"CIBM              MA21540","REBSEL",300,118,null,"GTRF GTE","Confirmed Payment Guarantee",{"$f":"R7793","v":489},"Matched with Local data"]
["KR","HSBC",2,0,0,null,"REBSEL300118","UCD",{"$f":"VLOOKUP(H7794,[2]SSIFSEP!$H$2:$I$7593,2,0)","v":"미사용약정"},"Unused Credit Line","USD","C13",3.2,0,"1",0,{"$f":"VLOOKUP(K7794,[1]EXRATE!C$3:F$43,4,0)","v":1344.8},{"$f":"+P7794*Q7794/100","v":0},"",287,"",0,0,"","","","","","W","HIE","","",20230926,160849,0.09,40.854999999999997,"CIBM              MG30100","REBSEL",300,118]
["KR","HSBC",2,0,0,null,"REBSEL300139","REB",{"$f":"VLOOKUP(H7795,[2]SSIFSEP!$H$2:$I$7593,2,0)","v":"확정지급보증"},"Confirmed Payment Guarantee","KRW","C13",2.2000000000000002,0,"1",416,{"$f":"VLOOKUP(K7795,[1]EXRATE!C$3:F$43,4,0)","v":1},{"$f":"+P7795*Q7795","v":416},"",241,"",0,0,"","","","","","W","HIE","","",20230926,160849,0.02,40.854999999999997,"CIBM              MA21540","REBSEL",300,139,null,"GTRF GTE","Confirmed Payment Guarantee",{"$f":"R7795","v":416},"Matched with Local data"]
["KR","HSBC",2,0,0,null,"REBSEL300139","UCD",{"$f":"VLOOKUP(H7796,[2]SSIFSEP!$H$2:$I$7593,2,0)","v":"미사용약정"},"Unused Credit Line","USD","C13",2.2000000000000002,0,"1",3,{"$f":"VLOOKUP(K7796,[1]EXRATE!C$3:F$43,4,0)","v":1344.8},{"$f":"+P7796*Q7796/100","v":40.343999999999994},"",287,"",0,0,"","","","","","W","HIE","","",20230926,160849,0.02,40.854999999999997,"CIBM              MG30100","REBSEL",300,139]
["KR","HSBC",2,0,0,null,"REBSEL300142","REB",{"$f":"VLOOKUP(H7797,[2]SSIFSEP!$H$2:$I$7593,2,0)","v":"확정지급보증"},"Confirmed Payment Guarantee","USD","C13",3.2,0,"1",1491,{"$f":"VLOOKUP(K7797,[1]EXRATE!C$3:F$43,4,0)","v":1344.8},{"$f":"+P7797*Q7797/100","v":20050.968000000001},"",243,"",0,0,"","","","","","W","HIE","","",20230926,160849,0.09,40.854999999999997,"CIBM              MA21540","REBSEL",300,142,null,"GTRF GTE","Confirmed Payment Guarantee",{"$f":"R7797","v":20050.968000000001},"Matched with Local data"]
["KR","HSBC",2,0,0,null,"REBSEL300142","UCD",{"$f":"VLOOKUP(H7798,[2]SSIFSEP!$H$2:$I$7593,2,0)","v":"미사용약정"},"Unused Credit Line","USD","C13",3.2,0,"1",0,{"$f":"VLOOKUP(K7798,[1]EXRATE!C$3:F$43,4,0)","v":1344.8},{"$f":"+P7798*Q7798/100","v":0},"",287,"",0,0,"","","","","","W","HIE","","",20230926,160849,0.09,40.854999999999997,"CIBM              MG30100","REBSEL",300,142]
["KR","HSBC",2,0,0,null,"REBSEL300151","REB",{"$f":"VLOOKUP(H7799,[2]SSIFSEP!$H$2:$I$7593,2,0)","v":"확정지급보증"},"Confirmed Payment Guarantee","KRW","C13",3.2,0,"1",25,{"$f":"VLOOKUP(K7799,[1]EXRATE!C$3:F$43,4,0)","v":1},{"$f":"+P7799*Q7799","v":25},"",241,"",0,0,"","","","","","W","HIE","","",20230926,160849,0.09,40.854999999999997,"CIBM              MA21540","REBSEL",300,151,null,"GTRF GTE","Confirmed Payment Guarantee",{"$f":"R7799","v":25},"Matched with Local data"]
["KR","HSBC",2,0,0,null,"REBSEL300151","UCD",{"$f":"VLOOKUP(H7800,[2]SSIFSEP!$H$2:$I$7593,2,0)","v":"미사용약정"},"Unused Credit Line","USD","C13",3.2,0,"1",0,{"$f":"VLOOKUP(K7800,[1]EXRATE!C$3:F$43,4,0)","v":1344.8},{"$f":"+P7800*Q7800/100","v":0},"",287,"",0,0,"","","","","","W","HIE","","",20230926,160849,0.09,40.854999999999997,"CIBM              MG30100","REBSEL",300,151]
["KR","HSBC",2,0,0,null,"REBSEL300175","REB",{"$f":"VLOOKUP(H7801,[2]SSIFSEP!$H$2:$I$7593,2,0)","v":"확정지급보증"},"Confirmed Payment Guarantee","USD","C13",1.2,0,"1",0,{"$f":"VLOOKUP(K7801,[1]EXRATE!C$3:F$43,4,0)","v":1344.8},{"$f":"+P7801*Q7801/100","v":0},"",243,"",0,0,"","","","","","W","HIE","","",20230926,160849,0.01,40.854999999999997,"CIBM              MA21540","REBSEL",300,175,null,"GTRF GTE","Confirmed Payment Guarantee",{"$f":"R7801","v":0},"Matched with Local data"]
["KR","HSBC",2,0,0,null,"REBSEL300175","UCD",{"$f":"VLOOKUP(H7802,[2]SSIFSEP!$H$2:$I$7593,2,0)","v":"미사용약정"},"Unused Credit Line","USD","C13",1.2,0,"1",0,{"$f":"VLOOKUP(K7802,[1]EXRATE!C$3:F$43,4,0)","v":1344.8},{"$f":"+P7802*Q7802/100","v":0},"",287,"",0,0,"","","","","","W","HIE","","",20230926,160849,0.01,40.854999999999997,"CIBM              MG30100","REBSEL",300,175]
["KR","HSBC",2,0,0,null,"REBSEL300226","REB",{"$f":"VLOOKUP(H7803,[2]SSIFSEP!$H$2:$I$7593,2,0)","v":"확정지급보증"},"Confirmed Payment Guarantee","USD","C11",2.2000000000000002,0,"1",97,{"$f":"VLOOKUP(K7803,[1]EXRATE!C$3:F$43,4,0)","v":1344.8},{"$f":"+P7803*Q7803/100","v":1304.4559999999999},"",239,"",0,0,"","","","","","W","HIE","","",20230926,160849,0.02,40.854999999999997,"CIBM              MA21540","REBSEL",300,226,null,"GTRF GTE","Confirmed Payment Guarantee",{"$f":"R7803","v":1304.4559999999999},"Matched with Local data"]
["KR","HSBC",2,0,0,null,"REBSEL300261","REB",{"$f":"VLOOKUP(H7804,[2]SSIFSEP!$H$2:$I$7593,2,0)","v":"확정지급보증"},"Confirmed Payment Guarantee","KRW","C13",3.2,0,"1",25,{"$f":"VLOOKUP(K7804,[1]EXRATE!C$3:F$43,4,0)","v":1},{"$f":"+P7804*Q7804","v":25},"",241,"",0,0,"","","","","","W","HIE","","",20230926,160849,0.09,40.854999999999997,"CIBM              MA21540","REBSEL",300,261,null,"GTRF GTE","Confirmed Payment Guarantee",{"$f":"R7804","v":25},"Matched with Local data"]
["KR","HSBC",2,0,0,null,"REBSEL300261","UCD",{"$f":"VLOOKUP(H7805,[2]SSIFSEP!$H$2:$I$7593,2,0)","v":"미사용약정"},"Unused Credit Line","USD","C13",3.2,0,"1",0,{"$f":"VLOOKUP(K7805,[1]EXRATE!C$3:F$43,4,0)","v":1344.8},{"$f":"+P7805*Q7805/100","v":0},"",287,"",0,0,"","","","","","W","HIE","","",20230926,160849,0.09,40.854999999999997,"CIBM              MG30100","REBSEL",300,261]
["KR","HSBC",2,0,0,null,"REBSEL300275","REB",{"$f":"VLOOKUP(H7806,[2]SSIFSEP!$H$2:$I$7593,2,0)","v":"확정지급보증"},"Confirmed Payment Guarantee","USD","C13",3.2,0,"1",110,{"$f":"VLOOKUP(K7806,[1]EXRATE!C$3:F$43,4,0)","v":1344.8},{"$f":"+P7806*Q7806/100","v":1479.28},"",243,"",0,0,"","","","","","W","HIE","","",20230926,160849,0.09,40.854999999999997,"CIBM              MA21540","REBSEL",300,275,null,"GTRF GTE","Confirmed Payment Guarantee",{"$f":"R7806","v":1479.28},"Matched with Local data"]
["KR","HSBC",2,0,0,null,"REBSEL300275","UCD",{"$f":"VLOOKUP(H7807,[2]SSIFSEP!$H$2:$I$7593,2,0)","v":"미사용약정"},"Unused Credit Line","USD","C13",3.2,0,"1",1,{"$f":"VLOOKUP(K7807,[1]EXRATE!C$3:F$43,4,0)","v":1344.8},{"$f":"+P7807*Q7807/100","v":13.448},"",287,"",0,0,"","","","","","W","HIE","","",20230926,160849,0.09,40.854999999999997,"CIBM              MG30100","REBSEL",300,275]
["KR","HSBC",2,0,0,null,"REBSEL300276","REB",{"$f":"VLOOKUP(H7808,[2]SSIFSEP!$H$2:$I$7593,2,0)","v":"확정지급보증"},"Confirmed Payment Guarantee","USD","C13",3.2,0,"1",171,{"$f":"VLOOKUP(K7808,[1]EXRATE!C$3:F$43,4,0)","v":1344.8},{"$f":"+P7808*Q7808/100","v":2299.6079999999997},"",243,"",0,0,"","","","","","W","HIE","","",20230926,160849,0.09,40.854999999999997,"CIBM              MA21540","REBSEL",300,276,null,"GTRF GTE","Confirmed Payment Guarantee",{"$f":"R7808","v":2299.6079999999997},"Matched with Local data"]
["KR","HSBC",2,0,0,null,"REBSEL300276","UCD",{"$f":"VLOOKUP(H7809,[2]SSIFSEP!$H$2:$I$7593,2,0)","v":"미사용약정"},"Unused Credit Line","USD","C13",3.2,0,"1",1,{"$f":"VLOOKUP(K7809,[1]EXRATE!C$3:F$43,4,0)","v":1344.8},{"$f":"+P7809*Q7809/100","v":13.448},"",287,"",0,0,"","","","","","W","HIE","","",20230926,160849,0.09,40.854999999999997,"CIBM              MG30100","REBSEL",300,276]
["KR","HSBC",2,0,0,null,"REBSEL300299","REB",{"$f":"VLOOKUP(H7810,[2]SSIFSEP!$H$2:$I$7593,2,0)","v":"확정지급보증"},"Confirmed Payment Guarantee","KRW","C13",3.2,0,"1",1802,{"$f":"VLOOKUP(K7810,[1]EXRATE!C$3:F$43,4,0)","v":1},{"$f":"+P7810*Q7810","v":1802},"",241,"",0,0,"","","","","","W","HIE","","",20230926,160849,0.09,40.854999999999997,"CIBM              MA21540","REBSEL",300,299,null,"GTRF GTE","Confirmed Payment Guarantee",{"$f":"R7810","v":1802},"Matched with Local data"]
["KR","HSBC",2,0,0,null,"REBSEL300299","UCD",{"$f":"VLOOKUP(H7811,[2]SSIFSEP!$H$2:$I$7593,2,0)","v":"미사용약정"},"Unused Credit Line","USD","C13",3.2,0,"1",1,{"$f":"VLOOKUP(K7811,[1]EXRATE!C$3:F$43,4,0)","v":1344.8},{"$f":"+P7811*Q7811/100","v":13.448},"",287,"",0,0,"","","","","","W","HIE","","",20230926,160849,0.09,40.854999999999997,"CIBM              MG30100","REBSEL",300,299]
["KR","HSBC",2,0,0,null,"REBSEL300310","REB",{"$f":"VLOOKUP(H7812,[2]SSIFSEP!$H$2:$I$7593,2,0)","v":"확정지급보증"},"Confirmed Payment Guarantee","KRW","C13",3.2,0,"1",1618,{"$f":"VLOOKUP(K7812,[1]EXRATE!C$3:F$43,4,0)","v":1},{"$f":"+P7812*Q7812","v":1618},"",241,"",0,0,"","","","","","W","HIE","","",20230926,160849,0.09,40.854999999999997,"CIBM              MA21540","REBSEL",300,310,null,"GTRF GTE","Confirmed Payment Guarantee",{"$f":"R7812","v":1618},"Matched with Local data"]
["KR","HSBC",2,0,0,null,"REBSEL300310","UCD",{"$f":"VLOOKUP(H7813,[2]SSIFSEP!$H$2:$I$7593,2,0)","v":"미사용약정"},"Unused Credit Line","USD","C13",3.2,0,"1",1,{"$f":"VLOOKUP(K7813,[1]EXRATE!C$3:F$43,4,0)","v":1344.8},{"$f":"+P7813*Q7813/100","v":13.448},"",287,"",0,0,"","","","","","W","HIE","","",20230926,160849,0.09,40.854999999999997,"CIBM              MG30100","REBSEL",300,310]
["KR","HSBC",2,0,0,null,"REBSEL300312","REB",{"$f":"VLOOKUP(H7814,[2]SSIFSEP!$H$2:$I$7593,2,0)","v":"확정지급보증"},"Confirmed Payment Guarantee","KRW","C13",3.2,0,"1",443,{"$f":"VLOOKUP(K7814,[1]EXRATE!C$3:F$43,4,0)","v":1},{"$f":"+P7814*Q7814","v":443},"",241,"",0,0,"","","","","","W","HIE","","",20230926,160849,0.09,40.854999999999997,"CIBM              MA21540","REBSEL",300,312,null,"GTRF GTE","Confirmed Payment Guarantee",{"$f":"R7814","v":443},"Matched with Local data"]
["KR","HSBC",2,0,0,null,"REBSEL300312","UCD",{"$f":"VLOOKUP(H7815,[2]SSIFSEP!$H$2:$I$7593,2,0)","v":"미사용약정"},"Unused Credit Line","USD","C13",3.2,0,"1",0,{"$f":"VLOOKUP(K7815,[1]EXRATE!C$3:F$43,4,0)","v":1344.8},{"$f":"+P7815*Q7815/100","v":0},"",287,"",0,0,"","","","","","W","HIE","","",20230926,160849,0.09,40.854999999999997,"CIBM              MG30100","REBSEL",300,312]
["KR","HSBC",2,0,0,null,"REBSEL300313","REB",{"$f":"VLOOKUP(H7816,[2]SSIFSEP!$H$2:$I$7593,2,0)","v":"확정지급보증"},"Confirmed Payment Guarantee","KRW","C13",3.2,0,"1",169,{"$f":"VLOOKUP(K7816,[1]EXRATE!C$3:F$43,4,0)","v":1},{"$f":"+P7816*Q7816","v":169},"",241,"",0,0,"","","","","","W","HIE","","",20230926,160849,0.09,40.854999999999997,"CIBM              MA21540","REBSEL",300,313,null,"GTRF GTE","Confirmed Payment Guarantee",{"$f":"R7816","v":169},"Matched with Local data"]
["KR","HSBC",2,0,0,null,"REBSEL300313","UCD",{"$f":"VLOOKUP(H7817,[2]SSIFSEP!$H$2:$I$7593,2,0)","v":"미사용약정"},"Unused Credit Line","USD","C13",3.2,0,"1",0,{"$f":"VLOOKUP(K7817,[1]EXRATE!C$3:F$43,4,0)","v":1344.8},{"$f":"+P7817*Q7817/100","v":0},"",287,"",0,0,"","","","","","W","HIE","","",20230926,160849,0.09,40.854999999999997,"CIBM              MG30100","REBSEL",300,313]
["KR","HSBC",2,0,0,null,"REBSEL300326","REB",{"$f":"VLOOKUP(H7818,[2]SSIFSEP!$H$2:$I$7593,2,0)","v":"확정지급보증"},"Confirmed Payment Guarantee","KRW","C13",3.2,0,"1",3152,{"$f":"VLOOKUP(K7818,[1]EXRATE!C$3:F$43,4,0)","v":1},{"$f":"+P7818*Q7818","v":3152},"",241,"",0,0,"","","","","","W","HIE","","",20230926,160849,0.09,40.854999999999997,"CIBM              MA21540","REBSEL",300,326,null,"GTRF GTE","Confirmed Payment Guarantee",{"$f":"R7818","v":3152},"Matched with Local data"]
["KR","HSBC",2,0,0,null,"REBSEL300326","UCD",{"$f":"VLOOKUP(H7819,[2]SSIFSEP!$H$2:$I$7593,2,0)","v":"미사용약정"},"Unused Credit Line","USD","C13",3.2,0,"1",2,{"$f":"VLOOKUP(K7819,[1]EXRATE!C$3:F$43,4,0)","v":1344.8},{"$f":"+P7819*Q7819/100","v":26.896000000000001},"",287,"",0,0,"","","","","","W","HIE","","",20230926,160849,0.09,40.854999999999997,"CIBM              MG30100","REBSEL",300,326]
["KR","HSBC",2,0,0,null,"REBSEL300327","REB",{"$f":"VLOOKUP(H7820,[2]SSIFSEP!$H$2:$I$7593,2,0)","v":"확정지급보증"},"Confirmed Payment Guarantee","KRW","C13",3.2,0,"1",3006,{"$f":"VLOOKUP(K7820,[1]EXRATE!C$3:F$43,4,0)","v":1},{"$f":"+P7820*Q7820","v":3006},"",241,"",0,0,"","","","","","W","HIE","","",20230926,160849,0.09,40.854999999999997,"CIBM              MA21540","REBSEL",300,327,null,"GTRF GTE","Confirmed Payment Guarantee",{"$f":"R7820","v":3006},"Matched with Local data"]
["KR","HSBC",2,0,0,null,"REBSEL300327","UCD",{"$f":"VLOOKUP(H7821,[2]SSIFSEP!$H$2:$I$7593,2,0)","v":"미사용약정"},"Unused Credit Line","USD","C13",3.2,0,"1",2,{"$f":"VLOOKUP(K7821,[1]EXRATE!C$3:F$43,4,0)","v":1344.8},{"$f":"+P7821*Q7821/100","v":26.896000000000001},"",287,"",0,0,"","","","","","W","HIE","","",20230926,160849,0.09,40.854999999999997,"CIBM              MG30100","REBSEL",300,327]
["KR","HSBC",2,0,0,null,"REBSEL300340","REB",{"$f":"VLOOKUP(H7822,[2]SSIFSEP!$H$2:$I$7593,2,0)","v":"확정지급보증"},"Confirmed Payment Guarantee","USD","C13",3.2,0,"1",1290,{"$f":"VLOOKUP(K7822,[1]EXRATE!C$3:F$43,4,0)","v":1344.8},{"$f":"+P7822*Q7822/100","v":17347.919999999998},"",243,"",0,0,"","","","","","W","HIE","","",20230926,160849,0.09,40.854999999999997,"CIBM              MA21540","REBSEL",300,340,null,"GTRF GTE","Confirmed Payment Guarantee",{"$f":"R7822","v":17347.919999999998},"Matched with Local data"]
["KR","HSBC",2,0,0,null,"REBSEL300340","UCD",{"$f":"VLOOKUP(H7823,[2]SSIFSEP!$H$2:$I$7593,2,0)","v":"미사용약정"},"Unused Credit Line","USD","C13",3.2,0,"1",11,{"$f":"VLOOKUP(K7823,[1]EXRATE!C$3:F$43,4,0)","v":1344.8},{"$f":"+P7823*Q7823/100","v":147.928},"",287,"",0,0,"","","","","","W","HIE","","",20230926,160849,0.09,40.854999999999997,"CIBM              MG30100","REBSEL",300,340]
["KR","HSBC",2,0,0,null,"REBSEL300405","REB",{"$f":"VLOOKUP(H7824,[2]SSIFSEP!$H$2:$I$7593,2,0)","v":"확정지급보증"},"Confirmed Payment Guarantee","KRW","C13",3.2,0,"1",39,{"$f":"VLOOKUP(K7824,[1]EXRATE!C$3:F$43,4,0)","v":1},{"$f":"+P7824*Q7824","v":39},"",241,"",0,0,"","","","","","W","HIE","","",20230926,160849,0.09,40.854999999999997,"CIBM              MA21540","REBSEL",300,405,null,"GTRF GTE","Confirmed Payment Guarantee",{"$f":"R7824","v":39},"Matched with Local data"]
["KR","HSBC",2,0,0,null,"REBSEL300405","UCD",{"$f":"VLOOKUP(H7825,[2]SSIFSEP!$H$2:$I$7593,2,0)","v":"미사용약정"},"Unused Credit Line","USD","C13",3.2,0,"1",0,{"$f":"VLOOKUP(K7825,[1]EXRATE!C$3:F$43,4,0)","v":1344.8},{"$f":"+P7825*Q7825/100","v":0},"",287,"",0,0,"","","","","","W","HIE","","",20230926,160849,0.09,40.854999999999997,"CIBM              MG30100","REBSEL",300,405]
["KR","HSBC",2,0,0,null,"REBSEL300472","REB",{"$f":"VLOOKUP(H7826,[2]SSIFSEP!$H$2:$I$7593,2,0)","v":"확정지급보증"},"Confirmed Payment Guarantee","USD","C13",2.2000000000000002,0,"1",55,{"$f":"VLOOKUP(K7826,[1]EXRATE!C$3:F$43,4,0)","v":1344.8},{"$f":"+P7826*Q7826/100","v":739.64},"",243,"",0,0,"","","","","","W","HIE","","",20230926,160849,0.02,40.854999999999997,"CIBM              MA21540","REBSEL",300,472,null,"GTRF GTE","Confirmed Payment Guarantee",{"$f":"R7826","v":739.64},"Matched with Local data"]
["KR","HSBC",2,0,0,null,"REBSEL300472","UCD",{"$f":"VLOOKUP(H7827,[2]SSIFSEP!$H$2:$I$7593,2,0)","v":"미사용약정"},"Unused Credit Line","USD","C13",2.2000000000000002,0,"1",0,{"$f":"VLOOKUP(K7827,[1]EXRATE!C$3:F$43,4,0)","v":1344.8},{"$f":"+P7827*Q7827/100","v":0},"",287,"",0,0,"","","","","","W","HIE","","",20230926,160849,0.02,40.854999999999997,"CIBM              MG30100","REBSEL",300,472]
["KR","HSBC",2,0,0,null,"REBSEL900004","REB",{"$f":"VLOOKUP(H7828,[2]SSIFSEP!$H$2:$I$7593,2,0)","v":"확정지급보증"},"Confirmed Payment Guarantee","USD","C13",2.1,0,"1",3762,{"$f":"VLOOKUP(K7828,[1]EXRATE!C$3:F$43,4,0)","v":1344.8},{"$f":"+P7828*Q7828/100","v":50591.375999999997},"",243,"",0,0,"","","","","","W","HIE","","",20230926,160849,0.01,40.854999999999997,"CIBM              MA21540","REBSEL",900,4,null,"GTRF GTE","Confirmed Payment Guarantee",{"$f":"R7828","v":50591.375999999997},"Matched with Local data"]
["KR","HSBC",2,0,0,null,"REBSEL900008","REB",{"$f":"VLOOKUP(H7829,[2]SSIFSEP!$H$2:$I$7593,2,0)","v":"확정지급보증"},"Confirmed Payment Guarantee","KRW","C13",3.2,0,"1",741,{"$f":"VLOOKUP(K7829,[1]EXRATE!C$3:F$43,4,0)","v":1},{"$f":"+P7829*Q7829","v":741},"",241,"",0,0,"","","","","","W","HIE","","",20230926,160849,0.09,40.854999999999997,"CIBM              MA21540","REBSEL",900,8,null,"GTRF GTE","Confirmed Payment Guarantee",{"$f":"R7829","v":741},"Matched with Local data"]
["KR","HSBC",2,0,0,null,"REBSEL900008","UCD",{"$f":"VLOOKUP(H7830,[2]SSIFSEP!$H$2:$I$7593,2,0)","v":"미사용약정"},"Unused Credit Line","USD","C13",3.2,0,"1",0,{"$f":"VLOOKUP(K7830,[1]EXRATE!C$3:F$43,4,0)","v":1344.8},{"$f":"+P7830*Q7830/100","v":0},"",287,"",0,0,"","","","","","W","HIE","","",20230926,160849,0.09,40.854999999999997,"CIBM              MG30100","REBSEL",900,8]
["KR","HSBC",2,0,0,null,"REBSEL900140","REB",{"$f":"VLOOKUP(H7831,[2]SSIFSEP!$H$2:$I$7593,2,0)","v":"확정지급보증"},"Confirmed Payment Guarantee","KRW","C13",3.2,0,"1",421,{"$f":"VLOOKUP(K7831,[1]EXRATE!C$3:F$43,4,0)","v":1},{"$f":"+P7831*Q7831","v":421},"",241,"",0,0,"","","","","","W","HIE","","",20230926,160849,0.09,40.854999999999997,"CIBM              MA21540","REBSEL",900,140,null,"GTRF GTE","Confirmed Payment Guarantee",{"$f":"R7831","v":421},"Matched with Local data"]
["KR","HSBC",2,0,0,null,"REBSEL900140","UCD",{"$f":"VLOOKUP(H7832,[2]SSIFSEP!$H$2:$I$7593,2,0)","v":"미사용약정"},"Unused Credit Line","USD","C13",3.2,0,"1",0,{"$f":"VLOOKUP(K7832,[1]EXRATE!C$3:F$43,4,0)","v":1344.8},{"$f":"+P7832*Q7832/100","v":0},"",287,"",0,0,"","","","","","W","HIE","","",20230926,160849,0.09,40.854999999999997,"CIBM              MG30100","REBSEL",900,140]
["KR","HSBC",2,0,0,null,"REBSEL900229","REB",{"$f":"VLOOKUP(H7833,[2]SSIFSEP!$H$2:$I$7593,2,0)","v":"확정지급보증"},"Confirmed Payment Guarantee","KRW","C13",3.2,0,"1",152,{"$f":"VLOOKUP(K7833,[1]EXRATE!C$3:F$43,4,0)","v":1},{"$f":"+P7833*Q7833","v":152},"",241,"",0,0,"","","","","","W","HIE","","",20230926,160849,0.09,40.854999999999997,"CIBM              MA21540","REBSEL",900,229,null,"GTRF GTE","Confirmed Payment Guarantee",{"$f":"R7833","v":152}]
["KR","HSBC",2,0,0,null,"REBSEL900229","UCD",{"$f":"VLOOKUP(H7834,[2]SSIFSEP!$H$2:$I$7593,2,0)","v":"미사용약정"},"Unused Credit Line","USD","C13",3.2,0,"1",0,{"$f":"VLOOKUP(K7834,[1]EXRATE!C$3:F$43,4,0)","v":1344.8},{"$f":"+P7834*Q7834/100","v":0},"",287,"",0,0,"","","","","","W","HIE","","",20230926,160849,0.09,40.854999999999997,"CIBM              MG30100","REBSEL",900,229]
["KR","HSBC",2,0,0,null,"REBSEL900252","REB",{"$f":"VLOOKUP(H7835,[2]SSIFSEP!$H$2:$I$7593,2,0)","v":"확정지급보증"},"Confirmed Payment Guarantee","KRW","C13",3.2,0,"1",6140,{"$f":"VLOOKUP(K7835,[1]EXRATE!C$3:F$43,4,0)","v":1},{"$f":"+P7835*Q7835","v":6140},"",241,"",0,0,"","","","","","W","HIE","","",20230926,160849,0.09,40.854999999999997,"CIBM              MA21540","REBSEL",900,252,null,"GTRF GTE","Confirmed Payment Guarantee",{"$f":"R7835","v":6140},"Matched with Local data"]
["KR","HSBC",2,0,0,null,"REBSEL900252","UCD",{"$f":"VLOOKUP(H7836,[2]SSIFSEP!$H$2:$I$7593,2,0)","v":"미사용약정"},"Unused Credit Line","USD","C13",3.2,0,"1",0,{"$f":"VLOOKUP(K7836,[1]EXRATE!C$3:F$43,4,0)","v":1344.8},{"$f":"+P7836*Q7836/100","v":0},"",287,"",0,0,"","","","","","W","HIE","","",20230926,160849,0.09,40.854999999999997,"CIBM              MG30100","REBSEL",900,252]
["KR","HSBC",2,0,0,null,"REBSEL900254","REB",{"$f":"VLOOKUP(H7837,[2]SSIFSEP!$H$2:$I$7593,2,0)","v":"확정지급보증"},"Confirmed Payment Guarantee","KRW","C13",3.2,0,"1",172,{"$f":"VLOOKUP(K7837,[1]EXRATE!C$3:F$43,4,0)","v":1},{"$f":"+P7837*Q7837","v":172},"",241,"",0,0,"","","","","","W","HIE","","",20230926,160849,0.09,40.854999999999997,"CIBM              MA21540","REBSEL",900,254,null,"GTRF GTE","Confirmed Payment Guarantee",{"$f":"R7837","v":172},"Matched with Local data"]
["KR","HSBC",2,0,0,null,"REBSEL900254","UCD",{"$f":"VLOOKUP(H7838,[2]SSIFSEP!$H$2:$I$7593,2,0)","v":"미사용약정"},"Unused Credit Line","USD","C13",3.2,0,"1",0,{"$f":"VLOOKUP(K7838,[1]EXRATE!C$3:F$43,4,0)","v":1344.8},{"$f":"+P7838*Q7838/100","v":0},"",287,"",0,0,"","","","","","W","HIE","","",20230926,160849,0.09,40.854999999999997,"CIBM              MG30100","REBSEL",900,254]
["KR","HSBC",2,0,0,null,"REBSEL900255","REB",{"$f":"VLOOKUP(H7839,[2]SSIFSEP!$H$2:$I$7593,2,0)","v":"확정지급보증"},"Confirmed Payment Guarantee","EUR","C13",3.2,0,"1",910,{"$f":"VLOOKUP(K7839,[1]EXRATE!C$3:F$43,4,0)","v":1421.7225599999999},{"$f":"+P7839*Q7839/100","v":12937.675295999999},"",240,"",0,0,"","","","","","W","HIE","","",20230926,160849,0.09,40.854999999999997,"CIBM              MA21540","REBSEL",900,255,null,"GTRF GTE","Confirmed Payment Guarantee",{"$f":"R7839","v":12937.675295999999},"Matched with Local data"]
["KR","HSBC",2,0,0,null,"REBSEL900255","UCD",{"$f":"VLOOKUP(H7840,[2]SSIFSEP!$H$2:$I$7593,2,0)","v":"미사용약정"},"Unused Credit Line","USD","C13",3.2,0,"1",0,{"$f":"VLOOKUP(K7840,[1]EXRATE!C$3:F$43,4,0)","v":1344.8},{"$f":"+P7840*Q7840/100","v":0},"",287,"",0,0,"","","","","","W","HIE","","",20230926,160849,0.09,40.854999999999997,"CIBM              MG30100","REBSEL",900,255]
["KR","HSBC",2,0,0,null,"REBSEL900379","REB",{"$f":"VLOOKUP(H7841,[2]SSIFSEP!$H$2:$I$7593,2,0)","v":"확정지급보증"},"Confirmed Payment Guarantee","KRW","C13",3.2,0,"1",6812,{"$f":"VLOOKUP(K7841,[1]EXRATE!C$3:F$43,4,0)","v":1},{"$f":"+P7841*Q7841","v":6812},"",241,"",0,0,"","","","","","W","HIE","","",20230926,160849,0.09,40.854999999999997,"CIBM              MA21540","REBSEL",900,379,null,"GTRF GTE","Confirmed Payment Guarantee",{"$f":"R7841","v":6812},"Matched with Local data"]
["KR","HSBC",2,0,0,null,"REBSEL900379","UCD",{"$f":"VLOOKUP(H7842,[2]SSIFSEP!$H$2:$I$7593,2,0)","v":"미사용약정"},"Unused Credit Line","USD","C13",3.2,0,"1",0,{"$f":"VLOOKUP(K7842,[1]EXRATE!C$3:F$43,4,0)","v":1344.8},{"$f":"+P7842*Q7842/100","v":0},"",287,"",0,0,"","","","","","W","HIE","","",20230926,160849,0.09,40.854999999999997,"CIBM              MG30100","REBSEL",900,379]
["KR","HSBC",2,0,0,null,"REBSEL900464","REB",{"$f":"VLOOKUP(H7843,[2]SSIFSEP!$H$2:$I$7593,2,0)","v":"확정지급보증"},"Confirmed Payment Guarantee","USD","C13",2.1,0,"1",1644,{"$f":"VLOOKUP(K7843,[1]EXRATE!C$3:F$43,4,0)","v":1344.8},{"$f":"+P7843*Q7843/100","v":22108.511999999999},"",243,"",0,0,"","","","","","W","HIE","","",20230926,160849,0.01,40.854999999999997,"CIBM              MA21540","REBSEL",900,464,null,"GTRF GTE","Confirmed Payment Guarantee",{"$f":"R7843","v":22108.511999999999},"Matched with Local data"]
["KR","HSBC",2,0,0,null,"REBSEL900469","REB",{"$f":"VLOOKUP(H7844,[2]SSIFSEP!$H$2:$I$7593,2,0)","v":"확정지급보증"},"Confirmed Payment Guarantee","USD","C13",3.2,0,"1",268,{"$f":"VLOOKUP(K7844,[1]EXRATE!C$3:F$43,4,0)","v":1344.8},{"$f":"+P7844*Q7844/100","v":3604.0639999999999},"",243,"",0,0,"","","","","","W","HIE","","",20230926,160849,0.09,40.854999999999997,"CIBM              MA21540","REBSEL",900,469,null,"GTRF GTE","Confirmed Payment Guarantee",{"$f":"R7844","v":3604.0639999999999},"Matched with Local data"]
["KR","HSBC",2,0,0,null,"REBSEL900469","UCD",{"$f":"VLOOKUP(H7845,[2]SSIFSEP!$H$2:$I$7593,2,0)","v":"미사용약정"},"Unused Credit Line","USD","C13",3.2,0,"1",0,{"$f":"VLOOKUP(K7845,[1]EXRATE!C$3:F$43,4,0)","v":1344.8},{"$f":"+P7845*Q7845/100","v":0},"",287,"",0,0,"","","","","","W","HIE","","",20230926,160849,0.09,40.854999999999997,"CIBM              MG30100","REBSEL",900,469]
["KR","HSBC",2,0,0,null,"REBSEL900589","REB",{"$f":"VLOOKUP(H7846,[2]SSIFSEP!$H$2:$I$7593,2,0)","v":"확정지급보증"},"Confirmed Payment Guarantee","KRW","C13",3.2,0,"1",1245,{"$f":"VLOOKUP(K7846,[1]EXRATE!C$3:F$43,4,0)","v":1},{"$f":"+P7846*Q7846","v":1245},"",241,"",0,0,"","","","","","W","HIE","","",20230926,160849,0.09,40.854999999999997,"CIBM              MA21540","REBSEL",900,589,null,"GTRF GTE","Confirmed Payment Guarantee",{"$f":"R7846","v":1245},"Matched with Local data"]
["KR","HSBC",2,0,0,null,"REBSEL900589","UCD",{"$f":"VLOOKUP(H7847,[2]SSIFSEP!$H$2:$I$7593,2,0)","v":"미사용약정"},"Unused Credit Line","USD","C13",3.2,0,"1",0,{"$f":"VLOOKUP(K7847,[1]EXRATE!C$3:F$43,4,0)","v":1344.8},{"$f":"+P7847*Q7847/100","v":0},"",287,"",0,0,"","","","","","W","HIE","","",20230926,160849,0.09,40.854999999999997,"CIBM              MG30100","REBSEL",900,589]
["KR","HSBC",2,0,0,null,"REBSEL914093","REB",{"$f":"VLOOKUP(H7848,[2]SSIFSEP!$H$2:$I$7593,2,0)","v":"확정지급보증"},"Confirmed Payment Guarantee","KRW","C13",3.2,0,"1",2267,{"$f":"VLOOKUP(K7848,[1]EXRATE!C$3:F$43,4,0)","v":1},{"$f":"+P7848*Q7848","v":2267},"",241,"",0,0,"","","","","","W","HIE","","",20230926,160849,0.09,40.854999999999997,"CIBM              MA21540","REBSEL",914,93,null,"GTRF GTE","Confirmed Payment Guarantee",{"$f":"R7848","v":2267},"Matched with Local data"]
["KR","HSBC",2,0,0,null,"REBSEL914093","UCD",{"$f":"VLOOKUP(H7849,[2]SSIFSEP!$H$2:$I$7593,2,0)","v":"미사용약정"},"Unused Credit Line","USD","C13",3.2,0,"1",0,{"$f":"VLOOKUP(K7849,[1]EXRATE!C$3:F$43,4,0)","v":1344.8},{"$f":"+P7849*Q7849/100","v":0},"",287,"",0,0,"","","","","","W","HIE","","",20230926,160849,0.09,40.854999999999997,"CIBM              MG30100","REBSEL",914,93]
["KR","HSBC",2,0,0,null,"RFESEL301283TIK","RFE",{"$f":"VLOOKUP(H7850,[2]SSIFSEP!$H$2:$I$7593,2,0)","v":"팩토링채권"},"Factoring Receivables","KRW","C13",1.2,0,"1",0,{"$f":"VLOOKUP(K7850,[1]EXRATE!C$3:F$43,4,0)","v":1},{"$f":"+P7850*Q7850","v":0},"",139,"",0,0,"","","","","","W","HIE","","",20230926,160849,0.01,40.854999999999997,"CIBM              AI80182","RFESEL",301,"283TIK"]
["KR","HSBC",2,0,0,null,"RFESEL301283TIK","UCD",{"$f":"VLOOKUP(H7851,[2]SSIFSEP!$H$2:$I$7593,2,0)","v":"미사용약정"},"Unused Credit Line","KRW","C13",1.2,0,"1",0,{"$f":"VLOOKUP(K7851,[1]EXRATE!C$3:F$43,4,0)","v":1},0,"",283,"",0,0,"","","","","","W","HIE","","",20230926,160849,0.01,40.854999999999997,"CIBM              MG30100","RFESEL",301,"283TIK"]
["KR","HSBC",2,0,0,null,"RFESEL301320TIK","RFE",{"$f":"VLOOKUP(H7852,[2]SSIFSEP!$H$2:$I$7593,2,0)","v":"팩토링채권"},"Factoring Receivables","KRW","C13",1.2,0,"1",0,{"$f":"VLOOKUP(K7852,[1]EXRATE!C$3:F$43,4,0)","v":1},0,"",139,"",0,0,"","","","","","W","HIE","","",20230926,160849,0.01,40.854999999999997,"CIBM              AI80182","RFESEL",301,"320TIK"]
["KR","HSBC",2,0,0,null,"RFESEL301320TIK","UCD",{"$f":"VLOOKUP(H7853,[2]SSIFSEP!$H$2:$I$7593,2,0)","v":"미사용약정"},"Unused Credit Line","KRW","C13",1.2,0,"1",0,{"$f":"VLOOKUP(K7853,[1]EXRATE!C$3:F$43,4,0)","v":1},0,"",283,"",0,0,"","","","","","W","HIE","","",20230926,160849,0.01,40.854999999999997,"CIBM              MG30100","RFESEL",301,"320TIK"]
["KR","HSBC",2,0,0,null,"RFESEL301338TIK","RFE",{"$f":"VLOOKUP(H7854,[2]SSIFSEP!$H$2:$I$7593,2,0)","v":"팩토링채권"},"Factoring Receivables","KRW","C13",1.2,0,"1",3,{"$f":"VLOOKUP(K7854,[1]EXRATE!C$3:F$43,4,0)","v":1},3,"",139,"",0,0,"","","","","","W","HIE","","",20230926,160849,0.01,40.854999999999997,"CIBM              AI80182","RFESEL",301,"338TIK"]
["KR","HSBC",2,0,0,null,"RFESEL301338TIK","UCD",{"$f":"VLOOKUP(H7855,[2]SSIFSEP!$H$2:$I$7593,2,0)","v":"미사용약정"},"Unused Credit Line","KRW","C13",1.2,0,"1",0,{"$f":"VLOOKUP(K7855,[1]EXRATE!C$3:F$43,4,0)","v":1},0,"",283,"",0,0,"","","","","","W","HIE","","",20230926,160849,0.01,40.854999999999997,"CIBM              MG30100","RFESEL",301,"338TIK"]
["KR","HSBC",2,0,0,null,"RFESEL301348TIK","RFE",{"$f":"VLOOKUP(H7856,[2]SSIFSEP!$H$2:$I$7593,2,0)","v":"팩토링채권"},"Factoring Receivables","KRW","C13",1.2,0,"1",1,{"$f":"VLOOKUP(K7856,[1]EXRATE!C$3:F$43,4,0)","v":1},1,"",139,"",0,0,"","","","","","W","HIE","","",20230926,160849,0.01,40.854999999999997,"CIBM              AI80182","RFESEL",301,"348TIK"]
["KR","HSBC",2,0,0,null,"RFESEL301348TIK","UCD",{"$f":"VLOOKUP(H7857,[2]SSIFSEP!$H$2:$I$7593,2,0)","v":"미사용약정"},"Unused Credit Line","KRW","C13",1.2,0,"1",0,{"$f":"VLOOKUP(K7857,[1]EXRATE!C$3:F$43,4,0)","v":1},0,"",283,"",0,0,"","","","","","W","HIE","","",20230926,160849,0.01,40.854999999999997,"CIBM              MG30100","RFESEL",301,"348TIK"]
["KR","HSBC",2,0,0,null,"RFESEL301368TIK","RFE",{"$f":"VLOOKUP(H7858,[2]SSIFSEP!$H$2:$I$7593,2,0)","v":"팩토링채권"},"Factoring Receivables","KRW","C13",1.2,0,"1",2,{"$f":"VLOOKUP(K7858,[1]EXRATE!C$3:F$43,4,0)","v":1},2,"",139,"",0,0,"","","","","","W","HIE","","",20230926,160849,0.01,40.854999999999997,"CIBM              AI80182","RFESEL",301,"368TIK"]
["KR","HSBC",2,0,0,null,"RFESEL301368TIK","UCD",{"$f":"VLOOKUP(H7859,[2]SSIFSEP!$H$2:$I$7593,2,0)","v":"미사용약정"},"Unused Credit Line","KRW","C13",1.2,0,"1",0,{"$f":"VLOOKUP(K7859,[1]EXRATE!C$3:F$43,4,0)","v":1},0,"",283,"",0,0,"","","","","","W","HIE","","",20230926,160849,0.01,40.854999999999997,"CIBM              MG30100","RFESEL",301,"368TIK"]
["KR","HSBC",2,0,0,null,"RFESEL301400TIK","RFE",{"$f":"VLOOKUP(H7860,[2]SSIFSEP!$H$2:$I$7593,2,0)","v":"팩토링채권"},"Factoring Receivables","KRW","C13",1.2,0,"1",0,{"$f":"VLOOKUP(K7860,[1]EXRATE!C$3:F$43,4,0)","v":1},0,"",139,"",0,0,"","","","","","W","HIE","","",20230926,160849,0.01,40.854999999999997,"CIBM              AI80182","RFESEL",301,"400TIK"]
["KR","HSBC",2,0,0,null,"RFESEL301400TIK","UCD",{"$f":"VLOOKUP(H7861,[2]SSIFSEP!$H$2:$I$7593,2,0)","v":"미사용약정"},"Unused Credit Line","KRW","C13",1.2,0,"1",0,{"$f":"VLOOKUP(K7861,[1]EXRATE!C$3:F$43,4,0)","v":1},0,"",283,"",0,0,"","","","","","W","HIE","","",20230926,160849,0.01,40.854999999999997,"CIBM              MG30100","RFESEL",301,"400TIK"]
["KR","HSBC",2,0,0,null,"RFESEL301410TIK","RFE",{"$f":"VLOOKUP(H7862,[2]SSIFSEP!$H$2:$I$7593,2,0)","v":"팩토링채권"},"Factoring Receivables","KRW","C13",1.2,0,"1",2,{"$f":"VLOOKUP(K7862,[1]EXRATE!C$3:F$43,4,0)","v":1},2,"",139,"",0,0,"","","","","","W","HIE","","",20230926,160849,0.01,40.854999999999997,"CIBM              AI80182","RFESEL",301,"410TIK"]
["KR","HSBC",2,0,0,null,"RFESEL301410TIK","UCD",{"$f":"VLOOKUP(H7863,[2]SSIFSEP!$H$2:$I$7593,2,0)","v":"미사용약정"},"Unused Credit Line","KRW","C13",1.2,0,"1",0,{"$f":"VLOOKUP(K7863,[1]EXRATE!C$3:F$43,4,0)","v":1},0,"",283,"",0,0,"","","","","","W","HIE","","",20230926,160849,0.01,40.854999999999997,"CIBM              MG30100","RFESEL",301,"410TIK"]
["KR","HSBC",2,0,0,null,"RFESEL301415TIK","RFE",{"$f":"VLOOKUP(H7864,[2]SSIFSEP!$H$2:$I$7593,2,0)","v":"팩토링채권"},"Factoring Receivables","KRW","C13",1.2,0,"1",17,{"$f":"VLOOKUP(K7864,[1]EXRATE!C$3:F$43,4,0)","v":1},17,"",139,"",0,0,"","","","","","W","HIE","","",20230926,160849,0.01,40.854999999999997,"CIBM              AI80182","RFESEL",301,"415TIK"]
["KR","HSBC",2,0,0,null,"RFESEL301415TIK","UCD",{"$f":"VLOOKUP(H7865,[2]SSIFSEP!$H$2:$I$7593,2,0)","v":"미사용약정"},"Unused Credit Line","KRW","C13",1.2,0,"1",0,{"$f":"VLOOKUP(K7865,[1]EXRATE!C$3:F$43,4,0)","v":1},0,"",283,"",0,0,"","","","","","W","HIE","","",20230926,160849,0.01,40.854999999999997,"CIBM              MG30100","RFESEL",301,"415TIK"]
["KR","HSBC",2,0,0,null,"RFESEL301416TIK","RFE",{"$f":"VLOOKUP(H7866,[2]SSIFSEP!$H$2:$I$7593,2,0)","v":"팩토링채권"},"Factoring Receivables","KRW","C13",1.2,0,"1",1,{"$f":"VLOOKUP(K7866,[1]EXRATE!C$3:F$43,4,0)","v":1},1,"",139,"",0,0,"","","","","","W","HIE","","",20230926,160849,0.01,40.854999999999997,"CIBM              AI80182","RFESEL",301,"416TIK"]
["KR","HSBC",2,0,0,null,"RFESEL301416TIK","UCD",{"$f":"VLOOKUP(H7867,[2]SSIFSEP!$H$2:$I$7593,2,0)","v":"미사용약정"},"Unused Credit Line","KRW","C13",1.2,0,"1",0,{"$f":"VLOOKUP(K7867,[1]EXRATE!C$3:F$43,4,0)","v":1},0,"",283,"",0,0,"","","","","","W","HIE","","",20230926,160849,0.01,40.854999999999997,"CIBM              MG30100","RFESEL",301,"416TIK"]
["KR","HSBC",2,0,0,null,"RFIHTP304819SEL","RFI",{"$f":"VLOOKUP(H7868,[2]SSIFSEP!$H$2:$I$7593,2,0)","v":"팩토링채권"},"Factoring Receivables","USD","C13",2.1,0,"1",570,{"$f":"VLOOKUP(K7868,[1]EXRATE!C$3:F$43,4,0)","v":1344.8},{"$f":"+P7868*Q7868/100","v":7665.36},"",141,"",0,0,"","","","","","W","HIE","","",20230926,160849,0.01,53.085000000000001,"CIBM              AI80182","RFIHTP",304,"819SEL"]
["KR","HSBC",2,0,0,null,"RFISDI304643SEL","RFI",{"$f":"VLOOKUP(H7869,[2]SSIFSEP!$H$2:$I$7593,2,0)","v":"팩토링채권"},"Factoring Receivables","USD","C11",2.2000000000000002,0,"1",372,{"$f":"VLOOKUP(K7869,[1]EXRATE!C$3:F$43,4,0)","v":1344.8},5002.6559999999999,"",140,"",0,0,"","","","","","W","HIE","","",20230926,160849,0.02,53.9,"CIBM              AI80182","RFISDI",304,"643SEL"]
["KR","HSBC",2,0,0,null,"RFISDI304644SEL","RFI",{"$f":"VLOOKUP(H7870,[2]SSIFSEP!$H$2:$I$7593,2,0)","v":"팩토링채권"},"Factoring Receivables","USD","C11",2.2000000000000002,0,"1",384,{"$f":"VLOOKUP(K7870,[1]EXRATE!C$3:F$43,4,0)","v":1344.8},5164.0319999999992,"",140,"",0,0,"","","","","","W","HIE","","",20230926,160849,0.02,53.9,"CIBM              AI80182","RFISDI",304,"644SEL"]
["KR","HSBC",2,0,0,null,"RFISDI304645SEL","RFI",{"$f":"VLOOKUP(H7871,[2]SSIFSEP!$H$2:$I$7593,2,0)","v":"팩토링채권"},"Factoring Receivables","USD","C11",2.2000000000000002,0,"1",386,{"$f":"VLOOKUP(K7871,[1]EXRATE!C$3:F$43,4,0)","v":1344.8},5190.9279999999999,"",140,"",0,0,"","","","","","W","HIE","","",20230926,160849,0.02,53.9,"CIBM              AI80182","RFISDI",304,"645SEL"]
["KR","HSBC",2,0,0,null,"RFISDI304646SEL","RFI",{"$f":"VLOOKUP(H7872,[2]SSIFSEP!$H$2:$I$7593,2,0)","v":"팩토링채권"},"Factoring Receivables","USD","C11",2.2000000000000002,0,"1",384,{"$f":"VLOOKUP(K7872,[1]EXRATE!C$3:F$43,4,0)","v":1344.8},5164.0319999999992,"",140,"",0,0,"","","","","","W","HIE","","",20230926,160849,0.02,53.9,"CIBM              AI80182","RFISDI",304,"646SEL"]
["KR","HSBC",2,0,0,null,"RFISDI304651SEL","RFI",{"$f":"VLOOKUP(H7873,[2]SSIFSEP!$H$2:$I$7593,2,0)","v":"팩토링채권"},"Factoring Receivables","USD","C11",2.2000000000000002,0,"1",382,{"$f":"VLOOKUP(K7873,[1]EXRATE!C$3:F$43,4,0)","v":1344.8},5137.1359999999995,"",140,"",0,0,"","","","","","W","HIE","","",20230926,160849,0.02,53.9,"CIBM              AI80182","RFISDI",304,"651SEL"]
["KR","HSBC",2,0,0,null,"RFISDI304652SEL","RFI",{"$f":"VLOOKUP(H7874,[2]SSIFSEP!$H$2:$I$7593,2,0)","v":"팩토링채권"},"Factoring Receivables","USD","C11",2.2000000000000002,0,"1",415,{"$f":"VLOOKUP(K7874,[1]EXRATE!C$3:F$43,4,0)","v":1344.8},5580.92,"",140,"",0,0,"","","","","","W","HIE","","",20230926,160849,0.02,53.9,"CIBM              AI80182","RFISDI",304,"652SEL"]
["KR","HSBC",2,0,0,null,"RFISDI304653SEL","RFI",{"$f":"VLOOKUP(H7875,[2]SSIFSEP!$H$2:$I$7593,2,0)","v":"팩토링채권"},"Factoring Receivables","USD","C11",2.2000000000000002,0,"1",410,{"$f":"VLOOKUP(K7875,[1]EXRATE!C$3:F$43,4,0)","v":1344.8},5513.68,"",140,"",0,0,"","","","","","W","HIE","","",20230926,160849,0.02,53.9,"CIBM              AI80182","RFISDI",304,"653SEL"]
["KR","HSBC",2,0,0,null,"RFISDI304654SEL","RFI",{"$f":"VLOOKUP(H7876,[2]SSIFSEP!$H$2:$I$7593,2,0)","v":"팩토링채권"},"Factoring Receivables","USD","C11",2.2000000000000002,0,"1",417,{"$f":"VLOOKUP(K7876,[1]EXRATE!C$3:F$43,4,0)","v":1344.8},5607.8159999999998,"",140,"",0,0,"","","","","","W","HIE","","",20230926,160849,0.02,53.9,"CIBM              AI80182","RFISDI",304,"654SEL"]
["KR","HSBC",2,0,0,null,"RFISDI304655SEL","RFI",{"$f":"VLOOKUP(H7877,[2]SSIFSEP!$H$2:$I$7593,2,0)","v":"팩토링채권"},"Factoring Receivables","USD","C11",2.2000000000000002,0,"1",410,{"$f":"VLOOKUP(K7877,[1]EXRATE!C$3:F$43,4,0)","v":1344.8},5513.68,"",140,"",0,0,"","","","","","W","HIE","","",20230926,160849,0.02,53.9,"CIBM              AI80182","RFISDI",304,"655SEL"]
["KR","HSBC",2,0,0,null,"RFISDI304656SEL","RFI",{"$f":"VLOOKUP(H7878,[2]SSIFSEP!$H$2:$I$7593,2,0)","v":"팩토링채권"},"Factoring Receivables","USD","C11",2.2000000000000002,0,"1",382,{"$f":"VLOOKUP(K7878,[1]EXRATE!C$3:F$43,4,0)","v":1344.8},5137.1359999999995,"",140,"",0,0,"","","","","","W","HIE","","",20230926,160849,0.02,53.9,"CIBM              AI80182","RFISDI",304,"656SEL"]
["KR","HSBC",2,0,0,null,"RFISDI304657SEL","RFI",{"$f":"VLOOKUP(H7879,[2]SSIFSEP!$H$2:$I$7593,2,0)","v":"팩토링채권"},"Factoring Receivables","USD","C11",2.2000000000000002,0,"1",370,{"$f":"VLOOKUP(K7879,[1]EXRATE!C$3:F$43,4,0)","v":1344.8},4975.76,"",140,"",0,0,"","","","","","W","HIE","","",20230926,160849,0.02,53.9,"CIBM              AI80182","RFISDI",304,"657SEL"]
["KR","HSBC",2,0,0,null,"RFISDI305617DDD","RFI",{"$f":"VLOOKUP(H7880,[2]SSIFSEP!$H$2:$I$7593,2,0)","v":"팩토링채권"},"Factoring Receivables","USD","C11",2.2000000000000002,0,"1",589,{"$f":"VLOOKUP(K7880,[1]EXRATE!C$3:F$43,4,0)","v":1344.8},7920.8719999999994,"",140,"",0,0,"","","","","","W","HIE","","",20230926,160849,0.02,54.085000000000001,"CIBM              AI80182","RFISDI",305,"617DDD"]
["KR","HSBC",2,0,0,null,"RFISDI305618DDD","RFI",{"$f":"VLOOKUP(H7881,[2]SSIFSEP!$H$2:$I$7593,2,0)","v":"팩토링채권"},"Factoring Receivables","USD","C11",2.2000000000000002,0,"1",585,{"$f":"VLOOKUP(K7881,[1]EXRATE!C$3:F$43,4,0)","v":1344.8},7867.08,"",140,"",0,0,"","","","","","W","HIE","","",20230926,160849,0.02,54.085000000000001,"CIBM              AI80182","RFISDI",305,"618DDD"]
["KR","HSBC",2,0,0,null,"RFISDI305619DDD","RFI",{"$f":"VLOOKUP(H7882,[2]SSIFSEP!$H$2:$I$7593,2,0)","v":"팩토링채권"},"Factoring Receivables","USD","C11",2.2000000000000002,0,"1",554,{"$f":"VLOOKUP(K7882,[1]EXRATE!C$3:F$43,4,0)","v":1344.8},7450.1919999999991,"",140,"",0,0,"","","","","","W","HIE","","",20230926,160849,0.02,54.085000000000001,"CIBM              AI80182","RFISDI",305,"619DDD"]
["KR","HSBC",2,0,0,null,"RFISDI305620DDD","RFI",{"$f":"VLOOKUP(H7883,[2]SSIFSEP!$H$2:$I$7593,2,0)","v":"팩토링채권"},"Factoring Receivables","USD","C11",2.2000000000000002,0,"1",567,{"$f":"VLOOKUP(K7883,[1]EXRATE!C$3:F$43,4,0)","v":1344.8},7625.0159999999996,"",140,"",0,0,"","","","","","W","HIE","","",20230926,160849,0.02,54.085000000000001,"CIBM              AI80182","RFISDI",305,"620DDD"]
["KR","HSBC",2,0,0,null,"RFISDI305621DDD","RFI",{"$f":"VLOOKUP(H7884,[2]SSIFSEP!$H$2:$I$7593,2,0)","v":"팩토링채권"},"Factoring Receivables","USD","C11",2.2000000000000002,0,"1",544,{"$f":"VLOOKUP(K7884,[1]EXRATE!C$3:F$43,4,0)","v":1344.8},7315.7119999999995,"",140,"",0,0,"","","","","","W","HIE","","",20230926,160849,0.02,54.085000000000001,"CIBM              AI80182","RFISDI",305,"621DDD"]
["KR","HSBC",2,0,0,null,"RFISDI305622DDD","RFI",{"$f":"VLOOKUP(H7885,[2]SSIFSEP!$H$2:$I$7593,2,0)","v":"팩토링채권"},"Factoring Receivables","USD","C11",2.2000000000000002,0,"1",563,{"$f":"VLOOKUP(K7885,[1]EXRATE!C$3:F$43,4,0)","v":1344.8},7571.2240000000002,"",140,"",0,0,"","","","","","W","HIE","","",20230926,160849,0.02,54.085000000000001,"CIBM              AI80182","RFISDI",305,"622DDD"]
["KR","HSBC",2,0,0,null,"RFISDI305623DDD","RFI",{"$f":"VLOOKUP(H7886,[2]SSIFSEP!$H$2:$I$7593,2,0)","v":"팩토링채권"},"Factoring Receivables","USD","C11",2.2000000000000002,0,"1",550,{"$f":"VLOOKUP(K7886,[1]EXRATE!C$3:F$43,4,0)","v":1344.8},7396.4,"",140,"",0,0,"","","","","","W","HIE","","",20230926,160849,0.02,54.085000000000001,"CIBM              AI80182","RFISDI",305,"623DDD"]
["KR","HSBC",2,0,0,null,"RFISDI305624DDD","RFI",{"$f":"VLOOKUP(H7887,[2]SSIFSEP!$H$2:$I$7593,2,0)","v":"팩토링채권"},"Factoring Receivables","USD","C11",2.2000000000000002,0,"1",561,{"$f":"VLOOKUP(K7887,[1]EXRATE!C$3:F$43,4,0)","v":1344.8},7544.3279999999995,"",140,"",0,0,"","","","","","W","HIE","","",20230926,160849,0.02,54.085000000000001,"CIBM              AI80182","RFISDI",305,"624DDD"]
["KR","HSBC",2,0,0,null,"RFISDI305625DDD","RFI",{"$f":"VLOOKUP(H7888,[2]SSIFSEP!$H$2:$I$7593,2,0)","v":"팩토링채권"},"Factoring Receivables","USD","C11",2.2000000000000002,0,"1",563,{"$f":"VLOOKUP(K7888,[1]EXRATE!C$3:F$43,4,0)","v":1344.8},7571.2240000000002,"",140,"",0,0,"","","","","","W","HIE","","",20230926,160849,0.02,54.085000000000001,"CIBM              AI80182","RFISDI",305,"625DDD"]
["KR","HSBC",2,0,0,null,"RFISDI305626DDD","RFI",{"$f":"VLOOKUP(H7889,[2]SSIFSEP!$H$2:$I$7593,2,0)","v":"팩토링채권"},"Factoring Receivables","USD","C11",2.2000000000000002,0,"1",562,{"$f":"VLOOKUP(K7889,[1]EXRATE!C$3:F$43,4,0)","v":1344.8},7557.7759999999998,"",140,"",0,0,"","","","","","W","HIE","","",20230926,160849,0.02,54.085000000000001,"CIBM              AI80182","RFISDI",305,"626DDD"]
["KR","HSBC",2,0,0,null,"RFISDI305627DDD","RFI",{"$f":"VLOOKUP(H7890,[2]SSIFSEP!$H$2:$I$7593,2,0)","v":"팩토링채권"},"Factoring Receivables","USD","C11",2.2000000000000002,0,"1",543,{"$f":"VLOOKUP(K7890,[1]EXRATE!C$3:F$43,4,0)","v":1344.8},7302.2640000000001,"",140,"",0,0,"","","","","","W","HIE","","",20230926,160849,0.02,54.085000000000001,"CIBM              AI80182","RFISDI",305,"627DDD"]
["KR","HSBC",2,0,0,null,"RFISDI305628DDD","RFI",{"$f":"VLOOKUP(H7891,[2]SSIFSEP!$H$2:$I$7593,2,0)","v":"팩토링채권"},"Factoring Receivables","USD","C11",2.2000000000000002,0,"1",552,{"$f":"VLOOKUP(K7891,[1]EXRATE!C$3:F$43,4,0)","v":1344.8},7423.2959999999994,"",140,"",0,0,"","","","","","W","HIE","","",20230926,160849,0.02,54.085000000000001,"CIBM              AI80182","RFISDI",305,"628DDD"]
["KR","HSBC",2,0,0,null,"RFISDI305629DDD","RFI",{"$f":"VLOOKUP(H7892,[2]SSIFSEP!$H$2:$I$7593,2,0)","v":"팩토링채권"},"Factoring Receivables","USD","C11",2.2000000000000002,0,"1",249,{"$f":"VLOOKUP(K7892,[1]EXRATE!C$3:F$43,4,0)","v":1344.8},3348.5520000000001,"",140,"",0,0,"","","","","","W","HIE","","",20230926,160849,0.02,54.085000000000001,"CIBM              AI80182","RFISDI",305,"629DDD"]
["KR","HSBC",2,0,0,null,"RFISDI305630DDD","RFI",{"$f":"VLOOKUP(H7893,[2]SSIFSEP!$H$2:$I$7593,2,0)","v":"팩토링채권"},"Factoring Receivables","USD","C11",2.2000000000000002,0,"1",266,{"$f":"VLOOKUP(K7893,[1]EXRATE!C$3:F$43,4,0)","v":1344.8},3577.1679999999997,"",140,"",0,0,"","","","","","W","HIE","","",20230926,160849,0.02,54.085000000000001,"CIBM              AI80182","RFISDI",305,"630DDD"]
["KR","HSBC",2,0,0,null,"RFISDI305631DDD","RFI",{"$f":"VLOOKUP(H7894,[2]SSIFSEP!$H$2:$I$7593,2,0)","v":"팩토링채권"},"Factoring Receivables","USD","C11",2.2000000000000002,0,"1",263,{"$f":"VLOOKUP(K7894,[1]EXRATE!C$3:F$43,4,0)","v":1344.8},3536.8239999999996,"",140,"",0,0,"","","","","","W","HIE","","",20230926,160849,0.02,54.085000000000001,"CIBM              AI80182","RFISDI",305,"631DDD"]
["KR","HSBC",2,0,0,null,"RFISDI305632DDD","RFI",{"$f":"VLOOKUP(H7895,[2]SSIFSEP!$H$2:$I$7593,2,0)","v":"팩토링채권"},"Factoring Receivables","USD","C11",2.2000000000000002,0,"1",252,{"$f":"VLOOKUP(K7895,[1]EXRATE!C$3:F$43,4,0)","v":1344.8},3388.8959999999997,"",140,"",0,0,"","","","","","W","HIE","","",20230926,160849,0.02,54.085000000000001,"CIBM              AI80182","RFISDI",305,"632DDD"]
["KR","HSBC",2,0,0,null,"RFISDI306068DDD","RFI",{"$f":"VLOOKUP(H7896,[2]SSIFSEP!$H$2:$I$7593,2,0)","v":"팩토링채권"},"Factoring Receivables","USD","C11",2.2000000000000002,0,"1",905,{"$f":"VLOOKUP(K7896,[1]EXRATE!C$3:F$43,4,0)","v":1344.8},12170.44,"",140,"",0,0,"","","","","","W","HIE","","",20230926,160849,0.02,54.17,"CIBM              AI80182","RFISDI",306,"068DDD"]
["KR","HSBC",2,0,0,null,"RFISDI306069DDD","RFI",{"$f":"VLOOKUP(H7897,[2]SSIFSEP!$H$2:$I$7593,2,0)","v":"팩토링채권"},"Factoring Receivables","USD","C11",2.2000000000000002,0,"1",898,{"$f":"VLOOKUP(K7897,[1]EXRATE!C$3:F$43,4,0)","v":1344.8},12076.303999999998,"",140,"",0,0,"","","","","","W","HIE","","",20230926,160849,0.02,54.17,"CIBM              AI80182","RFISDI",306,"069DDD"]
["KR","HSBC",2,0,0,null,"RFISDI306070DDD","RFI",{"$f":"VLOOKUP(H7898,[2]SSIFSEP!$H$2:$I$7593,2,0)","v":"팩토링채권"},"Factoring Receivables","USD","C11",2.2000000000000002,0,"1",860,{"$f":"VLOOKUP(K7898,[1]EXRATE!C$3:F$43,4,0)","v":1344.8},11565.28,"",140,"",0,0,"","","","","","W","HIE","","",20230926,160849,0.02,54.17,"CIBM              AI80182","RFISDI",306,"070DDD"]
["KR","HSBC",2,0,0,null,"RFISDI306071DDD","RFI",{"$f":"VLOOKUP(H7899,[2]SSIFSEP!$H$2:$I$7593,2,0)","v":"팩토링채권"},"Factoring Receivables","USD","C11",2.2000000000000002,0,"1",887,{"$f":"VLOOKUP(K7899,[1]EXRATE!C$3:F$43,4,0)","v":1344.8},11928.375999999998,"",140,"",0,0,"","","","","","W","HIE","","",20230926,160849,0.02,54.17,"CIBM              AI80182","RFISDI",306,"071DDD"]
["KR","HSBC",2,0,0,null,"RFISDI306072DDD","RFI",{"$f":"VLOOKUP(H7900,[2]SSIFSEP!$H$2:$I$7593,2,0)","v":"팩토링채권"},"Factoring Receivables","USD","C11",2.2000000000000002,0,"1",858,{"$f":"VLOOKUP(K7900,[1]EXRATE!C$3:F$43,4,0)","v":1344.8},{"$f":"+P7900*Q7900/100","v":11538.383999999998},"",140,"",0,0,"","","","","","W","HIE","","",20230926,160849,0.02,54.17,"CIBM              AI80182","RFISDI",306,"072DDD"]
["KR","HSBC",2,0,0,null,"RFISDI306073DDD","RFI",{"$f":"VLOOKUP(H7901,[2]SSIFSEP!$H$2:$I$7593,2,0)","v":"팩토링채권"},"Factoring Receivables","USD","C11",2.2000000000000002,0,"1",882,{"$f":"VLOOKUP(K7901,[1]EXRATE!C$3:F$43,4,0)","v":1344.8},11861.135999999999,"",140,"",0,0,"","","","","","W","HIE","","",20230926,160849,0.02,54.17,"CIBM              AI80182","RFISDI",306,"073DDD"]
["KR","HSBC",2,0,0,null,"RFISDI306074DDD","RFI",{"$f":"VLOOKUP(H7902,[2]SSIFSEP!$H$2:$I$7593,2,0)","v":"팩토링채권"},"Factoring Receivables","USD","C11",2.2000000000000002,0,"1",886,{"$f":"VLOOKUP(K7902,[1]EXRATE!C$3:F$43,4,0)","v":1344.8},11914.928,"",140,"",0,0,"","","","","","W","HIE","","",20230926,160849,0.02,54.17,"CIBM              AI80182","RFISDI",306,"074DDD"]
["KR","HSBC",2,0,0,null,"RFISDI306075DDD","RFI",{"$f":"VLOOKUP(H7903,[2]SSIFSEP!$H$2:$I$7593,2,0)","v":"팩토링채권"},"Factoring Receivables","USD","C11",2.2000000000000002,0,"1",908,{"$f":"VLOOKUP(K7903,[1]EXRATE!C$3:F$43,4,0)","v":1344.8},12210.784,"",140,"",0,0,"","","","","","W","HIE","","",20230926,160849,0.02,54.17,"CIBM              AI80182","RFISDI",306,"075DDD"]
["KR","HSBC",2,0,0,null,"RFISDI306076DDD","RFI",{"$f":"VLOOKUP(H7904,[2]SSIFSEP!$H$2:$I$7593,2,0)","v":"팩토링채권"},"Factoring Receivables","USD","C11",2.2000000000000002,0,"1",865,{"$f":"VLOOKUP(K7904,[1]EXRATE!C$3:F$43,4,0)","v":1344.8},11632.52,"",140,"",0,0,"","","","","","W","HIE","","",20230926,160849,0.02,54.17,"CIBM              AI80182","RFISDI",306,"076DDD"]
["KR","HSBC",2,0,0,null,"RFISDI306077DDD","RFI",{"$f":"VLOOKUP(H7905,[2]SSIFSEP!$H$2:$I$7593,2,0)","v":"팩토링채권"},"Factoring Receivables","USD","C11",2.2000000000000002,0,"1",873,{"$f":"VLOOKUP(K7905,[1]EXRATE!C$3:F$43,4,0)","v":1344.8},11740.103999999999,"",140,"",0,0,"","","","","","W","HIE","","",20230926,160849,0.02,54.17,"CIBM              AI80182","RFISDI",306,"077DDD"]
["KR","HSBC",2,0,0,null,"RFISDI306084DDD","RFI",{"$f":"VLOOKUP(H7906,[2]SSIFSEP!$H$2:$I$7593,2,0)","v":"팩토링채권"},"Factoring Receivables","USD","C11",2.2000000000000002,0,"1",878,{"$f":"VLOOKUP(K7906,[1]EXRATE!C$3:F$43,4,0)","v":1344.8},11807.343999999999,"",140,"",0,0,"","","","","","W","HIE","","",20230926,160849,0.02,54.17,"CIBM              AI80182","RFISDI",306,"084DDD"]
["KR","HSBC",2,0,0,null,"RFISDI306085DDD","RFI",{"$f":"VLOOKUP(H7907,[2]SSIFSEP!$H$2:$I$7593,2,0)","v":"팩토링채권"},"Factoring Receivables","USD","C11",2.2000000000000002,0,"1",864,{"$f":"VLOOKUP(K7907,[1]EXRATE!C$3:F$43,4,0)","v":1344.8},11619.072,"",140,"",0,0,"","","","","","W","HIE","","",20230926,160849,0.02,54.17,"CIBM              AI80182","RFISDI",306,"085DDD"]
["KR","HSBC",2,0,0,null,"RFISDI306086DDD","RFI",{"$f":"VLOOKUP(H7908,[2]SSIFSEP!$H$2:$I$7593,2,0)","v":"팩토링채권"},"Factoring Receivables","USD","C11",2.2000000000000002,0,"1",837,{"$f":"VLOOKUP(K7908,[1]EXRATE!C$3:F$43,4,0)","v":1344.8},11255.975999999999,"",140,"",0,0,"","","","","","W","HIE","","",20230926,160849,0.02,54.17,"CIBM              AI80182","RFISDI",306,"086DDD"]
["KR","HSBC",2,0,0,null,"RFISDI306087DDD","RFI",{"$f":"VLOOKUP(H7909,[2]SSIFSEP!$H$2:$I$7593,2,0)","v":"팩토링채권"},"Factoring Receivables","USD","C11",2.2000000000000002,0,"1",865,{"$f":"VLOOKUP(K7909,[1]EXRATE!C$3:F$43,4,0)","v":1344.8},11632.52,"",140,"",0,0,"","","","","","W","HIE","","",20230926,160849,0.02,54.17,"CIBM              AI80182","RFISDI",306,"087DDD"]
["KR","HSBC",2,0,0,null,"RFISDI306088DDD","RFI",{"$f":"VLOOKUP(H7910,[2]SSIFSEP!$H$2:$I$7593,2,0)","v":"팩토링채권"},"Factoring Receivables","USD","C11",2.2000000000000002,0,"1",834,{"$f":"VLOOKUP(K7910,[1]EXRATE!C$3:F$43,4,0)","v":1344.8},11215.632,"",140,"",0,0,"","","","","","W","HIE","","",20230926,160849,0.02,54.17,"CIBM              AI80182","RFISDI",306,"088DDD"]
["KR","HSBC",2,0,0,null,"RFISDI306089DDD","RFI",{"$f":"VLOOKUP(H7911,[2]SSIFSEP!$H$2:$I$7593,2,0)","v":"팩토링채권"},"Factoring Receivables","USD","C11",2.2000000000000002,0,"1",496,{"$f":"VLOOKUP(K7911,[1]EXRATE!C$3:F$43,4,0)","v":1344.8},6670.2079999999996,"",140,"",0,0,"","","","","","W","HIE","","",20230926,160849,0.02,54.075000000000003,"CIBM              AI80182","RFISDI",306,"089DDD"]
["KR","HSBC",2,0,0,null,"RFISDI306090DDD","RFI",{"$f":"VLOOKUP(H7912,[2]SSIFSEP!$H$2:$I$7593,2,0)","v":"팩토링채권"},"Factoring Receivables","USD","C11",2.2000000000000002,0,"1",477,{"$f":"VLOOKUP(K7912,[1]EXRATE!C$3:F$43,4,0)","v":1344.8},6414.6959999999999,"",140,"",0,0,"","","","","","W","HIE","","",20230926,160849,0.02,54.075000000000003,"CIBM              AI80182","RFISDI",306,"090DDD"]
["KR","HSBC",2,0,0,null,"RFISDI306091DDD","RFI",{"$f":"VLOOKUP(H7913,[2]SSIFSEP!$H$2:$I$7593,2,0)","v":"팩토링채권"},"Factoring Receivables","USD","C11",2.2000000000000002,0,"1",483,{"$f":"VLOOKUP(K7913,[1]EXRATE!C$3:F$43,4,0)","v":1344.8},6495.384,"",140,"",0,0,"","","","","","W","HIE","","",20230926,160849,0.02,54.075000000000003,"CIBM              AI80182","RFISDI",306,"091DDD"]
["KR","HSBC",2,0,0,null,"RFISDI306092DDD","RFI",{"$f":"VLOOKUP(H7914,[2]SSIFSEP!$H$2:$I$7593,2,0)","v":"팩토링채권"},"Factoring Receivables","USD","C11",2.2000000000000002,0,"1",463,{"$f":"VLOOKUP(K7914,[1]EXRATE!C$3:F$43,4,0)","v":1344.8},6226.424,"",140,"",0,0,"","","","","","W","HIE","","",20230926,160849,0.02,54.075000000000003,"CIBM              AI80182","RFISDI",306,"092DDD"]
["KR","HSBC",2,0,0,null,"RFISEM305089SEL","RFI",{"$f":"VLOOKUP(H7915,[2]SSIFSEP!$H$2:$I$7593,2,0)","v":"팩토링채권"},"Factoring Receivables","USD","C11",2.2000000000000002,0,"1",117,{"$f":"VLOOKUP(K7915,[1]EXRATE!C$3:F$43,4,0)","v":1344.8},1573.4160000000002,"",140,"",0,0,"","","","","","W","HIE","","",20230926,160849,0.02,54.085000000000001,"CIBM              AI80182","RFISEM",305,"089SEL"]
["KR","HSBC",2,0,0,null,"RFISEM305825DDD","RFI",{"$f":"VLOOKUP(H7916,[2]SSIFSEP!$H$2:$I$7593,2,0)","v":"팩토링채권"},"Factoring Receivables","USD","C11",2.2000000000000002,0,"1",587,{"$f":"VLOOKUP(K7916,[1]EXRATE!C$3:F$43,4,0)","v":1344.8},7893.9759999999997,"",140,"",0,0,"","","","","","W","HIE","","",20230926,160849,0.02,54.17,"CIBM              AI80182","RFISEM",305,"825DDD"]
["KR","HSBC",2,0,0,null,"RFISEM305826DDD","RFI",{"$f":"VLOOKUP(H7917,[2]SSIFSEP!$H$2:$I$7593,2,0)","v":"팩토링채권"},"Factoring Receivables","USD","C11",2.2000000000000002,0,"1",219,{"$f":"VLOOKUP(K7917,[1]EXRATE!C$3:F$43,4,0)","v":1344.8},2945.1120000000001,"",140,"",0,0,"","","","","","W","HIE","","",20230926,160849,0.02,54.17,"CIBM              AI80182","RFISEM",305,"826DDD"]
["KR","HSBC",2,0,0,null,"RFISEM305827DDD","RFI",{"$f":"VLOOKUP(H7918,[2]SSIFSEP!$H$2:$I$7593,2,0)","v":"팩토링채권"},"Factoring Receivables","USD","C11",2.2000000000000002,0,"1",62,{"$f":"VLOOKUP(K7918,[1]EXRATE!C$3:F$43,4,0)","v":1344.8},833.77599999999995,"",140,"",0,0,"","","","","","W","HIE","","",20230926,160849,0.02,54.18,"CIBM              AI80182","RFISEM",305,"827DDD"]
["KR","HSBC",2,0,0,null,"RFISEM305828DDD","RFI",{"$f":"VLOOKUP(H7919,[2]SSIFSEP!$H$2:$I$7593,2,0)","v":"팩토링채권"},"Factoring Receivables","USD","C11",2.2000000000000002,0,"1",65,{"$f":"VLOOKUP(K7919,[1]EXRATE!C$3:F$43,4,0)","v":1344.8},874.12,"",140,"",0,0,"","","","","","W","HIE","","",20230926,160849,0.02,54.18,"CIBM              AI80182","RFISEM",305,"828DDD"]
["KR","HSBC",2,0,0,null,"RFISEM305829DDD","RFI",{"$f":"VLOOKUP(H7920,[2]SSIFSEP!$H$2:$I$7593,2,0)","v":"팩토링채권"},"Factoring Receivables","USD","C11",2.2000000000000002,0,"1",536,{"$f":"VLOOKUP(K7920,[1]EXRATE!C$3:F$43,4,0)","v":1344.8},7208.1279999999997,"",140,"",0,0,"","","","","","W","HIE","","",20230926,160849,0.02,54.18,"CIBM              AI80182","RFISEM",305,"829DDD"]
["KR","HSBC",2,0,0,null,"RFISEM305830DDD","RFI",{"$f":"VLOOKUP(H7921,[2]SSIFSEP!$H$2:$I$7593,2,0)","v":"팩토링채권"},"Factoring Receivables","USD","C11",2.2000000000000002,0,"1",1072,{"$f":"VLOOKUP(K7921,[1]EXRATE!C$3:F$43,4,0)","v":1344.8},14416.255999999999,"",140,"",0,0,"","","","","","W","HIE","","",20230926,160849,0.02,54.18,"CIBM              AI80182","RFISEM",305,"830DDD"]
["KR","HSBC",2,0,0,null,"RFISEM305831DDD","RFI",{"$f":"VLOOKUP(H7922,[2]SSIFSEP!$H$2:$I$7593,2,0)","v":"팩토링채권"},"Factoring Receivables","USD","C11",2.2000000000000002,0,"1",43,{"$f":"VLOOKUP(K7922,[1]EXRATE!C$3:F$43,4,0)","v":1344.8},578.26400000000001,"",140,"",0,0,"","","","","","W","HIE","","",20230926,160849,0.02,54.18,"CIBM              AI80182","RFISEM",305,"831DDD"]
["KR","HSBC",2,0,0,null,"RFISEM305832DDD","RFI",{"$f":"VLOOKUP(H7923,[2]SSIFSEP!$H$2:$I$7593,2,0)","v":"팩토링채권"},"Factoring Receivables","USD","C11",2.2000000000000002,0,"1",536,{"$f":"VLOOKUP(K7923,[1]EXRATE!C$3:F$43,4,0)","v":1344.8},7208.1279999999997,"",140,"",0,0,"","","","","","W","HIE","","",20230926,160849,0.02,54.18,"CIBM              AI80182","RFISEM",305,"832DDD"]
["KR","HSBC",2,0,0,null,"RFISEM305833DDD","RFI",{"$f":"VLOOKUP(H7924,[2]SSIFSEP!$H$2:$I$7593,2,0)","v":"팩토링채권"},"Factoring Receivables","USD","C11",2.2000000000000002,0,"1",1609,{"$f":"VLOOKUP(K7924,[1]EXRATE!C$3:F$43,4,0)","v":1344.8},21637.831999999999,"",140,"",0,0,"","","","","","W","HIE","","",20230926,160849,0.02,54.18,"CIBM              AI80182","RFISEM",305,"833DDD"]
["KR","HSBC",2,0,0,null,"RFISEM305834DDD","RFI",{"$f":"VLOOKUP(H7925,[2]SSIFSEP!$H$2:$I$7593,2,0)","v":"팩토링채권"},"Factoring Receivables","USD","C11",2.2000000000000002,0,"1",43,{"$f":"VLOOKUP(K7925,[1]EXRATE!C$3:F$43,4,0)","v":1344.8},578.26400000000001,"",140,"",0,0,"","","","","","W","HIE","","",20230926,160849,0.02,54.18,"CIBM              AI80182","RFISEM",305,"834DDD"]
["KR","HSBC",2,0,0,null,"RFISEM305835DDD","RFI",{"$f":"VLOOKUP(H7926,[2]SSIFSEP!$H$2:$I$7593,2,0)","v":"팩토링채권"},"Factoring Receivables","USD","C11",2.2000000000000002,0,"1",852,{"$f":"VLOOKUP(K7926,[1]EXRATE!C$3:F$43,4,0)","v":1344.8},11457.695999999998,"",140,"",0,0,"","","","","","W","HIE","","",20230926,160849,0.02,54.18,"CIBM              AI80182","RFISEM",305,"835DDD"]
["KR","HSBC",2,0,0,null,"RFISEM305836DDD","RFI",{"$f":"VLOOKUP(H7927,[2]SSIFSEP!$H$2:$I$7593,2,0)","v":"팩토링채권"},"Factoring Receivables","USD","C11",2.2000000000000002,0,"1",6816,{"$f":"VLOOKUP(K7927,[1]EXRATE!C$3:F$43,4,0)","v":1344.8},91661.567999999985,"",140,"",0,0,"","","","","","W","HIE","","",20230926,160849,0.02,54.18,"CIBM              AI80182","RFISEM",305,"836DDD"]
["KR","HSBC",2,0,0,null,"RFISEM305918DDD","RFI",{"$f":"VLOOKUP(H7928,[2]SSIFSEP!$H$2:$I$7593,2,0)","v":"팩토링채권"},"Factoring Receivables","USD","C11",2.2000000000000002,0,"1",1704,{"$f":"VLOOKUP(K7928,[1]EXRATE!C$3:F$43,4,0)","v":1344.8},22915.391999999996,"",140,"",0,0,"","","","","","W","HIE","","",20230926,160849,0.02,54.18,"CIBM              AI80182","RFISEM",305,"918DDD"]
["KR","HSBC",2,0,0,null,"RFISEM305919DDD","RFI",{"$f":"VLOOKUP(H7929,[2]SSIFSEP!$H$2:$I$7593,2,0)","v":"팩토링채권"},"Factoring Receivables","USD","C11",2.2000000000000002,0,"1",154,{"$f":"VLOOKUP(K7929,[1]EXRATE!C$3:F$43,4,0)","v":1344.8},2070.9919999999997,"",140,"",0,0,"","","","","","W","HIE","","",20230926,160849,0.02,54.18,"CIBM              AI80182","RFISEM",305,"919DDD"]
["KR","HSBC",2,0,0,null,"RFISEM305921DDD","RFI",{"$f":"VLOOKUP(H7930,[2]SSIFSEP!$H$2:$I$7593,2,0)","v":"팩토링채권"},"Factoring Receivables","USD","C11",2.2000000000000002,0,"1",137,{"$f":"VLOOKUP(K7930,[1]EXRATE!C$3:F$43,4,0)","v":1344.8},1842.376,"",140,"",0,0,"","","","","","W","HIE","","",20230926,160849,0.02,54.18,"CIBM              AI80182","RFISEM",305,"921DDD"]
["KR","HSBC",2,0,0,null,"RFISEM305922DDD","RFI",{"$f":"VLOOKUP(H7931,[2]SSIFSEP!$H$2:$I$7593,2,0)","v":"팩토링채권"},"Factoring Receivables","USD","C11",2.2000000000000002,0,"1",5221,{"$f":"VLOOKUP(K7931,[1]EXRATE!C$3:F$43,4,0)","v":1344.8},70212.008000000002,"",140,"",0,0,"","","","","","W","HIE","","",20230926,160849,0.02,54.18,"CIBM              AI80182","RFISEM",305,"922DDD"]
["KR","HSBC",2,0,0,null,"RFISEM305923DDD","RFI",{"$f":"VLOOKUP(H7932,[2]SSIFSEP!$H$2:$I$7593,2,0)","v":"팩토링채권"},"Factoring Receivables","USD","C11",2.2000000000000002,0,"1",2720,{"$f":"VLOOKUP(K7932,[1]EXRATE!C$3:F$43,4,0)","v":1344.8},{"$f":"+P7932*Q7932/100","v":36578.559999999998},"",140,"",0,0,"","","","","","W","HIE","","",20230926,160849,0.02,54.18,"CIBM              AI80182","RFISEM",305,"923DDD"]
["KR","HSBC",2,0,0,null,"RFISEM305924DDD","RFI",{"$f":"VLOOKUP(H7933,[2]SSIFSEP!$H$2:$I$7593,2,0)","v":"팩토링채권"},"Factoring Receivables","USD","C11",2.2000000000000002,0,"1",10434,{"$f":"VLOOKUP(K7933,[1]EXRATE!C$3:F$43,4,0)","v":1344.8},140316.432,"",140,"",0,0,"","","","","","W","HIE","","",20230926,160849,0.02,54.18,"CIBM              AI80182","RFISEM",305,"924DDD"]
["KR","HSBC",2,0,0,null,"RFISEM305926DDD","RFI",{"$f":"VLOOKUP(H7934,[2]SSIFSEP!$H$2:$I$7593,2,0)","v":"팩토링채권"},"Factoring Receivables","USD","C11",2.2000000000000002,0,"1",1363,{"$f":"VLOOKUP(K7934,[1]EXRATE!C$3:F$43,4,0)","v":1344.8},18329.624,"",140,"",0,0,"","","","","","W","HIE","","",20230926,160849,0.02,54.18,"CIBM              AI80182","RFISEM",305,"926DDD"]
["KR","HSBC",2,0,0,null,"RFISEM306291DDD","RFI",{"$f":"VLOOKUP(H7935,[2]SSIFSEP!$H$2:$I$7593,2,0)","v":"팩토링채권"},"Factoring Receivables","USD","C11",2.2000000000000002,0,"1",244,{"$f":"VLOOKUP(K7935,[1]EXRATE!C$3:F$43,4,0)","v":1344.8},3281.3119999999999,"",140,"",0,0,"","","","","","W","HIE","","",20230926,160849,0.02,54.27,"CIBM              AI80182","RFISEM",306,"291DDD"]
["KR","HSBC",2,0,0,null,"RFISEM306292DDD","RFI",{"$f":"VLOOKUP(H7936,[2]SSIFSEP!$H$2:$I$7593,2,0)","v":"팩토링채권"},"Factoring Receivables","USD","C11",2.2000000000000002,0,"1",1948,{"$f":"VLOOKUP(K7936,[1]EXRATE!C$3:F$43,4,0)","v":1344.8},26196.703999999998,"",140,"",0,0,"","","","","","W","HIE","","",20230926,160849,0.02,54.27,"CIBM              AI80182","RFISEM",306,"292DDD"]
["KR","HSBC",2,0,0,null,"RFISEM306293DDD","RFI",{"$f":"VLOOKUP(H7937,[2]SSIFSEP!$H$2:$I$7593,2,0)","v":"팩토링채권"},"Factoring Receivables","USD","C11",2.2000000000000002,0,"1",12907,{"$f":"VLOOKUP(K7937,[1]EXRATE!C$3:F$43,4,0)","v":1344.8},173573.33599999998,"",140,"",0,0,"","","","","","W","HIE","","",20230926,160849,0.02,54.27,"CIBM              AI80182","RFISEM",306,"293DDD"]
["KR","HSBC",2,0,0,null,"RFISEM306294DDD","RFI",{"$f":"VLOOKUP(H7938,[2]SSIFSEP!$H$2:$I$7593,2,0)","v":"팩토링채권"},"Factoring Receivables","USD","C11",2.2000000000000002,0,"1",6382,{"$f":"VLOOKUP(K7938,[1]EXRATE!C$3:F$43,4,0)","v":1344.8},85825.135999999999,"",140,"",0,0,"","","","","","W","HIE","","",20230926,160849,0.02,54.27,"CIBM              AI80182","RFISEM",306,"294DDD"]
["KR","HSBC",2,0,0,null,"RFISEM306295DDD","RFI",{"$f":"VLOOKUP(H7939,[2]SSIFSEP!$H$2:$I$7593,2,0)","v":"팩토링채권"},"Factoring Receivables","USD","C11",2.2000000000000002,0,"1",3330,{"$f":"VLOOKUP(K7939,[1]EXRATE!C$3:F$43,4,0)","v":1344.8},44781.84,"",140,"",0,0,"","","","","","W","HIE","","",20230926,160849,0.02,54.27,"CIBM              AI80182","RFISEM",306,"295DDD"]
["KR","HSBC",2,0,0,null,"RFISEM306296DDD","RFI",{"$f":"VLOOKUP(H7940,[2]SSIFSEP!$H$2:$I$7593,2,0)","v":"팩토링채권"},"Factoring Receivables","USD","C11",2.2000000000000002,0,"1",1387,{"$f":"VLOOKUP(K7940,[1]EXRATE!C$3:F$43,4,0)","v":1344.8},18652.376,"",140,"",0,0,"","","","","","W","HIE","","",20230926,160849,0.02,54.27,"CIBM              AI80182","RFISEM",306,"296DDD"]
["KR","HSBC",2,0,0,null,"RFISEM306297DDD","RFI",{"$f":"VLOOKUP(H7941,[2]SSIFSEP!$H$2:$I$7593,2,0)","v":"팩토링채권"},"Factoring Receivables","USD","C11",2.2000000000000002,0,"1",5272,{"$f":"VLOOKUP(K7941,[1]EXRATE!C$3:F$43,4,0)","v":1344.8},70897.856,"",140,"",0,0,"","","","","","W","HIE","","",20230926,160849,0.02,54.27,"CIBM              AI80182","RFISEM",306,"297DDD"]
["KR","HSBC",2,0,0,null,"RFISEM306298DDD","RFI",{"$f":"VLOOKUP(H7942,[2]SSIFSEP!$H$2:$I$7593,2,0)","v":"팩토링채권"},"Factoring Receivables","USD","C11",2.2000000000000002,0,"1",3191,{"$f":"VLOOKUP(K7942,[1]EXRATE!C$3:F$43,4,0)","v":1344.8},42912.567999999999,"",140,"",0,0,"","","","","","W","HIE","","",20230926,160849,0.02,54.27,"CIBM              AI80182","RFISEM",306,"298DDD"]
["KR","HSBC",2,0,0,null,"RFISOL306459DDD","RFI",{"$f":"VLOOKUP(H7943,[2]SSIFSEP!$H$2:$I$7593,2,0)","v":"팩토링채권"},"Factoring Receivables","USD","C11",2.1,0,"1",2671,{"$f":"VLOOKUP(K7943,[1]EXRATE!C$3:F$43,4,0)","v":1344.8},35919.608,"",140,"",0,0,"","","","","","W","HIE","","",20230926,160849,0.01,53.09,"CIBM              AI80182","RFISOL",306,"459DDD"]
["KR","HSBC",2,0,0,null,"RFISOL306460DDD","RFI",{"$f":"VLOOKUP(H7944,[2]SSIFSEP!$H$2:$I$7593,2,0)","v":"팩토링채권"},"Factoring Receivables","USD","C11",2.1,0,"1",1510,{"$f":"VLOOKUP(K7944,[1]EXRATE!C$3:F$43,4,0)","v":1344.8},20306.48,"",140,"",0,0,"","","","","","W","HIE","","",20230926,160849,0.01,53.09,"CIBM              AI80182","RFISOL",306,"460DDD"]
["KR","HSBC",2,0,0,null,"RFISOL306461DDD","RFI",{"$f":"VLOOKUP(H7945,[2]SSIFSEP!$H$2:$I$7593,2,0)","v":"팩토링채권"},"Factoring Receivables","USD","C11",2.1,0,"1",2582,{"$f":"VLOOKUP(K7945,[1]EXRATE!C$3:F$43,4,0)","v":1344.8},34722.736000000004,"",140,"",0,0,"","","","","","W","HIE","","",20230926,160849,0.01,53.09,"CIBM              AI80182","RFISOL",306,"461DDD"]
["KR","HSBC",2,0,0,null,"RFISOL306462DDD","RFI",{"$f":"VLOOKUP(H7946,[2]SSIFSEP!$H$2:$I$7593,2,0)","v":"팩토링채권"},"Factoring Receivables","USD","C11",2.1,0,"1",5302,{"$f":"VLOOKUP(K7946,[1]EXRATE!C$3:F$43,4,0)","v":1344.8},71301.296000000002,"",140,"",0,0,"","","","","","W","HIE","","",20230926,160849,0.01,53.09,"CIBM              AI80182","RFISOL",306,"462DDD"]
["KR","HSBC",2,0,0,null,"RFISOL306463DDD","RFI",{"$f":"VLOOKUP(H7947,[2]SSIFSEP!$H$2:$I$7593,2,0)","v":"팩토링채권"},"Factoring Receivables","USD","C11",2.1,0,"1",4720,{"$f":"VLOOKUP(K7947,[1]EXRATE!C$3:F$43,4,0)","v":1344.8},63474.559999999998,"",140,"",0,0,"","","","","","W","HIE","","",20230926,160849,0.01,53.09,"CIBM              AI80182","RFISOL",306,"463DDD"]
["KR","HSBC",2,0,0,null,"RFISOL306464DDD","RFI",{"$f":"VLOOKUP(H7948,[2]SSIFSEP!$H$2:$I$7593,2,0)","v":"팩토링채권"},"Factoring Receivables","USD","C11",2.1,0,"1",5543,{"$f":"VLOOKUP(K7948,[1]EXRATE!C$3:F$43,4,0)","v":1344.8},74542.263999999996,"",140,"",0,0,"","","","","","W","HIE","","",20230926,160849,0.01,53.09,"CIBM              AI80182","RFISOL",306,"464DDD"]
["KR","HSBC",2,0,0,null,"RFISOL306465DDD","RFI",{"$f":"VLOOKUP(H7949,[2]SSIFSEP!$H$2:$I$7593,2,0)","v":"팩토링채권"},"Factoring Receivables","USD","C11",2.1,0,"1",7032,{"$f":"VLOOKUP(K7949,[1]EXRATE!C$3:F$43,4,0)","v":1344.8},94566.335999999996,"",140,"",0,0,"","","","","","W","HIE","","",20230926,160849,0.01,53.09,"CIBM              AI80182","RFISOL",306,"465DDD"]
["KR","HSBC",2,0,0,null,"SBNSEL301140SH","SBN",{"$f":"VLOOKUP(H7950,[2]SSIFSEP!$H$2:$I$7593,2,0)","v":"은행간대여금"},"Interbank Loans","USD","BE1",1.1000000000000001,0,"1",408,{"$f":"VLOOKUP(K7950,[1]EXRATE!C$3:F$43,4,0)","v":1344.8},5486.7840000000006,"",49,"",0,0,"","","","","","W","HIE","","",20230926,160849,0.04,29.88,"CIBM              AF80327","SBNSEL",301,"140SH"]
["KR","HSBC",2,0,0,null,"SDNSEL000271","SDN",{"$f":"VLOOKUP(H7951,[2]SSIFSEP!$H$2:$I$7593,2,0)","v":"확정지급보증"},"Confirmed Payment Guarantee","CLP","C13",2.2000000000000002,0,"1",21512950,{"$f":"VLOOKUP(K7951,[1]EXRATE!C$3:F$43,4,0)","v":1.4874460789735646},319993.53124654345,"",253,"",0,0,"","","","","","W","HIE","","",20230926,160849,0.02,40.854999999999997,"CIBM              MA21560","SDNSEL",0,271,null,"GTRF IMP",{"$f":"J7951","v":"Confirmed Payment Guarantee"},{"$f":"R7951","v":319993.53124654345},"Matched with Local data"]
["KR","HSBC",2,0,0,null,"SDNSEL000271","UCD",{"$f":"VLOOKUP(H7952,[2]SSIFSEP!$H$2:$I$7593,2,0)","v":"미사용약정"},"Unused Credit Line","USD","C13",2.2000000000000002,0,"1",0,{"$f":"VLOOKUP(K7952,[1]EXRATE!C$3:F$43,4,0)","v":1344.8},0,"",287,"",0,0,"","","","","","W","HIE","","",20230926,160849,0.02,40.854999999999997,"CIBM              MG30100","SDNSEL",0,271]
["KR","HSBC",2,0,0,null,"SDNSEL100248","SDN",{"$f":"VLOOKUP(H7953,[2]SSIFSEP!$H$2:$I$7593,2,0)","v":"확정지급보증"},"Confirmed Payment Guarantee","USD","C13",4.2,0,"1",1387884,{"$f":"VLOOKUP(K7953,[1]EXRATE!C$3:F$43,4,0)","v":1344.8},18664264.032000002,"",254,"",0,0,"","","","","","W","HIE","","",20230926,160849,0.22,40.854999999999997,"CIBM              MA21560","SDNSEL",100,248,null,"GTRF IMP",{"$f":"J7953","v":"Confirmed Payment Guarantee"},{"$f":"R7953","v":18664264.032000002},"Matched with Local data"]
["KR","HSBC",2,0,0,null,"SDNSEL100248","UCD",{"$f":"VLOOKUP(H7954,[2]SSIFSEP!$H$2:$I$7593,2,0)","v":"미사용약정"},"Unused Credit Line","USD","C13",4.2,0,"1",0,{"$f":"VLOOKUP(K7954,[1]EXRATE!C$3:F$43,4,0)","v":1344.8},0,"",287,"",0,0,"","","","","","W","HIE","","",20230926,160849,0.22,40.854999999999997,"CIBM              MG30100","SDNSEL",100,248]
["KR","HSBC",2,0,0,null,"SDNSEL100652","SDN",{"$f":"VLOOKUP(H7955,[2]SSIFSEP!$H$2:$I$7593,2,0)","v":"확정지급보증"},"Confirmed Payment Guarantee","USD","C13",4.2,0,"1",1581264,{"$f":"VLOOKUP(K7955,[1]EXRATE!C$3:F$43,4,0)","v":1344.8},21264838.272,"",254,"",0,0,"","","","","","W","HIE","","",20230926,160849,0.22,40.854999999999997,"CIBM              MA21560","SDNSEL",100,652,null,"GTRF IMP",{"$f":"J7955","v":"Confirmed Payment Guarantee"},{"$f":"R7955","v":21264838.272},"Matched with Local data"]
["KR","HSBC",2,0,0,null,"SDNSEL100652","UCD",{"$f":"VLOOKUP(H7956,[2]SSIFSEP!$H$2:$I$7593,2,0)","v":"미사용약정"},"Unused Credit Line","USD","C13",4.2,0,"1",0,{"$f":"VLOOKUP(K7956,[1]EXRATE!C$3:F$43,4,0)","v":1344.8},0,"",287,"",0,0,"","","","","","W","HIE","","",20230926,160849,0.22,40.854999999999997,"CIBM              MG30100","SDNSEL",100,652]
["KR","HSBC",2,0,0,null,"SDNSEL200366","SDN",{"$f":"VLOOKUP(H7957,[2]SSIFSEP!$H$2:$I$7593,2,0)","v":"확정지급보증"},"Confirmed Payment Guarantee","USD","C11",2.2000000000000002,0,"1",7807,{"$f":"VLOOKUP(K7957,[1]EXRATE!C$3:F$43,4,0)","v":1344.8},104988.53599999999,"",251,"",0,0,"","","","","","W","HIE","","",20230926,160849,0.02,40.854999999999997,"CIBM              MA21560","SDNSEL",200,366,null,"GTRF IMP",{"$f":"J7957","v":"Confirmed Payment Guarantee"},{"$f":"R7957","v":104988.53599999999},"Matched with Local data"]
["KR","HSBC",2,0,0,null,"SDNSEL200367","SDN",{"$f":"VLOOKUP(H7958,[2]SSIFSEP!$H$2:$I$7593,2,0)","v":"확정지급보증"},"Confirmed Payment Guarantee","EUR","C11",2.2000000000000002,0,"1",797,{"$f":"VLOOKUP(K7958,[1]EXRATE!C$3:F$43,4,0)","v":1421.7225599999999},11331.128803199999,"",249,"",0,0,"","","","","","W","HIE","","",20230926,160849,0.02,40.854999999999997,"CIBM              MA21560","SDNSEL",200,367,null,"GTRF IMP","Confirmed Payment Guarantee",11331.128803199999,"Matched with Local data"]
["KR","HSBC",2,0,0,null,"SDNSEL200368","SDN",{"$f":"VLOOKUP(H7959,[2]SSIFSEP!$H$2:$I$7593,2,0)","v":"확정지급보증"},"Confirmed Payment Guarantee","KRW","C11",2.2000000000000002,0,"1",5668,{"$f":"VLOOKUP(K7959,[1]EXRATE!C$3:F$43,4,0)","v":1},{"$f":"+P7959*Q7959","v":5668},"",250,"",0,0,"","","","","","W","HIE","","",20230926,160849,0.02,40.854999999999997,"CIBM              MA21560","SDNSEL",200,368,null,"GTRF IMP","Confirmed Payment Guarantee",5668,"Matched with Local data"]
["KR","HSBC",2,0,0,null,"SDNSEL200369","SDN",{"$f":"VLOOKUP(H7960,[2]SSIFSEP!$H$2:$I$7593,2,0)","v":"확정지급보증"},"Confirmed Payment Guarantee","USD","C11",2.2000000000000002,0,"1",8381,{"$f":"VLOOKUP(K7960,[1]EXRATE!C$3:F$43,4,0)","v":1344.8},{"$f":"+P7960*Q7960/100","v":112707.68799999999},"",251,"",0,0,"","","","","","W","HIE","","",20230926,160849,0.02,40.854999999999997,"CIBM              MA21560","SDNSEL",200,369,null,"GTRF IMP","Confirmed Payment Guarantee",112707.68799999999,"Matched with Local data"]
["KR","HSBC",2,0,0,null,"SDNSEL200370","SDN",{"$f":"VLOOKUP(H7961,[2]SSIFSEP!$H$2:$I$7593,2,0)","v":"확정지급보증"},"Confirmed Payment Guarantee","EUR","C11",2.2000000000000002,0,"1",845,{"$f":"VLOOKUP(K7961,[1]EXRATE!C$3:F$43,4,0)","v":1421.7225599999999},{"$f":"+P7961*Q7961/100","v":12013.555632},"",249,"",0,0,"","","","","","W","HIE","","",20230926,160849,0.02,40.854999999999997,"CIBM              MA21560","SDNSEL",200,370,null,"GTRF IMP","Confirmed Payment Guarantee",12013.555632,"Matched with Local data"]
["KR","HSBC",2,0,0,null,"SDNSEL200371","SDN",{"$f":"VLOOKUP(H7962,[2]SSIFSEP!$H$2:$I$7593,2,0)","v":"확정지급보증"},"Confirmed Payment Guarantee","KRW","C11",2.2000000000000002,0,"1",6380,{"$f":"VLOOKUP(K7962,[1]EXRATE!C$3:F$43,4,0)","v":1},{"$f":"+P7962*Q7962","v":6380},"",250,"",0,0,"","","","","","W","HIE","","",20230926,160849,0.02,40.854999999999997,"CIBM              MA21560","SDNSEL",200,371,null,"GTRF IMP","Confirmed Payment Guarantee",6380,"Matched with Local data"]
["KR","HSBC",2,0,0,null,"SDNSEL200372","SDN",{"$f":"VLOOKUP(H7963,[2]SSIFSEP!$H$2:$I$7593,2,0)","v":"확정지급보증"},"Confirmed Payment Guarantee","USD","C11",2.2000000000000002,0,"1",9343,{"$f":"VLOOKUP(K7963,[1]EXRATE!C$3:F$43,4,0)","v":1344.8},{"$f":"+P7963*Q7963/100","v":125644.664},"",251,"",0,0,"","","","","","W","HIE","","",20230926,160849,0.02,40.854999999999997,"CIBM              MA21560","SDNSEL",200,372,null,"GTRF IMP","Confirmed Payment Guarantee",125644.664,"Matched with Local data"]
["KR","HSBC",2,0,0,null,"SDNSEL200373","SDN",{"$f":"VLOOKUP(H7964,[2]SSIFSEP!$H$2:$I$7593,2,0)","v":"확정지급보증"},"Confirmed Payment Guarantee","EUR","C11",2.2000000000000002,0,"1",954,{"$f":"VLOOKUP(K7964,[1]EXRATE!C$3:F$43,4,0)","v":1421.7225599999999},{"$f":"+P7964*Q7964/100","v":13563.233222399998},"",249,"",0,0,"","","","","","W","HIE","","",20230926,160849,0.02,40.854999999999997,"CIBM              MA21560","SDNSEL",200,373,null,"GTRF IMP","Confirmed Payment Guarantee",13563.233222399998,"Matched with Local data"]
["KR","HSBC",2,0,0,null,"SDNSEL200376","SDN",{"$f":"VLOOKUP(H7965,[2]SSIFSEP!$H$2:$I$7593,2,0)","v":"확정지급보증"},"Confirmed Payment Guarantee","KRW","C11",2.2000000000000002,0,"1",6783,{"$f":"VLOOKUP(K7965,[1]EXRATE!C$3:F$43,4,0)","v":1},{"$f":"+P7965*Q7965","v":6783},"",250,"",0,0,"","","","","","W","HIE","","",20230926,160849,0.02,40.854999999999997,"CIBM              MA21560","SDNSEL",200,376,null,"GTRF IMP","Confirmed Payment Guarantee",6783,"Matched with Local data"]
["KR","HSBC",2,0,0,null,"SDNSEL200377","SDN",{"$f":"VLOOKUP(H7966,[2]SSIFSEP!$H$2:$I$7593,2,0)","v":"확정지급보증"},"Confirmed Payment Guarantee","USD","C11",2.2000000000000002,0,"1",10030,{"$f":"VLOOKUP(K7966,[1]EXRATE!C$3:F$43,4,0)","v":1344.8},{"$f":"+P7966*Q7966/100","v":134883.44},"",251,"",0,0,"","","","","","W","HIE","","",20230926,160849,0.02,40.854999999999997,"CIBM              MA21560","SDNSEL",200,377,null,"GTRF IMP","Confirmed Payment Guarantee",134883.44,"Matched with Local data"]
["KR","HSBC",2,0,0,null,"SDNSEL200378","SDN",{"$f":"VLOOKUP(H7967,[2]SSIFSEP!$H$2:$I$7593,2,0)","v":"확정지급보증"},"Confirmed Payment Guarantee","EUR","C11",2.2000000000000002,0,"1",1011,{"$f":"VLOOKUP(K7967,[1]EXRATE!C$3:F$43,4,0)","v":1421.7225599999999},{"$f":"+P7967*Q7967/100","v":14373.615081599999},"",249,"",0,0,"","","","","","W","HIE","","",20230926,160849,0.02,40.854999999999997,"CIBM              MA21560","SDNSEL",200,378,null,"GTRF IMP","Confirmed Payment Guarantee",14373.615081599999,"Matched with Local data"]
["KR","HSBC",2,0,0,null,"SDNSEL200379","SDN",{"$f":"VLOOKUP(H7968,[2]SSIFSEP!$H$2:$I$7593,2,0)","v":"확정지급보증"},"Confirmed Payment Guarantee","KRW","C11",2.2000000000000002,0,"1",7635,{"$f":"VLOOKUP(K7968,[1]EXRATE!C$3:F$43,4,0)","v":1},{"$f":"+P7968*Q7968","v":7635},"",250,"",0,0,"","","","","","W","HIE","","",20230926,160849,0.02,40.854999999999997,"CIBM              MA21560","SDNSEL",200,379,null,"GTRF IMP","Confirmed Payment Guarantee",7635,"Matched with Local data"]
["KR","HSBC",2,0,0,null,"SDNSEL200448","SDN",{"$f":"VLOOKUP(H7969,[2]SSIFSEP!$H$2:$I$7593,2,0)","v":"확정지급보증"},"Confirmed Payment Guarantee","USD","C11",2.2000000000000002,0,"1",12004,{"$f":"VLOOKUP(K7969,[1]EXRATE!C$3:F$43,4,0)","v":1344.8},{"$f":"+P7969*Q7969/100","v":161429.79199999999},"",251,"",0,0,"","","","","","W","HIE","","",20230926,160849,0.02,40.854999999999997,"CIBM              MA21560","SDNSEL",200,448,null,"GTRF IMP","Confirmed Payment Guarantee",161429.79199999999,"Matched with Local data"]
["KR","HSBC",2,0,0,null,"SDNSEL200450","SDN",{"$f":"VLOOKUP(H7970,[2]SSIFSEP!$H$2:$I$7593,2,0)","v":"확정지급보증"},"Confirmed Payment Guarantee","KRW","C11",2.2000000000000002,0,"1",56444,{"$f":"VLOOKUP(K7970,[1]EXRATE!C$3:F$43,4,0)","v":1},{"$f":"+P7970*Q7970","v":56444},"",250,"",0,0,"","","","","","W","HIE","","",20230926,160849,0.02,40.854999999999997,"CIBM              MA21560","SDNSEL",200,450,null,"GTRF IMP","Confirmed Payment Guarantee",56444,"Matched with Local data"]
["KR","HSBC",2,0,0,null,"SDNSEL200612","SDN",{"$f":"VLOOKUP(H7971,[2]SSIFSEP!$H$2:$I$7593,2,0)","v":"확정지급보증"},"Confirmed Payment Guarantee","USD","C13",3.1,0,"1",86707,{"$f":"VLOOKUP(K7971,[1]EXRATE!C$3:F$43,4,0)","v":1344.8},{"$f":"+P7971*Q7971/100","v":1166035.736},"",254,"",0,0,"","","","","","W","HIE","","",20230926,160849,0.04,40.854999999999997,"CIBM              MA21560","SDNSEL",200,612,null,"GTRF IMP","Confirmed Payment Guarantee",1166035.736,"Matched with Local data"]
["KR","HSBC",2,0,0,null,"SDNSEL200612","UCD",{"$f":"VLOOKUP(H7972,[2]SSIFSEP!$H$2:$I$7593,2,0)","v":"미사용약정"},"Unused Credit Line","USD","C13",3.1,0,"1",0,{"$f":"VLOOKUP(K7972,[1]EXRATE!C$3:F$43,4,0)","v":1344.8},{"$f":"+P7972*Q7972/100","v":0},"",287,"",0,0,"","","","","","W","HIE","","",20230926,160849,0.04,40.854999999999997,"CIBM              MG30100","SDNSEL",200,612]
["KR","HSBC",2,0,0,null,"SDNSEL300173","SDN",{"$f":"VLOOKUP(H7973,[2]SSIFSEP!$H$2:$I$7593,2,0)","v":"확정지급보증"},"Confirmed Payment Guarantee","KRW","C11",2.2000000000000002,0,"1",12,{"$f":"VLOOKUP(K7973,[1]EXRATE!C$3:F$43,4,0)","v":1},{"$f":"+P7973*Q7973","v":12},"",250,"",0,0,"","","","","","W","HIE","","",20230926,160849,0.02,40.854999999999997,"CIBM              MA21560","SDNSEL",300,173,null,"GTRF IMP",{"$f":"J7973","v":"Confirmed Payment Guarantee"},{"$f":"R7973","v":12},"Matched with Local data"]
["KR","HSBC",2,0,0,null,"SDNSEL300298","SDN",{"$f":"VLOOKUP(H7974,[2]SSIFSEP!$H$2:$I$7593,2,0)","v":"확정지급보증"},"Confirmed Payment Guarantee","USD","C11",2.2000000000000002,0,"1",320,{"$f":"VLOOKUP(K7974,[1]EXRATE!C$3:F$43,4,0)","v":1344.8},{"$f":"+P7974*Q7974/100","v":4303.3599999999997},"",251,"",0,0,"","","","","","W","HIE","","",20230926,160849,0.02,40.854999999999997,"CIBM              MA21560","SDNSEL",300,298,null,"GTRF IMP",{"$f":"J7974","v":"Confirmed Payment Guarantee"},{"$f":"R7974","v":4303.3599999999997},"Matched with Local data"]
["KR","HSBC",2,0,0,null,"SDNSEL300322","SDN",{"$f":"VLOOKUP(H7975,[2]SSIFSEP!$H$2:$I$7593,2,0)","v":"확정지급보증"},"Confirmed Payment Guarantee","USD","C13",3.1,0,"1",18615,{"$f":"VLOOKUP(K7975,[1]EXRATE!C$3:F$43,4,0)","v":1344.8},250334.52,"",254,"",0,0,"","","","","","W","HIE","","",20230926,160849,0.06,40.854999999999997,"CIBM              MA21560","SDNSEL",300,322,null,"GTRF IMP",{"$f":"J7975","v":"Confirmed Payment Guarantee"},{"$f":"R7975","v":250334.52}]
["KR","HSBC",2,0,0,null,"SDNSEL300322","UCD",{"$f":"VLOOKUP(H7976,[2]SSIFSEP!$H$2:$I$7593,2,0)","v":"미사용약정"},"Unused Credit Line","USD","C13",3.1,0,"1",13,{"$f":"VLOOKUP(K7976,[1]EXRATE!C$3:F$43,4,0)","v":1344.8},174.82399999999998,"",287,"",0,0,"","","","","","W","HIE","","",20230926,160849,0.06,40.854999999999997,"CIBM              MG30100","SDNSEL",300,322]
["KR","HSBC",2,0,0,null,"SDNSEL300346","SDN",{"$f":"VLOOKUP(H7977,[2]SSIFSEP!$H$2:$I$7593,2,0)","v":"확정지급보증"},"Confirmed Payment Guarantee","USD","C13",4.0999999999999996,0,"1",29876,{"$f":"VLOOKUP(K7977,[1]EXRATE!C$3:F$43,4,0)","v":1344.8},401772.44799999997,"",254,"",0,0,"","","","","","W","HIE","","",20230926,160849,0.24,40.854999999999997,"CIBM              MA21560","SDNSEL",300,346,null,"GTRF IMP",{"$f":"J7977","v":"Confirmed Payment Guarantee"},{"$f":"R7977","v":401772.44799999997},"Matched with Local data"]
["KR","HSBC",2,0,0,null,"SDNSEL300346","UCD",{"$f":"VLOOKUP(H7978,[2]SSIFSEP!$H$2:$I$7593,2,0)","v":"미사용약정"},"Unused Credit Line","USD","C13",4.0999999999999996,0,"1",20,{"$f":"VLOOKUP(K7978,[1]EXRATE!C$3:F$43,4,0)","v":1344.8},268.95999999999998,"",287,"",0,0,"","","","","","W","HIE","","",20230926,160849,0.24,40.854999999999997,"CIBM              MG30100","SDNSEL",300,346]
["KR","HSBC",2,0,0,null,"SDNSEL300425","SDN",{"$f":"VLOOKUP(H7979,[2]SSIFSEP!$H$2:$I$7593,2,0)","v":"확정지급보증"},"Confirmed Payment Guarantee","USD","C13",3.3,0,"2A",16032,{"$f":"VLOOKUP(K7979,[1]EXRATE!C$3:F$43,4,0)","v":1344.8},215598.33599999998,"",255,"",0,0,"","","","","","W","HIE","","",20230926,160849,0.14000000000000001,40.854999999999997,"CIBM              MA21560","SDNSEL",300,425,null,"GTRF IMP",{"$f":"J7979","v":"Confirmed Payment Guarantee"},{"$f":"R7979","v":215598.33599999998},"Matched with Local data"]
["KR","HSBC",2,0,0,null,"SDNSEL300425","UCD",{"$f":"VLOOKUP(H7980,[2]SSIFSEP!$H$2:$I$7593,2,0)","v":"미사용약정"},"Unused Credit Line","USD","C13",3.3,0,"2A",70,{"$f":"VLOOKUP(K7980,[1]EXRATE!C$3:F$43,4,0)","v":1344.8},941.36,"",288,"",0,0,"","","","","","W","HIE","","",20230926,160849,0.14000000000000001,40.854999999999997,"CIBM              MG30100","SDNSEL",300,425]
["KR","HSBC",2,0,0,null,"SDNSEL400131","SDN",{"$f":"VLOOKUP(H7981,[2]SSIFSEP!$H$2:$I$7593,2,0)","v":"확정지급보증"},"Confirmed Payment Guarantee","CLP","C13",2.2000000000000002,0,"1",12735396,{"$f":"VLOOKUP(K7981,[1]EXRATE!C$3:F$43,4,0)","v":1.4874460789735646},189432.14844375619,"",253,"",0.20030000000000001,0,"","","","","","W","HIE","","",20230926,160849,0.02,18.204999999999998,"CIBM              MA21560","SDNSEL",400,131,null,"GTRF IMP",{"$f":"J7981","v":"Confirmed Payment Guarantee"},{"$f":"R7981","v":189432.14844375619},"Matched with Local data"]
["KR","HSBC",2,0,0,null,"SDNSEL400131","UCD",{"$f":"VLOOKUP(H7982,[2]SSIFSEP!$H$2:$I$7593,2,0)","v":"미사용약정"},"Unused Credit Line","USD","C13",2.2000000000000002,0,"1",0,{"$f":"VLOOKUP(K7982,[1]EXRATE!C$3:F$43,4,0)","v":1344.8},0,"",287,"",0.20030000000000001,0,"","","","","","W","HIE","","",20230926,160849,0.02,18.204999999999998,"CIBM              MG30100","SDNSEL",400,131]
["KR","HSBC",2,0,0,null,"SDNSEL900357","SDN",{"$f":"VLOOKUP(H7983,[2]SSIFSEP!$H$2:$I$7593,2,0)","v":"확정지급보증"},"Confirmed Payment Guarantee","CAD","C13",2.1,0,"1",5131,{"$f":"VLOOKUP(K7983,[1]EXRATE!C$3:F$43,4,0)","v":994.56421255038265},51031.089745960133,"",252,"",0,0,"","","","","","W","HIE","","",20230926,160849,0.01,40.854999999999997,"CIBM              MA21560","SDNSEL",900,357,null,"GTRF IMP",{"$f":"J7983","v":"Confirmed Payment Guarantee"},{"$f":"R7983","v":51031.089745960133},"Matched with Local data"]
["KR","HSBC",2,0,0,null,"SDNSEL900384","SDN",{"$f":"VLOOKUP(H7984,[2]SSIFSEP!$H$2:$I$7593,2,0)","v":"확정지급보증"},"Confirmed Payment Guarantee","USD","C13",2.2000000000000002,0,"1",73782,{"$f":"VLOOKUP(K7984,[1]EXRATE!C$3:F$43,4,0)","v":1344.8},992220.33599999989,"",254,"",0,0,"","","","","","W","HIE","","",20230926,160849,0.02,40.854999999999997,"CIBM              MA21560","SDNSEL",900,384,null,"GTRF IMP",{"$f":"J7984","v":"Confirmed Payment Guarantee"},{"$f":"R7984","v":992220.33599999989},"Matched with Local data"]
["KR","HSBC",2,0,0,null,"SDNSEL900384","UCD",{"$f":"VLOOKUP(H7985,[2]SSIFSEP!$H$2:$I$7593,2,0)","v":"미사용약정"},"Unused Credit Line","USD","C13",2.2000000000000002,0,"1",0,{"$f":"VLOOKUP(K7985,[1]EXRATE!C$3:F$43,4,0)","v":1344.8},0,"",287,"",0,0,"","","","","","W","HIE","","",20230926,160849,0.02,40.854999999999997,"CIBM              MG30100","SDNSEL",900,384]
["KR","HSBC",2,0,0,null,"SLN232289996","SLN",{"$f":"VLOOKUP(H7986,[2]SSIFSEP!$H$2:$I$7593,2,0)","v":"통화안정계정"},"Monetary Stabilization Account","KRW","CBL",0.1,0,"1",272363,{"$f":"VLOOKUP(K7986,[1]EXRATE!C$3:F$43,4,0)","v":1},{"$f":"+P7986*Q7986","v":272363},"",24,"",0,0,"","","","","","W","TRSK","","",20230926,160849,0.01,40.29,"CC                AF80326","SLN232",289,996]
["KR","HSBC",2,0,0,null,"TEBSEL300202","TEB",{"$f":"VLOOKUP(H7987,[2]SSIFSEP!$H$2:$I$7593,2,0)","v":"확정지급보증"},"Confirmed Payment Guarantee","USD","C13",2.1,0,"1",6302,{"$f":"VLOOKUP(K7987,[1]EXRATE!C$3:F$43,4,0)","v":1344.8},{"$f":"+P7987*Q7987/100","v":84749.296000000002},"",246,"",0,0,"","","","","","W","HIE","","",20230926,160849,0.01,40.854999999999997,"CIBM              MA21550","TEBSEL",300,202,null,"GTRF GTE","Confirmed Payment Guarantee",{"$f":"R7987","v":84749.296000000002},"Matched with Local data"]
["KR","HSBC",2,0,0,null,"TEBSEL300303","TEB",{"$f":"VLOOKUP(H7988,[2]SSIFSEP!$H$2:$I$7593,2,0)","v":"확정지급보증"},"Confirmed Payment Guarantee","USD","C13",2.1,0,"1",1182,{"$f":"VLOOKUP(K7988,[1]EXRATE!C$3:F$43,4,0)","v":1344.8},{"$f":"+P7988*Q7988/100","v":15895.535999999998},"",246,"",0,0,"","","","","","W","HIE","","",20230926,160849,0.01,40.854999999999997,"CIBM              MA21550","TEBSEL",300,303,null,"GTRF GTE","Confirmed Payment Guarantee",{"$f":"R7988","v":15895.535999999998},"Matched with Local data"]
["KR","HSBC",2,0,0,null,"TEBSEL300307","TEB",{"$f":"VLOOKUP(H7989,[2]SSIFSEP!$H$2:$I$7593,2,0)","v":"확정지급보증"},"Confirmed Payment Guarantee","USD","C13",3.1,0,"1",10359,{"$f":"VLOOKUP(K7989,[1]EXRATE!C$3:F$43,4,0)","v":1344.8},{"$f":"+P7989*Q7989/100","v":139307.83199999999},"",246,"",0,0,"","","","","","W","HIE","","",20230926,160849,0.04,40.854999999999997,"CIBM              MA21550","TEBSEL",300,307,null,"GTRF GTE","Confirmed Payment Guarantee",{"$f":"R7989","v":139307.83199999999},"Matched with Local data"]
["KR","HSBC",2,0,0,null,"TEBSEL300307","UCD",{"$f":"VLOOKUP(H7990,[2]SSIFSEP!$H$2:$I$7593,2,0)","v":"미사용약정"},"Unused Credit Line","USD","C13",3.1,0,"1",0,{"$f":"VLOOKUP(K7990,[1]EXRATE!C$3:F$43,4,0)","v":1344.8},{"$f":"+P7990*Q7990/100","v":0},"",287,"",0,0,"","","","","","W","HIE","","",20230926,160849,0.04,40.854999999999997,"CIBM              MG30100","TEBSEL",300,307]
["KR","HSBC",2,0,0,null,"TEBSEL300331","TEB",{"$f":"VLOOKUP(H7991,[2]SSIFSEP!$H$2:$I$7593,2,0)","v":"확정지급보증"},"Confirmed Payment Guarantee","KRW","MFS",3.3,0,"1",90,{"$f":"VLOOKUP(K7991,[1]EXRATE!C$3:F$43,4,0)","v":1},{"$f":"+P7991*Q7991","v":90},"",247,"",0,0,"","","","","","W","HIE","","",20230926,160849,0.14000000000000001,40.854999999999997,"CIBM              MA21550","TEBSEL",300,331,null,"GTRF GTE","Confirmed Payment Guarantee",{"$f":"R7991","v":90},"Matched with Local data"]
["KR","HSBC",2,0,0,null,"TEBSEL300331","UCD",{"$f":"VLOOKUP(H7992,[2]SSIFSEP!$H$2:$I$7593,2,0)","v":"미사용약정"},"Unused Credit Line","KRW","MFS",3.3,0,"1",10,{"$f":"VLOOKUP(K7992,[1]EXRATE!C$3:F$43,4,0)","v":1},{"$f":"+P7992*Q7992","v":10},"",297,"",0,0,"","","","","","W","HIE","","",20230926,160849,0.14000000000000001,40.854999999999997,"CIBM              MG30100","TEBSEL",300,331]
["KR","HSBC",2,0,0,null,"TEBSEL300343","TEB",{"$f":"VLOOKUP(H7993,[2]SSIFSEP!$H$2:$I$7593,2,0)","v":"확정지급보증"},"Confirmed Payment Guarantee","KRW","MFS",3.3,0,"1",90,{"$f":"VLOOKUP(K7993,[1]EXRATE!C$3:F$43,4,0)","v":1},{"$f":"+P7993*Q7993","v":90},"",247,"",0,0,"","","","","","W","HIE","","",20230926,160849,0.14000000000000001,40.854999999999997,"CIBM              MA21550","TEBSEL",300,343,null,"GTRF GTE","Confirmed Payment Guarantee",{"$f":"R7993","v":90},"Matched with Local data"]
["KR","HSBC",2,0,0,null,"TEBSEL300343","UCD",{"$f":"VLOOKUP(H7994,[2]SSIFSEP!$H$2:$I$7593,2,0)","v":"미사용약정"},"Unused Credit Line","KRW","MFS",3.3,0,"1",10,{"$f":"VLOOKUP(K7994,[1]EXRATE!C$3:F$43,4,0)","v":1},{"$f":"+P7994*Q7994","v":10},"",297,"",0,0,"","","","","","W","HIE","","",20230926,160849,0.14000000000000001,40.854999999999997,"CIBM              MG30100","TEBSEL",300,343]
["KR","HSBC",2,0,0,null,"TEBSEL300471","UCD",{"$f":"VLOOKUP(H7995,[2]SSIFSEP!$H$2:$I$7593,2,0)","v":"미사용약정"},"Unused Credit Line","USD","C13",2.2000000000000002,0,"1",3,{"$f":"VLOOKUP(K7995,[1]EXRATE!C$3:F$43,4,0)","v":1344.8},{"$f":"+P7995*Q7995/100","v":40.343999999999994},"",287,"",0,0,"","","","","","W","HIE","","",20230926,160849,0.02,40.854999999999997,"CIBM              MG30100","TEBSEL",300,471]
["KR","HSBC",2,0,0,null,"TEBSEL300471","TEB",{"$f":"VLOOKUP(H7996,[2]SSIFSEP!$H$2:$I$7593,2,0)","v":"확정지급보증"},"Confirmed Payment Guarantee","KRW","C13",2.2000000000000002,0,"1",6,{"$f":"VLOOKUP(K7996,[1]EXRATE!C$3:F$43,4,0)","v":1},{"$f":"+P7996*Q7996","v":6},"",245,"",0,0,"","","","","","W","HIE","","",20230926,160849,0.02,40.854999999999997,"CIBM              MA21550","TEBSEL",300,471,null,"GTRF GTE","Confirmed Payment Guarantee",{"$f":"R7996","v":6}]

{"sheet":"B2209","index":5,"n_rows":147,"n_cols":8,"rows_kept":147,"cut":false,"hidden":false,"merged":[[108,1,108,2],[6,1,6,2],[13,1,14,1],[15,1,21,1],[76,1,77,1],[78,1,84,1]]}
["Status of Non-Performing Loan (NPL) Evaluation by Borrower (B2209) – Revised"]
[null,null,null,null,"[Reporting Cycle : Monthly]"]
[null,"Enter AMOUNT IN KRW. Basically, use field IILLBL, but for foreign currency items, the field IILLBL value differs."]
[null,"For foreign currency, calculate KRW using the month-end middle rate and record the result."]
[]
[null,null,null,null,"(Unit : Million KRW)"]
["Code","Code Name",null,"Loans Subject to NPL Evaluation","Other Trust Account Loans"]
["A","Bank Account – KRW Loans",null,{"$f":"D9","v":"1)OAV KRW TOTAL\n2) LAI KRW TOTAL\n4) XBZ/LAE KRW TOTAL"}]
["A1","Corporate Loans",null,{"$f":"D10","v":"1)OAV KRW TOTAL\n2) LAI KRW TOTAL\n4) XBZ/LAE KRW TOTAL"}]
["A11","Large \nCorporation","size of turnover: 2","1)OAV KRW TOTAL\n2) LAI KRW TOTAL\n4) XBZ/LAE KRW TOTAL",null,null,null,"* Report the results in millions."]
["A12","       SMEs","size of turnover: 1","1)OAV KRW TOTAL\n2) LAI KRW TOTAL\n4) XBZ/LAE KRW TOTAL",null,null,"Large\nCorporation","size of turnover: 2"]
["A12a","         (Individual Business)",null,null,null,null,"SMEs","size of turnover: 1"]
["A2","   Household Loans"]
["A21","By Borrower","Individual Business"]
["A22",null,"Non-Business Individual"]
["A2a","By Loan Type","Mortgage Loans"]
["A2b",null,"Housing Loans",null,null,null,"GTE","APG/CGA/CGB/CGC/CGI/CGJ/GOV/LEG/PEB/REB/TEB"]
["A2c",null,"Consumer Finance",null,null,null,"EXP Purchased Foreign Exchange","ABD/BAC/BAP/BPC/BPP/FOT/NRD/OAE/OBC/REN"]
["A2ca",null,"   Purchase of Credit Card Receivables",null,null,null,"EXP Factoring","RFI/RFE/RFP"]
["A2cb",null,"   Purchase of Installment Finance Receivables"]
["A2d",null,"Others",null,null,null,null,"4) XBZ/LAE KRW TOTAL"]
["A2s",null,"Total",null,null,null,null,"4) XBZ/LAE Foreign CCY TOTAL"]
["A3","   Public and Other Loans",null,null,null,null,null,"4) RFI/RFE/RFP"]
["AB","Bank Account – Foreign Currency Loans (size of turnover: 2)",null,"1) OAV/OAM foreign CCY TOTAL\n2) CIL/LAI/PNP/YBZ foreign CCY TOTAL\n4) XBZ/LAE Foreign CCY TOTAL"]
["AB1","   (SMEs) (size of turnover: 1)",null,"1) OAV/OAM foreign CCY TOTAL\n2) CIL/LAI/PNP/YBZ foreign CCY TOTAL\n4) XBZ/LAE Foreign CCY TOTAL"]
["AB11","       (Individual Business)"]
["AC","Bank Account – Foreign Currency Borrowing Loans"]
["AC1","   (SMEs)"]
["AC11","       (Individual Business)"]
["AD","Bank Account – Domestic Import Usance (size of turnover: 2)",null,"2) BDU with size of turnover 2 TOTAL"]
["AD1","   (SMEs) (size of turnover: 1)",null,"2) BDU with size of turnover 1 TOTAL"]
["AD11","       (Individual Business)"]
["AE","Bank Account – Offshore Foreign Loans"]
["AE1","   (SMEs)"]
["AE11","       (Individual Business)"]
["AF","Bank Account – Purchased Bills"]
["AF1","   (SMEs)"]
["AF11","       (Individual Business)"]
["AG","Bank Account – Purchased Foreign Exchange (size of turnover: 2)",null,"4) EXP Purchased Foreign Exchange"]
["AG1","   (SMEs) (size of turnover: 1)",null,"4) EXP Purchased Foreign Exchange"]
["AG11","       (Individual Business)"]
["AH","Bank Account – Payment Guarantee Indemnity"]
["AH1","   (SMEs)"]
["AH11","       (Individual Business)"]
["AI","Bank Account – Credit Card Receivables"]
["AI1","   Corporate"]
["AI2","   Household"]
["AI3","   Public and Others"]
["AJ","Bank Account – Debit Card Receivables (Foreign Currency)"]
["AK","Bank Account – Private Placement Bonds"]
["AK1","   (SMEs)"]
["AL","Bank Account – Factoring Receivables (size of turnover: 2)",null,"4) RFI/RFE/RFP"]
["AL1","   (SMEs) (size of turnover: 1)",null,"4) RFI/RFE/RFP"]
["AL11","       (Individual Business)"]
["AM","Bank Account – Debt-to-Equity Conversion Bonds"]
["AM1","   (SMEs)"]
["AN","Bank Account – Securities (Including Guaranteed CP)"]
["AN1","   (SMEs)"]
["AO","Bank Account – Other Loan-type Assets"]
["AP","Bank Account – Confirmed Payment Guarantee (size of turnover: 2)",null,"2) BR/DPB/SGT/AWR/SDN/SDC/SDG total\n3) GTE total"]
["AP1","   (SMEs) (size of turnover: 1)",null,"2) BR/DPB/SGT/AWR/SDN/SDC/SDG total\n3) GTE total"]
["AP11","       (Individual Business)"]
["AZ","Bank Account – Total Loans Subject to NPL Evaluation",null,{"$f":"+D64+D69+D70","v":{"$error":"#VALUE!"}}]
["AZ1","    Corporate Loans",null,{"$f":"+D65+D66","v":{"$error":"#VALUE!"}}]
["AZ11","       Large Corporate Loans",null,{"$f":"+D10+D24-D25+D27-D28+D30-D31+D33-D34+D36-D37+D39-D40+D42-D43+D50-D51+D52-D53+D60-D61-D70","v":{"$error":"#VALUE!"}}]
["AZ12","       SME Loans"]
["AZ121","          (Individual Business Loans)"]
["AZ13","       Corporate Loans – Credit Card Receivables"]
["AZ2","    Household Loans"]
["AZ3","    Public & Other Loans (CB classification GMC)",null,"2) CIL/LAI/PNP foreign CCY 중 CB classification GMC 값"]
["B","Trust Account Loans"]
["B1","   Corporate Loans"]
["B11","       Large Corporations"]
["B12","       SMEs"]
["B12a","         (Individual Business)"]
["B2","   Household Loans"]
["B21","By Borrower","Individual Business"]
["B22",null,"Non-Business Individual"]
["B2a","By Loan Type","Mortgage Loans"]
["B2b",null,"Housing Loans"]
["B2c",null,"Consumer Finance"]
["B2ca",null,"   Purchase of Credit Card Receivables"]
["B2cb",null,"   Purchase of Installment Finance Receivables"]
["B2d",null,"Others"]
["B2s",null,"Total"]
["B3","Public and Other Loans, etc."]
["BB","Trust Account Private Placement Bonds"]
["BB1","   (SMEs)"]
["BC","Trust Account CP (Including Guaranteed Promissory Notes)"]
["BC1","   (SMEs)"]
["BZ","Total Loans Subject to NPL Evaluation – Trust Account"]
["BZ1","    Corporate Loans"]
["BZ11","       Large Corporate Loans"]
["BZ12","       SME Loans"]
["BZ121","          (Individual Business)"]
["BZ2","    Household Loans"]
["BZ3","    Public and Other Loans"]
["DA","Merchant Banking Account – Loan Claims"]
["DA1","   (SMEs)"]
["DB","Merchant Banking Account – Lease Receivables"]
["DB1","   (SMEs)"]
["DC","Merchant Banking Account – Confirmed Payment Guarantee"]
["DC1","   (SMEs)"]
["DZ","Total Loans Subject to NPL Evaluation – Merchant Banking Account"]
["DZ1","    Corporate Loans"]
["DZ11","       Large Corporate Loans"]
["DZ12","       SME Loans"]
["DZ2","    Public and Other Loans"]
["C","Total Loans Subject to NPL Evaluation",null,{"$f":"+D110+D115+D116","v":{"$error":"#VALUE!"}}]
["C1","Coporate Loans",null,{"$f":"H117","v":0}]
["C11","    Large Corporate Loans",null,{"$f":"+D65","v":{"$error":"#VALUE!"}}]
["C12","    SME Loans"]
["C121","       (Individual Business)"]
["C13","    Corporate Credit Card Receivables"]
["C2","Household Loans"]
["C3","Public and Other Loans",null,{"$f":"D70","v":"2) CIL/LAI/PNP foreign CCY 중 CB classification GMC 값"}]
[]
["Contact : Bank Supervision Department – Management Guidance Team"]
[]
["[Notes and Instructions for Completion]"]
[]
["1. Each item must match the amounts in \"Balance Sheet(Bank Account, Consolidated)(B2101)\", \"Balance Sheet(Trust Account, Total(B2104)\", "]
["    \"Balance Sheet(Financial Company Account, Consolidated)(B2106)\""]
[]
["2. A (Bank Account – KRW Loans) and A3 (Public and Other Loans): Exclude interbank loans."]
[]
["3. A2a (Mortgage Loans): Mortgage loans within general household loans."]
[]
["4. A2b (Housing Loans): Housing loans within household loans ( = B/S(B2101) items AA20060 + AA20071)"]
[]
["5. A2cb (Installment Finance Receivables Purchase): Receivables purchased from installment finance companies excluding credit card companies."]
[]
["6. Among trust accounts, those with principal or profit guarantee agreements are classified as"]
["    Loans Subject to NPL Evaluation, and others as Other Trust Account Loans."]
[]
["7. A2s, B2s, C2s must each equal A2, B2, and C2 totals respectively."]
[]
["8. DA (Financial Company Loan Claims): Includes discounted bills, discounted trade bills, factoring bills, CMA discounted bills,"]
["                                                      CMA trade bills, CMA factoring bills, overdue bills, managed bills, and payment guarantee indemnities."]
[]
["9. \"Corporte Loans(AZ1,BZ1,DZ1,C1)\", \"Household Loans(AZ2,BZ2,DZ2,C2)\", \"Public and Other Loans(AZ3,BZ3,DZ3,C3)\""]
["     : Reclassify Total Loans Subject to NPL Evaluation (AZ/BZ/DZ/C) including credit card receivables."]
[]
["10. \"Large Corporate Loans(AZ11,BZ11,DZ11,C11)\", \"SME Loans(AZ12,BZ12,DZ12,C12)\", \"Individual Business Loans(AZ121,"]
["      BZ121,C121)\": Reclassify \"Corporate Loans(AZ1,BZ1,DZ1,C1)\" excluding Corporate Credit Card Receivables (AI1,C13)"]
[]
["□ Effective Date : Applicable from the reporting period ending January 2007."]

{"sheet":"B2401","index":6,"n_rows":174,"n_cols":54,"rows_kept":174,"cut":false,"hidden":false,"merged":[[7,0,9,0],[7,1,9,1],[7,2,7,7],[7,8,9,8],[7,9,9,9],[7,10,9,10],[13,3,13,7],[14,3,14,7],[15,3,15,7],[16,3,16,7],[17,3,17,7],[18,3,18,7],[7,11,9,11],[7,12,9,12],[8,3,8,7],[10,3,10,7],[11,3,11,7],[12,3,12,7],[25,3,25,7],[26,3,26,7],[27,3,27,7],[28,3,28,7],[29,3,29,7],[30,3,30,7],[19,3,19,7],[20,3,20,7],[21,3,21,7],[22,3,22,7],[23,3,23,7],[24,3,24,7],[37,3,37,7],[38,3,38,7],[39,3,39,7],[40,3,40,7],[41,3,41,7],[42,3,42,7],[31,3,31,7],[32,3,32,7],[33,3,33,7],[34,3,34,7],[35,3,35,7],[36,3,36,7],[49,3,49,7],[50,3,50,7],[51,3,51,7],[52,3,52,7],[53,3,53,7],[54,3,54,7],[43,3,43,7],[44,3,44,7],[45,3,45,7],[46,3,46,7],[47,3,47,7],[48,3,48,7],[61,3,61,7],[62,3,62,7],[63,3,63,7],[64,3,64,7],[65,3,65,7],[66,3,66,7],[55,3,55,7],[56,3,56,7],[57,3,57,7],[58,3,58,7],[59,3,59,7],[60,3,60,7],[73,3,73,7],[74,3,74,7],[75,3,75,7],[76,3,76,7],[77,3,77,7],[78,3,78,7],[67,3,67,7],[68,3,68,7],[69,3,69,7],[70,3,70,7],[71,3,71,7],[72,3,72,7],[85,3,85,7],[86,3,86,7],[87,3,87,7],[88,3,88,7],[89,3,89,7],[90,3,90,7],[79,3,79,7],[80,3,80,7],[81,3,81,7],[82,3,82,7],[83,3,83,7],[84,3,84,7],[99,3,99,7],[102,3,102,7],[103,3,103,7],[104,3,104,7],[105,3,105,7],[106,3,106,7],[91,3,91,7],[92,3,92,7],[93,3,93,7],[95,3,95,7],[96,3,96,7],[97,3,97,7],[164,0,165,0],[164,1,165,1],[171,0,172,0],[171,1,172,1],[107,3,107,7],[137,0,137,2],[140,0,140,1],[142,0,143,0],[142,1,143,1],[142,2,143,2],[171,2,172,2],[164,2,165,2]]}
["Loan Asset Quality Classification (B2401) (Revised)",null,null,null,null,null,null,null,null,"[Reporting Cycle : Quarterly]",null,null,null,null,null,null,null,null,null,null,null,null,null,null,null,null,null,null,null,null,null,null,null,null,null,null,null,null,null,null,null,null,null,null,null,null,null,null,null,null,null,null,"MDS VALIDATE",{"$f":"COUNTIF(O11:O108,\"Check\")","v":0}]
[]
[]
[null,"GTE","APG/CGA/CGB/CGC/CGI/CGJ/GOV/LEG/PEB/REB/TEB","4) XBZ/LAE KRW TOTAL"]
[null,"EXP Purchased Foreign Exchange","ABD/BAC/BAP/BPC/BPP/FOT/NRD/OAE/OBC/REN","4) XBZ/LAE Foreign CCY TOTAL"]
[null,null,"CIL/LAI/PNP/YBZ/BDU","4) RFI/RFE/RFP"]
[]
["Code","Code Name","Normal",null,null,null,null,null,"Precautionary\n(ZXCRGR 4)","Substandard","Doubtful","Estimated \nLoss","Total Loans"]
[null,null,null,"Amount by Industry"]
[null,null,"(ZXCRGR 3 or Higher)","F_Construction","G_Wholesale and Retail Trade","H_Accommodation and Food Service Activities","L_Real Estate Activities","Other Industries",null,null,null,null,null,null,"Check","Control Value"]
["C","Bank Account Loans",{"$f":"+C12+C54+C58+C59","v":{"$error":"#VALUE!"}},"x",null,null,null,null,{"$f":"+I12+I54+I58+I59","v":{"$error":"#VALUE!"}},{"$f":"+J12+J54+J58+J59","v":0},{"$f":"+K12+K54+K58+K59","v":0},0,{"$error":"#VALUE!"},null,{"$f":"IF(ABS(P11-M11)<2,\"OK\",\"Check\")","v":{"$error":"#VALUE!"}},{"$f":"ROUND((19180.474309-0-0-0+0),5)","v":19180.474310000001}]
["C1","   Loan Receivables",{"$f":"SUM(C13,C22,C34,C48)","v":{"$error":"#VALUE!"}},"x",null,null,null,null,{"$f":"SUM(I13,I22,I34,I48)","v":{"$error":"#VALUE!"}},{"$f":"SUM(J13,J22,J34,J48)","v":0},{"$f":"SUM(K13,K22,K34,K48)","v":0},{"$f":"SUM(L13,L22,L34,L48)","v":0},{"$error":"#VALUE!"}]
["C11","      KRW Loans (Excluding Interbank Loans)",{"$f":"+C14+C18+C21","v":0},"x",null,null,null,null,{"$f":"+I14+I18+I21","v":0},{"$f":"+J14+J18+J21","v":0},{"$f":"+K14+K18+K21","v":0},0,{"$f":"SUM(I13:L13)+C13","v":0}]
["C111","         Corporate Loans",{"$f":"SUM(C15:C16)","v":0},"x",null,null,null,null,{"$f":"SUM(I15:I16)","v":0},0,0,0,{"$f":"SUM(I14:L14)+C14","v":0}]
["C1111","               Large Corporate Loans_size of turnover: 2","1) OAV KRW TOTAL (ZXCRGR 3 or higher, turnover 2)\n2) LAI KRW TOTAL (ZXCRGR 3 or higher, turnover 2)\n4) XBZ / LAE KRW TOTAL (ZXCRGR 3 or higher, turnover 2)","x",null,null,null,null,"1) OAV KRW TOTAL(ZXCRGR 4) turnover 2\n2) LAI KRW TOTAL(ZXCRGR 4) turnover 2\n4) XBZ/LAE KRW TOTAL(ZXCRGR 4) turnover 2",null,null,null,{"$error":"#VALUE!"}]
["C1112","               SME Loans_size of turnover: 1","1) OAV KRW TOTAL (ZXCRGR 3 or higher, turnover 1)\n2) LAI KRW TOTAL (ZXCRGR 3 or higher, turnover 1)\n4) XBZ / LAE KRW TOTAL (ZXCRGR 3 or higher, turnover 1)","x",null,null,null,null,"1) OAV KRW TOTAL(ZXCRGR 4) turnover 1\n2) LAI KRW TOTAL(ZXCRGR 4) turnover 1\n4) XBZ/LAE KRW TOTAL(ZXCRGR 4) turnover 1",null,null,null,{"$error":"#VALUE!"}]
["C11121","                      (Individual Business)",null,"x",null,null,null,null,null,null,null,null,0,null,null,null,"* * Report the results in millions."]
["C112","         Household Loans",null,"x",null,null,null,null,null,null,null,null,0,null,null,"Normal","(ZXCRGR 3 or higher)"]
["C1121","               (Mortgage Loans)",null,"x",null,null,null,null,null,null,null,null,0,null,null,"Precautionary","(ZXCRGR 4)"]
["C1122","               (Unsecured Loans)",null,"x",null,null,null,null,null,null,null,null,0,null,null,"       Large Corporate","size of turnover: 2"]
["C113","         Public and Other Loans",null,"x",null,null,null,null,null,null,null,null,0,null,null,"       SMEs","size of turnover: 1"]
["C12","      Foreign Currency Loans",{"$f":"C23+C24","v":{"$error":"#VALUE!"}},"x",null,null,null,null,{"$f":"SUM(I23:I27)","v":0},{"$f":"SUM(J23:J24)","v":0},0,0,{"$error":"#VALUE!"}]
["C122","               Large Corporate Loans","1) OAV / OAM Foreign Currency TOTAL (ZXCRGR 3 or higher, turnover 2)\n2) CIL / LAI / PNP / YBZ / BDU Foreign Currency TOTAL (ZXCRGR 3 or higher, turnover 2)\n4) XBZ / LAE Foreign Currency TOTAL (ZXCRGR 3 or higher, turnover 2)","x",null,null,null,null,"1) OAV / OAM Foreign Currency TOTAL (ZXCRGR 4 or higher, turnover 2)\n2) CIL / LAI / PNP / YBZ / BDU Foreign Currency TOTAL (ZXCRGR 4 or higher, turnover 2)\n4) XBZ / LAE Foreign Currency TOTAL (ZXCRGR 4 or higher, turnover 2)",null,null,null,{"$error":"#VALUE!"}]
["C121","               SMEs","1) OAV / OAM Foreign Currency TOTAL (ZXCRGR 3 or higher, turnover 1)\n2) CIL / LAI / PNP / YBZ / BDU Foreign Currency TOTAL (ZXCRGR 3 or higher, turnover 1)\n4) XBZ / LAE Foreign Currency TOTAL (ZXCRGR 3 or higher, turnover 1)","x",null,null,null,null,"1) OAV / OAM Foreign Currency TOTAL (ZXCRGR 4 or higher, turnover 1)\n2) CIL / LAI / PNP / YBZ / BDU Foreign Currency TOTAL (ZXCRGR 4 or higher, turnover 1)\n4) XBZ / LAE Foreign Currency TOTAL (ZXCRGR 4 or higher, turnover 1)",null,null,null,{"$error":"#VALUE!"}]
["C1211","                      (Individual Business)",null,"x",null,null,null,null,null,null,null,null,0]
["C123","         Household Loans",null,"x",null,null,null,null,null,null,null,null,0]
["C124","              Public and Other Loans","2) CIL / LAI / PNP / YBZ / BDU Foreign Currency under CB classification “GMC” and ZXCRGR 3 or higher","x",null,null,null,null,"2) CIL / LAI / PNP / YBZ / BDU Foreign Currency under CB classification “GMC” and ZXCRGR 4",null,null,null,{"$error":"#VALUE!"}]
["C13","      Reimbursement under Payment Guarantees",null,"x",null,null,null,null,null,null,null,null,0]
["C132","               Large Corporate",null,"x",null,null,null,null,null,null,null,null,0]
["C131","               SMEs",null,"x",null,null,null,null,null,null,null,null,0]
["C1311","                      (Individual Business)",null,"x",null,null,null,null,null,null,null,null,0]
["C133","              Household",null,"x",null,null,null,null,null,null,null,null,0]
["C134","              Public and Others",null,"x",null,null,null,null,null,null,null,null,0]
["C14","     Purchase Foreign Exchange",{"$f":"SUM(C35:C36)","v":0},"x",null,null,null,null,{"$f":"SUM(I35:I36)","v":0},0,0,0,0]
["C142","               Large Corporate_size of turnover: 2","4) EXP Purchased Foreign Exchange (ZXCRGR 3 or higher) turnover 2","x",null,null,null,null,"4) EXP Purchased Foreign Exchange (ZXCRGR 4) turnover 2",null,null,null,{"$error":"#VALUE!"}]
["C141","               SMEs_size of turnover: 1","4) EXP Purchased Foreign Exchange (ZXCRGR 3 or higher) turnover 1","x",null,null,null,null,"4) EXP Purchased Foreign Exchange (ZXCRGR 4) turnover 1",null,null,null,{"$error":"#VALUE!"}]
["C1411","                      (Individual Business)",null,"x",null,null,null,null,null,null,null,null,0]
["C143","              Household",null,"x",null,null,null,null,null,null,null,null,0]
["C144","              Public and Others",null,"x",null,null,null,null,null,null,null,null,0]
["C15","      Credit Card Receivables",null,"x",null,null,null,null,null,null,null,null,0]
["C151","         Corporate",null,"x",null,null,null,null,null,null,null,null,0]
["C152","         Household",null,"x",null,null,null,null,null,null,null,null,0]
["C153","         Public and Others",null,"x",null,null,null,null,null,null,null,null,0]
["C16","      Private Bonds",null,"x",null,null,null,null,null,null,null,null,0]
["C162","         Large Corporate",null,"x",null,null,null,null,null,null,null,null,0]
["C161","         Household",null,"x",null,null,null,null,null,null,null,null,0]
["C164","         Public and Others",null,"x",null,null,null,null,null,null,null,null,0]
["C17","      Others",{"$f":"SUM(C49:C50)","v":0},"x",null,null,null,null,{"$f":"+I49+I50","v":{"$error":"#VALUE!"}},{"$f":"+J49+J50","v":0},{"$f":"+K49+K50","v":0},{"$f":"+L49+L50","v":0},{"$error":"#VALUE!"}]
["C172","               Large Corporate_size of turnover: 2","4) RFI/RFE/RFP (ZXCRGR 3 or higher) turnover 2","x",null,null,null,null,"4) RFI/RFE/RFP (ZXCRGR 4) turnover 2",null,null,null,{"$error":"#VALUE!"}]
["C171","               SMEs_size of turnover: 1","4) RFI/RFE/RFP (ZXCRGR 3 or higher) turnover 1","x",null,null,null,null,"4) RFI/RFE/RFP (ZXCRGR 4) turnover 1",null,null,null,{"$error":"#VALUE!"}]
["C1711","                      (Individual Business)",null,"x",null,null,null,null,null,null,null,null,0]
["C173","              Household",null,"x",null,null,null,null,null,null,null,null,0]
["C174","              Public and Others",null,"x",null,null,null,null,null,null,null,null,0]
["C2","   CP (Including Guaranteed Bills)",null,"x",null,null,null,null,null,null,null,null,0]
["C22","               Large Corporate",null,"x",null,null,null,null,null,null,null,null,0]
["C21","               SMEs",null,"x",null,null,null,null,null,null,null,null,0]
["C24","               Public and Others",null,"x",null,null,null,null,null,null,null,null,0]
["C3","   Other Receivables : Loan-related Advance Payments",null,"x",null,null,null,null,null,null,null,null,0]
["C4","   Confirmed Payment Guarantees",{"$f":"SUM(C60:C64)","v":0},"x",null,null,null,null,{"$f":"SUM(I60:I64)","v":0},{"$f":"SUM(J60:J64)","v":0},0,0,0]
["C42","               Large Corporate_size of turnover: 2","2) BR / DPB / SGT / AWR / SDN / SDC / SDG among ZXCRGR 3 or higher, turnover 2\n3) GTE total (ZXCRGR 3 or higher), turnover 2","x",null,null,null,null,"2) BR / DPB / SGT / AWR / SDN / SDC / SDG among ZXCRGR 4, turnover 2\n3) GTE total (ZXCRGR 4), turnover 2",null,null,null,{"$error":"#VALUE!"}]
["C41","               SMEs_size of turnover: 1","2) BR / DPB / SGT / AWR / SDN / SDC / SDG among ZXCRGR 3 or higher, turnover 1\n3) GTE total (ZXCRGR 3 or higher), turnover 1","x",null,null,null,null,"2) BR / DPB / SGT / AWR / SDN / SDC / SDG among ZXCRGR 4, turnover 1\n3) GTE total (ZXCRGR 4), turnover 1",null,null,null,{"$error":"#VALUE!"}]
["C411","                      (Individual Business)",null,"x",null,null,null,null,null,null,null,null,0]
["C43","              Household",null,"x",null,null,null,null,null,null,null,null,0]
["C44","              Public and Others",null,"x",null,null,null,null,null,null,null,null,0]
["D","Trust Account Loans",null,"x",null,null,null,null,null,null,null,null,0]
["D1","   Trust Loans",null,"x",null,null,null,null,null,null,null,null,0]
["D121","      Corporate Loans",null,"x",null,null,null,null,null,null,null,null,0]
["D1211","               Large Copoarte Loans",null,"x",null,null,null,null,null,null,null,null,0]
["D1212","               SME Loans",null,"x",null,null,null,null,null,null,null,null,0]
["D12121","                      (Individual Business)",null,"x",null,null,null,null,null,null,null,null,0]
["D122","      Household Loans",null,"x",null,null,null,null,null,null,null,null,0]
["D123","      Public and Other Loans",null,"x",null,null,null,null,null,null,null,null,0]
["D2","   Private Bonds",null,"x",null,null,null,null,null,null,null,null,0]
["D22","               Large Corporate",null,"x",null,null,null,null,null,null,null,null,0]
["D21","               SMEs",null,"x",null,null,null,null,null,null,null,null,0]
["D24","               Public and Others",null,"x",null,null,null,null,null,null,null,null,0]
["D3","   CP(Including Guaranteed Bills)",null,"x",null,null,null,null,null,null,null,null,0]
["D32","               Large Corporate",null,"x",null,null,null,null,null,null,null,null,{"$f":"SUM(I78:L78)+C78","v":0}]
["D31","               SMEs",null,"x",null,null,null,null,null,null,null,null,0]
["D34","               Public and Others",null,"x",null,null,null,null,null,null,null,null,0]
["E","Merchant Banking Loans",null,"x",null,null,null,null,null,null,null,null,0]
["E1","   Loan Receivables",null,"x",null,null,null,null,null,null,null,null,0]
["E12","               Large Corporate",null,"x",null,null,null,null,null,null,null,null,0]
["E11","               SMEs",null,"x",null,null,null,null,null,null,null,null,0]
["E14","               Public and Others",null,"x",null,null,null,null,null,null,null,null,0]
["E2","   Finance Lease Receivables",null,"x",null,null,null,null,null,null,null,null,0]
["E22","               Large Corporate",null,"x",null,null,null,null,null,null,null,null,0]
["E21","               SMEs",null,"x",null,null,null,null,null,null,null,null,0]
["E24","               Public and Others",null,"x",null,null,null,null,null,null,null,null,0]
["E3","   Confirmed Payment Guarantees",null,"x",null,null,null,null,null,null,null,null,0]
["E32","               Large Corporate",null,"x",null,null,null,null,null,null,null,null,0]
["E31","               SMEs",null,"x",null,null,null,null,null,null,null,null,0]
["E34","               Public and Others",null,"x",null,null,null,null,null,null,null,null,0]
["F","Total Loans Subject to Non-Performing Loan Calculation (C + D + E)",{"$f":"+C11+C65","v":{"$error":"#VALUE!"}},"x",null,null,null,null,{"$f":"+I11+I65","v":{"$error":"#VALUE!"}},0,{"$f":"+K11+K65","v":0},{"$f":"+L11+L65","v":0},{"$error":"#VALUE!"}]
["F1","   Coporate Loans",{"$f":"+C94-C100-C101","v":{"$error":"#VALUE!"}},"F value among industry codes under ZXCRGR 3","G value among industry codes under ZXCRGR 3","H value among industry codes under ZXCRGR 3","L value among industry codes under ZXCRGR 3","Industry codes excluding F, G, H, and L under ZXCRGR 3",{"$f":"+I94-I100-I101","v":{"$error":"#VALUE!"}},0,0,0,{"$error":"#VALUE!"},null,{"$f":"IF(ABS(P95-C95)<2,\"OK\",\"Check\")","v":{"$error":"#VALUE!"}},{"$f":"SUM(D95:H95)","v":0}]
["F11","      Large Corporate Loans",{"$f":"+C15+C23+C35+C49+C60","v":{"$error":"#VALUE!"}},"x",null,null,null,null,{"$f":"+I15+I23+I35+I49+I60","v":{"$error":"#VALUE!"}},0,0,0,{"$error":"#VALUE!"}]
["F12","      중소기업여신",{"$f":"+C61+C56+C50+C46+C36+C30+C24+C16","v":{"$error":"#VALUE!"}},"x",null,null,null,null,{"$f":"+I61+I56+I50+I46+I36+I30+I24+I16","v":{"$error":"#VALUE!"}},0,0,0,{"$error":"#VALUE!"}]
["F121","           (Individual Business Loans)",{"$f":"+C62+C51+C37+C31+C25+C17","v":0},"x",null,null,null,null,{"$f":"+I62+I51+I37+I31+I25+I17","v":0},0,0,0,0]
["F13","      Corporate Credit Card Receivables",null,null,null,null,null,null,null,null,null,null,0]
["F2","   Household Loans",{"$f":"+C18+C58","v":0},"x",null,null,null,null,{"$f":"+I18+I58","v":0},0,0,0,0]
["F3","   Public and Other Loans",{"$f":"+C27+C33+C39+C53+C64","v":{"$error":"#VALUE!"}},null,null,null,null,null,{"$f":"+I27+I33+I39+I53+I64","v":{"$error":"#VALUE!"}},0,0,0,{"$error":"#VALUE!"}]
["F31","      Public and Other Credit Card Receivables",null,null,null,null,null,null,null,null,null,null,0]
["G","Other Loan-Related Assets",{"$f":"SUM(C104:C106)","v":0},"x",null,null,null,null,{"$f":"SUM(I104:I106)","v":0},0,0,0,0]
["G1","   Call Loans",0,"x",null,null,null,null,0,null,null,null,0,null,{"$f":"IF(ABS(P104-M104)<2,\"OK\",\"Check\")","v":"OK"},{"$f":"ROUND((0+0),5)","v":0}]
["G2","   Repurchase Agreements (RP) Purchases",0,"x",null,null,null,null,0,null,null,null,0,null,{"$f":"IF(ABS(P105-M105)<2,\"OK\",\"Check\")","v":"OK"},{"$f":"ROUND((0),5)","v":0}]
["G3","   Others : Loan-related Advance Payments, Other Receivables, Accrued Interest Receivables","2) CIL / LAI / PNP / YBZ / BDU Accrued Interest TOTAL (ZXCRGR 3 or higher)\n4) RBU / SBN / SXX total & RBU / SBN / SXX / XBZ / LAE Accrued Interest","x",null,null,null,null,"2) CIL / LAI / PNP / YBZ / BDU Accrued Interest TOTAL (ZXCRGR 4)\n4) RBU / SBN / SXX total & RBU / SBN / SXX / XBZ / LAE Accrued Interest",null,null,null,{"$error":"#VALUE!"},null,{"$f":"IF(ABS(P106-M106)<2,\"OK\",\"Check\")","v":{"$error":"#VALUE!"}},{"$f":"ROUND((0+0+0),5)","v":0}]
["H","Total Loans Subject to Asset Quality Classification (F + G)",{"$f":"+C103+C94","v":{"$error":"#VALUE!"}},"x",null,null,null,null,{"$f":"+I103+I94","v":{"$error":"#VALUE!"}},0,0,0,{"$error":"#VALUE!"}]
["I","Other Assets Subject to Credit Quality Classification : Unconfirmed Payment Gaurantees, Unused Credit Lines, Deposits","2) DC / DPC TOTAL (ZXCRGR 3 or higher) + Unused Commitment Value","x",null,null,null,null,"2) DC / DPC TOTAL (ZXCRGR 4) + Unused Commitment Value",null,null,null,{"$error":"#VALUE!"},null,{"$f":"IF(ABS(P108-M108)<2,\"OK\",\"Check\")","v":{"$error":"#VALUE!"}},{"$f":"ROUND((0+0),5)","v":0}]
[null,null,"Note: Update “Other Classified Assets” accordingly when the deposit balance changes."]
[]
[]
[]
[]
[]
["Contact : (Sound Management Supervision Team)General Banking Department"]
[]
["[ Preparation Guidelines ]"]
[]
["1. Refer to the “Credit Soundness Classification Preparation Standard” based on post-adjustment figures for each item."]
[]
["2. Reclassify “Corporate Loans (F1)”, “Household Loans (F2)”, and “Public and Other Loans (F3)” from “Total Non-performing Loans Subject to Assessment (C+D+E)”, including credit card receivables."]
[]
["3. Reclassify “Large Corporate Loans (F11)”, “SME Loans (F12)”, and “Individual Business Loans (F121)” from “Corporate Loans (F1)”, excluding corporate credit card receivables (C151, F13)."]
[]
["4. SME classification shall follow the number of regular employees, capital, or sales criteria as defined in the Framework Act on Small and Medium Enterprises and its Enforcement Decree."]
[]
["5. “Industry-specific amounts” should be recorded only for “Corporate Loans (F1)”, “Corporate Credit Card Receivables (F13)”, “Public and Other Loans (F3)”, and “Public and Other Credit Card Receivables (F31)”."]
[]
["6. Industry classification shall follow the “Korean Standard Industrial Classification (KSIC)” announced by Statistics Korea."]
[]
[]
[]
[]
[]
[]
[]
[]
["Credit Soundness Classification Preparation Standards"]
[]
[]
["Category",null,"Asset/Liability Items"]
["C","Bank Account Loans","Loan Receivables (C1), Commercial Papers including Guaranteed Notes (C2), Other Loans (C3), Confirmed Payment Guarantees (C4)"]
["C1","Loan Receivables","KRW Loans (C11), Foreign Currency Loans (C12), Payment Guarantees (C13), Purchased Foreign Exchange (C14), Credit Card Receivables (C15), Private Bonds (C16), Others (C17)"]
[]
["C11","KRW Loans (Excluding Interbank Loans)","Bank Account KRW Loans (Excluding Interbank Loans)"]
["C111","Corporate Loans","Bank Account Corporate Loans"]
["C112","Household Loans","Bank Account Household Loans, National Housing Fund Loans, Reinstatement Savings Fund Loans, Reinstatement Payment Funds"]
["C1121","(Mortgage Loans)","Mortgage Loans and Housing Finance Loans within Household Loans"]
["C1122","(Credit Loans)","Credit Loans within Household Loans"]
["C113","Public & Other Loans","Bank Account Public & Other Loans, Concessional Loans, etc."]
["C12","Foreign Currency Loans","Bank Account Foreign Currency Loans, Foreign Borrowings, Offshore Foreign Loans, Domestic Import Usances"]
["C13","Payment Guarantees","Bank Account Payment Guarantees"]
["C14","Purchased Foreign Exchange","Bank Account Purchased Foreign Exchange, Purchased Bills"]
["C15","Credit Card Receivables","Bank Account Credit Card Receivables (classified by user type: Individual, Corporate, Public & Others)"]
["C16","Private Bonds","Bank Account Private Bonds"]
["C17","Others","Debit Card Receivables (Foreign Currency), Factoring Receivables, Equity Conversion Bonds (from Debt Restructuring)"]
["C2","Commercial Papers (Including Guaranteed Notes)","Bank Account Commercial Papers & Guaranteed Notes"]
["C3","Other Loans","Bank Account Loans in the Nature of Advances"]
["C4","Confirmed Payment Guarantees","Off-Balance Sheet Confirmed Payment Guarantees under Bank Account"]
["D","Trust Account Loans","Trust Loans (D1), Private Bonds (D2), CP incl. Guaranteed Notes (D3)"]
["D1","Trust Loans","Trust Account Loans"]
["D2","Private Bonds","Private Bonds under Trust Account Securities"]
["D3","CP (Including Guaranteed Notes)","Corporate Promissory Notes & Guaranteed Notes under Trust Account"]
["E","Merchant Banking Loans","Loan Receivables (E1), Finance Lease Receivables (E2), Confirmed Payment Guarantees (E3)"]
["E1","Loan Receivables","Discounted Bills, Discounted Trade Bills, Factoring Bills, CMA Managed Assets, Overdue Bills, Managed Bills, Payment Guarantees"]
[]
["E2","Finance Lease Receivables","Finance Lease Receivables & Prepayments under Merchant Banking Account"]
["E3","Confirmed Payment Guarantees","Confirmed Payment Guarantees under Merchant Banking Account"]
["G","Other Credit-related Assets","Call Loans (G1), Repurchase Agreements (G2), Others (G3)"]
["G1","Call Loans","Call Loans under Bank Account & Trust Account"]
["G2","Repurchase Agreements","Repurchase Agreements under Bank Account & Trust Account"]
["G3","Others","Interbank Loans, Other Advances, Other Receivables, Accrued Interest (Bank Account); Operating Lease Assets incl. Depreciation, Lease Prepayments, Receivables, Accrued Interest (Merchant Banking)"]
[]
["I","Other Classified Assets","Endorsed Notes, Unconfirmed Payment Guarantees, Unused Commitments — amounts independently classified as soundness-related by the bank (including principal & interest-protected trusts)"]

{"sheet":"B2403","index":7,"n_rows":94,"n_cols":54,"rows_kept":94,"cut":false,"hidden":false,"merged":[[8,11,10,11],[8,12,10,12],[9,3,9,7],[8,0,10,0],[8,1,10,1],[8,2,8,7],[8,8,10,8],[8,9,10,9],[8,10,10,10]]}
["여신종별 대손충당금 설정현황(B2403)(개정)",null,null,null,null,null,null,null,null,null,null,null,"[작성주기 : 분기]",null,null,null,null,null,null,null,null,null,null,null,null,null,null,null,null,null,null,null,null,null,null,null,null,null,null,null,null,null,null,null,null,null,null,null,null,null,null,null,"MDS VALIDATE",{"$f":"COUNTIF(O12:O80,\"Check\")","v":0}]
[]
[null,null,null,"4) XBZ/LAE 조건 동일"]
[]
[null,null,"GTE","APG/CGA/CGB/CGC/CGI/CGJ/GOV/LEG/PEB/REB/TEB",null,"       대기업","size of turnover: 2"]
[null,"CIL/LAI/PNP/YBZ/BDU","EXP 매입외환","ABD/BAC/BAP/BPC/BPP/FOT/NRD/OAE/OBC/REN",null,"       중소기업","size of turnover: 1"]
[]
[null,null,null,null,null,null,null,null,null,null,null,null,"(단위 : 백만원)"]
["코  드","코 드 명","정상 (ZXCRGR 3이상)",null,null,null,null,null,"요주의 (ZXCRGR 4)","고정","회수의문","추정손실","총여신"]
[null,null,null,"업종별 금액"]
[null,null,null,"F_건설업","G_도매 및 소매업","H_숙박 및 음식점업","L_부동산업","기타 업종",null,null,null,null,null,null,"Check","Control Value"]
["C","은행계정 여신",{"$f":"+C13+C41+C43+C44","v":{"$error":"#VALUE!"}},{"$f":"+D13+D41+D43+D44","v":{"$error":"#VALUE!"}},{"$f":"+E13+E41+E43+E44","v":{"$error":"#VALUE!"}},{"$error":"#VALUE!"},{"$error":"#VALUE!"},{"$f":"+H13+H41+H43+H44","v":{"$error":"#VALUE!"}},{"$f":"+I13+I41+I43+I44","v":{"$error":"#VALUE!"}},0,0,{"$f":"+L13+L41+L43+L44","v":0},{"$f":"SUM(I12:L12)+C12","v":{"$error":"#VALUE!"}},null,{"$f":"IF(ABS(P12-M12)<2,\"OK\",\"Check\")","v":{"$error":"#VALUE!"}},{"$f":"ROUND(((523387-0-0-0+0)/1000000),5)","v":0.52339000000000002}]
["C1","   대출채권",{"$f":"+C14+C23+C26+C29+C32+C36+C38","v":{"$error":"#VALUE!"}},{"$f":"+D14+D23+D26+D29+D32+D36+D38","v":{"$error":"#VALUE!"}},{"$error":"#VALUE!"},{"$error":"#VALUE!"},{"$error":"#VALUE!"},{"$error":"#VALUE!"},{"$error":"#VALUE!"},{"$f":"+J14+J23+J26+J29+J32+J36+J38","v":0},{"$f":"+K14+K23+K26+K29+K32+K36+K38","v":0},0,{"$f":"SUM(I13:L13)+C13","v":{"$error":"#VALUE!"}}]
["C11","      원화대출금(은행간대여금제외)",{"$f":"+C15+C19+C22","v":0},0,0,0,0,0,0,0,{"$f":"+K15+K19+K22","v":0},0,0]
["C111","         기업자금대출금",null,null,null,null,null,null,null,null,null,null,0]
["C1111","               대기업대출금_size of turnover: 2",{"$f":"D16+E16+F16+G16+H16","v":{"$error":"#VALUE!"}},"1) OAV KRW Industry code F_  IFRS 충당금(ZXCRGR 3이상) \n2) LAI KRW Industry code F_  IFRS 충당금(ZXCRGR 3이상)\n4) XBZ/LAE 조건 동일","1) OAV KRW Industry code G_  IFRS 충당금(ZXCRGR 3이상) \n2) LAI KRW Industry code G_  IFRS 충당금(ZXCRGR 3이상)\n4) XBZ/LAE 조건 동일","1) OAV KRW Industry code H_  IFRS 충당금(ZXCRGR 3이상) \n2) LAI KRW Industry code H_  IFRS 충당금(ZXCRGR 3이상)\n4) XBZ/LAE 조건 동일","1) OAV KRW Industry code L_  IFRS 충당금(ZXCRGR 3이상) \n2) LAI KRW Industry code L_  IFRS 충당금(ZXCRGR 3이상)\n4) XBZ/LAE 조건 동일","1) OAV KRW Industry code F/G/H/L  제외 나머지_  IFRS 충당금(ZXCRGR 3이상) \n2) LAI KRW Industry code F/G/H/L  제외 나머지_  IFRS 충당금(ZXCRGR 3이상)\n4) XBZ/LAE 조건 동일","1) OAV KRW IFRS 충당금 TOTAL (ZXCRGR 4)\n2) LAI KRW IFRS 충당금 TOTAL (ZXCRGR 4)\n4) XBZ/LAE 조건 동일",null,null,null,{"$error":"#VALUE!"}]
["C1112","               중소기업대출금_size of turnover: 1",{"$f":"D17+E17+F17+G17+H17","v":{"$error":"#VALUE!"}},"1) OAV KRW Industry code F_  IFRS 충당금(ZXCRGR 3이상) \n2) LAI KRW Industry code F_  IFRS 충당금(ZXCRGR 3이상)\n4) XBZ/LAE 조건 동일","1) OAV KRW Industry code G_  IFRS 충당금(ZXCRGR 3이상) \n2) LAI KRW Industry code G_  IFRS 충당금(ZXCRGR 3이상)\n4) XBZ/LAE 조건 동일","1) OAV KRW Industry code H_  IFRS 충당금(ZXCRGR 3이상) \n2) LAI KRW Industry code H_  IFRS 충당금(ZXCRGR 3이상)\n4) XBZ/LAE 조건 동일","1) OAV KRW Industry code L_  IFRS 충당금(ZXCRGR 3이상) \n2) LAI KRW Industry code L_  IFRS 충당금(ZXCRGR 3이상)\n4) XBZ/LAE 조건 동일","1) OAV KRW Industry code F/G/H/L  제외 나머지_  IFRS 충당금(ZXCRGR 3이상) \n2) LAI KRW Industry code F/G/H/L  제외 나머지_  IFRS 충당금(ZXCRGR 3이상)\n4) XBZ/LAE 조건 동일","1) OAV KRW IFRS 충당금 TOTAL (ZXCRGR 4)\n2) LAI KRW IFRS 충당금 TOTAL (ZXCRGR 4)\n4) XBZ/LAE 조건 동일",null,null,null,{"$error":"#VALUE!"},null,null,null,"* 결과값을 백만 단위로 보고"]
["C11121","                      (개인사업자)",0,null,null,null,null,null,null,null,null,null,0,null,null,"정상","(ZXCRGR 3이상)"]
["C112","         가계자금대출금",null,null,null,null,null,null,null,null,null,null,0,null,null,"요주의","(ZXCRGR 4)"]
["C1121","               (주택담보대출)",null,null,null,null,null,null,null,null,null,null,0,null,null,"       대기업","size of turnover: 2"]
["C1122","               (신용대출)",null,null,null,null,null,null,null,null,null,null,0,null,null,"       중소기업","size of turnover: 1"]
["C113","         공공 및 기타자금대출금",null,null,null,null,null,null,null,null,null,null,0]
["C12","      외화대출금_size of turnover: 2",{"$f":"D23+E23+F23+G23+H23","v":{"$error":"#VALUE!"}},"1) OAV/OAM FCY Industry code F_ IFRS 충당금(ZXCRGR 3이상) \n2) BDU/CIL/PNP/LAI/YBZ FCY Industry code F_  IFRS 충당금(ZXCRGR 3이상)\n4) XBZ/LAE 조건 동일","1) OAV KRW 이외 Industry code G_ IFRS 충당금(ZXCRGR 3이상) \n2) BDU/CIL/PNP/LAI/YBZ KRW 이외 Industry code G_  IFRS 충당금(ZXCRGR 3이상)\n4) XBZ/LAE 조건 동일","1) OAV KRW 이외 Industry code H_ IFRS 충당금(ZXCRGR 3이상) \n2) BDU/CIL/PNP/LAI/YBZ KRW 이외 Industry code H_  IFRS 충당금(ZXCRGR 3이상)\n4) XBZ/LAE 조건 동일","1) OAV KRW 이외 Industry code L_ IFRS 충당금(ZXCRGR 3이상) \n2) BDU/CIL/PNP/LAI/YBZ KRW 이외 Industry code L_  IFRS 충당금(ZXCRGR 3이상)\n4) XBZ/LAE 조건 동일","1) OAV KRW 이외 Industry code F/G/H/L/ 이외_ IFRS 충당금(ZXCRGR 3이상) \n2) BDU/CIL/PNP/LAI/YBZ KRW 이외 Industry code F/G/H/L/이외_  IFRS 충당금(ZXCRGR 3이상)\n4) XBZ/LAE 조건 동일","1) OAV KRW 이외 IFRS 충당금 TOTAL (ZXCRGR 4)\n2) CIL/LAI/PNP/YBZ/BDU KRW 이외 IFRS 충당금 TOTAL (ZXCRGR 4)\n4) XBZ/LAE 조건 동일",null,null,null,{"$error":"#VALUE!"}]
["C121","               (중소기업)_size of turnover: 1",{"$f":"D24+E24+F24+G24+H24","v":{"$error":"#VALUE!"}},"1) OAV KRW 이외 Industry code F_ IFRS 충당금(ZXCRGR 3이상) \n2) BDU/CIL/PNP/LAI/YBZ KRW 이외 Industry code F_  IFRS 충당금(ZXCRGR 3이상)\n4) XBZ/LAE 조건 동일","1) OAV KRW 이외 Industry code G_ IFRS 충당금(ZXCRGR 3이상) \n2) BDU/CIL/PNP/LAI/YBZ KRW 이외 Industry code G_  IFRS 충당금(ZXCRGR 3이상)\n4) XBZ/LAE 조건 동일","1) OAV KRW 이외 Industry code H_ IFRS 충당금(ZXCRGR 3이상) \n2) BDU/CIL/PNP/LAI/YBZ KRW 이외 Industry code H_  IFRS 충당금(ZXCRGR 3이상)\n4) XBZ/LAE 조건 동일","1) OAV KRW 이외 Industry code L_ IFRS 충당금(ZXCRGR 3이상) \n2) BDU/CIL/PNP/LAI/YBZ KRW 이외 Industry code L_  IFRS 충당금(ZXCRGR 3이상)\n4) XBZ/LAE 조건 동일","1) OAV KRW 이외 Industry code F/G/H/L/ 이외_ IFRS 충당금(ZXCRGR 3이상) \n2) BDU/CIL/PNP/LAI/YBZ KRW 이외 Industry code F/G/H/L/이외_  IFRS 충당금(ZXCRGR 3이상)\n4) XBZ/LAE 조건 동일","1) OAV KRW 이외 IFRS 충당금 TOTAL (ZXCRGR 4)\n2) CIL/LAI/PNP/YBZ/BDU KRW 이외 IFRS 충당금 TOTAL (ZXCRGR 4)\n4) XBZ/LAE 조건 동일",null,null,null,{"$error":"#VALUE!"}]
["C1211","                      (개인사업자)",null,null,null,null,null,null,null,null,null,null,0]
["C13","      지급보증대지급금",null,null,null,null,null,null,null,null,null,null,0]
["C131","               (중소기업)",null,null,null,null,null,null,null,null,null,null,0]
["C1311","                      (개인사업자)",null,null,null,null,null,null,null,null,null,null,0]
["C14","      매입외환_size of turnover: 2",{"$f":"D29+E29+F29+G29+H29","v":{"$error":"#VALUE!"}},"4) EXP 매입외환 Industry code F_ \n IFRS 충당금(ZXCRGR 3이상) ","4) EXP 매입외환 Industry code G_ \n IFRS 충당금(ZXCRGR 3이상) ","4) EXP 매입외환 Industry code H_ \n IFRS 충당금(ZXCRGR 3이상) ","4) EXP 매입외환 Industry code L_ \n IFRS 충당금(ZXCRGR 3이상) ","4) EXP 매입외환 Industry code F/G/H/L 외_ \n IFRS 충당금(ZXCRGR 3이상) ","4) EXP 매입외환 IFRS 충당금(ZXCRGR 4) ",null,null,null,{"$error":"#VALUE!"}]
["C141","               (중소기업)_size of turnover: 1",{"$f":"D30+E30+F30+G30+H30","v":{"$error":"#VALUE!"}},"4) EXP 매입외환 Industry code F_ \n IFRS 충당금(ZXCRGR 3이상) ","4) EXP 매입외환 Industry code G_ \n IFRS 충당금(ZXCRGR 3이상) ","4) EXP 매입외환 Industry code H_ \n IFRS 충당금(ZXCRGR 3이상) ","4) EXP 매입외환 Industry code L_ \n IFRS 충당금(ZXCRGR 3이상) ","4) EXP 매입외환 Industry code F/G/H/L 외_ \n IFRS 충당금(ZXCRGR 3이상) ","4) EXP 매입외환 IFRS 충당금(ZXCRGR 4) ",null,null,null,{"$error":"#VALUE!"}]
["C1411","                      (개인사업자)",null,null,null,null,null,null,null,null,null,null,0]
["C15","      신용카드채권",null,null,null,null,null,null,null,null,null,null,0]
["C151","         기업",null,null,null,null,null,null,null,null,null,null,0]
["C152","         가계",null,null,null,null,null,null,null,null,null,null,0]
["C153","         공공 및 기타",null,null,null,null,null,null,null,null,null,null,0]
["C16","      사모사채",null,null,null,null,null,null,null,null,null,null,0]
["C161","               (중소기업)",null,null,null,null,null,null,null,null,null,null,0]
["C17","      기타_size of turnover: 2",{"$f":"D38+E38+F38+G38+H38","v":{"$error":"#VALUE!"}},"4) RFI/RFE/RFP Industry code F_ \n IFRS 충당금(ZXCRGR 3이상) ","4) RFI/RFE/RFP Industry code G_ \n IFRS 충당금(ZXCRGR 3이상) ","4) RFI/RFE/RFP Industry code H_ \n IFRS 충당금(ZXCRGR 3이상) ","4) RFI/RFE/RFP Industry code L_ \n IFRS 충당금(ZXCRGR 3이상) ","4) RFI/RFE/RFP Industry code F/G/H/L외_ \n IFRS 충당금(ZXCRGR 3이상) ","4) RFI/RFE/RFP_ \n IFRS 충당금(ZXCRGR 4) ",null,null,null,{"$error":"#VALUE!"}]
["C171","               (중소기업)_size of turnover: 1",{"$f":"D39+E39+F39+G39+H39","v":{"$error":"#VALUE!"}},"4) RFI/RFE/RFP Industry code F_ \n IFRS 충당금(ZXCRGR 3이상) ","4) RFI/RFE/RFP Industry code G_ \n IFRS 충당금(ZXCRGR 3이상) ","4) RFI/RFE/RFP Industry code H_ \n IFRS 충당금(ZXCRGR 3이상) ","4) RFI/RFE/RFP Industry code L_ \n IFRS 충당금(ZXCRGR 3이상) ","4) RFI/RFE/RFP Industry code F/G/H/L외_ \n IFRS 충당금(ZXCRGR 3이상) ","4) RFI/RFE/RFP_ \n IFRS 충당금(ZXCRGR 4) ",null,null,null,{"$error":"#VALUE!"}]
["C1711","                      (개인사업자)",null,null,null,null,null,null,null,null,null,null,0]
["C2","   유가증권중 CP(보증어음 포함)",null,null,null,null,null,null,null,null,null,null,0]
["C21","               (중소기업)",null,null,null,null,null,null,null,null,null,null,0]
["C3","   기타채권",null,null,null,null,null,null,null,null,null,null,0]
["C4","   확정지급보증_size of turnover: 2",{"$f":"D44+E44+F44+G44+H44","v":{"$error":"#VALUE!"}},"3) GTE 값 중 Industry code F_ \nIFRS 충당금(ZXCRGR 3이상) ","3) GTE 값 중 Industry code G_ \nIFRS 충당금(ZXCRGR 3이상) ","3) GTE 값 중 Industry code H_ \nIFRS 충당금(ZXCRGR 3이상) ","3) GTE 값 중 Industry code L_ \nIFRS 충당금(ZXCRGR 3이상) ","3) GTE 값 중 Industry code F/G/H/L 제외 \n나머지_IFRS 충당금(ZXCRGR 3이상) ","3) GTE 값 중 IFRS 충당금(ZXCRGR 4) ",null,null,null,{"$error":"#VALUE!"},null,{"$f":"IF(ABS(P44-M44)<2,\"OK\",\"Check\")","v":{"$error":"#VALUE!"}},0]
["C41","               (중소기업)_size of turnover: 1",{"$f":"D45+E45+F45+G45+H45","v":{"$error":"#VALUE!"}},"3) GTE 값 중 Industry code F_ \nIFRS 충당금(ZXCRGR 3이상) ","3) GTE 값 중 Industry code G_ \nIFRS 충당금(ZXCRGR 3이상) ","3) GTE 값 중 Industry code H_ \nIFRS 충당금(ZXCRGR 3이상) ","3) GTE 값 중 Industry code L_ \nIFRS 충당금(ZXCRGR 3이상) ","3) GTE 값 중 Industry code F/G/H/L 제외 \n나머지_IFRS 충당금(ZXCRGR 3이상) ","3) GTE 값 중 IFRS 충당금(ZXCRGR 4) ",null,null,null,{"$error":"#VALUE!"}]
["C411","                      (개인사업자)",null,null,null,null,null,null,null,null,null,null,0]
["D","신탁계정 여신",null,null,null,null,null,null,null,null,null,null,0]
["D1","   신탁대출금",null,null,null,null,null,null,null,null,null,null,0]
["D121","      기업자금대출금",null,null,null,null,null,null,null,null,null,null,0]
["D1211","               대기업대출금",null,null,null,null,null,null,null,null,null,null,0]
["D1212","               중소기업대출금",null,null,null,null,null,null,null,null,null,null,0]
["D12121","                      (개인사업자)",null,null,null,null,null,null,null,null,null,null,0]
["D122","      가계자금대출금",null,null,null,null,null,null,null,null,null,null,0]
["D123","      공공 및 기타자금대출금",null,null,null,null,null,null,null,null,null,null,0]
["D2","   사모사채",null,null,null,null,null,null,null,null,null,null,0]
["D21","               (중소기업)",null,null,null,null,null,null,null,null,null,null,0]
["D3","   CP(보증어음 포함)",null,null,null,null,null,null,null,null,null,null,0]
["D31","               (중소기업)",null,null,null,null,null,null,null,null,null,null,0]
["E","종금계정 여신",null,null,null,null,null,null,null,null,null,null,0]
["E1","   대출채권",null,null,null,null,null,null,null,null,null,null,0]
["E11","               (중소기업)",null,null,null,null,null,null,null,null,null,null,0]
["E2","   금융리스채권",null,null,null,null,null,null,null,null,null,null,0]
["E21","               (중소기업)",null,null,null,null,null,null,null,null,null,null,0]
["E3","   확정지급보증",null,null,null,null,null,null,null,null,null,null,0]
["E31","               (중소기업)",null,null,null,null,null,null,null,null,null,null,0]
["F","무수익여신 산정대상 여신합계(C+D+E)",{"$f":"+C12+C47+C59","v":{"$error":"#VALUE!"}},{"$f":"+D12+D47+D59","v":{"$error":"#VALUE!"}},{"$f":"+E12+E47+E59","v":{"$error":"#VALUE!"}},{"$error":"#VALUE!"},{"$error":"#VALUE!"},{"$f":"+H12+H47+H59","v":{"$error":"#VALUE!"}},{"$f":"+I12+I47+I59","v":{"$error":"#VALUE!"}},0,0,{"$f":"+L12+L47+L59","v":0},{"$error":"#VALUE!"}]
["F1","   기업여신",{"$f":"+C66-C72","v":{"$error":"#VALUE!"}},{"$f":"+D66-D72","v":{"$error":"#VALUE!"}},{"$f":"+E66-E72","v":{"$error":"#VALUE!"}},{"$error":"#VALUE!"},{"$f":"+G66-G72","v":{"$error":"#VALUE!"}},{"$f":"+H66-H72","v":{"$error":"#VALUE!"}},{"$error":"#VALUE!"},0,0,0,{"$error":"#VALUE!"},null,{"$f":"IF(ABS(P67-C67)<2,\"OK\",\"Check\")","v":{"$error":"#VALUE!"}},{"$f":"SUM(D67:H67)","v":{"$error":"#VALUE!"}}]
["F11","      대기업여신",{"$f":"C16+C23-C24+C26-C27+C29-C30+C36-C37+C38-C39+C44-C45","v":{"$error":"#VALUE!"}},{"$f":"+D44-D45+D38-D39+D36-D37+D29-D30+D26-D27+D23-D24+D16","v":{"$error":"#VALUE!"}},{"$f":"+E44-E45+E38-E39+E36-E37+E29-E30+E26-E27+E23-E24+E16","v":{"$error":"#VALUE!"}},{"$f":"+F44-F45+F38-F39+F36-F37+F29-F30+F26-F27+F23-F24+F16","v":{"$error":"#VALUE!"}},{"$error":"#VALUE!"},{"$f":"+H44-H45+H38-H39+H36-H37+H29-H30+H26-H27+H23-H24+H16","v":{"$error":"#VALUE!"}},{"$error":"#VALUE!"},0,0,{"$f":"+L44-L45+L38-L39+L36-L37+L29-L30+L26-L27+L23-L24+L16","v":0},{"$error":"#VALUE!"}]
["F12","      중소기업여신",{"$f":"+C45+C42+C39+C37+C30+C27+C24+C17","v":{"$error":"#VALUE!"}},{"$f":"+D45+D42+D39+D37+D30+D27+D24+D17","v":{"$error":"#VALUE!"}},{"$f":"+E45+E42+E39+E37+E30+E27+E24+E17","v":{"$error":"#VALUE!"}},{"$error":"#VALUE!"},{"$error":"#VALUE!"},{"$f":"+H45+H42+H39+H37+H30+H27+H24+H17","v":{"$error":"#VALUE!"}},{"$error":"#VALUE!"},0,{"$f":"+K45+K42+K39+K37+K30+K27+K24+K17","v":0},{"$f":"+L45+L42+L39+L37+L30+L27+L24+L17","v":0},{"$error":"#VALUE!"}]
["F121","           (개인사업자여신)",{"$f":"+C46+C40+C31+C28+C25+C18","v":0},{"$f":"+D46+D40+D31+D28+D25+D18","v":0},0,0,0,0,0,0,0,0,0]
["F13","      기업신용카드채권",null,null,null,null,null,null,null,null,null,null,0]
["F2","   가계여신",{"$f":"C19+0","v":0},null,null,null,null,null,{"$f":"+I19+I43","v":0},{"$f":"+J19+J43","v":0},{"$f":"+K19+K43","v":0},{"$f":"+L19+L43","v":0},0]
["F3","   공공 및 기타여신",null,null,null,null,null,null,null,null,null,null,0]
["F31","      공공 및 기타 신용카드채권",null,null,null,null,null,null,null,null,null,null,0]
["G","기타여신성채권",{"$f":"C76+C77+C78","v":0},{"$error":"#VALUE!"},{"$error":"#VALUE!"},{"$error":"#VALUE!"},{"$error":"#VALUE!"},{"$error":"#VALUE!"},{"$error":"#VALUE!"},0,0,{"$f":"L76+L77+L78","v":0},{"$error":"#VALUE!"}]
["G1","   콜론",{"$f":"SUM(D76:H76)","v":0},null,null,null,null,null,null,null,null,null,0]
["G2","   환매조건부채권매수",{"$f":"SUM(D77:H77)","v":0},null,null,null,null,null,null,null,null,null,{"$f":"SUM(I77:L77)+C77","v":0}]
["G3","   기타 : 은행간대여금, 기타가지급금, 기타미수금, 미수이자",null,"2) Industry code F_CIL/LAI/PNP/BDU/YBZ 미수이자 충당금\n4) 은행간 대여금/ 미수이자 충당금","2) Industry code G_CIL/LAI/PNP/BDU/YBZ 미수이자 충당금\n4) 은행간 대여금/ 미수이자 충당금","2) Industry code H_CIL/LAI/PNP/BDU/YBZ 미수이자 충당금\n4) 은행간 대여금/ 미수이자 충당금","2) Industry code L_CIL/LAI/PNP/BDU/YBZ 미수이자 충당금\n4) 은행간 대여금/ 미수이자 충당금","2) Industry code F/G/H/L외_CIL/LAI/PNP/BDU/YBZ 미수이자 충당금\n4) 은행간 대여금/ 미수이자 충당금","2) CIL/LAI/PNP/BDU/YBZ 미수이자 충당금_ZXCRGR 4\n4) 은행간 대여금/ 미수이자 충당금_ZXCRGR 4",null,null,null,0,null,{"$f":"IF(ABS(P78-M78)<2,\"OK\",\"Check\")","v":"OK"},{"$f":"ROUND(((0+0+0)/1000000),5)","v":0}]
["H","자산건전성분류대상 여신합계(F+G)",{"$f":"+C66+C75","v":{"$error":"#VALUE!"}},{"$f":"+D66+D75","v":{"$error":"#VALUE!"}},{"$f":"+E66+E75","v":{"$error":"#VALUE!"}},{"$f":"+F66+F75","v":{"$error":"#VALUE!"}},{"$error":"#VALUE!"},{"$f":"+H66+H75","v":{"$error":"#VALUE!"}},{"$f":"+I66+I75","v":{"$error":"#VALUE!"}},{"$f":"+J66+J75","v":0},0,{"$f":"+L66+L75","v":0},{"$error":"#VALUE!"}]
["I","기타건전성 분류 자산 : 미확정지급보증, 미사용약정, 예치금",{"$f":"SUM(D80:H80)+D81","v":0},"2) DC/DPC 충당금 + 미사용약정값 충당금_code F","2) DC/DPC 충당금 + 미사용약정값 충당금_code G","2) DC/DPC 충당금 + 미사용약정값 충당금_code H","2) DC/DPC 충당금 + 미사용약정값 충당금_code L","2) DC/DPC 충당금 + 미사용약정값 충당금_F/G/H/L 제외 ","2) DC/DPC 충당금 + 미사용약정값 충당금(ZXCRGR4)",null,null,null,0,null,{"$f":"IF(ABS(P80-M80)<2,\"OK\",\"Check\")","v":"OK"},{"$f":"ROUND(((0+0)/1000000),5)","v":0}]
[]
["문의처 : (건전경영총괄팀)일반은행국"]
[]
["[ 작성요령 ]"]
[]
["1. 각 항목은 분기말 현재 실제로 적립한 대손충당금, 채권평가충당금 및 지급보증충당금 잔액을 기재"]
[]
["2. \"코드명\"  : \"여신건전성 분류(B2401)\"서식의 작성기준과 일치"]
[]
["3. 중소기업 분류는 '중소기업기본법' 및 동법 시행령에서 정한 업종별 상시근로자수 또는 자본금·매출액 기준을 적용"]
[" "]
["4. \"업종별 금액\"은 \"기업여신(F1)\", \"기업신용카드채권(F13)\", \"공공 및 기타여신(F3)\", \"공공 및 기타 신용카드채권(F31)\"에만 기재 "]
[]
["5. 업종분류는 통계청 고시 \"한국표준산업분류\"에 따름"]

{"sheet":"B2410","index":8,"n_rows":131,"n_cols":21,"rows_kept":131,"cut":false,"hidden":false,"merged":[[7,11,7,12],[8,0,9,0],[8,1,9,1],[8,2,9,2],[8,3,8,8],[8,9,8,12],[8,15,8,16],[10,8,30,8],[10,12,30,12],[32,8,59,8],[32,12,59,12],[61,8,67,8],[61,12,67,12],[70,8,72,8],[70,12,72,12],[8,13,8,14]]}
["여신종별 연체대출채권(B2410)(개정)",null,null,null,null,null,null,null,null,null,null,null,"[작성주기 : 월]"]
[]
[]
["금융기관","HSBC","기   준   월",{"$f":"'[3]B2414-PF'!D3","v":"00:00:00"},null,"전화번호 "]
["작성자소속  수출입부",null,"작성자직위","행원",null,"작성자 성명"]
[]
[]
[null,null,null,null,null,null,null,null,null,null,null,"(단위 : 백만원, 명)"]
["코  드","코 드 명","대출채권\n(말잔,A)","1일 이상 원금 연체기준",null,null,null,null,null,"1개월 이상 원리금 연체기준",null,null,null,"1개월 이상 3개월 미만\n 원리금 연체기준",null,"3개월 이상 \n원리금 연체기준"]
[null,null,null,"연      체\n대출채권\n(말잔,B)","대출채권\n(평잔,C)","연      체\n대출채권\n(평잔,D)","차주수\n(E)","연   체\n차주수\n(F)","계절조정\n연 체 율\n(G)","연      체\n대출채권\n(말잔,H)","연      체\n대출채권\n(평잔,I)","연   체\n차주수\n(J)","계절조정\n연 체 율\n(K)","연      체\n대출채권\n(말잔,H1)","연   체\n차주수\n(J1)","연      체\n대출채권\n(말잔,H2)","연   체\n차주수\n(J2)"]
["A","은행계정 여신",null,null,null,null,null,null,"×",null,null,null,"×"]
["AK","   대출채권"]
["AA","      원화대출금(은행간대여금제외)"]
["AA1","         기업자금대출금",{"$f":"SUM(C15:C16)","v":0},null,"FIN 자료 MANUAL UPDATE"]
["AA11","               대기업 (Size of Turn over_2)","1) OAV KRW TOTAL\n2) LAI KRW TOTAL\n4) XBZ/LAE_KRW"]
["AA12","               중소기업 (Size of Turn over_1)","1) OAV KRW TOTAL\n2) LAI KRW TOTAL\n4) XBZ/LAE_KRW"]
["AA12A","                     (개인사업자)"]
["AA2","         가계자금대출금",null,null,null,null,null,null,null,null,null,null,null,null,null,null,null,null,null,null,"* 결과값을 백만 단위로 보고"]
["AA21","               (주택담보대출)",null,null,null,null,null,null,null,null,null,null,null,null,null,null,null,null,null,"       대기업","size of turnover: 2"]
["AA21A","               (전세자금대출)",null,null,null,null,null,null,null,null,null,null,null,null,null,null,null,null,null,"       중소기업","size of turnover: 1"]
["AA22","               (신용대출)",null,null,null,null,null,null,null,null,null,null,null,null,null,null,null,null,null,"GTE","APG/CGA/CGB/CGC/CGI/CGJ/GOV/LEG/PEB/REB/TEB"]
["AA3","         공공 및 기타자금대출금",null,null,null,null,null,null,null,null,null,null,null,null,null,null,null,null,null,"EXP 매입외환","ABD/BAC/BAP/BPC/BPP/FOT/NRD/OAE/OBC/REN"]
["AB","  외화대출금(대기업) (Size of Turn over_2)","1) OAV KRW 이 외 TOTAL\n2) CIL/PNP/LAI/BDU/YBZ KRW 이 외 TOTAL\n4) XBZ/LAE_USD",null,"FIN 자료 MANUAL UPDATE"]
["AB12","       (중소기업) (Size of Turn over_1)","1) OAV KRW 이 외 TOTAL\n2) CIL/PNP/LAI/BDU/YBZ KRW 이 외 TOTAL\n4) XBZ/LAE_USD"]
["AB12A","                      (개인사업자)"]
["AC","      지급보증대지급금"]
["AC12","               (중소기업)"]
["AC12A","                      (개인사업자)"]
["AL","      매입외환 (Size of Turn over_2)","4) EXP 매입외환",null,"FIN 자료 MANUAL UPDATE"]
["AL12","       (중소기업) (Size of Turn over_1)","4) EXP 매입외환"]
["AL12A","                      (개인사업자)"]
["AF","      신용카드채권"]
["AF1","         기업",null,null,null,null,null,null,"×",null,null,null,"×"]
["AF2","         가계"]
["AF3","         공공 및 기타"]
["AG","      사모사채"]
["AG12","               (중소기업)"]
["AH","      기타 (Size of Turn over_2)","4) RFI/RFE/RFP"]
["AH12","       (중소기업) (Size of Turn over_1)","4) RFI/RFE/RFP"]
["AH12A","                      (개인사업자)"]
["AI","   유가증권중 CP(보증어음 포함)"]
["AI12","               (중소기업)"]
["AJ","   기타채권"]
["B","신탁계정 여신"]
["BA","   신탁대출금"]
["BA1","        기업자금대출금"]
["BA11","               대기업"]
["BA12","               중소기업"]
["BA12A","                     (개인사업자)"]
["BA2","        가계자금대출금"]
["BA3","        공공 및 기타자금대출금"]
["BB","   사모사채"]
["BB12","               (중소기업)"]
["BC","   CP(보증어음 포함)"]
["BC12","               (중소기업)"]
["C","종금계정 여신"]
["CA","   대출채권"]
["CA12","               (중소기업)"]
["CB","   금융리스채권"]
["CB12","               (중소기업)"]
["D","대출채권합계(A+B+C)",{"$f":"SUM(C23,C14,C43)","v":0},{"$f":"SUM(D23,D14,D43)","v":0},0,0,{"$f":"SUM(G23,G14,G43)","v":0},0]
["D1","   기업합계",{"$f":"C63+C68","v":{"$error":"#VALUE!"}},null,{"$f":"E23","v":"FIN 자료 MANUAL UPDATE"},null,null,null,"×",null,null,null,"×"]
["D11","대기업합계 (Size of Turn over_2)","2) CIL/LAI/PNP/BDU/YBZ Foreign CCY - C68"]
["D12","  중소기업합계(Size of Turn over_1)","2) CIL/LAI/PNP/BDU /YBZ Foreign CCY"]
["D12A","         (개인사업자합계)"]
["D13","      기업신용카드채권"]
["D2","   가계합계"]
["D3","   공공 및 기타합계","2) CIL/LAI/PNP/BDU foreign CCY 중 CB classification GMC "]
["FA","원화대출금 및 신탁대출금 합계",null,null,null,null,null,null,"×",null,null,null,"×"]
["FA1","   기업자금대출금(AA1+BA1)",{"$f":"C14+C46+C43","v":0},0,{"$error":"#VALUE!"},0,0,0]
["FA11","      대기업(AA11+BA11)",{"$f":"C15+C47","v":{"$error":"#VALUE!"}},0,0,0,0,0,"×",null,null,null,"×"]
["FA12","      중소기업(AA12+BA12)"]
["FA12A","         (개인사업자)(AA12A+BA12A)"]
["FA2","   가계자금대출금(AA2+BA2)"]
["FA3","   공공 및 기타자금대출금(AA3+BA3)",null,null,null,null,null,null,"×",null,null,null,"×"]
[]
["문의처 : 은행감독국 경영지도팀"]
[]
["[ 작성요령 ]"]
[]
["1. 채권재조정후를 기준으로 작성하고 \"대출채권합계(D)\"의 범위는 무수익여신 산정대상 여신 범위와 일치"]
["    단, 은행 및 종금계정의 확정지급보증은 제외"]
[]
["2. \"기업합계(D1)\", \"가계합계(D2)\", \"공공 및 기타합계(D3)\" : 신용카드채권을 포함한 \"대출채권합계(A+B+C)\"를 재분류"]
[]
["3. \"대기업합계(D11)\", \"중소기업합계(D12)\", \"개인사업자합계(D12A)\" : \"기업합계(D1)\" 중 기업신용카드채권(AF1,D13)을 제외한 금액을 재분류"]
[]
["4. 1일 이상 원금 연체 기준"]
["   - 대출채권의 원금(분할상환금 포함)이 약정기일에 상환되지 않은 경우 동 원금을 연체대출채권으로 산정하되 다음 각항의 1에 해당하는 경우를 포함"]
["       가. 약정기일 이내라도 이자가 납입되지 아니한 사유 등으로 기한의 이익을 상실한 대출채권"]
["            예) 기업자금대출금 : 이자연체기일 14일 초과"]
["                 가계자금대출금 : 이자연체기일 1개월 초과"]
["       나. 분할상환기일에 상환되지 아니한 분할상환채권"]
["       다. 지급보증대지급금"]
["       라. 개설은행 등으로부터 입금 또는 인수통보가 없는 매입외환(익영업일을 기준으로 연체기일 산정)"]
["            예)  ① 일람부 수출환어음 : 매입일로부터 60일까지 입금되지 아니한 경우"]
["                  ② 기한부 수출환어음 : 매입일로부터 60일까지 인수통지가 없거나 확정만기일로부터 60일까지 입금되지 아니한 경우"]
["                  ③ 상대은행으로부터 부도통보와 함께 선적서류가 반송되어 해당 선적서류를 접수한 경우"]
["                  ④ 전항에도 불구하고 개설은행 또는 지급은행 등으로부터 지급통지서(payment advice) 등을 받았으나 60일까지 입금"]
["                      (통할점 접수일 기준)되지 아니한 경우"]
["   - 다음의 경우에는 연체대출채권에서 제외"]
["       가. 러시아관련 대출금중 우리나라 정부 보증분"]
["       나. 여신성가지급금"]
[]
["5. 1개월 이상 원리금 연체 기준"]
["    -  이자 또는 원금 중 하나라도 약정기일에 상환되지 않은 경우 원금전체를 연체대출채권으로 산정하되 다음 각항의 1에 해당하는 경우를 포함"]
["       가. 이자 또는 분할상환금의 상환지체 이외의 사유로 인해 기한의 이익을 상실한 대출채권"]
["       나. 한도금액을 초과한 한도거래 대출채권"]
["       다. 지급보증대지급금"]
["       라. (4조의 라항과 같음)"]
["    - 다음의 경우에는 연체대출채권에서 제외"]
["       가. 러시아관련 대출금중 우리나라 정부 보증분"]
["       나. 여신성가지급금"]
["       다. 연체기간 1개월 미만 연체대출채권"]
[]
["6. 채권재조정에 따라 재조정(면제, 유예 등)된 채권은 재조정시점(예 : ①법정관리, 화의의 경우 인가시점 ②워크아웃의 경우 MOU체결시점)을"]
["    기준으로 새롭게 연체기준을 적용"]
[]
["7. \"코드명\" : \"여신건전성 분류(B2401)\"서식의 코드별 작성기준과 일치"]
[]
["8. 중소기업 분류는 '중소기업기본법' 및 동법 시행령에서 정한 업종별 상시근로자수 또는 자본금·매출액 기준을 적용"]
[]
["9. 대출채권(평잔) : 해당월중 일별 대출채권 누적액/해당월중 일수"]
[]
["10. 연체대출채권(평잔) : 해당월중 일별 연체대출채권 누적액/해당월중 일수"]
[]
["11. 대출채권합계의 대출차주수 : 각 계정과목 대출차주수의 단순 합계"]
[]
["12. 계절조정연체율 산정방법은 은행업감독규정 시행세칙 별표 7 계량지표의 산정기준중 2. 자산건전성지표 중 마. 연체대출채권비율 참조"]
[]
["□ 시행일 : 2007년 1월말 기준 보고시 부터"]

{"sheet":"B2414","index":9,"n_rows":61,"n_cols":42,"rows_kept":61,"cut":false,"hidden":false,"merged":[[6,15,7,15],[6,0,8,0],[6,1,8,1],[6,2,7,2],[6,3,7,3],[6,4,7,4],[6,5,7,6],[6,7,6,10],[6,11,7,11],[6,12,7,12],[6,13,7,13],[6,14,7,14],[6,26,7,27],[6,28,7,29],[7,23,8,23],[6,16,7,16],[6,17,7,17],[6,18,7,18],[6,19,7,20],[6,21,6,24],[6,25,7,25]]}
["담보별 대출금현황(B2414)(개정)",null,null,null,null,null,null,null,null,null,null,null,null,null,null,null,null,null,null,null,null,null,null,null,null,null,null,null,null,"[작성주기 : 월]"]
[]
["금융기관","HSBC","기   준   월",null,null,null,"전화번호 "]
["작성자소속","수출입부","작성자직위","행원",null,null,"작성자 성명 "]
[null,null,null,null,null,null,null,null,null,null,null,null,null,null,null,null,"(단위: 백만원)"]
[]
["코드","코 드 명","원화대출금","가계자금\n대출","기업자금\n대출","대기업대출(K)",null,"중소기업대출(L)",null,null,null,"공공 및\n기타자금대출 ","국내\n외화대출","지급보증\n대지급금 ","해외지점\n외화대출","확정\n지급보증","합     계","신탁대출금","신탁대출금 중 \n기업자금대출금","대기업대출(N)",null,"중소기업대출(O)",null,null,null,"회사채\n보유액","대기업(Q)",null,"중소기업(R)"]
[null,null,null,null,null,null,null,null,null,"개인사업자 (L11)",null,null,null,null,null,null,null,null,null,null,null,null,null,"개인사업자(O11)"]
[null,null,"(A=B+C+D)","(B)","(C=K+L)",null,"우량기업(K1)",null,"우량기업(L1)",null,"우량기업(L111)","(D)","(E)","(F)","(G)","(H)","(I=A+E+F+G+H)","(J)","(M=N+O)",null,"우량기업(N1)",null,"우량기업(L1)",null,"우량기업(O111)","(P=Q+R)",null,"우량기업(Q1)",null,"우량기업(R1)"]
["A","담보"]
["A1","  동산 및 부동산"]
["A11","    부동산"]
["A111","      주택"]
["A112","      기타부동산",null,null,null,null,null,null,null,null,null,null,null,null,null,null,0]
["A12","    동산"]
["A2","  유가증권 및 채권"]
["A21","    국·공채",null,null,null,null,null,null,null,null,null,null,null,null,null,null,null,null,null,null,null,null,null,null,null,null,null,null,null,null,null,null,null,null,null,null,null,null,null,null,"GTE","APG/CGA/CGB/CGC/CGI/CGJ/GOV/LEG/PEB/REB/TEB"]
["A22","    주식",null,null,null,null,null,null,null,null,null,null,null,null,null,null,null,null,null,null,null,null,null,null,null,null,null,null,null,null,null,null,null,null,null,null,null,null,null,null,"EXP 매입외환","ABD/BAC/BAP/BPC/BPP/FOT/NRD/OAE/OBC/REN"]
["A23","    사채"]
["A24","    기타유가증권"]
["A25","    예금",null,null,null,null,null,null,null,null,null,null,null,null,null,null,0]
["A26","    기타채권"]
["A3","  기타담보",null,null,null,null,null,null,null,null,null,null,null,null,null,null,0]
["B","보증",null,null,null,null,null,null,null,null,null,null,null,null,null,{"$f":"SUM(P25:P28)","v":0},{"$f":"F24+M24+O24+P24","v":0}]
["B1","  보증보험"]
["B2","  정부·금융기관보증",null,null,null,null,null,null,null,null,null,null,null,null,null,"2) SDN/SDC/SDG ZGGHCL값이 GPO/FPO +  정부보증",{"$f":"J133+K133+L133+M133","v":0}]
["B3","  신용기금보증"]
["B4","  기타보증"]
["C","신용",{"$f":"SUM(C30:C32)","v":{"$error":"#VALUE!"}},null,{"$f":"SUM(E30:E32)","v":{"$error":"#VALUE!"}},{"$f":"SUM(F30:F32)","v":0},{"$f":"SUM(G30:G32)","v":0},null,null,null,null,null,{"$f":"SUM(M30:M32)","v":0},null,null,{"$f":"SUM(P30:P32)","v":0},{"$f":"SUM(Q30:Q32)","v":{"$error":"#VALUE!"}}]
["C1","  부분신용대출",null,null,null,null,null,null,null,null,null,null,null,null,null,null,{"$f":"M30","v":0}]
["C2","  인적신용대출",0,null,0,null,0,null,null,null,null,null,null,null,null,null,{"$f":"C31+M31","v":0}]
["C3","  순수신용대출",{"$f":"E32","v":{"$error":"#VALUE!"}},null,{"$f":"F32+H32","v":{"$error":"#VALUE!"}},"1) OAV KRW TOTAL\n2) LAI KRW TOTAL\n4) XBZ/LAE_KRW",{"$f":"F32","v":"1) OAV KRW TOTAL\n2) LAI KRW TOTAL\n4) XBZ/LAE_KRW"},null,null,null,null,null,"1) OAV KRW 이 외 TOTAL \n2) CIL/LAI/PNP/BDU foreign CCY\n4) XBZ/LAE 외화 RBU/SBN/SXX TOTAL",null,null,"2) (BR/DPB/SGT/AWR/SDN/SDC/SDG)-P26\n3) GTE TOTAL",{"$f":"C32+M32","v":{"$error":"#VALUE!"}}]
["T","합계",{"$f":"E33","v":{"$error":"#VALUE!"}},null,{"$f":"F33+H33","v":{"$error":"#VALUE!"}},{"$f":"F30+F31+F32","v":{"$error":"#VALUE!"}},{"$f":"G30+G31+G32","v":{"$error":"#VALUE!"}},null,null,null,null,null,{"$f":"M30+M31+M32","v":{"$error":"#VALUE!"}},null,null,{"$f":"P29+P24","v":0},{"$f":"C33+M33","v":{"$error":"#VALUE!"}}]
[]
["문의처 : 은행감독국 경영지도팀"]
[]
["[ 작성요령 ]"]
[]
["1.","\"원화대출금\",\"가계자금대출\",\"기업자금대출\",\"지급보증대지급금\",\"확정지급보증\",\"신탁대출금\" : 대차대조표상 잔액과 일치"]
[]
["2.","우량기업 :  내부신용평가모형에 의한 평가등급이 정상 또는 우량인 기업을 대상으로 함(은행의 내부기준상 1 - 6등급까지를 정상기업으로 분류할 경우,  "]
[null,"본 통계자료 작성시는 이보다 한 단계 상위등급인 5등급까지만을 우량기업으로 간주)"]
[]
["3.","\"공공 및 기타자금대출\" : 대차대조표상 공공및기타자금대출금, 차관자금대출금, 국민주택기금대출금, 재형저축자금대출금, 재형자금급부금, 농어가사채대체자금대출금, "]
[null,"은행간대여금 계정과목의 합계 "]
[]
["4.","\"국내외화대출\" : 내국수입유산스, 은행간 외화대여금, 외화차관자금대출금 및 역외외화대출금(국내지점분) 포함"]
[]
["5.","\"회사채 보유액\" : 은행계정상 원화 사모사채 인수액 + 원화 공모사채 보유액으로 장부가 기준. 단, ABS 및 일시 보유목적으로 계상되어 있는 회사채는 제외. "]
[null,"무보증회사채의 경우 신용(C) , 보증사채의 경우 보증(B)에 기재"]
[]
["6.","\"기타채권(A26)\"   : 정부기관, 지방자치단체, 기타 신용이 확실한 대상기관에 대한 확정채권의 담보취급분"]
[]
["7.","\"기타담보(A3)\"     : 항공기, 자동차, 선박, 재단 등의 담보취급분"]
[]
["8.","\"신용(C)\"             : 법인지급보증, 연대보증, 순수신용 등에 의한 신용대출"]
[null,"\"부분보증대출(C1) : 대출건별로 부분적으로 물적 담보나 보증을 확보한 대출금중 담보(보증)가액 이외의 대출금의 합계"]
[null,"\"인적보증대출(C2) : 대출건별로 물적담보나 보증없이 대표이사 등의 인적 보증만으로 이루어진 대출금의 합계 "]
[null,"\"순수신용대출(C3) : 대출건별로 전액 담보나 보증없이 이루어진 대출금의 합계"]
[]
["9.","대기업대출과 중소기업대출은 각각 \"차주별 원화대출금 현황(B2209)\"의 A11, A12, B11, B12와 일치"]

{"sheet":"B2415-1","index":10,"n_rows":193,"n_cols":54,"rows_kept":193,"cut":false,"hidden":false,"merged":[[7,0,8,0],[7,2,7,8],[7,9,7,15]]}
["업종별 대출금의 건전성 분류(B2415-1)",null,null,null,null,null,null,null,"[작성주기 : 분기]",null,null,null,null,null,null,null,null,null,null,null,null,null,null,null,null,null,null,null,null,null,null,null,null,null,null,null,null,null,null,null,null,null,null,null,null,null,null,null,null,null,null,null,"MDS VALIDATE",{"$f":"COUNTIF(153:153,\"Check\")","v":0}]
[null,null,null,null,null,"1) PF_OAV"]
[null,null,null,null,null,"2) IMP (BR/DPB/DC/DPC/SGT/AWR/CIL/LAI/PNP/BDU/YBZ/SDN/SDC/SDG)"]
[null,null,null,null,null,"3) GTE","APG/CGA/CGB/CGC/CGI/CGJ/GOV/LEG/PEB/REB/TEB"]
[null,null,"* 각 필드별 해당하는 산업별 코드 값의 총합을 기재 (정상 요주의 구분 필요)",null,null,"4) EXP ","ABD/BAC/BAP/BPC/BPP/FOT/NRD/OAE/OBC/REN/RFE/RFI/RFP/XBZ/LAE"]
[null,null,"대상 : GTRF 모든 product",null,null,"5) ADV","CGH/CTP/DCA"]
[null,null,null,null,null,null,null,null,null,null,null,null,null,null,null,"(단위 : 백만원)"]
["코드","코 드 명","무수익여신 산정 대상 여신_size of turnover: 2",null,null,null,null,null,null,"무수익여신 산정 대상 여신 중 중소기업여신_size of turnover: 1"]
[null,null,"정상_ZXCRGR 3이상\n(A)","요주의_ ZXCRGR 4\n(B)","고정\n(C)","회수의문\n(D)","추정손실\n(E)","계\n(T)","(시설자금대출)\n(Z)","정상_ZXCRGR 3이상\n(A)","요주의_ ZXCRGR 4\n(B)","고정\n(C)","회수의문\n(D)","추정손실\n(E)","계\n(T)","(시설자금대출)\n(Z)"]
["A","A_농업, 임업 및 어업",{"$f":"SUM(C11:C13)","v":0},{"$f":"SUM(D11:D13)","v":0},{"$f":"SUM(E11:E13)","v":0},{"$f":"SUM(F11:F13)","v":0},{"$f":"SUM(G11:G13)","v":0},{"$f":"SUM(C10:G10)","v":0},{"$f":"SUM(I11:I13)","v":0},0,0,0,0,0,{"$f":"SUM(J10:N10)","v":0},{"$f":"SUM(P11:P13)","v":0}]
["A01","농업(01)",{"$f":"A11","v":"A01"},{"$f":"A11","v":"A01"},null,null,null,0,null,null,null,null,null,null,0]
["A02","임업(02)",{"$f":"A12","v":"A02"},{"$f":"A12","v":"A02"},null,null,null,0,null,null,null,null,null,null,0]
["A03","어업(03)","A03","A03",null,null,null,0,null,null,null,null,null,null,0]
["B","B_광업",{"$f":"SUM(C15:C18)","v":0},{"$f":"SUM(D15:D18)","v":0},{"$f":"SUM(E15:E18)","v":0},{"$f":"SUM(F15:F18)","v":0},{"$f":"SUM(G15:G18)","v":0},0,{"$f":"SUM(I15:I18)","v":0},0,0,0,0,0,0,{"$f":"SUM(P15:P18)","v":0}]
["B05","석탄, 원유 및 천연가스 광업(05)","B05","B05",null,null,null,0,null,null,null,null,null,null,0]
["B06","금속광업(06)","B06","B06",null,null,null,0,null,null,null,null,null,null,0]
["B07","비금속 광물광업(연료용 제외)(07)","B07","B07",null,null,null,0,null,null,null,null,null,null,0]
["B08","광업 지원 서비스업(08)","B08","B08",null,null,null,0,null,null,null,null,null,null,0]
["C","C_제조업",{"$f":"SUM(C20:C44)","v":0},{"$f":"SUM(D20:D44)","v":0},{"$f":"SUM(E20:E44)","v":0},{"$f":"SUM(F20:F44)","v":0},{"$f":"SUM(G20:G44)","v":0},0,{"$f":"SUM(I20:I44)","v":0},0,0,0,0,0,0,{"$f":"SUM(P20:P44)","v":0}]
["C10","식료품 제조업(10)","C10","C10",null,null,null,0,null,null,null,null,null,null,0]
["C11","음료 제조업(11)","C11","C11",null,null,null,0,null,null,null,null,null,null,0]
["C12","담배 제조업(12)","C12","C12",null,null,null,0,null,null,null,null,null,null,0]
["C13","섬유제품 제조업(의복 제외)(13)","C13","C13",null,null,null,0,null,null,null,null,null,null,0]
["C14","의복, 의복액세서리 및 모피제품 제조업(14)","C14","C14",null,null,null,0,null,null,null,null,null,null,0]
["C15","가죽,가방 및 신발 제조업(15)","C15","C15",null,null,null,0,null,null,null,null,null,null,0]
["C16","목재 및 나무제품 제조업(가구 제외)(16)","C16","C16",null,null,null,0,null,null,null,null,null,null,0]
["C17","펄프,종이 및 종이제품 제조업(17)","C17","C17",null,null,null,0,null,null,null,null,null,null,0]
["C18","인쇄 및 기록매체 복제업(18)","C18","C18",null,null,null,0,null,null,null,null,null,null,0]
["C19","코크스, 연탄 및 석유정제품 제조업(19)","C19","C19",null,null,null,0,null,null,null,null,null,null,0]
["C20","화학물질 및 화학제품 제조업(의약품 제외)(20)","C20","C20",null,null,null,0,null,null,null,null,null,null,0]
["C21","의료용 물질 및 의약품 제조업(21)","C21","C21",null,null,null,0,null,null,null,null,null,null,0]
["C22","고무 및 플라스틱제품 제조업(22)","C22","C22",null,null,null,0,null,null,null,null,null,null,0]
["C23","비금속 광물제품 제조업(23)","C23","C23",null,null,null,0,null,null,null,null,null,null,0]
["C24","제1차 금속제조업(24)","C24","C24",null,null,null,0,null,null,null,null,null,null,0]
["C25","금속가공제품 제조업(기계 및 가구 제외)(25)","C25","C25",null,null,null,0,null,null,null,null,null,null,0]
["C26","전자부품, 컴퓨터, 영상, 음향 및 통신장비 제조업(26)","C26","C26",null,null,null,0,null,null,null,null,null,null,0]
["C27","의료, 정밀, 광학기기 및 시계 제조업(27)","C27","C27",null,null,null,0,null,null,null,null,null,null,0]
["C28","전기장비 제조업(28)","C28","C28",null,null,null,0,null,null,null,null,null,null,0]
["C29","기타 기계 및 장비 제조업(29)","C29","C29",null,null,null,0,null,null,null,null,null,null,0]
["C30","자동차 및 트레일러 제조업(30)","C30","C30",null,null,null,0,null,null,null,null,null,null,0]
["C31","기타 운송장비 제조업(31)","C31","C31",null,null,null,0,null,null,null,null,null,null,0]
["C32","가구 제조업(32)","C32","C32",null,null,null,0,null,null,null,null,null,null,0]
["C33","기타 제품 제조업(33)","C33","C33",null,null,null,0,null,null,null,null,null,null,0]
["C34","산업용 기계 및 장비 수리업(34)","C34","C34",null,null,null,0,null,null,null,null,null,null,0]
["D","D_전기,가스, 증기 및 공기조절 공급업",{"$f":"SUM(C46)","v":0},0,0,0,0,0,0,0,0,0,0,0,0,0]
["D35","전기, 가스, 증기 및 공기조절 공급업(35)","D35","D35",null,null,null,{"$f":"SUM(C46:G46)","v":0},null,null,null,null,null,null,{"$f":"SUM(J46:N46)","v":0}]
["E","E_수도, 하수 및 폐기물 처리, 원료 재생업",{"$f":"SUM(C48:C51)","v":0},0,0,0,0,0,0,0,0,0,0,0,0,0]
["D36","수도업(36)","D36","D36",null,null,null,{"$f":"SUM(C48:G48)","v":0},null,null,null,null,null,null,{"$f":"SUM(J48:N48)","v":0}]
["E37","하수, 폐수 및 분뇨 처리업(37)","E37","E37",null,null,null,{"$f":"SUM(C49:G49)","v":0},null,null,null,null,null,null,{"$f":"SUM(J49:N49)","v":0}]
["E38","폐기물 수집, 운반, 처리 및 원료재생업(38)","E38","E38",null,null,null,{"$f":"SUM(C50:G50)","v":0},null,null,null,null,null,null,{"$f":"SUM(J50:N50)","v":0}]
["E39","환경 정화 및 복원업(39)","E39","E39",null,null,null,{"$f":"SUM(C51:G51)","v":0},null,null,null,null,null,null,{"$f":"SUM(J51:N51)","v":0}]
["F","F_건설업",{"$f":"+C53+C56","v":0},{"$f":"+D53+D56","v":0},{"$f":"+E53+E56","v":0},{"$f":"+F53+F56","v":0},{"$f":"+G53+G56","v":0},{"$f":"SUM(C52:G52)","v":0},{"$f":"+I53+I56","v":0},0,0,0,0,0,{"$f":"SUM(J52:N52)","v":0},{"$f":"+P53+P56","v":0}]
["F41","종합건설업(41)",{"$f":"SUM(C54:C55)","v":0},0,0,0,0,0,0,0,0,0,0,0,0,0]
["F411","건물건설업(411)",{"$f":"A54","v":"F411"},{"$f":"A54","v":"F411"},null,null,null,{"$f":"SUM(C54:G54)","v":0},null,null,null,null,null,null,{"$f":"SUM(J54:N54)","v":0}]
["F412","토목건설업(412)","F412","F412",null,null,null,{"$f":"SUM(C55:G55)","v":0},null,null,null,null,null,null,0]
["F42","전문직별 공사업(42)",{"$f":"SUM(C57:C62)","v":0},0,0,0,0,0,0,{"$f":"SUM(J57:J62)","v":0},0,0,0,0,0,0]
["F421","기반조성 및 시설물 축조관련 전문공사업(421)","F421",{"$f":"A57","v":"F421"},null,null,null,{"$f":"SUM(C57:G57)","v":0},null,null,null,null,null,null,0]
["F422","건물설비 설치 공사업(422)","F422","F422",null,null,null,0,null,null,null,null,null,null,0]
["F423","전기 및 통신 공사업(423)","F423","F423",null,null,null,0,null,null,null,null,null,null,0]
["F424","실내건축 및 건축마무리 공사업(424)","F424","F424",null,null,null,0,null,null,null,null,null,null,0]
["F425","건설장비 운영업(425)","F425","F425",null,null,null,0,null,null,null,null,null,null,0]
["F426","시설물 유지관리 공사업(426)","F426","F426",null,null,null,0,null,null,null,null,null,null,0]
["G","G_도매 및 소매업",{"$f":"SUM(C64:C66)","v":0},{"$f":"SUM(D64:D66)","v":0},{"$f":"SUM(E64:E66)","v":0},{"$f":"SUM(F64:F66)","v":0},{"$f":"SUM(G64:G66)","v":0},0,{"$f":"SUM(I64:I66)","v":0},0,0,0,0,0,0,{"$f":"SUM(P64:P66)","v":0}]
["G45","자동차 및 부품 판매업(45)","G45","G45",null,null,null,0,null,null,null,null,null,null,0]
["G46","도매 및 상품중개업(46)","G46","G46",null,null,null,0,null,null,null,null,null,null,0]
["G47","소매업(자동차 제외)(47)","G47","G47",null,null,null,0,null,null,null,null,null,null,0]
["H","H_운수 및 창고업",{"$f":"SUM(C68:C71)","v":0},{"$f":"SUM(D68:D71)","v":0},{"$f":"SUM(E68:E71)","v":0},{"$f":"SUM(F68:F71)","v":0},{"$f":"SUM(G68:G71)","v":0},0,{"$f":"SUM(I68:I71)","v":0},0,0,0,0,0,0,{"$f":"SUM(P68:P71)","v":0}]
["H49","육상운송 및 파이프라인 운송업(49)","H49","H49",null,null,null,0,null,null,null,null,null,null,0]
["H50","수상운송업(50)","H50","H50",null,null,null,0,null,null,null,null,null,null,0]
["H51","항공운송업(51)","H51","H51",null,null,null,0,null,null,null,null,null,null,0]
["H52","창고 및 운송관련 서비스업(52)","H52","H52",null,null,null,0,null,null,null,null,null,null,0]
["I","I_숙박 및 음식점업",{"$f":"+C73+C81","v":{"$error":"#VALUE!"}},{"$f":"+D73+D81","v":{"$error":"#VALUE!"}},{"$f":"+E73+E81","v":0},{"$f":"+F73+F81","v":0},{"$f":"+G73+G81","v":0},{"$error":"#VALUE!"},{"$f":"+I73+I81","v":0},0,0,0,0,0,0,{"$f":"+P73+P81","v":0}]
["I55","숙박업(55)",{"$f":"+C74+C80","v":{"$error":"#VALUE!"}},{"$f":"+D74+D80","v":{"$error":"#VALUE!"}},{"$f":"+E74+E80","v":0},{"$f":"+F74+F80","v":0},{"$f":"+G74+G80","v":0},{"$error":"#VALUE!"},{"$f":"+I74+I80","v":0},0,0,0,0,0,0,{"$f":"+P74+P80","v":0}]
["I551","일반 및 생활 숙박시설 운영업(551)",{"$f":"SUM(C75:C79)","v":0},{"$f":"SUM(D75:D79)","v":0},{"$f":"SUM(E75:E79)","v":0},{"$f":"SUM(F75:F79)","v":0},{"$f":"SUM(G75:G79)","v":0},0,{"$f":"SUM(I75:I79)","v":0},0,0,0,0,0,0,{"$f":"SUM(P75:P79)","v":0}]
["I55101","호텔업(55101)",{"$f":"A75","v":"I55101"},{"$f":"A75","v":"I55101"},null,null,null,0,null,null,null,null,null,null,0]
["I55102","여관업(55102)","I55102","I55102",null,null,null,0,null,null,null,null,null,null,0]
["I55103","휴양콘도 운영업(55103)","I55103","I55103",null,null,null,0,null,null,null,null,null,null,0]
["I55104","민박업(55104)","I55104","I55104",null,null,null,0,null,null,null,null,null,null,0]
["I55109","기타 일반 및 생활 숙박시설 운영업(55109)","I55109","I55109",null,null,null,0,null,null,null,null,null,null,0]
["I559","기타숙박업(559)","I559","I559",null,null,null,0,null,null,null,null,null,null,0]
["I56","음식점 및 주점업(56)",{"$f":"+C82+C88","v":{"$error":"#VALUE!"}},{"$f":"+D82+D88","v":{"$error":"#VALUE!"}},{"$f":"+E82+E88","v":0},{"$f":"+F82+F88","v":0},{"$f":"+G82+G88","v":0},{"$error":"#VALUE!"},{"$f":"+I82+I88","v":0},0,0,0,0,0,0,{"$f":"+P82+P88","v":0}]
["I561","음식점업(561)",{"$f":"SUM(C83:C87)","v":0},{"$f":"SUM(D83:D87)","v":0},{"$f":"SUM(E83:E87)","v":0},{"$f":"SUM(F83:F87)","v":0},{"$f":"SUM(G83:G87)","v":0},0,{"$f":"SUM(I83:I87)","v":0},0,0,0,0,0,0,{"$f":"SUM(P83:P87)","v":0}]
["I5611","한식 음식점업(5611)",{"$f":"A83","v":"I5611"},{"$f":"A83","v":"I5611"},null,null,null,0,null,null,null,null,null,null,0]
["I5612","외국식 음식점업(5612)","I5612","I5612",null,null,null,0,null,null,null,null,null,null,0]
["I5613","기관 구내식당업(5613)","I5613","I5613",null,null,null,0,null,null,null,null,null,null,0]
["I5614","출장 및 이동 음식점업(5614)","I5614","I5614",null,null,null,0,null,null,null,null,null,null,0]
["I5619","기타 간이 음식점업(5619)","I5619","I5619",null,null,null,0,null,null,null,null,null,null,0]
["I562","주점 및 비알콜 음료점업(562)",{"$f":"+C89+C91","v":{"$error":"#VALUE!"}},{"$f":"+D89+D91","v":{"$error":"#VALUE!"}},{"$f":"+E89+E91","v":0},{"$f":"+F89+F91","v":0},{"$f":"+G89+G91","v":0},{"$error":"#VALUE!"},{"$f":"+I89+I91","v":0},0,0,0,0,0,0,{"$f":"+P89+P91","v":0}]
["I5621","주점업(5621)","I5621","I5621",null,null,null,0,null,null,null,null,null,null,0]
["I56212","무도유흥 주점업(56212)","I56212","I56212",null,null,null,0,null,null,null,null,null,null,0]
["I5622","비알콜 음료점업(5622)","I5622","I5622",null,null,null,0,null,null,null,null,null,null,0]
["J","J_정보통신업",{"$f":"SUM(C93:C98)","v":0},{"$f":"SUM(D93:D98)","v":0},{"$f":"SUM(E93:E98)","v":0},{"$f":"SUM(F93:F98)","v":0},{"$f":"SUM(G93:G98)","v":0},0,{"$f":"SUM(I93:I98)","v":0},0,0,0,0,0,0,{"$f":"SUM(P93:P98)","v":0}]
["J58","출판업(58)","J58","J58",null,null,null,0,null,null,null,null,null,null,0]
["J59","영상·오디오 기록물 제작 및 배급업(59)","J59","J59",null,null,null,0,null,null,null,null,null,null,0]
["J60","방송업(60)","J60","J60",null,null,null,0,null,null,null,null,null,null,0]
["J61","   우편 및 통신업(61)","J61","J61",null,null,null,0,null,null,null,null,null,null,0]
["J62","컴퓨터 프로그래밍, 시스템 통합 및 관리업(62)","J62","J62",null,null,null,0,null,null,null,null,null,null,0]
["J63","정보서비스업(63)","J63","J63",null,null,null,0,null,null,null,null,null,null,0]
["K","K_금융 및 보험업",{"$f":"SUM(C100:C102)","v":0},{"$f":"SUM(D100:D102)","v":0},{"$f":"SUM(E100:E102)","v":0},{"$f":"SUM(F100:F102)","v":0},{"$f":"SUM(G100:G102)","v":0},0,{"$f":"SUM(I100:I102)","v":0},0,0,0,0,0,0,{"$f":"SUM(P100:P102)","v":0}]
["K64","금융업(64)","K64","K64",null,null,null,0,null,null,null,null,null,null,0]
["K65","보험 및 연금업(65)","K65","K65",null,null,null,0,null,null,null,null,null,null,0]
["K66","금융 및 보험 관련 서비스업(66)","K66","K66",null,null,null,0,null,null,null,null,null,null,0]
["L","L_부동산업",{"$f":"+C104+C114","v":0},0,0,0,0,0,0,{"$f":"+J104++J114","v":0},0,0,0,0,0,0]
["L68","부동산업(68)",{"$f":"+C105+C114","v":0},{"$f":"+D105+D114","v":0},{"$f":"+E105+E114","v":0},{"$f":"+F105+F114","v":0},{"$f":"+G105+G114","v":0},{"$f":"SUM(C104:G104)","v":0},{"$f":"+I105+I114","v":0},0,0,0,0,0,{"$f":"SUM(J104:N104)","v":0},{"$f":"+P105+P114","v":0}]
["L681","부동산 임대 및 공급업(681)",{"$f":"+C106+C110","v":0},{"$f":"+D106+D110","v":0},{"$f":"+E106+E110","v":0},{"$f":"+F106+F110","v":0},{"$f":"+G106+G110","v":0},0,{"$f":"+I106+I110","v":0},0,0,0,0,0,0,{"$f":"+P106+P110","v":0}]
["L6811","부동산 임대업(6811)",{"$f":"SUM(C107:C109)","v":0},{"$f":"SUM(D107:D109)","v":0},{"$f":"SUM(E107:E109)","v":0},{"$f":"SUM(F107:F109)","v":0},{"$f":"SUM(G107:G109)","v":0},0,{"$f":"SUM(I107:I109)","v":0},0,0,0,0,0,0,{"$f":"SUM(P107:P109)","v":0}]
["L68111","주거용 건물 임대업(68111)",{"$f":"A107","v":"L68111"},{"$f":"A107","v":"L68111"},null,null,null,0,null,null,null,null,null,null,0]
["L68112","비주거용 건물 임대업(68112)","L68112","L68112",null,null,null,0,null,null,null,null,null,null,0]
["L68119","기타 부동산 임대업(68119)","L68119","L68119",null,null,null,0,null,null,null,null,null,null,0]
["L6812","부동산 개발 및 공급업(6812)",{"$f":"SUM(C111:C113)","v":0},{"$f":"SUM(D111:D113)","v":0},{"$f":"SUM(E111:E113)","v":0},{"$f":"SUM(F111:F113)","v":0},{"$f":"SUM(G111:G113)","v":0},0,{"$f":"SUM(I111:I113)","v":0},0,0,0,0,0,0,{"$f":"SUM(P111:P113)","v":0}]
["L68121","주거용 건물 개발 및 공급업(68121)","L68121","L68121",null,null,null,0,null,null,null,null,null,null,0]
["L68122","비주거용 건물 개발 및 공급업(68122)","L68122","L68122",null,null,null,0,null,null,null,null,null,null,0]
["L68129","기타 부동산 개발 및 공급업(68129)","L68129","L68129",null,null,null,0,null,null,null,null,null,null,0]
["L682","부동산 관련 서비스업(682)",{"$f":"SUM(C115:C116)","v":0},{"$f":"SUM(D115:D116)","v":0},{"$f":"SUM(E115:E116)","v":0},{"$f":"SUM(F115:F116)","v":0},{"$f":"SUM(G115:G116)","v":0},0,{"$f":"SUM(I115:I116)","v":0},0,0,0,0,0,0,{"$f":"SUM(P115:P116)","v":0}]
["L6821","부동산 관리업(6821)","L6821","L6821",null,null,null,0,null,null,null,null,null,null,0]
["L6822","부동산 중개, 자문 및 감정평가업(6822)","L6822","L6822",null,null,null,0,null,null,null,null,null,null,0]
["M","M_전문, 과학 및 기술 서비스업",{"$f":"SUM(C118:C121)","v":0},{"$f":"SUM(D118:D121)","v":0},{"$f":"SUM(E118:E121)","v":0},{"$f":"SUM(F118:F121)","v":0},{"$f":"SUM(G118:G121)","v":0},0,{"$f":"SUM(I118:I121)","v":0},0,0,0,0,0,0,{"$f":"SUM(P118:P121)","v":0}]
["M70","연구개발업(70)","M70","M70",null,null,null,0,null,null,null,null,null,null,0]
["M71","전문서비스업(71)","M71","M71",null,null,null,0,null,null,null,null,null,null,0]
["M72","건축기술, 엔지니어링 및 기타 과학기술 서비스업(72)","M72","M72",null,null,null,0,null,null,null,null,null,null,0]
["M73","기타 전문, 과학 및 기술 서비스업(73)","M73","M73",null,null,null,0,null,null,null,null,null,null,0]
["N","N_사업시설 관리, 사업지원 및 임대 서비스업",{"$f":"SUM(C123:C125)","v":0},{"$f":"SUM(D123:D125)","v":0},{"$f":"SUM(E123:E125)","v":0},{"$f":"SUM(F123:F125)","v":0},{"$f":"SUM(G123:G125)","v":0},0,{"$f":"SUM(I123:I125)","v":0},0,0,0,0,0,0,{"$f":"SUM(P123:P125)","v":0}]
["N74","사업시설 관리 및 조경 서비스업(74)","N74","N74",null,null,null,0,null,null,null,null,null,null,0]
["N75","사업지원 서비스업(75)","N75","N75",null,null,null,0,null,null,null,null,null,null,0]
["L76","임대업(부동산 제외)(76)","L76","L76",null,null,null,0,null,null,null,null,null,null,0]
["O","O_공공행정, 국방 및 사회보장 행정",{"$f":"+SUM(C127)","v":0},{"$f":"+SUM(D127)","v":0},0,0,0,0,0,{"$f":"+SUM(J127)","v":0},{"$f":"+SUM(K127)","v":0},0,0,0,0,0]
["O84","공공행정, 국방 및 사회보장 행정(84)","O84","O84",null,null,null,0,null,null,null,null,null,null,0]
["P","P_교육 서비스업",{"$f":"+SUM(C129)","v":0},{"$f":"+SUM(D129)","v":0},{"$f":"+SUM(E129)","v":0},{"$f":"+SUM(F129)","v":0},{"$f":"+SUM(G129)","v":0},0,{"$f":"+SUM(I129)","v":0},0,0,0,0,0,0,{"$f":"+SUM(P129)","v":0}]
["P85","교육 서비스업(85)","P85","P85",null,null,null,0,null,null,null,null,null,null,0]
["Q","Q_보건업 및 사회복지 서비스업",{"$f":"SUM(C131:C132)","v":0},{"$f":"SUM(D131:D132)","v":0},{"$f":"SUM(E131:E132)","v":0},{"$f":"SUM(F131:F132)","v":0},{"$f":"SUM(G131:G132)","v":0},0,{"$f":"SUM(I131:I132)","v":0},0,0,0,0,0,0,{"$f":"SUM(P131:P132)","v":0}]
["Q86","보건업(86)","Q86","Q86",null,null,null,0,null,null,null,null,null,null,0]
["Q87","사회복지 서비스업(87)","Q87","Q87",null,null,null,0,null,null,null,null,null,null,0]
["R","R 예술, 스포츠 및 여가관련 서비스업",{"$f":"+C134+C135","v":{"$error":"#VALUE!"}},{"$f":"+D134+D135","v":{"$error":"#VALUE!"}},{"$f":"+E134+E135","v":0},{"$f":"+F134+F135","v":0},{"$f":"+G134+G135","v":0},{"$error":"#VALUE!"},{"$f":"+I134+I135","v":0},0,0,0,0,0,0,{"$f":"+P134+P135","v":0}]
["R90","창작, 예술 및 여가관련 서비스업(90)","R90","R90",null,null,null,0,null,null,null,null,null,null,0]
["R91","스포츠 및 오락관련 서비스업(91)",{"$f":"SUM(C136:C140)","v":0},{"$f":"SUM(D136:D140)","v":0},{"$f":"SUM(E136:E140)","v":0},{"$f":"SUM(F136:F140)","v":0},{"$f":"SUM(G136:G140)","v":0},0,{"$f":"SUM(I136:I140)","v":0},0,0,0,0,0,0,{"$f":"SUM(P136:P140)","v":0}]
["R91113","   경주장 및 동물 경기장 운영업(91113)","R91113","R91113",null,null,null,{"$f":"SUM(C136:G136)","v":0},null,null,null,null,null,null,0]
["R91121","골프장 운영업(91121)","R91121","R91121",null,null,null,0,null,null,null,null,null,null,0]
["R91241","복권발행 및 판매업(91241)","R91241","R91241",null,null,null,0,null,null,null,null,null,null,0]
["R91249","기타 사행시설 관리 및 운영업(91249)","R91249","R91249",null,null,null,0,null,null,null,null,null,null,0]
["R91291","무도장 운영업(91291)","R91291","R91291",null,null,null,0,null,null,null,null,null,null,0]
["S","S_협회 및 단체, 수리  및 기타 개인 서비스업",{"$f":"SUM(C142:C144)","v":0},{"$f":"SUM(D142:D144)","v":0},{"$f":"SUM(E142:E144)","v":0},{"$f":"SUM(F142:F144)","v":0},{"$f":"SUM(G142:G144)","v":0},0,{"$f":"SUM(I142:I144)","v":0},0,0,0,0,0,0,{"$f":"SUM(P142:P144)","v":0}]
["S94","협회 및 단체(94)","S94","S94",null,null,null,0,null,null,null,null,null,null,0]
["S95","개인 및 소비용품 수리업(95)","S95","S95",null,null,null,0,null,null,null,null,null,null,0]
["S96","기타 개인 서비스업(96)",{"$f":"SUM(C145:C146)","v":0},{"$f":"SUM(D145:D146)","v":0},{"$f":"SUM(E145:E146)","v":0},{"$f":"SUM(F145:F146)","v":0},{"$f":"SUM(G145:G146)","v":0},0,{"$f":"SUM(I145:I146)","v":0},0,0,0,0,0,0,{"$f":"SUM(P145:P146)","v":0}]
["S96121","욕탕업(96121)","S96121","S96121",null,null,null,0,null,null,null,null,null,null,0]
["S96122","마사지업(96122)","S96122","S96122",null,null,null,0,null,null,null,null,null,null,0]
["T","T_가구내 고용활동 및 달리 분류되지 않은 자가소비 생산활동","T",null,null,null,null,0,null,null,null,null,null,null,0]
["U","U_국제 및 외국기관","U",null,null,null,null,0,null,null,null,null,null,null,0]
["X","산업별대출금총계",{"$f":"+C10+C14+C19+C45+C47+C52+C63+C67+C72+C92+C99+C103+C117+C122+C126+C128+C130+C133+C141+C147+C148","v":{"$error":"#VALUE!"}},{"$f":"+D10+D14+D19+D45+D47+D52+D63+D67+D72+D92+D99+D103+D117+D122+D126+D128+D130+D133+D141+D147+D148","v":{"$error":"#VALUE!"}},{"$f":"+E10+E14+E19+E45+E47+E52+E63+E67+E72+E92+E99+E103+E117+E122+E126+E128+E130+E133+E141+E147+E148","v":0},{"$f":"+F10+F14+F19+F45+F47+F52+F63+F67+F72+F92+F99+F103+F117+F122+F126+F128+F130+F133+F141+F147+F148","v":0},{"$f":"+G10+G14+G19+G45+G47+G52+G63+G67+G72+G92+G99+G103+G117+G122+G126+G128+G130+G133+G141+G147+G148","v":0},{"$error":"#VALUE!"},{"$f":"+I10+I14+I15+I19+I45+I52+I63+I72+I88+I99+I93+I103+I122+I126+I128+I131+I138+I145+I148+I117","v":0},{"$f":"+J10+J14+J19+J45+J47+J52+J63+J67+J72+J92+J99+J103+J117+J122+J126+J128+J130+J133+J141+J147+J148","v":0},{"$f":"+K10+K14+K19+K45+K47+K52+K63+K67+K72+K92+K99+K103+K117+K122+K126+K128+K130+K133+K141+K147+K148","v":0},{"$f":"+L10+L14+L19+L45+L47+L52+L63+L67+L72+L92+L99+L103+L117+L122+L126+L128+L130+L133+L141+L147+L148","v":0},{"$f":"+M10+M14+M19+M45+M47+M52+M63+M67+M72+M92+M99+M103+M117+M122+M126+M128+M130+M133+M141+M147+M148","v":0},{"$f":"+N10+N14+N19+N45+N47+N52+N63+N67+N72+N92+N99+N103+N117+N122+N126+N128+N130+N133+N141+N147+N148","v":0},0,{"$f":"+P10+P14+P15+P19+P45+P52+P63+P72+P88+P99+P93+P103+P122+P126+P128+P131+P138+P145+P148+P117","v":0}]
["Y","가계대출",null,null,null,null,null,0,null,null,null,null,null,null,0]
["Y01","(주택관련자금대출)",null,null,null,null,null,0,null,null,null,null,null,null,0]
["Z","무수익여신 산정대상 여신합계(X+Y)",{"$f":"+C149+C150","v":{"$error":"#VALUE!"}},{"$f":"+D149+D150","v":{"$error":"#VALUE!"}},{"$f":"+E149+E150","v":0},{"$f":"+F149+F150","v":0},{"$f":"+G149+G150","v":0},{"$error":"#VALUE!"},{"$f":"+I149+I150","v":0},0,0,0,0,0,0,{"$f":"+P149+P150","v":0}]
[null,null,{"$f":"IF(ABS(C152-C154)<2,\"OK\",\"Check\")","v":{"$error":"#VALUE!"}},{"$error":"#VALUE!"},"OK","OK","OK",{"$error":"#VALUE!"},null,{"$f":"IF(ABS(J152-J154)<2,\"OK\",\"Check\")","v":"OK"},{"$f":"IF(ABS(K152-K154)<2,\"OK\",\"Check\")","v":"OK"},{"$f":"IF(ABS(L152-L154)<2,\"OK\",\"Check\")","v":"OK"},{"$f":"IF(ABS(M152-M154)<2,\"OK\",\"Check\")","v":"OK"},{"$f":"IF(ABS(N152-N154)<2,\"OK\",\"Check\")","v":"OK"}]
["문의처 : (건전경영총괄팀)일반은행국",null,null,0,0,0,0,null,null,0,0,0,0,0]
[]
["[ 작성요령 ]"]
[]
["1. 업종분류는 통계청 고시 \"한국표준산업분류\"에 따름"]
["    - 서로 다른 2개 이상의 사업을 겸영하는 업체인 경우 사업부문별 매출액, 종업원수, 급여액, 고정자산(건물, 기계장치, 토지 등) 금액 등의 순으로 주업종을 선정"]
[]
["2. \"무수익여신 산정대상 여신합계(Z)\"의 \"정상\",\"요주의\",\"고정\",\"회수의문\",\"추정손실\",\"계\" : \"여신건전성 분류(B2401)\"서식의 \"무수익여신 산정대상 여신합계(F)\"의 "]
["    \"정상\",\"요주의\",\"고정\",'회수의문\",\"추정손실\",\"총여신\"과 일치"]
["    - 각 항목은 채권재조정후의 금액으로 기재"]
["    - 산업별대출금총계(X): \"여신건전성분류(B2401)\" 서식의 \"무수익여신 산정대상 여신합계(F)\" 중 \"기업자금대출금(F1)\" + \"공공 및 기타자금대출금(F3)\""]
["                                     (\"무수익여신 산정 대상 여신 중 중소기업여신\"은 \"여신건전성 분류(B2401)\" 중 \"중소기업여신(F12)\"와 일치)"]
["    - 가계대출(Y) : \"여신건전성분류(B2401)\" 서식의 \"무수익여신 산정대상 여신합계(F)\" 중 \"가계자금대출금(F2)\""]
["                           (\"무수익여신 산정 대상 여신 중 중소기업여신\"은 기재 불필요)"]
["3. 주택관련자금대출(Y01) : 은행계정 대차대조표상 가계자금대출금 중 주택자금대출 및 가계일반자금대출의 주택담보대출"]
["                                       (\"무수익여신 산정 대상 여신 중 중소기업여신\"은 기재 불필요)"]
[]
["4. 제10차 표준산업분류코드 개정에 따라 17년 9말 기준 업무보고서 부터 적용"]
["업종별 코드 중 (8행, 9행) (A) + (B) + (C) + (D) + (E) = (T)"]
[]
["무수익여신 산정 대상여신 중 중소기업여신의 Y, Y01, Z는 입력 불필요 "]
[]
["F = F41 + F42"]
["F41=F411+F412"]
["F42=F421+F422+F423+F424+F425+F426"]
[]
["I=I55+I56"]
["I55=I551+I559"]
["I56=I561+I562"]
["I561=I5611+I5612+I5613+I5614+I5619"]
["I562=I5621+I5622"]
[]
[]
["L68=L681+L682"]
["L681=L6811+L6812"]
["L682=L6821+L6822"]
[]
["X=A+B+C+D+E+F+G+H+I+J+K+L+M+N+O+P+Q+R+S+T+U"]
[]
["Z=X+Y"]

{"sheet":"B2424-1","index":11,"n_rows":186,"n_cols":54,"rows_kept":186,"cut":false,"hidden":false,"merged":[[9,9,10,9],[7,0,10,0],[7,1,10,1],[7,2,7,13],[7,14,7,25],[8,2,8,4],[8,5,8,10],[8,11,8,13],[8,14,8,16],[8,17,8,22],[8,23,8,25],[9,2,10,2],[9,3,10,3],[9,4,10,4],[9,5,10,5],[9,7,10,7],[9,25,10,25],[9,11,10,11],[9,12,10,12],[9,13,10,13],[9,14,10,14],[9,15,10,15],[9,16,10,16],[9,17,10,17],[9,19,10,19],[9,21,10,21],[9,23,10,23],[9,24,10,24]]}
["기업대출금의 업종별 연체채권 현황(B2424)(개정)",null,null,null,null,null,null,null,null,null,null,null,null,null,null,null,null,null,null,null,null,null,null,null,null,"[보고주기 : 분기]",null,null,null,null,null,null,null,null,null,null,null,null,null,null,null,null,null,null,null,null,null,null,null,null,null,null,"MDS VALIDATE",{"$f":"COUNTIF(C152:Z152,\"Check\")","v":0}]
[]
[]
[null,null,"Industry code로 분류/size of turnover 2",null,null,"Industry code로 분류/size of turnover 1",null,null,null,null,null,null,null,null,"Industry code로 분류/size of turnover 2",null,null,"Industry code로 분류/size of turnover 1"]
[null,null,"1) OAV_KRW",null,null,"1) OAV_KRW",null,null,null,null,null,null,null,null,"1) OAV/OAM total",null,null,"1) OAV/OAM total"]
[null,null,"2) LAI_KRW ",null,null,"2) LAI_KRW ",null,null,null,null,null,null,null,null,"2) CIL/LAI/PNP/BDU/YBZ total",null,null,"2) CIL/LAI/PNP/BDU/YBZ total"]
[null,null,null,null,null,null,null,null,null,null,null,null,null,null,"4) EXP_매입외환/팩토링/EXP 대출",null,null,"4) EXP_매입외환/팩토링/EXP 대출",null,null,null,null,null,null,null,"(단위 : 백만원)"]
["코 드","코드명","은행계정 원화대출금 및 신탁계정 대출금",null,null,null,null,null,null,null,null,null,null,null,"무수익여신 산정대상 여신"]
[null,null,"대기업대출계",null,null,"중소기업대출계",null,null,null,null,null,"기업대출계",null,null,"대기업대출계",null,null,"중소기업대출계",null,null,null,null,null,"기업대출계"]
[null,null,"대출채권\n(A)","1일이상\n원금기준\n 연체대출\n채권(B)","1개월이상 \n원리금기준 \n연체대출\n채권(C )"," 대출채권\n(D)",null,"1일이상\n원금기준\n 연체대출\n채권(E)",null,"1개월이상 \n원리금기준 \n연체대출\n채권(F)",null,"대출채권\n(G)","1일이상\n원금기준\n 연체대출\n채권(H)","1개월이상 \n원리금기준\n연체대출\n채권(I)","대출채권\n(A)","1일이상\n원금기준\n 연체대출\n채권(B)","1개월이상 \n원리금기준 \n연체대출\n채권(C )"," 대출채권\n(D)",null,"1일이상\n원금기준\n 연체대출\n채권(E)",null,"1개월이상 \n원리금기준 \n연체대출\n채권(F)",null,"대출채권\n(G)","1일이상\n원금기준\n 연체대출\n채권(H)","1개월이상 \n원리금기준\n연체대출\n채권(I)"]
[null,null,null,null,null,null,"(개인사업\n자,D1)",null,"(개인사업\n자,E1)",null,"(개인사업\n자,F1)",null,null,null,null,null,null,null,"(개인사업\n자,D1)",null,"(개인사업\n자,E1)",null,"(개인사업\n자,F1)"]
["A","A_농업, 임업 및 어업",{"$f":"SUM(C13:C15)","v":0},0,0,0,0,0,0,0,0,{"$f":"C12+F12","v":0},{"$f":"D12+H12","v":0},{"$f":"E12+J12","v":0},{"$f":"SUM(O13:O15)","v":0},0,0,0,0,0,0,0,0,{"$f":"O12+R12","v":0},{"$f":"P12+T12","v":0},{"$f":"Q12+V12","v":0}]
["A01","농업(01)","1) OAV_KRW industry code A01\n2) LAI_KRW industry code A01",null,null,"1) OAV_KRW industry code A01\n2) LAI_KRW industry code A01",null,null,null,null,null,null,null,null,"1) OAV  industry code A01\n2) CIL/LAI/PNP industry code A01\n4) EXP_매입외환/팩토링/EXP 대출",null,null,"1) OAV  industry code A01\n2) CIL/LAI/PNP industry code A01\n4) EXP_매입외환/팩토링/EXP 대출",null,null,null,null,null,{"$error":"#VALUE!"},0,0]
["A02","임업(02)","1) OAV_KRW industry code A02\n2) LAI_KRW industry code A02",null,null,"1) OAV_KRW industry code A02\n2) LAI_KRW industry code A02",null,null,null,null,null,null,null,null,"1) OAV  industry code A02\n2) CIL/LAI/PNP industry code A02\n4) EXP_매입외환/팩토링/EXP 대출",null,null,"1) OAV  industry code A02\n2) CIL/LAI/PNP industry code A02\n4) EXP_매입외환/팩토링/EXP 대출",null,null,null,null,null,{"$error":"#VALUE!"},0,0]
["A03","어업(03)","1) OAV_KRW industry code A03\n2) LAI_KRW industry code A03",null,null,"1) OAV_KRW industry code A03\n2) LAI_KRW industry code A03",null,null,null,null,null,null,null,null,"1) OAV  industry code A03\n2) CIL/LAI/PNP industry code A03\n4) EXP_매입외환/팩토링/EXP 대출",null,null,"1) OAV  industry code A03\n2) CIL/LAI/PNP industry code A03\n4) EXP_매입외환/팩토링/EXP 대출",null,null,null,null,null,{"$error":"#VALUE!"},0,0]
["B","B_광업",{"$f":"SUM(C17:C20)","v":0},0,0,0,0,0,0,0,0,{"$f":"C16+F16","v":0},{"$f":"D16+H16","v":0},{"$f":"E16+J16","v":0},{"$f":"SUM(O17:O20)","v":0},0,0,0,0,0,0,0,0,0,0,0]
["B05","석탄, 원유 및 천연가스 광업(05)","1) OAV_KRW industry code B05\n2) LAI_KRW industry code B05",null,null,"1) OAV_KRW industry code B05\n2) LAI_KRW industry code B05",null,null,null,null,null,null,null,null,"1) OAV  industry code B05\n2) CIL/LAI/PNP industry code B05\n4) EXP_매입외환/팩토링/EXP 대출",null,null,"1) OAV  industry code B05\n2) CIL/LAI/PNP industry code B05\n4) EXP_매입외환/팩토링/EXP 대출",null,null,null,null,null,{"$error":"#VALUE!"},0,0]
["B06","금속광업(06)","1) OAV_KRW industry code B06\n2) LAI_KRW industry code B06",null,null,"1) OAV_KRW industry code B06\n2) LAI_KRW industry code B06",null,null,null,null,null,null,null,null,"1) OAV  industry code B06\n2) CIL/LAI/PNP industry code B06\n4) EXP_매입외환/팩토링/EXP 대출",null,null,"1) OAV  industry code B06\n2) CIL/LAI/PNP industry code B06\n4) EXP_매입외환/팩토링/EXP 대출",null,null,null,null,null,{"$error":"#VALUE!"},0,0]
["B07","비금속 광물광업(연료용 제외)(07)","1) OAV_KRW industry code B07\n2) LAI_KRW industry code B07",null,null,"1) OAV_KRW industry code B07\n2) LAI_KRW industry code B07",null,null,null,null,null,null,null,null,"1) OAV  industry code B07\n2) CIL/LAI/PNP industry code B07\n4) EXP_매입외환/팩토링/EXP 대출",null,null,"1) OAV  industry code B07\n2) CIL/LAI/PNP industry code B07\n4) EXP_매입외환/팩토링/EXP 대출",null,null,null,null,null,{"$error":"#VALUE!"},0,0]
["B08","광업 지원 서비스업(08)","1) OAV_KRW industry code B08\n2) LAI_KRW industry code B08",null,null,"1) OAV_KRW industry code B08\n2) LAI_KRW industry code B08",null,null,null,null,null,null,null,null,"1) OAV  industry code B08\n2) CIL/LAI/PNP industry code B08\n4) EXP_매입외환/팩토링/EXP 대출",null,null,"1) OAV  industry code B08\n2) CIL/LAI/PNP industry code B08\n4) EXP_매입외환/팩토링/EXP 대출",null,null,null,null,null,{"$error":"#VALUE!"},0,0]
["C","C_제조업",{"$f":"SUM(C22:C46)","v":0},{"$f":"SUM(D22:D46)","v":0},0,0,0,0,0,0,0,{"$f":"C21+F21","v":0},{"$f":"D21+H21","v":0},{"$f":"E21+J21","v":0},{"$f":"SUM(O22:O46)","v":0},{"$f":"SUM(P22:P46)","v":0},0,{"$f":"SUM(R22:R46)","v":0},0,0,0,0,0,0,0,0]
["C10","식료품 제조업(10)","1) OAV_KRW industry code C10\n2) LAI_KRW industry code C10",null,null,"1) OAV_KRW industry code C10\n2) LAI_KRW industry code C10",null,null,null,null,null,null,null,null,"1) OAV  industry code C10\n2) CIL/LAI/PNP industry code C10\n4) EXP_매입외환/팩토링/EXP 대출",null,null,"1) OAV  industry code C10\n2) CIL/LAI/PNP industry code C10\n4) EXP_매입외환/팩토링/EXP 대출",null,null,null,null,null,{"$f":"O22+R22","v":{"$error":"#VALUE!"}},0,0]
["C11","음료 제조업(11)","1) OAV_KRW industry code C11\n2) LAI_KRW industry code C11",null,null,"1) OAV_KRW industry code C11\n2) LAI_KRW industry code C11",null,null,null,null,null,null,null,null,"1) OAV  industry code C11\n2) CIL/LAI/PNP industry code C11\n4) EXP_매입외환/팩토링/EXP 대출",null,null,"1) OAV  industry code C11\n2) CIL/LAI/PNP industry code C11\n4) EXP_매입외환/팩토링/EXP 대출",null,null,null,null,null,{"$error":"#VALUE!"},0,0]
["C12","담배 제조업(12)","1) OAV_KRW industry code C12\n2) LAI_KRW industry code C12",null,null,"1) OAV_KRW industry code C12\n2) LAI_KRW industry code C12",null,null,null,null,null,null,null,null,"1) OAV  industry code C12\n2) CIL/LAI/PNP industry code C12\n4) EXP_매입외환/팩토링/EXP 대출",null,null,"1) OAV  industry code C12\n2) CIL/LAI/PNP industry code C12\n4) EXP_매입외환/팩토링/EXP 대출",null,null,null,null,null,{"$error":"#VALUE!"},0,0]
["C13","섬유제품 제조업(의복 제외)(13)","1) OAV_KRW industry code C13\n2) LAI_KRW industry code C13",null,null,"1) OAV_KRW industry code C13\n2) LAI_KRW industry code C13",null,null,null,null,null,null,null,null,"1) OAV  industry code C13\n2) CIL/LAI/PNP industry code C13\n4) EXP_매입외환/팩토링/EXP 대출",null,null,"1) OAV  industry code C13\n2) CIL/LAI/PNP industry code C13\n4) EXP_매입외환/팩토링/EXP 대출",null,null,null,null,null,{"$error":"#VALUE!"},0,0]
["C14","의복, 의복액세서리 및 모피제품 제조업(14)","1) OAV_KRW industry code C14\n2) LAI_KRW industry code C14",null,null,"1) OAV_KRW industry code C14\n2) LAI_KRW industry code C14",null,null,null,null,null,null,null,null,"1) OAV  industry code C14\n2) CIL/LAI/PNP industry code C14\n4) EXP_매입외환/팩토링/EXP 대출",null,null,"1) OAV  industry code C14\n2) CIL/LAI/PNP industry code C14\n4) EXP_매입외환/팩토링/EXP 대출",null,null,null,null,null,{"$error":"#VALUE!"},0,0]
["C15","가죽,가방 및 신발 제조업(15)","1) OAV_KRW industry code C15\n2) LAI_KRW industry code C15",null,null,"1) OAV_KRW industry code C15\n2) LAI_KRW industry code C15",null,null,null,null,null,null,null,null,"1) OAV  industry code C15\n2) CIL/LAI/PNP industry code C15\n4) EXP_매입외환/팩토링/EXP 대출",null,null,"1) OAV  industry code C15\n2) CIL/LAI/PNP industry code C15\n4) EXP_매입외환/팩토링/EXP 대출",null,null,null,null,null,{"$error":"#VALUE!"},0,0]
["C16","목재 및 나무제품 제조업(가구 제외)(16)","1) OAV_KRW industry code C16\n2) LAI_KRW industry code C16",null,null,"1) OAV_KRW industry code C16\n2) LAI_KRW industry code C16",null,null,null,null,null,null,null,null,"1) OAV  industry code C16\n2) CIL/LAI/PNP industry code C16\n4) EXP_매입외환/팩토링/EXP 대출",null,null,"1) OAV  industry code C16\n2) CIL/LAI/PNP industry code C16\n4) EXP_매입외환/팩토링/EXP 대출",null,null,null,null,null,{"$error":"#VALUE!"},0,0]
["C17","펄프,종이 및 종이제품 제조업(17)","1) OAV_KRW industry code C17\n2) LAI_KRW industry code C17",null,null,"1) OAV_KRW industry code C17\n2) LAI_KRW industry code C17",null,null,null,null,null,null,null,null,"1) OAV  industry code C17\n2) CIL/LAI/PNP industry code C17\n4) EXP_매입외환/팩토링/EXP 대출",null,null,"1) OAV  industry code C17\n2) CIL/LAI/PNP industry code C17\n4) EXP_매입외환/팩토링/EXP 대출",null,null,null,null,null,{"$error":"#VALUE!"},0,0]
["C18","인쇄 및 기록매체 복제업(18)","1) OAV_KRW industry code C18\n2) LAI_KRW industry code C18",null,null,"1) OAV_KRW industry code C18\n2) LAI_KRW industry code C18",null,null,null,null,null,null,null,null,"1) OAV  industry code C18\n2) CIL/LAI/PNP industry code C18\n4) EXP_매입외환/팩토링/EXP 대출",null,null,"1) OAV  industry code C18\n2) CIL/LAI/PNP industry code C18\n4) EXP_매입외환/팩토링/EXP 대출",null,null,null,null,null,{"$error":"#VALUE!"},0,0]
["C19","코크스, 연탄 및 석유정제품 제조업(19)","1) OAV_KRW industry code C19\n2) LAI_KRW industry code C19",null,null,"1) OAV_KRW industry code C19\n2) LAI_KRW industry code C19",null,null,null,null,null,null,null,null,"1) OAV  industry code C19\n2) CIL/LAI/PNP industry code C19\n4) EXP_매입외환/팩토링/EXP 대출",null,null,"1) OAV  industry code C19\n2) CIL/LAI/PNP industry code C19\n4) EXP_매입외환/팩토링/EXP 대출",null,null,null,null,null,{"$error":"#VALUE!"},0,0]
["C20","화학물질 및 화학제품 제조업(의약품 제외)(20)","1) OAV_KRW industry code C20\n2) LAI_KRW industry code C20",null,null,"1) OAV_KRW industry code C20\n2) LAI_KRW industry code C20",null,null,null,null,null,null,null,null,"1) OAV  industry code C20\n2) CIL/LAI/PNP industry code C20\n4) EXP_매입외환/팩토링/EXP 대출",null,null,"1) OAV  industry code C20\n2) CIL/LAI/PNP industry code C20\n4) EXP_매입외환/팩토링/EXP 대출",null,null,null,null,null,{"$error":"#VALUE!"},0,0]
["C21","의료용 물질 및 의약품 제조업(21)","1) OAV_KRW industry code C21\n2) LAI_KRW industry code C21",null,null,"1) OAV_KRW industry code C21\n2) LAI_KRW industry code C21",null,null,null,null,null,null,null,null,"1) OAV  industry code C21\n2) CIL/LAI/PNP industry code C21\n4) EXP_매입외환/팩토링/EXP 대출",null,null,"1) OAV  industry code C21\n2) CIL/LAI/PNP industry code C21\n4) EXP_매입외환/팩토링/EXP 대출",null,null,null,null,null,{"$error":"#VALUE!"},0,0]
["C22","고무 및 플라스틱제품 제조업(22)","1) OAV_KRW industry code C22\n2) LAI_KRW industry code C22",null,null,"1) OAV_KRW industry code C22\n2) LAI_KRW industry code C22",null,null,null,null,null,null,null,null,"1) OAV  industry code C22\n2) CIL/LAI/PNP industry code C22\n4) EXP_매입외환/팩토링/EXP 대출",null,null,"1) OAV  industry code C22\n2) CIL/LAI/PNP industry code C22\n4) EXP_매입외환/팩토링/EXP 대출",null,null,null,null,null,{"$error":"#VALUE!"},0,0]
["C23","비금속 광물제품 제조업(23)","1) OAV_KRW industry code C23\n2) LAI_KRW industry code C23",null,null,"1) OAV_KRW industry code C23\n2) LAI_KRW industry code C23",null,null,null,null,null,null,null,null,"1) OAV  industry code C23\n2) CIL/LAI/PNP industry code C23\n4) EXP_매입외환/팩토링/EXP 대출",null,null,"1) OAV  industry code C23\n2) CIL/LAI/PNP industry code C23\n4) EXP_매입외환/팩토링/EXP 대출",null,null,null,null,null,{"$error":"#VALUE!"},0,0]
["C24","제1차 금속제조업(24)","1) OAV_KRW industry code C24\n2) LAI_KRW industry code C24",null,null,"1) OAV_KRW industry code C24\n2) LAI_KRW industry code C24",null,null,null,null,null,null,null,null,"1) OAV  industry code C24\n2) CIL/LAI/PNP industry code C24\n4) EXP_매입외환/팩토링/EXP 대출",null,null,"1) OAV  industry code C24\n2) CIL/LAI/PNP industry code C24\n4) EXP_매입외환/팩토링/EXP 대출",null,null,null,null,null,{"$error":"#VALUE!"},0,0]
["C25","금속가공제품 제조업(기계 및 가구 제외)(25)","1) OAV_KRW industry code C25\n2) LAI_KRW industry code C25",null,null,"1) OAV_KRW industry code C25\n2) LAI_KRW industry code C25",null,null,null,null,null,null,null,null,"1) OAV  industry code C25\n2) CIL/LAI/PNP industry code C25\n4) EXP_매입외환/팩토링/EXP 대출",null,null,"1) OAV  industry code C25\n2) CIL/LAI/PNP industry code C25\n4) EXP_매입외환/팩토링/EXP 대출",null,null,null,null,null,{"$error":"#VALUE!"},0,0]
["C26","전자부품, 컴퓨터, 영상, 음향 및 통신장비 제조업(26)","1) OAV_KRW industry code C26\n2) LAI_KRW industry code C26",null,null,"1) OAV_KRW industry code C26\n2) LAI_KRW industry code C26",null,null,null,null,null,null,null,null,"1) OAV  industry code C26\n2) CIL/LAI/PNP industry code C26\n4) EXP_매입외환/팩토링/EXP 대출",null,null,"1) OAV  industry code C26\n2) CIL/LAI/PNP industry code C26\n4) EXP_매입외환/팩토링/EXP 대출",null,null,null,null,null,{"$error":"#VALUE!"},0,0]
["C27","의료, 정밀, 광학기기 및 시계 제조업(27)","1) OAV_KRW industry code C27\n2) LAI_KRW industry code C27",null,null,"1) OAV_KRW industry code C27\n2) LAI_KRW industry code C27",null,null,null,null,null,null,null,null,"1) OAV  industry code C27\n2) CIL/LAI/PNP industry code C27\n4) EXP_매입외환/팩토링/EXP 대출",null,null,"1) OAV  industry code C27\n2) CIL/LAI/PNP industry code C27\n4) EXP_매입외환/팩토링/EXP 대출",null,null,null,null,null,{"$error":"#VALUE!"},0,0]
["C28","전기장비 제조업(28)","1) OAV_KRW industry code C28\n2) LAI_KRW industry code C28",null,null,"1) OAV_KRW industry code C28\n2) LAI_KRW industry code C28",null,null,null,null,null,null,null,null,"1) OAV  industry code C28\n2) CIL/LAI/PNP industry code C28\n4) EXP_매입외환/팩토링/EXP 대출",null,null,"1) OAV  industry code C28\n2) CIL/LAI/PNP industry code C28\n4) EXP_매입외환/팩토링/EXP 대출",null,null,null,null,null,{"$error":"#VALUE!"},0,0]
["C29","기타 기계 및 장비 제조업(29)","1) OAV_KRW industry code C29\n2) LAI_KRW industry code C29",null,null,"1) OAV_KRW industry code C29\n2) LAI_KRW industry code C29",null,null,null,null,null,null,null,null,"1) OAV  industry code C29\n2) CIL/LAI/PNP industry code C29\n4) EXP_매입외환/팩토링/EXP 대출",null,null,"1) OAV  industry code C29\n2) CIL/LAI/PNP industry code C29\n4) EXP_매입외환/팩토링/EXP 대출",null,null,null,null,null,{"$error":"#VALUE!"},0,0]
["C30","자동차 및 트레일러 제조업(30)","1) OAV_KRW industry code C30\n2) LAI_KRW industry code C30",null,null,"1) OAV_KRW industry code C30\n2) LAI_KRW industry code C30",null,null,null,null,null,null,null,null,"1) OAV  industry code C30\n2) CIL/LAI/PNP industry code C30\n4) EXP_매입외환/팩토링/EXP 대출",null,null,"1) OAV  industry code C30\n2) CIL/LAI/PNP industry code C30\n4) EXP_매입외환/팩토링/EXP 대출",null,null,null,null,null,{"$error":"#VALUE!"},0,0]
["C31","기타 운송장비 제조업(31)","1) OAV_KRW industry code C31\n2) LAI_KRW industry code C31",null,null,"1) OAV_KRW industry code C31\n2) LAI_KRW industry code C31",null,null,null,null,null,null,null,null,"1) OAV  industry code C31\n2) CIL/LAI/PNP industry code C31\n4) EXP_매입외환/팩토링/EXP 대출",null,null,"1) OAV  industry code C31\n2) CIL/LAI/PNP industry code C31\n4) EXP_매입외환/팩토링/EXP 대출",null,null,null,null,null,{"$error":"#VALUE!"},0,0]
["C32","가구 제조업(32)","1) OAV_KRW industry code C32\n2) LAI_KRW industry code C32",null,null,"1) OAV_KRW industry code C32\n2) LAI_KRW industry code C32",null,null,null,null,null,null,null,null,"1) OAV  industry code C32\n2) CIL/LAI/PNP industry code C32\n4) EXP_매입외환/팩토링/EXP 대출",null,null,"1) OAV  industry code C32\n2) CIL/LAI/PNP industry code C32\n4) EXP_매입외환/팩토링/EXP 대출",null,null,null,null,null,{"$error":"#VALUE!"},0,0]
["C33","기타 제품 제조업(33)","1) OAV_KRW industry code C33\n2) LAI_KRW industry code C33",null,null,"1) OAV_KRW industry code C33\n2) LAI_KRW industry code C33",null,null,null,null,null,null,null,null,"1) OAV  industry code C33\n2) CIL/LAI/PNP industry code C33\n4) EXP_매입외환/팩토링/EXP 대출",null,null,"1) OAV  industry code C33\n2) CIL/LAI/PNP industry code C33\n4) EXP_매입외환/팩토링/EXP 대출",null,null,null,null,null,{"$f":"O45+R45","v":{"$error":"#VALUE!"}},{"$f":"P45+T45","v":0},{"$f":"Q45+V45","v":0}]
["C34","산업용 기계 및 장비 수리업(34)","1) OAV_KRW industry code C34\n2) LAI_KRW industry code C34",null,null,"1) OAV_KRW industry code C34\n2) LAI_KRW industry code C34",null,null,null,null,null,null,null,null,"1) OAV  industry code C34\n2) CIL/LAI/PNP industry code C34\n4) EXP_매입외환/팩토링/EXP 대출",null,null,"1) OAV  industry code C34\n2) CIL/LAI/PNP industry code C34\n4) EXP_매입외환/팩토링/EXP 대출",null,null,null,null,null,{"$error":"#VALUE!"},0,0]
["D","D_전기,가스, 증기 및 공기조절 공급업",{"$f":"SUM(C48:C48)","v":0},0,0,0,0,0,0,0,0,{"$f":"C47+F47","v":0},{"$f":"D47+H47","v":0},{"$f":"E47+J47","v":0},{"$f":"SUM(O48:O48)","v":0},0,0,0,0,0,0,0,0,0,0,0]
["D35","전기, 가스, 증기 및 공기조절 공급업(35)","1) OAV_KRW industry code D35\n2) LAI_KRW industry code D35",null,null,"1) OAV_KRW industry code D35\n2) LAI_KRW industry code D35",null,null,null,null,null,null,null,null,{"$f":"A48","v":"D35"},null,null,{"$f":"A48","v":"D35"},null,null,null,null,null,{"$error":"#VALUE!"},0,0]
["E","E_수도, 하수 및 폐기물 처리, 원료 재생업",{"$f":"SUM(C50:C53)","v":0},{"$f":"SUM(D50:D53)","v":0},0,0,0,0,0,0,0,{"$f":"C49+F49","v":0},{"$f":"D49+H49","v":0},{"$f":"E49+J49","v":0},{"$f":"SUM(O50:O53)","v":0},{"$f":"SUM(P51:P53)","v":0},0,0,0,0,0,0,0,0,0,0]
["D36","수도업(36)","1) OAV_KRW industry code D35\n2) LAI_KRW industry code D35",null,null,"1) OAV_KRW industry code D35\n2) LAI_KRW industry code D35",null,null,null,null,null,null,null,null,{"$f":"A50","v":"D36"},null,null,{"$f":"A50","v":"D36"},null,null,null,null,null,{"$f":"O50+R50","v":{"$error":"#VALUE!"}},{"$f":"P50+T50","v":0},{"$f":"Q50+V50","v":0}]
["E37","하수, 폐수 및 분뇨 처리업(37)","1) OAV_KRW industry code D36\n2) LAI_KRW industry code D36",null,null,"1) OAV_KRW industry code D36\n2) LAI_KRW industry code D36",null,null,null,null,null,null,null,null,{"$f":"A51","v":"E37"},null,null,{"$f":"A51","v":"E37"},null,null,null,null,null,{"$error":"#VALUE!"},0,0]
["E38","폐기물 수집, 운반, 처리 및 원료재생업(38)","1) OAV_KRW industry code D37\n2) LAI_KRW industry code D37",null,null,"1) OAV_KRW industry code D37\n2) LAI_KRW industry code D37",null,null,null,null,null,null,null,null,"E38",null,null,{"$f":"A52","v":"E38"},null,null,null,null,null,{"$error":"#VALUE!"},0,0]
["E39","환경 정화 및 복원업(39)","1) OAV_KRW industry code D38\n2) LAI_KRW industry code D38",null,null,"1) OAV_KRW industry code D38\n2) LAI_KRW industry code D38",null,null,null,null,null,null,null,null,"E39",null,null,{"$f":"A53","v":"E39"},null,null,null,null,null,{"$error":"#VALUE!"},0,0]
["F","F_건설업",{"$f":"C55+C58","v":{"$error":"#VALUE!"}},{"$f":"D55+D58","v":0},0,{"$error":"#VALUE!"},0,0,0,0,0,{"$f":"C54+F54","v":{"$error":"#VALUE!"}},{"$f":"D54+H54","v":0},{"$f":"E54+J54","v":0},{"$f":"O55+O58","v":{"$error":"#VALUE!"}},{"$f":"P55+P58","v":0},0,{"$error":"#VALUE!"},0,0,0,0,0,{"$error":"#VALUE!"},0,0]
["F41","종합건설업(41)","1) OAV_KRW industry code F41\n2) LAI_KRW industry code F41",null,null,"1) OAV_KRW industry code F41\n2) LAI_KRW industry code F41",null,null,null,null,null,null,null,null,"F41",null,null,{"$f":"A55","v":"F41"},null,null,null,null,null,{"$error":"#VALUE!"},0,0]
["F411","건물건설업(411)","1) OAV_KRW industry code F411\n2) LAI_KRW industry code F411",null,null,"1) OAV_KRW industry code F411\n2) LAI_KRW industry code F411",null,null,null,null,null,null,null,null,"F411",null,null,{"$f":"A56","v":"F411"},null,null,null,null,null,{"$error":"#VALUE!"},0,0]
["F412","토목건설업(412)","1) OAV_KRW industry code F412\n2) LAI_KRW industry code F412",null,null,"1) OAV_KRW industry code F412\n2) LAI_KRW industry code F412",null,null,null,null,null,null,null,null,"F412",null,null,"F412",null,null,null,null,null,{"$error":"#VALUE!"},0,0]
["F42","전문직별 공사업(42)","1) OAV_KRW industry code F42\n2) LAI_KRW industry code F42",null,null,"1) OAV_KRW industry code F42\n2) LAI_KRW industry code F42",null,null,null,null,null,null,null,null,"F42",null,null,"F42",null,null,null,null,null,{"$error":"#VALUE!"},0,0]
["F421","기반조성 및 시설물 축조관련 전문공사업(421)","1) OAV_KRW industry code F421\n2) LAI_KRW industry code F421",null,null,"1) OAV_KRW industry code F421\n2) LAI_KRW industry code F421",null,null,null,null,null,null,null,null,"F421",null,null,"F421",null,null,null,null,null,{"$error":"#VALUE!"},0,0]
["F422","건물설비 설치 공사업(422)","1) OAV_KRW industry code F422\n2) LAI_KRW industry code F422",null,null,"1) OAV_KRW industry code F422\n2) LAI_KRW industry code F422",null,null,null,null,null,null,null,null,"F422",null,null,"F422",null,null,null,null,null,{"$error":"#VALUE!"},0,0]
["F423","전기 및 통신 공사업(423)","1) OAV_KRW industry code F423\n2) LAI_KRW industry code F423",null,null,"1) OAV_KRW industry code F423\n2) LAI_KRW industry code F423",null,null,null,null,null,null,null,null,"F423",null,null,"F423",null,null,null,null,null,{"$error":"#VALUE!"},0,0]
["F424","실내건축 및 건축마무리 공사업(424)","1) OAV_KRW industry code F424\n2) LAI_KRW industry code F424",null,null,"1) OAV_KRW industry code F424\n2) LAI_KRW industry code F424",null,null,null,null,null,null,null,null,"F424",null,null,"F424",null,null,null,null,null,{"$error":"#VALUE!"},0,0]
["F425","건설장비 운영업(425)","1) OAV_KRW industry code F425\n2) LAI_KRW industry code F425",null,null,"1) OAV_KRW industry code F425\n2) LAI_KRW industry code F425",null,null,null,null,null,null,null,null,"F425",null,null,"F425",null,null,null,null,null,{"$f":"O63+R63","v":{"$error":"#VALUE!"}},{"$f":"P63+T63","v":0},{"$f":"Q63+V63","v":0}]
["F426","시설물 유지관리 공사업(426)","1) OAV_KRW industry code F426\n2) LAI_KRW industry code F426",null,null,"1) OAV_KRW industry code F426\n2) LAI_KRW industry code F426",null,null,null,null,null,null,null,null,"F426",null,null,"F426",null,null,null,null,null,{"$error":"#VALUE!"},0,0]
["G","G_도매 및 소매업",{"$f":"SUM(C66:C68)","v":0},0,0,0,0,0,0,0,0,{"$f":"C65+F65","v":0},{"$f":"D65+H65","v":0},{"$f":"E65+J65","v":0},{"$f":"SUM(O66:O68)","v":0},0,0,0,0,0,0,0,0,0,0,0]
["G45","자동차 및 부품 판매업(45)","1) OAV_KRW industry code G45\n2) LAI_KRW industry code G45",null,null,"1) OAV_KRW industry code G45\n2) LAI_KRW industry code G45",null,null,null,null,null,null,null,null,"G45",null,null,"G45",null,null,null,null,null,{"$error":"#VALUE!"},0,0]
["G46","도매 및 상품중개업(46)","1) OAV_KRW industry code G46\n2) LAI_KRW industry code G46",null,null,"1) OAV_KRW industry code G46\n2) LAI_KRW industry code G46",null,null,null,null,null,null,null,null,"G46",null,null,"G46",null,null,null,null,null,{"$error":"#VALUE!"},0,0]
["G47","소매업(자동차 제외)(47)","1) OAV_KRW industry code G47\n2) LAI_KRW industry code G47",null,null,"1) OAV_KRW industry code G47\n2) LAI_KRW industry code G47",null,null,null,null,null,null,null,null,"G47",null,null,"G47",null,null,null,null,null,{"$error":"#VALUE!"},0,0]
["H","H_운수 및 창고업",{"$f":"SUM(C70:C73)","v":0},0,0,0,0,0,0,0,0,{"$f":"C69+F69","v":0},{"$f":"D69+H69","v":0},{"$f":"E69+J69","v":0},{"$f":"SUM(O70:O73)","v":0},0,0,0,0,0,0,0,0,0,0,0]
["H49","육상운송 및 파이프라인 운송업(49)",{"$f":"A70","v":"H49"},null,null,{"$f":"A70","v":"H49"},null,null,null,null,null,null,null,null,"H49",null,null,"H49",null,null,null,null,null,{"$error":"#VALUE!"},0,0]
["H50","수상운송업(50)",{"$f":"A71","v":"H50"},null,null,{"$f":"A71","v":"H50"},null,null,null,null,null,null,null,null,"H50",null,null,"H50",null,null,null,null,null,{"$error":"#VALUE!"},0,0]
["H51","항공운송업(51)","H51",null,null,"H51",null,null,null,null,null,null,null,null,"H51",null,null,"H51",null,null,null,null,null,{"$error":"#VALUE!"},0,0]
["H52","창고 및 운송관련 서비스업(52)","H52",null,null,"H52",null,null,null,null,null,null,null,null,"H52",null,null,"H52",null,null,null,null,null,{"$error":"#VALUE!"},0,0]
["I","I_숙박 및 음식점업",{"$f":"C75+C83","v":{"$error":"#VALUE!"}},0,0,{"$error":"#VALUE!"},0,0,0,0,0,{"$f":"C74+F74","v":{"$error":"#VALUE!"}},{"$f":"D74+H74","v":0},{"$f":"E74+J74","v":0},{"$f":"O75+O83","v":{"$error":"#VALUE!"}},0,0,{"$error":"#VALUE!"},0,0,0,0,0,{"$error":"#VALUE!"},0,0]
["I55","숙박업(55)",{"$f":"C76+C82","v":0},0,0,0,0,0,0,0,0,{"$f":"C75+F75","v":0},{"$f":"D75+H75","v":0},{"$f":"E75+J75","v":0},{"$f":"O76+O82","v":0},0,0,0,0,0,0,0,0,0,0,0]
["I551","일반 및 생활 숙박시설 운영업(551)",{"$f":"SUM(C77:C81)","v":0},0,0,0,0,0,0,0,0,{"$f":"C76+F76","v":0},{"$f":"D76+H76","v":0},{"$f":"E76+J76","v":0},{"$f":"SUM(O77:O81)","v":0},0,0,0,0,0,0,0,0,{"$f":"O76+R76","v":0},{"$f":"P76+T76","v":0},{"$f":"Q76+V76","v":0}]
["I55111","호텔업(55101)",{"$f":"A77","v":"I55111"},null,null,{"$f":"A77","v":"I55111"},null,null,null,null,null,null,null,null,{"$f":"A77","v":"I55111"},null,null,{"$f":"A77","v":"I55111"},null,null,null,null,null,{"$error":"#VALUE!"},0,0]
["I55112","여관업(55102)","I55112",null,null,"I55112",null,null,null,null,null,null,null,null,"I55112",null,null,"I55112",null,null,null,null,null,{"$error":"#VALUE!"},0,0]
["I55113","휴양콘도 운영업(55103)","I55113",null,null,"I55113",null,null,null,null,null,null,null,null,"I55113",null,null,"I55113",null,null,null,null,null,{"$error":"#VALUE!"},0,0]
["I55104","민박업(55104)","I55104",null,null,"I55104",null,null,null,null,null,null,null,null,"I55104",null,null,"I55104",null,null,null,null,null,{"$error":"#VALUE!"},0,0]
["I55119","기타 일반 및 생활 숙박시설 운영업(55109)","I55119",null,null,"I55119",null,null,null,null,null,null,null,null,"I55119",null,null,"I55119",null,null,null,null,null,{"$error":"#VALUE!"},0,0]
["I559","기타숙박업(559)",null,null,null,null,null,null,null,null,null,{"$f":"C82+F82","v":0},{"$f":"D82+H82","v":0},{"$f":"E82+J82","v":0},null,null,null,null,null,null,null,null,null,0,0,0]
["I56","음식점 및 주점업(56)",{"$f":"C84+C90","v":{"$error":"#VALUE!"}},0,0,{"$error":"#VALUE!"},0,0,0,0,0,{"$f":"C83+F83","v":{"$error":"#VALUE!"}},{"$f":"D83+H83","v":0},{"$f":"E83+J83","v":0},{"$f":"O84+O90","v":{"$error":"#VALUE!"}},0,0,{"$error":"#VALUE!"},0,0,0,0,0,{"$error":"#VALUE!"},0,0]
["I561","음식점업(561)",{"$f":"SUM(C85:C89)","v":0},0,0,0,0,0,0,0,0,{"$f":"C84+F84","v":0},{"$f":"D84+H84","v":0},{"$f":"E84+J84","v":0},{"$f":"SUM(O85:O89)","v":0},0,0,0,0,0,0,0,0,0,0,0]
["I56111","한식 음식점업(5611)",{"$f":"A85","v":"I56111"},null,null,{"$f":"A85","v":"I56111"},null,null,null,null,null,null,null,null,{"$f":"A85","v":"I56111"},null,null,{"$f":"A85","v":"I56111"},null,null,null,null,null,{"$error":"#VALUE!"},0,0]
["I56112","외국식 음식점업(5612)","I56112",null,null,"I56112",null,null,null,null,null,null,null,null,"I56112",null,null,"I56112",null,null,null,null,null,{"$f":"O86+R86","v":{"$error":"#VALUE!"}},{"$f":"P86+T86","v":0},{"$f":"Q86+V86","v":0}]
["I5612","기관 구내식당업(5613)","I5612",null,null,"I5612",null,null,null,null,null,null,null,null,"I5612",null,null,"I5612",null,null,null,null,null,{"$f":"O87+R87","v":{"$error":"#VALUE!"}},{"$f":"P87+T87","v":0},{"$f":"Q87+V87","v":0}]
["I5613","출장 및 이동 음식점업(5614)","I5613",null,null,"I5613",null,null,null,null,null,null,null,null,"I5613",null,null,"I5613",null,null,null,null,null,{"$f":"O88+R88","v":{"$error":"#VALUE!"}},{"$f":"P88+T88","v":0},{"$f":"Q88+V88","v":0}]
["I5619","기타 간이 음식점업(5619)","I5619",null,null,"I5619",null,null,null,null,null,null,null,null,"I5619",null,null,"I5619",null,null,null,null,null,{"$error":"#VALUE!"},0,0]
["I562","주점 및 비알콜 음료점업(562)",{"$f":"C91+C93","v":{"$error":"#VALUE!"}},0,0,{"$error":"#VALUE!"},0,0,0,0,0,{"$f":"C90+F90","v":{"$error":"#VALUE!"}},{"$f":"D90+H90","v":0},{"$f":"E90+J90","v":0},{"$f":"O91+O93","v":{"$error":"#VALUE!"}},0,0,{"$error":"#VALUE!"},0,0,0,0,0,{"$error":"#VALUE!"},0,0]
["I5621","주점업(5621)",{"$f":"C92+0","v":{"$error":"#VALUE!"}},0,0,{"$error":"#VALUE!"},0,0,0,0,0,{"$f":"C91+F91","v":{"$error":"#VALUE!"}},{"$f":"D91+H91","v":0},{"$f":"E91+J91","v":0},{"$f":"O92+0","v":{"$error":"#VALUE!"}},0,0,{"$error":"#VALUE!"},0,0,0,0,0,{"$error":"#VALUE!"},0,0]
["I56212","무도유흥 주점업(56212)",{"$f":"A92","v":"I56212"},null,null,{"$f":"A92","v":"I56212"},null,null,null,null,null,null,null,null,{"$f":"A92","v":"I56212"},null,null,{"$f":"A92","v":"I56212"},null,null,null,null,null,{"$error":"#VALUE!"},0,0]
["I5622","비알콜 음료점업(5622)","I5622",null,null,"I5622",null,null,null,null,null,null,null,null,"I5622",null,null,"I5622",null,null,null,null,null,{"$error":"#VALUE!"},0,0]
["J","J_정보통신업",{"$f":"SUM(C95:C100)","v":0},0,0,0,0,0,0,0,0,{"$f":"C94+F94","v":0},{"$f":"D94+H94","v":0},{"$f":"E94+J94","v":0},{"$f":"SUM(O95:O100)","v":0},0,0,0,0,0,0,0,0,0,0,0]
["J58","출판업(58)","J58",null,null,{"$f":"A95","v":"J58"},null,null,null,null,null,null,null,null,{"$f":"A95","v":"J58"},null,null,{"$f":"A95","v":"J58"},null,null,null,null,null,{"$error":"#VALUE!"},0,0]
["J59","영상·오디오 기록물 제작 및 배급업(59)","J59",null,null,"J59",null,null,null,null,null,null,null,null,"J59",null,null,"J59",null,null,null,null,null,{"$error":"#VALUE!"},0,0]
["J60","방송업(60)","J60",null,null,"J60",null,null,null,null,null,null,null,null,"J60",null,null,"J60",null,null,null,null,null,{"$error":"#VALUE!"},0,0]
["J61","   우편 및 통신업(61)","J61",null,null,"J61",null,null,null,null,null,null,null,null,"J61",null,null,"J61",null,null,null,null,null,{"$error":"#VALUE!"},0,0]
["J62","컴퓨터 프로그래밍, 시스템 통합 및 관리업(62)","J62",null,null,"J62",null,null,null,null,null,null,null,null,"J62",null,null,"J62",null,null,null,null,null,{"$error":"#VALUE!"},0,0]
["J63","정보서비스업(63)","J63",null,null,"J63",null,null,null,null,null,null,null,null,"J63",null,null,"J63",null,null,null,null,null,{"$error":"#VALUE!"},0,0]
["K","K_금융 및 보험업",{"$f":"SUM(C102:C104)","v":0},0,0,0,0,0,0,0,0,{"$f":"C101+F101","v":0},{"$f":"D101+H101","v":0},{"$f":"E101+J101","v":0},{"$f":"SUM(O102:O104)","v":0},0,0,0,0,0,0,0,0,0,0,0]
["K64","금융업(64)","K64",null,null,"K64",null,null,null,null,null,null,null,null,"K64",null,null,"K64",null,null,null,null,null,{"$error":"#VALUE!"},0,0]
["K65","보험 및 연금업(65)","K65",null,null,"K65",null,null,null,null,null,null,null,null,"K65",null,null,"K65",null,null,null,null,null,{"$error":"#VALUE!"},0,0]
["K66","금융 및 보험 관련 서비스업(66)","K66",null,null,"K66",null,null,null,null,null,null,null,null,"K66",null,null,"K66",null,null,null,null,null,{"$error":"#VALUE!"},0,0]
["L","L_부동산업",{"$f":"C106+C116","v":{"$error":"#VALUE!"}},{"$f":"D106+D116","v":0},0,{"$error":"#VALUE!"},0,0,0,0,0,{"$f":"C105+F105","v":{"$error":"#VALUE!"}},{"$f":"D105+H105","v":0},{"$f":"E105+J105","v":0},{"$f":"O106+O116","v":{"$error":"#VALUE!"}},{"$f":"P106+P116","v":0},0,{"$error":"#VALUE!"},0,0,0,0,{"$f":"W106+W116","v":0},{"$f":"O105+R105","v":{"$error":"#VALUE!"}},0,0]
["L68","부동산업(68)",{"$f":"C107+C116","v":{"$error":"#VALUE!"}},0,0,{"$error":"#VALUE!"},0,0,0,0,0,{"$f":"C106+F106","v":{"$error":"#VALUE!"}},{"$f":"D106+H106","v":0},{"$f":"E106+J106","v":0},{"$f":"O107+O116","v":{"$error":"#VALUE!"}},0,0,{"$error":"#VALUE!"},0,0,0,0,0,{"$error":"#VALUE!"},0,0]
["L681","부동산 임대 및 공급업(681)",{"$f":"C108+C112","v":{"$error":"#VALUE!"}},0,0,{"$error":"#VALUE!"},0,0,0,0,{"$f":"K108+K112","v":0},{"$f":"C107+F107","v":{"$error":"#VALUE!"}},{"$f":"D107+H107","v":0},{"$f":"E107+J107","v":0},{"$f":"O108+O112","v":{"$error":"#VALUE!"}},0,{"$f":"Q108+Q112","v":0},{"$error":"#VALUE!"},0,0,0,0,{"$f":"W108+W112","v":0},{"$error":"#VALUE!"},0,0]
["L6811","부동산 임대업(6811)",{"$f":"SUM(C109:C111)","v":0},0,0,0,0,0,0,0,0,{"$f":"C108+F108","v":0},{"$f":"D108+H108","v":0},{"$f":"E108+J108","v":0},{"$f":"SUM(O109:O111)","v":0},0,0,0,0,0,0,0,0,0,0,0]
["L68111","주거용 건물 임대업(68111)",{"$f":"A109","v":"L68111"},null,null,{"$f":"A109","v":"L68111"},null,null,null,null,null,null,null,null,{"$f":"A109","v":"L68111"},null,null,{"$f":"A109","v":"L68111"},null,null,null,null,null,{"$error":"#VALUE!"},0,0]
["L68112","비주거용 건물 임대업(68112)","L68112",null,null,"L68112",null,null,null,null,null,null,null,null,"L68112",null,null,"L68112",null,null,null,null,null,{"$error":"#VALUE!"},0,0]
["L68119","기타 부동산 임대업(68119)","L68119",null,null,"L68119",null,null,null,null,null,null,null,null,"L68119",null,null,"L68119",null,null,null,null,null,{"$error":"#VALUE!"},0,0]
["L6812","부동산 개발 및 공급업(6812)","L6812",null,null,"L6812",null,null,null,null,null,null,null,null,"L6812",null,null,"L6812",null,null,null,null,null,{"$error":"#VALUE!"},0,0]
["L68121","주거용 건물 개발 및 공급업(68121)","L68121",null,null,"L68121",null,null,null,null,null,null,null,null,"L68121",null,null,"L68121",null,null,null,null,null,{"$error":"#VALUE!"},0,0]
["L68122","비주거용 건물 개발 및 공급업(68122)","L68122",null,null,"L68122",null,null,null,null,null,null,null,null,"L68122",null,null,"L68122",null,null,null,null,null,{"$error":"#VALUE!"},0,0]
["L68129","기타 부동산 개발 및 공급업(68129)","L68129",null,null,"L68129",null,null,null,null,null,null,null,null,"L68129",null,null,"L68129",null,null,null,null,null,{"$error":"#VALUE!"},0,0]
["L682","부동산 관련 서비스업(682)",{"$f":"SUM(C117:C118)","v":0},0,0,0,0,0,0,0,0,{"$f":"C116+F116","v":0},{"$f":"D116+H116","v":0},{"$f":"E116+J116","v":0},{"$f":"SUM(O117:O118)","v":0},0,0,0,0,0,0,0,0,0,0,0]
["L6821","부동산 관리업(6821)","L6821",null,null,"L6821",null,null,null,null,null,null,null,null,"L6821",null,null,"L6821",null,null,null,null,null,{"$error":"#VALUE!"},0,0]
["L6822","부동산 중개, 자문 및 감정평가업(6822)","L6822",null,null,"L6822",null,null,null,null,null,null,null,null,"L6822",null,null,"L6822",null,null,null,null,null,{"$error":"#VALUE!"},0,0]
["M","M_전문, 과학 및 기술 서비스업",{"$f":"SUM(C120:C123)","v":0},0,0,0,0,0,0,0,0,{"$f":"C119+F119","v":0},{"$f":"D119+H119","v":0},{"$f":"E119+J119","v":0},{"$f":"SUM(O120:O123)","v":0},0,0,0,0,0,0,0,0,0,0,0]
["M70","연구개발업(70)","M70",null,null,"M70",null,null,null,null,null,null,null,null,"M70",null,null,"M70",null,null,null,null,null,{"$error":"#VALUE!"},0,0]
["M71","전문서비스업(71)","M71",null,null,"M71",null,null,null,null,null,null,null,null,"M71",null,null,"M71",null,null,null,null,null,{"$error":"#VALUE!"},0,0]
["M72","건축기술, 엔지니어링 및 기타 과학기술 서비스업(72)","M72",null,null,"M72",null,null,null,null,null,null,null,null,"M72",null,null,"M72",null,null,null,null,null,{"$error":"#VALUE!"},0,0]
["M73","기타 전문, 과학 및 기술 서비스업(73)","M73",null,null,"M73",null,null,null,null,null,null,null,null,"M73",null,null,"M73",null,null,null,null,null,{"$f":"O123+R123","v":{"$error":"#VALUE!"}},{"$f":"P123+T123","v":0},{"$f":"Q123+V123","v":0}]
["N","N_사업시설 관리, 사업지원 및 임대 서비스업",{"$f":"SUM(C125:C127)","v":0},0,0,0,0,0,0,0,0,{"$f":"C124+F124","v":0},{"$f":"D124+H124","v":0},{"$f":"E124+J124","v":0},{"$f":"SUM(O125:O127)","v":0},0,0,0,0,0,0,0,0,0,0,0]
["N74","사업시설 관리 및 조경 서비스업(74)","N74",null,null,"N74",null,null,null,null,null,null,null,null,"N74",null,null,"N74",null,null,null,null,null,{"$error":"#VALUE!"},0,0]
["N75","사업지원 서비스업(75)","N75",null,null,"N75",null,null,null,null,null,null,null,null,"N75",null,null,"N75",null,null,null,null,null,{"$error":"#VALUE!"},0,0]
["L69","임대업(부동산 제외)(76)","L69",null,null,"L69",null,null,null,null,null,null,null,null,"L69",null,null,"L69",null,null,null,null,null,{"$f":"O127+R127","v":{"$error":"#VALUE!"}},{"$f":"P127+T127","v":0},{"$f":"Q127+V127","v":0}]
["O","O_공공행정, 국방 및 사회보장 행정",{"$f":"0+C129","v":{"$error":"#VALUE!"}},{"$f":"0+D129","v":0},{"$f":"E129+0","v":0},{"$error":"#VALUE!"},0,0,0,0,0,{"$f":"C128+F128","v":{"$error":"#VALUE!"}},{"$f":"D128+H128","v":0},{"$f":"E128+J128","v":0},{"$f":"O129+0","v":{"$error":"#VALUE!"}},0,0,{"$error":"#VALUE!"},0,0,0,0,0,{"$error":"#VALUE!"},0,0]
["O84","공공행정, 국방 및 사회보장 행정(84)","O84",null,null,"O84",null,null,null,null,null,null,null,null,"O84",null,null,"O84",null,null,null,null,null,{"$error":"#VALUE!"},0,0]
["P","P_교육 서비스업",{"$f":"C131+0","v":{"$error":"#VALUE!"}},0,0,{"$error":"#VALUE!"},0,0,0,0,0,{"$f":"C130+F130","v":{"$error":"#VALUE!"}},{"$f":"D130+H130","v":0},{"$f":"E130+J130","v":0},{"$f":"O131+0","v":{"$error":"#VALUE!"}},0,0,{"$error":"#VALUE!"},0,0,0,0,0,{"$error":"#VALUE!"},0,0]
["P85","교육 서비스업(85)","P85",null,null,"P85",null,null,null,null,null,null,null,null,"P85",null,null,"P85",null,null,null,null,null,{"$error":"#VALUE!"},0,0]
["Q","Q_보건업 및 사회복지 서비스업",{"$f":"SUM(C133:C134)","v":0},0,0,0,0,0,0,0,0,{"$f":"C132+F132","v":0},{"$f":"D132+H132","v":0},{"$f":"E132+J132","v":0},{"$f":"SUM(O133:O134)","v":0},0,0,0,0,0,0,0,0,0,0,0]
["Q86","보건업(86)","Q86",null,null,"Q86",null,null,null,null,null,null,null,null,"Q86",null,null,"Q86",null,null,null,null,null,{"$error":"#VALUE!"},0,0]
["Q87","사회복지 서비스업(87)","Q87",null,null,"Q87",null,null,null,null,null,null,null,null,"Q87",null,null,"Q87",null,null,null,null,null,{"$error":"#VALUE!"},0,0]
["R","R 예술, 스포츠 및 여가관련 서비스업",{"$f":"C136+C137","v":{"$error":"#VALUE!"}},0,0,{"$error":"#VALUE!"},0,0,0,0,0,{"$f":"C135+F135","v":{"$error":"#VALUE!"}},{"$f":"D135+H135","v":0},{"$f":"E135+J135","v":0},{"$f":"O136+O137","v":{"$error":"#VALUE!"}},0,0,{"$error":"#VALUE!"},0,0,0,0,0,{"$error":"#VALUE!"},0,0]
["R90","창작, 예술 및 여가관련 서비스업(90)","R90",null,null,"R90",null,null,null,null,null,null,null,null,"R90",null,null,"R90",null,null,null,null,null,{"$error":"#VALUE!"},0,0]
["R91","스포츠 및 오락관련 서비스업(91)",{"$f":"SUM(C138:C142)","v":0},0,0,0,0,0,0,0,0,{"$f":"C137+F137","v":0},{"$f":"D137+H137","v":0},{"$f":"E137+J137","v":0},{"$f":"SUM(O138:O142)","v":0},0,0,0,0,0,0,0,0,0,0,0]
["R91113","   경주장 및 동물 경기장 운영업(91113)","R91113",null,null,"R91113",null,null,null,null,null,null,null,null,"R91113",null,null,"R91113",null,null,null,null,null,{"$error":"#VALUE!"},0,0]
["R91121","골프장 운영업(91121)","R91121",null,null,"R91121",null,null,null,null,null,null,null,null,"R91121",null,null,"R91121",null,null,null,null,null,{"$error":"#VALUE!"},0,0]
["R91241","복권발행 및 판매업(91241)","R91241",null,null,"R91241",null,null,null,null,null,null,null,null,"R91241",null,null,"R91241",null,null,null,null,null,{"$error":"#VALUE!"},0,0]
["R91249","기타 사행시설 관리 및 운영업(91249)","R91249",null,null,"R91249",null,null,null,null,null,null,null,null,"R91249",null,null,"R91249",null,null,null,null,null,{"$error":"#VALUE!"},0,0]
["R91291","무도장 운영업(91291)","R91291",null,null,"R91291",null,null,null,null,null,null,null,null,"R91291",null,null,"R91291",null,null,null,null,null,{"$f":"O142+R142","v":{"$error":"#VALUE!"}},{"$f":"P142+T142","v":0},{"$f":"Q142+V142","v":0}]
["S","S_협회 및 단체, 수리  및 기타 개인 서비스업",{"$f":"C144+C145+C146","v":{"$error":"#VALUE!"}},0,0,{"$error":"#VALUE!"},0,0,0,0,0,{"$f":"C143+F143","v":{"$error":"#VALUE!"}},{"$f":"D143+H143","v":0},{"$f":"E143+J143","v":0},{"$f":"O144+O145+O146","v":{"$error":"#VALUE!"}},0,0,{"$error":"#VALUE!"},0,0,0,0,0,{"$error":"#VALUE!"},0,0]
["S94","협회 및 단체(94)","S94",null,null,"S94",null,null,null,null,null,null,null,null,"S94",null,null,"S94",null,null,null,null,null,{"$error":"#VALUE!"},0,0]
["S95","개인 및 소비용품 수리업(95)","S95",null,null,"S95",null,null,null,null,null,null,null,null,"S95",null,null,"S95",null,null,null,null,null,{"$error":"#VALUE!"},0,0]
["S96","기타 개인 서비스업(96)",{"$f":"SUM(C147:C148)","v":0},0,0,0,0,0,0,0,0,{"$f":"C146+F146","v":0},{"$f":"D146+H146","v":0},{"$f":"E146+J146","v":0},{"$f":"SUM(O147:O148)","v":0},0,0,0,0,0,0,0,0,0,0,0]
["S96121","욕탕업(96121)","S96121",null,null,"S96121",null,null,null,null,null,null,null,null,"S96121",null,null,"S96121",null,null,null,null,null,{"$error":"#VALUE!"},0,0]
["S96122","마사지업(96122)","S96122",null,null,"S96122",null,null,null,null,null,null,null,null,"S96122",null,null,"S96122",null,null,null,null,null,{"$error":"#VALUE!"},0,0]
["T","T_가구내 고용활동 및 달리 분류되지 않은 자가소비 생산활동","T",null,null,"T",null,null,null,null,null,null,null,null,"T",null,null,"T",null,null,null,null,null,{"$error":"#VALUE!"},0,0]
["U","U_국제 및 외국기관","U",null,null,"U",null,null,null,null,null,null,null,null,"U",null,null,"U",null,null,null,null,null,{"$error":"#VALUE!"},0,0]
["Z","Z_합계",{"$f":"C12+C16+C21+C47+C49+C54+C65+C69+C74+C94+C101+C105+C119+C124+C128+C130+C132+C135+C143+C149+C150","v":{"$error":"#VALUE!"}},0,0,{"$error":"#VALUE!"},0,0,0,0,0,{"$error":"#VALUE!"},0,0,{"$error":"#VALUE!"},0,0,{"$error":"#VALUE!"},0,0,0,0,0,{"$error":"#VALUE!"},0,0]
[]
["문의처 : (건전경영총괄팀)일반은행국",null,null,null,null,null,null,null,null,null,null,null,null,null,null,null,null,0]
[]
["[ 작성요령 ]"]
[]
["1. 통계청이 고시하는 \"한국표준산업분류\"를 참조하여 작성"]
["2. 은행계정 원화대출금 및 신탁계정 대출금 중 대기업대출계 : \"여신종별 연체대출채권(B2410)\"의 은행계정 기업자금대출금 중 대기업(AA11)과 신탁계정 기업자금대출금 중 대기업(BA11)의 합과 일치"]
["3. 은행계정 원화대출금 및 신탁계정 대출금 중 중소기업대출계 : \"여신종별 연체대출채권(B2410)\"의 은행계정 기업자금대출금 중 중소기업(AA12)과 신탁계정 기업자금대출금 중 중소기업(BA12)의 합과 일치"]
["4. 은행계정 원화대출금 및 신탁계정 대출금 중 중소기업대출 중 개인사업자 : \"여신종별 연체대출채권(B2410)\"의 은행계정 기업자금대출금 중 개인사업자(AA12A)와 신탁계정 기업자금대출금 중 개인사업자(BA12A)의 합과 일치"]
["5. 은행계정 원화대출금 및 신탁계정 대출금 중 기업대출계 : \"여신종별 연체대출채권(B2410)\"의 은행계정 기업자금대출금(AA1)과 신탁계정 기업자금대출금(BA1)의 합과 일치"]
["6. 무수익여신산정대상 여신 중 대기업대출계 : \"여신종별 연체대출채권(B2410)\"의 \"대출채권합계(D)\" 중 \"대기업합계(D11)\"와 일치"]
["7. 무수익여신산정대상 여신 중 중소기업대출계 : \"여신종별 연체대출채권(B2410)\"의 \"대출채권 합계(D)\" 중 \"중소기업합계(D12)\"와 일치"]
["8. 무수익여신산정대상 여신 중 중소기업대출계 중 개인사업자 : \"여신종별 연체대출채권(B2410)\"의 \"대출채권 합계(D)\" 중 \"개인사업자합계(D12A)\"와 일치"]
["9. 무수익여신산정대상 여신 중 기업대출계 : \"여신종별 연체대출채권(B2410)\"의 \"대출채권 합계(D)\" 중 \"기업합계(D1)\"에서 \"기업신용카드채권(D13)\"을 차감한 금액과 일치"]
["10. 1일이상 원금 기준 연체대출채권(B, E, H) : \"여신종별 연체대출채권(B2410)\"의 작성요령 제4조 참조"]
["11. 1개월이상 원리금 기준 연체대출채권(C, F, I) : \"여신종별 연체대출채권(B2410)\"의 작성요령 제5조 참조"]
["12. 제10차 표준산업분류코드 개정에 따라 17년 9말 기준 업무보고서 부터 적용"]
[]
["C=C10+~+C34"]
[]
["F = F41 + F42"]
["F41=F411+F412"]
["F42=F421+F422+F423+F424+F425+F426"]
[]
["I=I55+I56"]
["I55=I551+I559"]
["I56=I561+I562"]
["I561=I5611+I5612+I5613+I5614+I5619"]
["I562=I5621+I5622"]
[]
["L68=L681+L682"]
["L681=L6811+L6812"]
["L682=L6821+L6822"]
[]
["Z=A+B+C+D+E+F+G+H+I+J+K+L+M+N+O+P+Q+R+S+T+U"]

{"sheet":"B2431","index":12,"n_rows":74,"n_cols":54,"rows_kept":74,"cut":false,"hidden":false,"merged":[[9,3,10,3],[9,15,10,15],[9,19,10,19],[9,21,10,21],[6,0,10,0],[6,1,10,1],[6,2,7,17],[6,18,7,23],[8,2,10,2],[8,4,8,12],[8,14,10,14],[8,16,10,16],[8,17,10,17],[8,18,10,18],[8,20,10,20],[8,22,10,22],[8,23,10,23]]}
["여신종별 충당금 설정 현황(B2431)(신설)",null,null,null,null,null,null,null,null,null,null,null,null,null,null,null,null,null,null,null,null,null,null,"[작성주기 : 분기]",null,null,null,null,null,null,null,null,null,null,null,null,null,null,null,null,null,null,null,null,null,null,null,null,null,null,null,null,"MDS VALIDATE",{"$f":"COUNTIF(Y:Y,\"Check\")+COUNTIF(AA:AA,\"Check\")","v":0}]
[null,null,null,null,"* 결과값을 백만 단위로 보고",null,"F_건설업 : Industry code_F","4) EXP TOTAL","ABD/BAC/BAP/BPC/BPP/FOT/NRD/OAE/OBC/REN/RFE/RFI/RFP/XBZ/LAE/RBU/SBN/SXX"]
[null,null,null,null,"정상","(ZXCRGR 3이상)","G_도매 : Industry code_G"]
[null,null,null,null,"요주의","(ZXCRGR 4)","I_숙박 :  : Industry code_I"]
[null,null,null,null,null,null,"L_부동산 :  : Industry code_L"]
[null,null,null,null,null,null,"기타업종_F/G/I/L 이 외"]
["코드","코드명","적립대상 여신금액",null,null,null,null,null,null,null,null,null,null,null,null,null,null,null,"실제적립액"]
[]
[null,null,"기업\n(A)",null,null,null,null,null,null,null,null,null,null,null,"가계\n(B)",null,"신용카드\n(C)","계\n(D)","기업\n(E)",null,"가계\n(F)",null,"신용카드\n(G)","계\n(H)"]
[null,null,null,"신규지원자금 계(A0)","F_건설업\n(A1)",null,"G_도매 및\n소매업\n(A2)",null,"I_숙박 및\n 음식점업\n(A3)",null,"L_부동산 및 임대업\n(A4)",null,"기타업종\n(A5)",null,null,"Pre-Workout 관련(B0)",null,null,null,"신규지원자금(E0)",null,"Pre-Workout 관련(F0)"]
[null,null,null,null,null,"신규지원자금(A10)",null,"신규지원자금(A20)",null,"신규지원자금(A30)",null,"신규지원자금(A40)",null,"신규지원자금(A50)",null,null,null,null,null,null,null,null,null,null,"CHECK STATUS 1","Control Value 1","CHECK STATUS 2","Control Value 2"]
["A","대손충당금",{"$f":"SUM(E12:N12)","v":0},{"$f":"SUM(D13:D17)","v":0},null,{"$f":"SUM(F13:F17)","v":0},0,0,0,0,0,0,0,0,0,0,0,{"$f":"+Q12+O12+C12","v":0},{"$f":"SUM(S13:S17)","v":0},{"$f":"SUM(T13:T17)","v":0},0,0,0,{"$f":"+S12+U12+W12","v":0}]
["A1","정상_ ZXCRGR 3이상",{"$f":"SUM(E13:N13)","v":0},0,"1) OAV/OAM\n2) CIL+LAI+PNP+BDU+YBZ+ 미수이자(CIL+LAI+PNP+BDU+YBZ )\n4) EXP TOTAL + 미수이자 (은행간 외대)",null,"1) OAV\n2) CIL+LAI+PNP+BDU+YBZ+ 미수이자(CIL+LAI+PNP+BDU+YBZ )\n4) EXP TOTAL + 미수이자 (은행간 외대)",null,"1) OAV\n2) CIL+LAI+PNP+BDU+YBZ+ 미수이자(CIL+LAI+PNP+BDU+YBZ )\n4) EXP TOTAL + 미수이자 (은행간 외대)",null,"1) OAV\n2) CIL+LAI+PNP+BDU+YBZ+ 미수이자(CIL+LAI+PNP+BDU+YBZ )\n4) EXP TOTAL + 미수이자 (은행간 외대)",null,"1) OAV\n2) CIL+LAI+PNP+BDU+YBZ+ 미수이자(CIL+LAI+PNP+BDU+YBZ )\n4) EXP TOTAL + 미수이자 (은행간 외대)",null,null,null,null,{"$f":"+Q13+O13+C13","v":0},"1) OAV 충당금\n2) (CIL+LAI+PNP+BDU+YBZ) 충당금+ 미수이자(CIL+LAI+PNP+BDU+YBZ ) 충당금\n4) EXP TOTAL 충당금 + 미수이자 충당금",null,null,null,null,{"$f":"+S13+U13+W13","v":{"$error":"#VALUE!"}},{"$f":"IF(ABS(Z13-R13)<2,\"OK\",\"Check\")","v":"OK"},null,{"$f":"IF(ABS(AB13-X13)<2,\"OK\",\"Check\")","v":{"$error":"#VALUE!"}}]
["A2","요주의_ ZXCRGR 4",{"$f":"SUM(E14:N14)","v":0},0,"1) OAV/OAM\n2) CIL+LAI+PNP+BDU+YBZ+ 미수이자(CIL+LAI+PNP+BDU+YBZ )\n4) EXP TOTAL + 미수이자 (은행간 외대)",null,"1) OAV\n2) CIL+LAI+PNP+BDU+YBZ+ 미수이자(CIL+LAI+PNP+BDU+YBZ )\n4) EXP TOTAL + 미수이자 (은행간 외대)",null,"1) OAV\n2) CIL+LAI+PNP+BDU+YBZ+ 미수이자(CIL+LAI+PNP+BDU+YBZ )\n4) EXP TOTAL + 미수이자 (은행간 외대)",null,"1) OAV\n2) CIL+LAI+PNP+BDU+YBZ+ 미수이자(CIL+LAI+PNP+BDU+YBZ )\n4) EXP TOTAL + 미수이자 (은행간 외대)",null,"1) OAV\n2) CIL+LAI+PNP+BDU+YBZ+ 미수이자(CIL+LAI+PNP+BDU+YBZ )\n4) EXP TOTAL + 미수이자 (은행간 외대)",null,null,null,null,0,"1) OAV 충당금\n2) (CIL+LAI+PNP+BDU+YBZ) 충당금+ 미수이자(CIL+LAI+PNP+BDU+YBZ ) 충당금\n4) EXP TOTAL 충당금 + 미수이자 충당금",null,null,null,null,{"$f":"+S14+U14+W14","v":{"$error":"#VALUE!"}},{"$f":"IF(ABS(Z14-R14)<2,\"OK\",\"Check\")","v":"OK"},0,{"$f":"IF(ABS(AB14-X14)<2,\"OK\",\"Check\")","v":{"$error":"#VALUE!"}},{"$f":"ROUND((0),5)","v":0}]
["A3","고정",0,0,null,null,null,null,null,null,null,null,null,null,null,null,null,0,null,null,null,null,null,{"$f":"+S15+U15+W15","v":0},"OK",0,"OK",{"$f":"ROUND((0),5)","v":0}]
["A4","회수의문",0,0,null,null,null,null,null,null,null,null,null,null,null,null,null,0,null,null,null,null,null,0,"OK",0,"OK",{"$f":"ROUND((0),5)","v":0}]
["A5","추정손실",0,0,null,null,null,null,null,null,null,null,null,null,null,null,null,0,null,null,null,null,null,0,"OK",0,"OK",{"$f":"ROUND((0),5)","v":0}]
["B","지급보증충당금",0,{"$f":"SUM(D19:D23)","v":0},0,0,0,0,0,0,0,0,0,0,0,0,0,{"$f":"+Q18+C18","v":0},{"$f":"SUM(S19:S23)","v":0},0,0,0,0,0]
["B1","정상_ ZXCRGR 3이상",0,0,"2) DC/DPC 20% _SDN/SDC/SDG/SGT/AWR 50%_ BR/DPB 100%\n3) FNG 100% /(FNG 제외 GTE TOTAL 값의 50%)",null,"2) DC/DPC 20% _SDN/SDC/SDG/SGT/AWR 50%_ BR/DPB 100%\n3) FNG 100% /(FNG 제외 GTE TOTAL 값의 50%)",null,"2) DC/DPC 20% _SDN/SDC/SDG/SGT/AWR 50%_ BR/DPB 100%\n3) FNG 100% /(FNG 제외 GTE TOTAL 값의 50%)",null,"2) DC/DPC 20% _SDN/SDC/SDG/SGT/AWR 50%_ BR/DPB 100%\n3) FNG 100% /(FNG 제외 GTE TOTAL 값의 50%)",null,"2) DC/DPC 20% _SDN/SDC/SDG/SGT/AWR 50%_ BR/DPB 100%\n3) FNG 100% /(FNG 제외 GTE TOTAL 값의 50%)",null,null,null,null,0,"2) BR/DPB/DC/DPC/SDN/SDC/SDG/SGT/AWR 충당금\n3) GTE TOTAL 충당금 TOTAL",null,null,null,null,{"$f":"+S19+U19+W19","v":{"$error":"#VALUE!"}},{"$f":"IF(ABS(Z19-R19)<2,\"OK\",\"Check\")","v":"OK"},0,{"$f":"IF(ABS(AB19-X19)<2,\"OK\",\"Check\")","v":{"$error":"#VALUE!"}},{"$f":"ROUND((0+0+0+0),5)","v":0}]
["B2","요주의_ ZXCRGR 4",0,0,"2) DC/DPC 20% _SDN/SDC/SDG/SGT/AWR 50%_ BR/DPB 100%\n3) FNG 100% /(FNG 제외 GTE TOTAL 값의 50%)",null,"2) DC/DPC 20% _SDN/SDC/SDG/SGT/AWR 50%_ BR/DPB 100%\n3) FNG 100% /(FNG 제외 GTE TOTAL 값의 50%)",null,"2) DC/DPC 20% _SDN/SDC/SDG/SGT/AWR 50%_ BR/DPB 100%\n3) FNG 100% /(FNG 제외 GTE TOTAL 값의 50%)",null,"2) DC/DPC 20% _SDN/SDC/SDG/SGT/AWR 50%_ BR/DPB 100%\n3) FNG 100% /(FNG 제외 GTE TOTAL 값의 50%)",null,"2) DC/DPC 20% _SDN/SDC/SDG/SGT/AWR 50%_ BR/DPB 100%\n3) FNG 100% /(FNG 제외 GTE TOTAL 값의 50%)",null,null,null,null,0,"2) BR/DPB/DC/DPC/SDN/SDC/SDG/SGT/AWR 충당금\n3) GTE TOTAL 충당금 TOTAL",null,null,null,null,{"$error":"#VALUE!"},{"$f":"IF(ABS(Z20-R20)<2,\"OK\",\"Check\")","v":"OK"},0,{"$f":"IF(ABS(AB20-X20)<2,\"OK\",\"Check\")","v":{"$error":"#VALUE!"}},{"$f":"ROUND((0+0),5)","v":0}]
["B3","고정",0,0,null,null,null,null,null,null,null,null,null,null,null,null,null,0,null,null,null,null,null,0,"OK",0,"OK",{"$f":"ROUND((0+0),5)","v":0}]
["B4","회수의문",0,0,null,null,null,null,null,null,null,null,null,null,null,null,null,0,null,null,null,null,null,0,"OK",0,"OK",{"$f":"ROUND((0+0),5)","v":0}]
["B5","추정손실",0,0,null,null,null,null,null,null,null,null,null,null,null,null,null,0,null,null,null,null,null,0,"OK",0,"OK",{"$f":"ROUND((0+0),5)","v":0}]
["C","미사용약정충당금",0,{"$f":"SUM(D25:D29)","v":0},0,0,0,0,0,0,0,0,0,0,0,0,0,{"$f":"+Q24+O24+C24","v":0},{"$f":"SUM(S25:S29)","v":0},{"$f":"SUM(T25:T29)","v":0},0,0,0,{"$f":"+S24+U24+W24","v":0}]
["C1","정상_ ZXCRGR 3이상",0,0,null,null,null,null,null,null,null,null,null,null,null,null,null,{"$f":"+Q25+O25+C25","v":0},null,null,null,null,null,{"$f":"+S25+U25+W25","v":0},{"$f":"IF(ABS(Z25-R25)<2,\"OK\",\"Check\")","v":"OK"},0,{"$f":"IF(ABS(AB25-X25)<2,\"OK\",\"Check\")","v":"OK"},{"$f":"ROUND((0+0),5)","v":0}]
["C2","요주의_ ZXCRGR 4",0,0,null,null,null,null,null,null,null,null,null,null,null,null,null,{"$f":"+Q26+C26","v":0},null,null,null,null,null,0,{"$f":"IF(ABS(Z26-R26)<2,\"OK\",\"Check\")","v":"OK"},0,{"$f":"IF(ABS(AB26-X26)<2,\"OK\",\"Check\")","v":"OK"},0]
["C3","고정",0,0,null,null,null,null,null,null,null,null,null,null,null,null,null,{"$f":"+Q27+C27","v":0},null,null,null,null,null,0,"OK",0,"OK",0]
["C4","회수의문",0,0,null,null,null,null,null,null,null,null,null,null,null,null,null,{"$f":"+Q28+C28","v":0},null,null,null,null,null,0,"OK",0,"OK",0]
["C5","추정손실",0,0,null,null,null,null,null,null,null,null,null,null,null,null,null,{"$f":"+Q29+C29","v":0},null,null,null,null,null,0,"OK",0,"OK",0]
["D","합계",{"$f":"SUM(C31:C35)","v":0},0,{"$error":"#VALUE!"},0,{"$error":"#VALUE!"},0,{"$error":"#VALUE!"},0,{"$error":"#VALUE!"},0,{"$error":"#VALUE!"},0,{"$f":"SUM(O31:O35)","v":0},0,0,0,{"$error":"#VALUE!"},{"$f":"SUM(T31:T35)","v":0},0,0,0,{"$error":"#VALUE!"}]
["D1","정상_ ZXCRGR 3이상",{"$f":"+C13+C19+C25","v":0},{"$f":"D13+D19+D25","v":0},{"$error":"#VALUE!"},0,{"$error":"#VALUE!"},0,{"$error":"#VALUE!"},0,{"$error":"#VALUE!"},0,{"$error":"#VALUE!"},0,0,0,0,0,{"$error":"#VALUE!"},0,0,0,0,{"$error":"#VALUE!"}]
["D2","요주의_ ZXCRGR 4",0,0,{"$error":"#VALUE!"},0,{"$error":"#VALUE!"},0,{"$error":"#VALUE!"},0,{"$error":"#VALUE!"},0,{"$error":"#VALUE!"},0,0,0,0,0,{"$error":"#VALUE!"},0,0,0,0,{"$error":"#VALUE!"}]
["D3","고정",0,0,0,0,0,0,0,0,0,0,0,0,0,0,0,0,0,0,0,0,0,0]
["D4","회수의문",0,0,0,0,0,0,0,0,0,0,0,0,0,0,0,0,0,0,0,0,0,0]
["D5","추정손실",0,0,0,0,0,0,0,0,0,0,0,0,0,0,0,0,0,0,0,0,0,0]
[]
["문의처 : (건전경영총괄팀)일반은행국"]
[]
["[ 작성요령 ]"]
[]
["1. \"대손충당금(A)\", \"지급보증충당금(B)\", \"미사용약정충당금(C)\"의 \"적립대상 여신금액\"은 은행업감독규정 제29조에 의한 대손충당금, 지급보증충당금, 미사용약정충당금 적립대상 여신 금액"]
[null,"(단, 지급보증충당금, 미사용약정충당금의 \"적립대상 여신금액\"은 은행업감독규정 <별표3-2>의 신용환산율 적용 후 금액) "]
[]
["2. \"기업\"은 \"기업여신\"과 \"공공및기타여신\"의 합계"]
[]
["3. \"실제적립액\"은 분기말 현재 실제로 적립한 대손충당금, 지급보증충당금, 미사용약정충당금 잔액을 기재(\"기업\"의 \"실제적립액\"은 업종별 합계 기재)"]
[]
["4. \"실제적립액\"의 \"계(H)\" 작성요령"]
[null,"- \"대손충당금(A)\": \"대손충당금 등 설정현황(B2402)\" 중 \"무수익여신 산정대상 기준 대손충당금 총계(B1)\" 및 \"기타여신성채권 기준 대손충당금 총계(B2)의 \"계(E)\"의 합과 일치"]
[null,"- \"지급보증충당금(C)\": \"대손충당금 등 설정현황(B2402)\" 중 \"지급보증충당금 총계(D)\"의 \"계(E)\"와 일치"]
[null,"- \"미사용약정충당금(D)\": \"대손충당금 등 설정현황(B2402)\" 중 \"미사용약정충당금 총계(E)\"의 \"계(E)\"와 일치"]
[]
["5. 업종분류는 통계청 고시 \"한국표준산업분류\"에 따름"]
[null,"- 기업여신에 대한 업종 분류시 업종별 산업위험이 적정하게 반영될 수 있도록 분류"]
[null," 예) 부동산 관련 자산유동화회사(SPC) 대한 여신금액은 사업성 평가시 실제 반영된 산업위험을 감안하여 업종을 분류"]
[]
["6. \"기타업종\"은 \"F_건설업\", \"G_도매 및 소매업\", \"I_숙박 및 음식점업\", \"L_부동산 및 임대업\" 이외의 모든 업종"]
[]
["7. \"신규지원자금\"은 고정이하 분류 워크아웃 업체에 대한 신규 지원 자금"]
[]
["8. \"Pre-Workout 관련\"은 은행업감독규정 \"사전 채무조정 대상 자산에 대한 충당금적립에 관한 특례\"와 관련하여 신용회복지원대상으로 확정된 이후 6개월간 변제계획대로 상환하여 \"정상\"분류자산에 준하여 충당금을 적립하는 경우"]
[]
[]
["<열 산식>"]
["(10행, 11행) (A)=(A1)~(A5)의 합"]
["(10행, 11행) (D)=(A)+(B)+(C )"]
["(10행, 11행) (H)=(E)+(F)+(G )"]
[]
["<행 산식>"]
["코드 A=A1~A5의 합"]
["코드 B=B1~B5의 합"]
["코드 C=C1~C5의 합"]
["코드 D=D1~D5의 합"]
["코드 D=A+B+C"]

{"sheet":"B2511-1","index":13,"n_rows":180,"n_cols":54,"rows_kept":180,"cut":false,"hidden":false,"merged":[[27,1,48,1],[2,0,4,0],[2,1,4,2],[2,3,2,12],[2,15,4,15],[5,1,26,1],[172,1,174,1],[175,1,179,1],[49,1,70,1],[71,1,92,1],[93,1,114,1],[115,1,138,1],[139,1,160,1],[163,1,171,1]]}
["기준금리 유형별 여수신 잔액현황(B2511-1)",null,null,null,null,"PF",null,null,null,null,null,null,null,null,null,"[작성주기 : 월]",null,null,null,null,null,null,null,null,null,null,null,null,null,null,null,null,null,null,null,null,null,null,null,null,null,null,null,null,null,null,null,null,null,null,null,null,"MDS VALIDATE",{"$f":"COUNTIF(R:R,\"Check\")","v":0}]
[null,null,null,null,null,null,null,null,null,null,null,null,null,null,null,"(단위 : 백만원)"]
["코드","코  드  명",null,"잔존만기별",null,null,null,null,null,null,null,null,null,null,null,"합계\n(말잔)"]
[null,null,null,"3개월 이하","3개월 초과","6개월 초과","9개월 초과","1년 초과","3년 초과","5년 초과","10년 초과","15년 초과","20년 초과","연체중","만기산정곤란"]
[null,null,null,null,"6개월 이하","9개월 이하","1년 이하","3년 이하","5년 이하","10년 이하","15년 이하","20년 이하",null,null,null,null,null,"Total Check","Control Value"]
["A1","은행계정\n원화대출금"," Ⅰ. 고정금리조건(확정금리조건)",{"$f":"+D28+D94","v":{"$error":"#VALUE!"}},{"$error":"#VALUE!"},{"$error":"#VALUE!"},{"$error":"#VALUE!"},{"$error":"#VALUE!"},0,0,0,0,0,0,0,{"$f":"SUM(D6:O6)","v":{"$error":"#VALUE!"}}]
["A2",null," Ⅱ. 변동금리조건",0,0,0,0,0,0,0,0,0,0,0,0,{"$f":"SUM(D7:O7)","v":0}]
["A21",null,"   가. 프라임레이트연동",0,0,0,0,0,0,0,0,0,0,0,0,0]
["A22",null,"   나. 시장금리연동",0,0,0,0,0,0,0,0,0,0,0,0,0]
["A221",null,"               CD연동",0,0,0,0,0,0,0,0,0,0,0,0,0]
["A222",null,"               코리보 연동",0,0,0,0,0,0,0,0,0,0,0,0,0]
["A223",null,"               국고채 금리 연동",0,0,0,0,0,0,0,0,0,0,0,0,0]
["A224",null,"               금융채 금리 연동",0,0,0,0,0,0,0,0,0,0,0,0,0]
["A225",null,"               내부기준금리 연동",0,0,0,0,0,0,0,0,0,0,0,0,0]
["A226",null,"               기타 시장금리 연동",0,0,0,0,0,0,0,0,0,0,0,0,0]
["A23",null,"    다. 수신금리연동",0,0,0,0,0,0,0,0,0,0,0,0,0]
["A231",null,"               내부기준금리 연동",0,0,0,0,0,0,0,0,0,0,0,0,0]
["A232",null,"               기타수신금리 연동",0,0,0,0,0,0,0,0,0,0,0,0,0]
["A24",null,"    라. COFIX 연동",0,0,0,0,0,0,0,0,0,0,0,0,0]
["A241",null,"               단기COFIX 연동",0,0,0,0,0,0,0,0,0,0,0,0,0]
["A242",null,"               잔액기준 COFIX 연동",0,0,0,0,0,0,0,0,0,0,0,0,0]
["A243",null,"               신규취급액기준 COFIX 연동",{"$f":"+D44+D110","v":0},0,0,0,0,0,0,0,0,0,0,0,0]
["A244",null,"               혼합 COFIX",0,0,0,0,0,0,0,0,0,0,0,0,0]
["A245",null,"               신잔액기준 COFIX 연동",0,0,0,0,0,0,0,0,0,0,0,0,0]
["A25",null,"    마. 기타변동금리",0,0,0,0,0,0,0,0,0,0,0,0,0]
["A3",null," Ⅲ. 혼합형(변동금리 + 고정금리)",0,0,0,0,0,0,0,0,0,0,0,0,0]
["A4",null,"소계(A1+A2+A3)",{"$error":"#VALUE!"},{"$error":"#VALUE!"},{"$error":"#VALUE!"},{"$error":"#VALUE!"},{"$error":"#VALUE!"},0,0,0,0,0,0,0,{"$f":"SUM(D27:O27)","v":{"$error":"#VALUE!"}},null,{"$f":"IF(ABS(S27-P27)<2,\"OK\",\"Check\")","v":{"$error":"#VALUE!"}},19180.474310000001]
["B1","은행계정\n원화대출금중\n기업자금대출금"," Ⅰ. 고정금리조건(확정금리조건)",{"$f":"+D50+D72","v":{"$error":"#VALUE!"}},{"$error":"#VALUE!"},{"$error":"#VALUE!"},{"$error":"#VALUE!"},{"$error":"#VALUE!"},0,0,0,0,0,0,0,{"$error":"#VALUE!"}]
["B2",null," Ⅱ. 변동금리조건",0,0,0,0,0,0,0,0,0,0,0,0,0]
["B21",null,"   가. 프라임레이트연동",0,0,0,0,0,0,0,0,0,0,0,0,0]
["B22",null,"   나. 시장금리연동",0,0,0,0,0,0,0,0,0,0,0,0,0]
["B221",null,"               CD연동",0,0,0,0,0,0,0,0,0,0,0,0,0]
["B222",null,"               코리보 연동",0,0,0,0,0,0,0,0,0,0,0,0,0]
["B223",null,"               국고채 금리 연동",0,0,0,0,0,0,0,0,0,0,0,0,0]
["B224",null,"               금융채 금리 연동",0,0,0,0,0,0,0,0,0,0,0,0,0]
["B225",null,"               내부기준금리 연동",0,0,0,0,0,0,0,0,0,0,0,0,0]
["B226",null,"               기타 시장금리 연동",0,0,0,0,0,0,0,0,0,0,0,0,0]
["B23",null,"    다. 수신금리연동",0,0,0,0,0,0,0,0,0,0,0,0,0]
["B231",null,"               내부기준금리 연동",0,0,0,0,0,0,0,0,0,0,0,0,0]
["B232",null,"               기타수신금리 연동",0,0,0,0,0,0,0,0,0,0,0,0,0]
["B24",null,"    라. COFIX 연동",0,0,0,0,0,0,0,0,0,0,0,0,0]
["B241",null,"               단기COFIX 연동",0,0,0,0,0,0,0,0,0,0,0,0,0]
["B242",null,"               잔액기준 COFIX 연동",0,0,0,0,0,0,0,0,0,0,0,0,0]
["B243",null,"               신규취급액기준 COFIX 연동",{"$f":"+D66+D88","v":0},0,0,0,0,0,0,0,0,0,0,0,0]
["B244",null,"               혼합 COFIX",0,0,0,0,0,0,0,0,0,0,0,0,0]
["B245",null,"               신잔액기준 COFIX 연동",0,0,0,0,0,0,0,0,0,0,0,0,0]
["B25",null,"    마. 기타변동금리",0,0,0,0,0,0,0,0,0,0,0,0,0]
["B3",null," Ⅲ. 혼합형(변동금리 + 고정금리)",0,0,0,0,0,0,0,0,0,0,0,0,0]
["B4",null,"소계",{"$error":"#VALUE!"},{"$error":"#VALUE!"},{"$error":"#VALUE!"},{"$error":"#VALUE!"},{"$error":"#VALUE!"},0,0,0,0,0,0,0,{"$error":"#VALUE!"}]
["C1","은행계정 원화\n기업자금대출금\n중 대기업대출"," Ⅰ. 고정금리조건(확정금리조건)","1) OAV_KRW중 (DUE-말일)<=90\n2) LAI_KRW중 (DUE-말일)<=90\n4) XBZ/LAE_KRW중 (DUE-말일)<=90","1) 90<OAV_KRW중 (DUE-말일)<=180\n2) 90<LAI_KRW중 (DUE-말일)<=180\n4) 90<XBZ/LAE_KRW중 (DUE-말일)<=180","1) 180<OAV_KRW중 (DUE-말일)<=270\n2) 180<LAI_KRW중 (DUE-말일)<=270\n4) 180<XBZ/LAE_KRW중 (DUE-말일)<=270","1) 270<OAV_KRW중 (DUE-말일)<=365\n2) 270<LAI_KRW중 (DUE-말일)<=365\n4) 270<XBZ/LAE_KRW중 (DUE-말일)<=365","1) 1Y<OAV_KRW중 (DUE-말일)<=3Y\n2) 1Y<LAI_KRW중 (DUE-말일)<=3Y\n4) 1Y <XBZ/LAE_KRW중 (DUE-말일)<=3Y",null,null,null,null,null,null,null,0]
["C2",null," Ⅱ. 변동금리조건",{"$f":"+D52+D53+D60+D63+D69","v":0},0,0,0,0,0,0,0,0,0,0,0,0]
["C21",null,"   가. 프라임레이트연동",null,null,null,null,null,null,null,null,null,null,null,null,0]
["C22",null,"   나. 시장금리연동",{"$f":"+D54+D55+D56+D57+D58+D59","v":0},{"$f":"+E54+E55+E56+E57+E58+E59","v":0},0,0,0,0,0,0,0,0,0,0,0]
["C221",null,"               CD연동",null,null,null,null,null,null,null,null,null,null,null,null,0]
["C222",null,"               코리보 연동",null,null,null,null,null,null,null,null,null,null,null,null,0]
["C223",null,"               국고채 금리 연동",null,null,null,null,null,null,null,null,null,null,null,null,0]
["C224",null,"               금융채 금리 연동",null,null,null,null,null,null,null,null,null,null,null,null,0]
["C225",null,"               내부기준금리 연동",null,null,null,null,null,null,null,null,null,null,null,null,0]
["C226",null,"               기타 시장금리 연동",null,null,null,null,null,null,null,null,null,null,null,null,0]
["C23",null,"    다. 수신금리연동",{"$f":"+D61+D62","v":0},{"$f":"+E61+E62","v":0},0,0,0,0,0,0,0,0,0,0,0]
["C231",null,"               내부기준금리 연동",null,null,null,null,null,null,null,null,null,null,null,null,0]
["C232",null,"               기타수신금리 연동",null,null,null,null,null,null,null,null,null,null,null,null,0]
["C24",null,"    라. COFIX 연동",{"$f":"+D64+D65+D66+D67+D68","v":0},{"$f":"+E64+E65+E66+E67+E68","v":0},0,0,0,0,0,0,0,0,0,0,0]
["C241",null,"               단기COFIX 연동",null,null,null,null,null,null,null,null,null,null,null,null,0]
["C242",null,"               잔액기준 COFIX 연동",null,null,null,null,null,null,null,null,null,null,null,null,0]
["C243",null,"               신규취급액기준 COFIX 연동",null,null,null,null,null,null,null,null,null,null,null,null,0]
["C244",null,"               혼합 COFIX",null,null,null,null,null,null,null,null,null,null,null,null,0]
["C245",null,"               신잔액기준 COFIX 연동",null,null,null,null,null,null,null,null,null,null,null,null,0]
["C25",null,"    마. 기타변동금리",null,null,null,null,null,null,null,null,null,null,null,null,0]
["C3",null," Ⅲ. 혼합형(변동금리 + 고정금리)",null,null,null,null,null,null,null,null,null,null,null,null,0]
["C4",null,"소계",{"$f":"+D50+D51+D70","v":{"$error":"#VALUE!"}},{"$f":"+E50+E51+E70","v":{"$error":"#VALUE!"}},{"$error":"#VALUE!"},{"$error":"#VALUE!"},{"$error":"#VALUE!"},{"$f":"+I50+I51+I70","v":0},0,0,0,0,0,0,{"$error":"#VALUE!"}]
["D1","은행계정 원화\n기업자금대출금\n중 중소기업대출"," Ⅰ. 고정금리조건(확정금리조건)",null,null,null,null,null,null,null,null,null,null,null,null,0]
["D2",null," Ⅱ. 변동금리조건",{"$f":"+D74+D75+D82+D85+D91","v":0},{"$f":"+E74+E75+E82+E85+E91","v":0},0,0,0,0,0,0,0,0,0,0,0]
["D21",null,"   가. 프라임레이트연동",null,null,null,null,null,null,null,null,null,null,null,null,{"$f":"SUM(D74:O74)","v":0}]
["D22",null,"   나. 시장금리연동",{"$f":"+D76+D77+D78+D79+D80+D81","v":0},{"$f":"+E76+E77+E78+E79+E80+E81","v":0},0,0,0,0,0,0,0,0,0,0,0]
["D221",null,"               CD연동",null,null,null,null,null,null,null,null,null,null,null,null,0]
["D222",null,"               코리보 연동",null,null,null,null,null,null,null,null,null,null,null,null,0]
["D223",null,"               국고채 금리 연동",null,null,null,null,null,null,null,null,null,null,null,null,0]
["D224",null,"               금융채 금리 연동",null,null,null,null,null,null,null,null,null,null,null,null,0]
["D225",null,"               내부기준금리 연동",null,null,null,null,null,null,null,null,null,null,null,null,0]
["D226",null,"               기타 시장금리 연동",null,null,null,null,null,null,null,null,null,null,null,null,0]
["D23",null,"    다. 수신금리연동",{"$f":"+D83+D84","v":0},{"$f":"+E83+E84","v":0},0,0,0,0,0,0,0,0,0,0,0]
["D231",null,"               내부기준금리 연동",null,null,null,null,null,null,null,null,null,null,null,null,0]
["D232",null,"               기타수신금리 연동",null,null,null,null,null,null,null,null,null,null,null,null,0]
["D24",null,"    라. COFIX 연동",{"$f":"+D86+D87+D88+D89+D90","v":0},{"$f":"+E86+E87+E88+E89+E90","v":0},0,0,0,0,0,0,0,0,0,0,0]
["D241",null,"               단기COFIX 연동",null,null,null,null,null,null,null,null,null,null,null,null,0]
["D242",null,"               잔액기준 COFIX 연동",null,null,null,null,null,null,null,null,null,null,null,null,0]
["D243",null,"               신규취급액기준 COFIX 연동",null,null,null,null,null,null,null,null,null,null,null,null,0]
["D244",null,"               혼합 COFIX",null,null,null,null,null,null,null,null,null,null,null,null,0]
["D245",null,"               신잔액기준 COFIX 연동",null,null,null,null,null,null,null,null,null,null,null,null,0]
["D25",null,"    마. 기타변동금리",null,null,null,null,null,null,null,null,null,null,null,null,0]
["D3",null," Ⅲ. 혼합형(변동금리 + 고정금리)",null,null,null,null,null,null,null,null,null,null,null,null,0]
["D4",null,"소계",{"$f":"+D72+D73+D92","v":0},0,0,0,0,0,0,0,0,0,0,0,0]
["E1","은행계정\n원화대출금중\n가계자금대출금"," Ⅰ. 고정금리조건(확정금리조건)",null,null,null,null,null,null,null,null,null,null,null,null,{"$f":"SUM(D94:O94)","v":0}]
["E2",null," Ⅱ. 변동금리조건",null,null,null,null,null,null,null,null,null,null,null,null,{"$f":"SUM(D95:O95)","v":0}]
["E21",null,"   가. 프라임레이트연동",null,null,null,null,null,null,null,null,null,null,null,null,{"$f":"SUM(D96:O96)","v":0}]
["E22",null,"   나. 시장금리연동",{"$f":"+D98+D99+D100+D101+D102+D103","v":0},{"$f":"+E98+E99+E100+E101+E102+E103","v":0},0,0,0,0,0,0,0,0,0,0,{"$f":"SUM(D97:O97)","v":0}]
["E221",null,"               CD연동",null,null,null,null,null,null,null,null,null,null,null,null,{"$f":"SUM(D98:O98)","v":0}]
["E222",null,"               코리보 연동",null,null,null,null,null,null,null,null,null,null,null,null,0]
["E223",null,"               국고채 금리 연동",null,null,null,null,null,null,null,null,null,null,null,null,0]
["E224",null,"               금융채 금리 연동",null,null,null,null,null,null,null,null,null,null,null,null,0]
["E225",null,"               내부기준금리 연동",null,null,null,null,null,null,null,null,null,null,null,null,{"$f":"SUM(D102:O102)","v":0}]
["E226",null,"               기타 시장금리 연동",null,null,null,null,null,null,null,null,null,null,null,null,0]
["E23",null,"    다. 수신금리연동",{"$f":"+D105+D106","v":0},{"$f":"+E105+E106","v":0},0,0,0,0,0,0,0,0,0,0,0]
["E231",null,"               내부기준금리 연동",null,null,null,null,null,null,null,null,null,null,null,null,0]
["E232",null,"               기타수신금리 연동",null,null,null,null,null,null,null,null,null,null,null,null,0]
["E24",null,"    라. COFIX 연동",{"$f":"+D108+D109+D110+D111+D112","v":0},{"$f":"+E108+E109+E110+E111+E112","v":0},0,0,0,0,0,0,0,0,0,0,0]
["E241",null,"               단기COFIX 연동",null,null,null,null,null,null,null,null,null,null,null,null,0]
["E242",null,"               잔액기준 COFIX 연동",null,null,null,null,null,null,null,null,null,null,null,null,0]
["E243",null,"               신규취급액기준 COFIX 연동",null,null,null,null,null,null,null,null,null,null,null,null,0]
["E244",null,"               혼합 COFIX",null,null,null,null,null,null,null,null,null,null,null,null,0]
["E245",null,"               신잔액기준 COFIX 연동",null,null,null,null,null,null,null,null,null,null,null,null,0]
["E25",null,"    마. 기타변동금리",null,null,null,null,null,null,null,null,null,null,null,null,0]
["E3",null," Ⅲ. 혼합형(변동금리 + 고정금리)",null,null,null,null,null,null,null,null,null,null,null,null,{"$f":"SUM(D114:O114)","v":0}]
["E4",null,"소계",{"$f":"+D94+D95+D114","v":0},{"$f":"+E94+E95+E114","v":0},0,0,0,{"$f":"+I94+I95+I114","v":0},0,0,0,0,0,0,{"$f":"SUM(D115:O115)","v":0}]
["F1","은행계정 원화 \n가계자금대출금\n중 주택담보대출"," Ⅰ. 고정금리조건(확정금리조건)",null,null,null,null,null,null,null,null,null,null,null,null,0]
["F2",null," Ⅱ. 변동금리조건",{"$f":"+D118+D119+D128+D131","v":0},{"$f":"+E118+E119+E128+E131","v":0},0,0,0,0,0,0,0,0,0,0,0]
["F21",null,"   가. 프라임레이트연동",null,null,null,null,null,null,null,null,null,null,null,null,0]
["F22",null,"   나. 시장금리연동",{"$f":"+D120+D123+D124+D125+D126+D127","v":0},{"$f":"+E120+E123+E124+E125+E126+E127","v":0},0,0,0,0,0,0,0,0,0,0,0]
["F221",null,"               CD연동",{"$f":"+D121+D122","v":0},{"$f":"+E121+E122","v":0},0,0,0,0,0,0,0,0,0,0,0]
["F2211",null,"                   (3개월 CD금리)",null,null,null,null,null,null,null,null,null,null,null,null,0]
["F2212",null,"                   (3개월 이외 CD금리)",null,null,null,null,null,null,null,null,null,null,null,null,0]
["F222",null,"               코리보 연동",null,null,null,null,null,null,null,null,null,null,null,null,0]
["F223",null,"               국고채 금리 연동",null,null,null,null,null,null,null,null,null,null,null,null,0]
["F224",null,"               금융채 금리 연동",null,null,null,null,null,null,null,null,null,null,null,null,0]
["F225",null,"               내부기준금리 연동",null,null,null,null,null,null,null,null,null,null,null,null,0]
["F226",null,"               기타 시장금리 연동",null,null,null,null,null,null,null,null,null,null,null,null,0]
["F23",null,"    다. 수신금리연동",{"$f":"+D129+D130","v":0},{"$f":"+E129+E130","v":0},0,0,0,0,0,0,0,0,0,0,0]
["F231",null,"               내부기준금리 연동",null,null,null,null,null,null,null,null,null,null,null,null,0]
["F232",null,"               기타수신금리 연동",null,null,null,null,null,null,null,null,null,null,null,null,0]
["F24",null,"    라. COFIX 연동",{"$f":"+D132+D133+D134+D135+D136","v":0},{"$f":"+E132+E133+E134+E135+E136","v":0},0,0,0,0,0,0,0,0,0,0,0]
["F241",null,"               단기COFIX 연동",null,null,null,null,null,null,null,null,null,null,null,null,0]
["F242",null,"               잔액기준 COFIX 연동",null,null,null,null,null,null,null,null,null,null,null,null,0]
["F243",null,"               신규취급액기준 COFIX 연동",null,null,null,null,null,null,null,null,null,null,null,null,0]
["F244",null,"               혼합 COFIX",null,null,null,null,null,null,null,null,null,null,null,null,0]
["F245",null,"               신잔액기준 COFIX 연동",null,null,null,null,null,null,null,null,null,null,null,null,0]
["F25",null,"    마. 기타변동금리",null,null,null,null,null,null,null,null,null,null,null,null,{"$f":"SUM(D137:O137)","v":0}]
["F3",null," Ⅲ. 혼합형(변동금리 + 고정금리)",null,null,null,null,null,null,null,null,null,null,null,null,0]
["F4",null,"소계",{"$f":"+D116+D117+D138","v":0},{"$f":"+E116+E117+E138","v":0},0,0,0,0,0,0,0,0,0,0,{"$f":"SUM(D139:O139)","v":0}]
["G1","은행계정 원화 \n가계자금대출금 중 \n신용대출"," Ⅰ. 고정금리조건(확정금리조건)",null,null,null,null,null,null,null,null,null,null,null,null,0]
["G2",null," Ⅱ. 변동금리조건",{"$f":"+D142+D143+D150+D153+D159","v":0},{"$f":"+E142+E143+E150+E153+E159","v":0},0,0,0,0,0,0,0,0,0,0,{"$f":"SUM(D141:O141)","v":0}]
["G21",null,"   가. 프라임레이트연동",null,null,null,null,null,null,null,null,null,null,null,null,0]
["G22",null,"   나. 시장금리연동",{"$f":"+D144+D145+D146+D147+D148+D149","v":0},{"$f":"+E144+E145+E146+E147+E148+E149","v":0},0,0,0,0,0,0,0,0,0,0,0]
["G221",null,"               CD연동",null,null,null,null,null,null,null,null,null,null,null,null,0]
["G222",null,"               코리보 연동",null,null,null,null,null,null,null,null,null,null,null,null,0]
["G223",null,"               국고채 금리 연동",null,null,null,null,null,null,null,null,null,null,null,null,0]
["G224",null,"               금융채 금리 연동",null,null,null,null,null,null,null,null,null,null,null,null,0]
["G225",null,"               내부기준금리 연동",null,null,null,null,null,null,null,null,null,null,null,null,0]
["G226",null,"               기타 시장금리 연동",null,null,null,null,null,null,null,null,null,null,null,null,0]
["G23",null,"    다. 수신금리연동",{"$f":"+D151+D152","v":0},{"$f":"+E151+E152","v":0},0,0,0,0,0,0,0,0,0,{"$f":"+O151+O152","v":0},0]
["G231",null,"               내부기준금리 연동",null,null,null,null,null,null,null,null,null,null,null,null,0]
["G232",null,"               기타수신금리 연동",null,null,null,null,null,null,null,null,null,null,null,null,0]
["G24",null,"    라. COFIX 연동",{"$f":"+D154+D155+D156+D157+D158","v":0},{"$f":"+E154+E155+E156+E157+E158","v":0},0,0,0,0,0,0,0,0,0,0,0]
["G241",null,"               단기COFIX 연동",null,null,null,null,null,null,null,null,null,null,null,null,0]
["G242",null,"               잔액기준 COFIX 연동",null,null,null,null,null,null,null,null,null,null,null,null,0]
["G243",null,"               신규취급액기준 COFIX 연동",null,null,null,null,null,null,null,null,null,null,null,null,0]
["G244",null,"               혼합 COFIX",null,null,null,null,null,null,null,null,null,null,null,null,0]
["G245",null,"               신잔액기준 COFIX 연동",null,null,null,null,null,null,null,null,null,null,null,null,0]
["G25",null,"    마. 기타변동금리",null,null,null,null,null,null,null,null,null,null,null,null,0]
["G3",null," Ⅲ. 혼합형(변동금리 + 고정금리)",null,null,null,null,null,null,null,null,null,null,null,null,0]
["G4",null,"소계",{"$f":"+D140+D141+D160","v":0},{"$f":"+E140+E141+E160","v":0},0,0,0,0,0,0,0,0,0,0,{"$f":"SUM(D161:O161)","v":0}]
["H1","은행계정 원화 \n가계자금대출금 중\n기타부동산 담보대출","소계",null,null,null,null,null,null,null,null,null,null,null,null,0]
["H2","은행계정 원화 \n가계자금대출금\n 중 기타","소계",null,null,null,null,null,null,null,null,null,null,null,null,0]
["M","은행계정\n원화예수금"," Ⅰ. 고정금리조건",null,null,null,null,null,null,null,null,null,null,null,null,{"$f":"SUM(D164:O164)","v":0}]
["N",null," Ⅱ. 변동금리조건",{"$f":"+D166+D167+D170","v":0},{"$f":"+E166+E167+E170","v":0},0,0,0,0,0,0,0,0,0,{"$f":"+O166+O167+O170","v":0},{"$f":"SUM(D165:O165)","v":0}]
["N1",null,"       가. 회전식 예금",null,null,null,null,null,null,null,null,null,null,null,null,0]
["N2",null,"       나. 시장금리연동",{"$f":"+D168+D169","v":0},{"$f":"+E168+E169","v":0},{"$f":"+F168+F169","v":0},{"$f":"+G168+G169","v":0},{"$f":"+H168+H169","v":0},0,0,0,0,0,0,0,0]
["N21",null,"            CD 연동",null,null,null,null,null,null,null,null,null,null,null,null,0]
["N22",null,"            기타시장금리 연동",null,null,null,null,null,null,null,null,null,null,null,null,0]
["N3",null,"       다. 기타변동금리",null,null,null,null,null,null,null,null,null,null,null,null,0]
["O",null," Ⅲ. 혼합형(변동금리 + 고정금리)",null,null,null,null,null,null,null,null,null,null,null,null,0]
["P",null,"소계",{"$f":"D164+D165+D171","v":0},{"$f":"E164+E165+E171","v":0},0,0,0,0,0,0,0,0,{"$f":"+N164+N165+N171","v":0},{"$f":"+O164+O165+O171","v":0},{"$f":"SUM(D172:O172)","v":0}]
["Q","은행계정\n양도성예금증서"," Ⅰ. 고정금리조건",null,null,null,null,null,null,null,null,null,null,null,null,0]
["R",null," Ⅱ. 변동금리조건",null,null,null,null,null,null,null,null,null,null,null,null,{"$f":"SUM(D174:O174)","v":0}]
["S",null,"소계",{"$f":"SUM(D173:D174)","v":0},{"$f":"SUM(E173:E174)","v":0},{"$f":"SUM(F173:F174)","v":0},{"$f":"SUM(G173:G174)","v":0},{"$f":"SUM(H173:H174)","v":0},0,0,0,0,0,{"$f":"+N173+N174","v":0},{"$f":"+O173+O174","v":0},{"$f":"SUM(D175:O175)","v":0}]
["T","은행계정\n원화발행금융채권"," Ⅰ. 고정금리조건",null,null,null,null,null,null,null,null,null,null,null,null,0]
["U",null," Ⅱ. 변동금리조건",{"$f":"+D178+D179","v":0},{"$f":"+E178+E179","v":0},0,0,0,0,0,0,0,0,0,0,0]
["U1",null,"           CD 연동",null,null,null,null,null,null,null,null,null,null,null,null,0]
["U2",null,"          기타시장금리 연동",null,null,null,null,null,null,null,null,null,null,null,null,0]
["V",null,"소계",{"$f":"+D176+D177","v":0},{"$f":"+E176+E177","v":0},0,0,0,0,0,0,0,0,0,0,0]

{"sheet":"B2512-1","index":14,"n_rows":41,"n_cols":21,"rows_kept":41,"cut":false,"hidden":false,"merged":[[2,0,3,0],[2,1,3,1]]}
["여신종별 금리구간별 대출잔액 현황(B2512-1)",null,null,null,null,null,null,null,null,null,null,null,"[작성주기 : 월]"]
[null,null,null,null,null,null,null,null,null,null,null,null,"(단위 : 백만원)"]
["코드","코  드  명","3%미만",null,null,null,"3%이상","4%이상","5%이상","6%이상","7%이상","8%이상","9%이상","10%이상","11%이상","12%이상","13%이상","14%이상","15%이상","20%이상","합  계"]
[null,null,"\n(A)","1%미만\n\n(A1)","1%이상\n2%미만\n(A2)","2%이상\n3%미만\n(A3)","4%미만\n(B)","5%미만\n(C)","6%미만\n(D)","7%미만\n(E)","8%미만\n(F)","9%미만\n(G)","10%미만\n(H)","11%미만\n(I)","12%미만\n(J)","13%미만\n(K)","14%미만\n(L)","15%미만\n(M)","20% 미만\n(N)","\n(O)","\n(P)"]
["A","원화대출금(A1+A2+A3)",{"$f":"C6","v":0},0,0,{"$f":"F6","v":0},"1) 3=<OAV_KRW_RATE값<4\n","1) 4=<OAV_KRW_RATE값<5","1) 5=<OAV_KRW_RATE값<6",{"$f":"J6+J13+J17","v":0},0,0,null,null,null,null,null,null,null,null,{"$f":"SUM(C5,G5:T5)","v":0}]
["A1","기업자금대출금(A11+A12)",{"$f":"C7","v":0},0,0,0,"1) 3=<OAV_KRW_RATE값<4\n","1) 4=<OAV_KRW_RATE값<5","1) 5=<OAV_KRW_RATE값<6",{"$f":"J7+J8","v":0},0,0,0,{"$f":"N7+N8","v":0},{"$f":"O7+O8","v":0},0,0,0,0,0,{"$f":"SUM(C6,G6:T6)","v":0}]
["A11","대기업대출",0,0,0,null,"1) 3=<OAV_KRW_RATE값<4\n","1) 4=<OAV_KRW_RATE값<5","1) 5=<OAV_KRW_RATE값<6",null,null,null,null,null,null,null,null,null,null,null,0]
["A12","중소기업대출(A121+A122+A123+A124)",{"$f":"C9+C10+C11+C12","v":0},null,null,null,0,0,0,0,0,0,0,0,0,0,0,0,0,0,0]
["A121","중소기업 신용대출",null,null,null,null,null,null,null,null,null,null,null,null,null,null,null,null,null,null,0]
["A122","중소기업 물적담보대출",null,null,null,null,null,null,null,null,null,null,null,null,null,null,null,null,null,null,0]
["A123","중소기업 보증서담보대출",null,null,null,null,null,null,null,null,null,null,null,null,null,null,null,null,null,null,0]
["A124","기타중소기업대출",null,null,null,null,null,null,null,null,null,null,null,null,null,null,null,null,null,null,0]
["A2","가계자금대출금(A21+A22+A23)",{"$f":"C14+C15+C16","v":0},null,null,null,{"$f":"G14+G15+G16","v":0},0,0,0,0,0,0,{"$f":"N14+N15+N16","v":0},{"$f":"O14+O15+O16","v":0},0,0,0,0,0,0]
["A21","주택담보대출"]
["A22","가계신용대출"]
["A23","기타가계대출"]
["A3","공공 및 기타자금대출금"]
[]
["문의처 : (건전경영팀)은행감독국"]
[]
["[ 작성요령 ]"]
[]
["1. 각 계정과목 합계(P열)는 \"여신종별 연체대출채권(B2410)\"상 말잔과 일치"]
["    대기업대출 합계는 은행계정 여신 원화대출금중 대기업대출(AA11), 중소기업대출 합계는 중소기업대출(AA12),"]
["    기업자금대출금 합계는 기업자금대출금(AA1)의 말잔과 일치"]
["    주택담보대출 합계는 은행계정 여신 원화대출금중 주택담보대출(AA21), "]
["    가계자금대출 합계는 가계자금대출금(AA2)의 말잔과 일치"]
[]
["2. 중소기업 신용대출(A121), 중소기업 물적담보대출(A122), 중소기업 보증서담보대출(A123)은 '금융업경영통일공시기준'에서 정하는"]
["    중소기업 대출금리 비교공시 대상(일반 운전자금대출 혹은 중소기업자금대출(재정자금대출 제외) 기준)으로 하되, 월간 실적으로 작성"]
["    중소기업대출 중 중소기업 신용대출(A121), 중소기업 물적담보대출(A122), 중소기업 보증서담보대출(A123) 이외의 건은 기타중소기업대출(A124)에 포함"]
["    - 중소기업 신용대출(A121) : 순수신용대출, 인적신용대출, 담보연결은 되어 있으나 해당 담보의 유효담보가액이 없는 대출의 합"]
["    - 중소기업 물적담보대출(A122) : 중소기업 일반 운전자금대출 및 중소기업자금대출(재정자금대출 제외) 중 중소기업 신용대출(A121) 및"]
["                                                 중소기업 보증서담보대출(A123) 이외의 대출"]
["    - 중소기업 보증서담보대출(A123) : 신용보증기금, 기술보증기금, 지역신용보증재단, 농림수산업자신용보증기금, 중소기업진흥공단, 한국무역보험공사,"]
["                                                 한국자산관리공사, 한국정책금융공사에서 보증한 보증서를 담보로 하여 취급한 대출의 합"]
[]
["3. \"가계신용대출\"은 순수신용대출, 인적신용대출의 합으로 작성하되(부분신용대출 제외), 주택 집단대출(이주비, 중도금, 잔금대출)은 제외"]
[]
["4. 가계자금대출금 중 주택담보대출(A21), 가계신용대출(A22) 이외의 건은 기타가계대출(A23)에 포함"]
["   (부분신용대출, 예적금담보대출, 주택 이외의 부동산을 담보로 한 대출 등)"]

{"sheet":"B2601","index":15,"n_rows":133,"n_cols":54,"rows_kept":133,"cut":false,"hidden":false,"merged":[[7,5,10,5],[7,0,10,0],[7,1,10,1],[7,2,10,2],[7,3,10,3],[7,4,10,4],[7,12,10,12],[7,13,10,13],[7,14,10,14],[7,15,10,15],[7,6,10,6],[7,7,10,7],[7,8,10,8],[7,9,10,9],[7,10,10,10],[7,11,10,11]]}
["자산·부채 만기구조 현황(잔액기준)(B2601)",null,null,null,null,"PF",null,null,null,null,null,null,null,"[작성주기 : 분기]",null,null,null,null,null,null,null,null,null,null,null,null,null,null,null,null,null,null,null,null,null,null,null,null,null,null,null,null,null,null,null,null,null,null,null,null,null,null,"MDS VALIDATE",{"$f":"COUNTIF(O:O,\"Check\")","v":0}]
[null,null,null,null,"GTE","APG/CGA/CGB/CGC/CGI/CGJ/GOV/LEG/PEB/REB/TEB"]
[null,null,null,null,"EXP 매입외환","ABD/BAC/BAP/BPC/BPP/FOT/NRD/OAE/OBC/REN"]
[null,null,null,null,"       대기업","size of turnover: 2"]
[null,null,null,null,"       중소기업","size of turnover: 1"]
[]
[null,null,"(DUE-말일)<=90","90<(DUE-말일)<=180","180<(DUE-말일)<=365","1Y<(DUE-말일)<=2Y","2Y<(DUE-말일)<=3Y","3Y<(DUE-말일)<=5Y","5Y<(DUE-말일)<=7Y","7Y<(DUE-말일)<=10Y","10Y<(DUE-말일)",null,null,"(단위 : 백만원)"]
["코드","코  드  명","3개월이하\n","3개월초과\n6개월이하","6개월초과\n1년이하","1년초과\n2년이하","2년초과\n3년이하","3년초과\n5년이하","5년초과\n7년이하","7년초과\n10년이하","10년초과\n","연체\n중","만기\n산정\n곤란","합  계\n","CHECK STATUS","Control Value\n(In Million Won)"]
[]
[]
[]
["A","은행계정(원화부문)",{"$f":"+C13+C45","v":{"$error":"#VALUE!"}},{"$f":"+D13+D45","v":{"$error":"#VALUE!"}},{"$error":"#VALUE!"},{"$error":"#VALUE!"},{"$error":"#VALUE!"},{"$error":"#VALUE!"},{"$error":"#VALUE!"},{"$error":"#VALUE!"},{"$error":"#VALUE!"},0,0,{"$f":"SUM(C12:M12)","v":{"$error":"#VALUE!"}}]
["AA","  자산(원화)",{"$f":"+C14+C15+C16++C38+C43-C44","v":{"$error":"#VALUE!"}},{"$f":"+D14+D15+D16++D38+D43-D44","v":{"$error":"#VALUE!"}},{"$error":"#VALUE!"},{"$error":"#VALUE!"},{"$error":"#VALUE!"},{"$error":"#VALUE!"},{"$error":"#VALUE!"},{"$error":"#VALUE!"},{"$error":"#VALUE!"},0,0,{"$f":"SUM(C13:M13)","v":{"$error":"#VALUE!"}}]
["AA3","    원화예치금",null,null,null,null,null,null,null,null,null,null,null,0]
["AA4","    원화유가증권",null,null,null,null,null,null,null,null,null,null,null,0]
["AA1","    원화대출금",{"$f":"+C17+C25","v":{"$error":"#VALUE!"}},{"$f":"+D17+D25","v":{"$error":"#VALUE!"}},{"$error":"#VALUE!"},{"$error":"#VALUE!"},{"$error":"#VALUE!"},{"$error":"#VALUE!"},{"$error":"#VALUE!"},{"$error":"#VALUE!"},{"$error":"#VALUE!"},0,0,{"$error":"#VALUE!"}]
["AA11","      기업자금대출금",{"$f":"+C18+C21","v":{"$error":"#VALUE!"}},{"$f":"+D18+D21","v":{"$error":"#VALUE!"}},{"$error":"#VALUE!"},{"$error":"#VALUE!"},{"$error":"#VALUE!"},{"$error":"#VALUE!"},{"$error":"#VALUE!"},{"$error":"#VALUE!"},{"$error":"#VALUE!"},0,0,{"$error":"#VALUE!"},{"$f":"IF(ABS(N17-P17)<2,\"OK\",\"Check\")","v":{"$error":"#VALUE!"}}]
["AA11B","         대기업대출",{"$f":"+C19+C20","v":{"$error":"#VALUE!"}},{"$f":"+D19+D20","v":{"$error":"#VALUE!"}},{"$error":"#VALUE!"},{"$error":"#VALUE!"},{"$error":"#VALUE!"},{"$error":"#VALUE!"},{"$error":"#VALUE!"},{"$error":"#VALUE!"},{"$error":"#VALUE!"},0,0,{"$error":"#VALUE!"}]
["AA12B1","            (운전자금대출)","1) OAV_KRW\n2) LAI_KRW\n4) XBZ_KRW","1) OAV_KRW\n2) LAI_KRW\n4) XBZ_KRW","1) OAV_KRW\n2) LAI_KRW\n4) XBZ_KRW","1) OAV_KRW\n2) LAI_KRW\n4) XBZ_KRW","1) OAV_KRW\n2) LAI_KRW\n4) XBZ_KRW","1) OAV_KRW\n2) LAI_KRW\n4) XBZ_KRW","1) OAV_KRW\n2) LAI_KRW\n4) XBZ_KRW","1) OAV_KRW\n2) LAI_KRW\n4) XBZ_KRW","1) OAV_KRW\n2) LAI_KRW\n4) XBZ_KRW",null,null,0]
["AA12B2","            (시설자금대출)",null,null,null,null,null,null,null,null,null,null,null,0]
["AA11A","         중소기업대출",{"$f":"+C22+C23+C24","v":{"$error":"#VALUE!"}},{"$f":"+D22+D23+D24","v":{"$error":"#VALUE!"}},{"$error":"#VALUE!"},{"$error":"#VALUE!"},{"$error":"#VALUE!"},{"$error":"#VALUE!"},{"$error":"#VALUE!"},{"$error":"#VALUE!"},{"$error":"#VALUE!"},0,0,{"$error":"#VALUE!"}]
["AA11A2","            (운전자금대출)","1) OAV_KRW\n2) LAI_KRW\n4) XBZ_KRW","1) OAV_KRW\n2) LAI_KRW\n4) XBZ_KRW","1) OAV_KRW\n2) LAI_KRW\n4) XBZ_KRW","1) OAV_KRW\n2) LAI_KRW\n4) XBZ_KRW","1) OAV_KRW\n2) LAI_KRW\n4) XBZ_KRW","1) OAV_KRW\n2) LAI_KRW\n4) XBZ_KRW","1) OAV_KRW\n2) LAI_KRW\n4) XBZ_KRW","1) OAV_KRW\n2) LAI_KRW\n4) XBZ_KRW","1) OAV_KRW\n2) LAI_KRW\n4) XBZ_KRW",null,null,0]
["AA11A3","            (시설자금대출)",null,null,null,null,null,null,null,null,null,null,null,0]
["AA11A1","            (개인사업자대출)",null,null,null,null,null,null,null,null,null,null,null,0]
["AA12","      가계대출대출금",{"$f":"+SUM(C26:C27)","v":0},{"$f":"+SUM(D26:D27)","v":0},0,0,0,0,0,0,0,0,0,0]
["AA12A","                (일시상환방식)",null,null,null,null,null,null,null,null,null,null,null,0]
["AA12B","                (분할상환방식)",null,null,null,null,null,null,null,null,null,null,null,0]
["AA121","            주택담보대출",{"$f":"+SUM(C29:C30)","v":0},{"$f":"+SUM(D29:D30)","v":0},0,0,0,0,0,0,0,0,0,0]
["AA121A","                (일시상환방식)",null,null,null,null,null,null,null,null,null,null,null,0]
["AA121B","                (분할상환방식)",null,null,null,null,null,null,null,null,null,null,null,0]
["AA122","            부동산담보대출",{"$f":"+SUM(C32:C33)","v":0},{"$f":"+SUM(D32:D33)","v":0},0,0,0,0,0,0,0,0,0,0]
["AA122A","                (일시상환방식)",null,null,null,null,null,null,null,null,null,null,null,0]
["AA122B","                (분할상환방식)",null,null,null,null,null,null,null,null,null,null,null,0]
["AA123","            신용대출",{"$f":"+SUM(C35:C36)","v":0},{"$f":"+SUM(D35:D36)","v":0},0,0,0,0,0,0,0,0,0,0]
["AA123A","                (일시상환방식)",null,null,null,null,null,null,null,null,null,null,null,0]
["AA123B","                (분할상환방식)",null,null,null,null,null,null,null,null,null,null,null,0]
["AA124","            (중도금대출)",null,null,null,null,null,null,null,null,null,null,null,0]
["AA2","    지급보증대지급금",null,null,null,null,null,null,null,null,null,null,null,0]
["AA21","       (중소기업)",null,null,null,null,null,null,null,null,null,null,null,0]
["AA211","           (개인사업자)",null,null,null,null,null,null,null,null,null,null,null,0]
["AA3","    사모사채",null,null,null,null,null,null,null,null,null,null,null,0]
["AA31","       (중소기업)",null,null,null,null,null,null,null,null,null,null,null,0]
["AA9","    기타","4) RFI/RFE/RFP_KRW","4) RFI/RFE/RFP_KRW","4) RFI/RFE/RFP_KRW","4) RFI/RFE/RFP_KRW","4) RFI/RFE/RFP_KRW","4) RFI/RFE/RFP_KRW","4) RFI/RFE/RFP_KRW","4) RFI/RFE/RFP_KRW","4) RFI/RFE/RFP_KRW",null,null,0]
["AA5","    자산의 차감항목(-)",null,null,null,null,null,null,null,null,null,null,null,0]
["AB","  부채(원화) 및 자본",{"$f":"+C46+C47+C48+C49+C50","v":0},{"$f":"+D46+D47+D48+D49+D50","v":0},0,0,0,0,0,0,0,0,0,0]
["AB1","    원화예수금",null,null,null,null,null,null,null,null,null,null,null,0]
["AB3","    양도성예금증서",null,null,null,null,null,null,null,null,null,null,null,0]
["AB4","    원화차입금",null,null,null,null,null,null,null,null,null,null,null,0]
["AB5","    자기자본",null,null,null,null,null,null,null,null,null,null,null,0]
["AB9","    기타",null,null,null,null,null,null,null,null,null,null,null,0]
["B"," 은행계정(외화부문)",{"$f":"+C52+C64","v":{"$error":"#VALUE!"}},{"$f":"+D52+D64","v":{"$error":"#VALUE!"}},{"$error":"#VALUE!"},{"$error":"#VALUE!"},{"$error":"#VALUE!"},{"$error":"#VALUE!"},{"$error":"#VALUE!"},{"$error":"#VALUE!"},{"$error":"#VALUE!"},0,0,{"$error":"#VALUE!"}]
["BA","   자산(외화)",{"$f":"+C53+C54+C55+C58+C61+C62-C63","v":{"$error":"#VALUE!"}},{"$f":"+D53+D54+D55+D58+D61+D62-D63","v":{"$error":"#VALUE!"}},{"$error":"#VALUE!"},{"$error":"#VALUE!"},{"$error":"#VALUE!"},{"$error":"#VALUE!"},{"$error":"#VALUE!"},{"$error":"#VALUE!"},{"$error":"#VALUE!"},0,0,{"$error":"#VALUE!"}]
["BA2","    외화예치금",null,null,null,null,null,null,null,null,null,null,null,0]
["BA3","    외화유가증권",null,null,null,null,null,null,null,null,null,null,null,0]
["BA1","    외화대출금(대기업)","1)OAV/OAM_foreign CCY\n2) CIL/LAI/PNP/BDU/YBZ_foreign CCY\n4) XBZ/LAE외화 RBU/SBN/SXX 토탈","1)OAV/OAM_foreign CCY\n2) CIL/LAI/PNP/BDU/YBZ_foreign CCY\n4) XBZ/LAE외화 RBU/SBN/SXX 토탈","1)OAV/OAM_foreign CCY\n2) CIL/LAI/PNP/BDU/YBZ_foreign CCY\n4) XBZ/LAE외화 RBU/SBN/SXX 토탈","1)OAV/OAM_foreign CCY\n2) CIL/LAI/PNP/BDU/YBZ_foreign CCY\n4) XBZ/LAE외화 RBU/SBN/SXX 토탈","1)OAV/OAM_foreign CCY\n2) CIL/LAI/PNP/BDU/YBZ_foreign CCY\n4) XBZ/LAE외화 RBU/SBN/SXX 토탈","1)OAV/OAM_foreign CCY\n2) CIL/LAI/PNP/BDU/YBZ_foreign CCY\n4) XBZ/LAE외화 RBU/SBN/SXX 토탈","1)OAV/OAM_foreign CCY\n2) CIL/LAI/PNP/BDU/YBZ_foreign CCY\n4) XBZ/LAE외화 RBU/SBN/SXX 토탈","1)OAV/OAM_foreign CCY\n2) CIL/LAI/PNP/BDU/YBZ_foreign CCY\n4) XBZ/LAE외화 RBU/SBN/SXX 토탈","1)OAV/OAM_foreign CCY\n2) CIL/LAI/PNP/BDU/YBZ_foreign CCY\n4) XBZ/LAE외화 RBU/SBN/SXX 토탈",null,null,0,{"$f":"IF(ABS(N55-P55)<2,\"OK\",\"Check\")","v":"OK"},{"$f":"ROUND((0),5)","v":0}]
["BA11","       (중소기업)","1)OAV/OAM_foreign CCY\n2) CIL/LAI/PNP/BDU/YBZ_foreign CCY\n4) XBZ/LAE외화 RBU/SBN/SXX 토탈","1)OAV/OAM_foreign CCY\n2) CIL/LAI/PNP/BDU/YBZ_foreign CCY\n4) XBZ/LAE외화 RBU/SBN/SXX 토탈","1)OAV/OAM_foreign CCY\n2) CIL/LAI/PNP/BDU/YBZ_foreign CCY\n4) XBZ/LAE외화 RBU/SBN/SXX 토탈","1)OAV/OAM_foreign CCY\n2) CIL/LAI/PNP/BDU/YBZ_foreign CCY\n4) XBZ/LAE외화 RBU/SBN/SXX 토탈","1)OAV/OAM_foreign CCY\n2) CIL/LAI/PNP/BDU/YBZ_foreign CCY\n4) XBZ/LAE외화 RBU/SBN/SXX 토탈","1)OAV/OAM_foreign CCY\n2) CIL/LAI/PNP/BDU/YBZ_foreign CCY\n4) XBZ/LAE외화 RBU/SBN/SXX 토탈","1)OAV/OAM_foreign CCY\n2) CIL/LAI/PNP/BDU/YBZ_foreign CCY\n4) XBZ/LAE외화 RBU/SBN/SXX 토탈","1)OAV/OAM_foreign CCY\n2) CIL/LAI/PNP/BDU/YBZ_foreign CCY\n4) XBZ/LAE외화 RBU/SBN/SXX 토탈","1)OAV/OAM_foreign CCY\n2) CIL/LAI/PNP/BDU/YBZ_foreign CCY\n4) XBZ/LAE외화 RBU/SBN/SXX 토탈",null,null,0]
["BA111","           (개인사업자)",null,null,null,null,null,null,null,null,null,null,null,0]
["BA4","    매입외환","4) EXP_ABD/BAC/BAP/BPC/BPP/FOT/NRD/OAE/OBC/REN","4) EXP_ABD/BAC/BAP/BPC/BPP/FOT/NRD/OAE/OBC/REN","4) EXP_ABD/BAC/BAP/BPC/BPP/FOT/NRD/OAE/OBC/REN","4) EXP_ABD/BAC/BAP/BPC/BPP/FOT/NRD/OAE/OBC/REN","4) EXP_ABD/BAC/BAP/BPC/BPP/FOT/NRD/OAE/OBC/REN","4) EXP_ABD/BAC/BAP/BPC/BPP/FOT/NRD/OAE/OBC/REN","4) EXP_ABD/BAC/BAP/BPC/BPP/FOT/NRD/OAE/OBC/REN","4) EXP_ABD/BAC/BAP/BPC/BPP/FOT/NRD/OAE/OBC/REN","4) EXP_ABD/BAC/BAP/BPC/BPP/FOT/NRD/OAE/OBC/REN",null,null,0]
["BA41","       (중소기업)","4) EXP_ABD/BAC/BAP/BPC/BPP/FOT/NRD/OAE/OBC/REN","4) EXP_ABD/BAC/BAP/BPC/BPP/FOT/NRD/OAE/OBC/REN","4) EXP_ABD/BAC/BAP/BPC/BPP/FOT/NRD/OAE/OBC/REN","4) EXP_ABD/BAC/BAP/BPC/BPP/FOT/NRD/OAE/OBC/REN","4) EXP_ABD/BAC/BAP/BPC/BPP/FOT/NRD/OAE/OBC/REN","4) EXP_ABD/BAC/BAP/BPC/BPP/FOT/NRD/OAE/OBC/REN","4) EXP_ABD/BAC/BAP/BPC/BPP/FOT/NRD/OAE/OBC/REN","4) EXP_ABD/BAC/BAP/BPC/BPP/FOT/NRD/OAE/OBC/REN","4) EXP_ABD/BAC/BAP/BPC/BPP/FOT/NRD/OAE/OBC/REN",null,null,0]
["BA411","           (개인사업자)",null,null,null,null,null,null,null,null,null,null,null,0]
["BA6","    역외자산",null,null,null,null,null,null,null,null,null,null,null,0]
["BA9","    기타","4) RFI/RFE/RFP_Foreign CCY","4) RFI/RFE/RFP_Foreign CCY","4) RFI/RFE/RFP_Foreign CCY","4) RFI/RFE/RFP_Foreign CCY","4) RFI/RFE/RFP_Foreign CCY","4) RFI/RFE/RFP_Foreign CCY","4) RFI/RFE/RFP_Foreign CCY","4) RFI/RFE/RFP_Foreign CCY","4) RFI/RFE/RFP_Foreign CCY",null,null,0]
["BA7","    자산의 차감항목(-)",null,null,null,null,null,null,null,null,null,null,null,0]
["BB","  부채(외화)",{"$f":"+C65+C66+C67+C68","v":0},{"$f":"+D65+D66+D67+D68","v":0},0,0,0,0,0,0,0,0,0,0]
["BB1","    외화예수금",null,null,null,null,null,null,null,null,null,null,null,0]
["BB2","    외화차입금",null,null,null,null,null,null,null,null,null,null,null,0]
["BB4","    역외부채",null,null,null,null,null,null,null,null,null,null,null,0]
["BB9","    기타",null,null,null,null,null,null,null,null,null,null,null,0]
["C","신탁계정"]
["CA","  자산"]
["CA1","    대출금"]
["CA2","    유가증권"]
["CA3","    기타"]
["CB","  부채"]
["CB1","    금전신탁"]
["CB2","    금외신탁"]
["CB3","    차입금"]
["CB4","    기타"]
["D","난외계정 중 확정지급보증",{"$f":"+C80+C83","v":{"$error":"#VALUE!"}},{"$f":"+D80+D83","v":{"$error":"#VALUE!"}},{"$error":"#VALUE!"},{"$error":"#VALUE!"},{"$error":"#VALUE!"},{"$error":"#VALUE!"},{"$error":"#VALUE!"},{"$error":"#VALUE!"},{"$error":"#VALUE!"},0,0,0]
["DA","  원화지급보증(대기업)","2) BR/DPB/SDN/SDC/SDG/SGT/AWR_KRW\n3) GTE_KRW TOTAL","2) BR/DPB/SDN/SDC/SDG/SGT/AWR_KRW\n3) GTE_KRW TOTAL","2) BR/DPB/SDN/SDC/SDG/SGT/AWR_KRW\n3) GTE_KRW TOTAL","2) BR/DPB/SDN/SDC/SDG/SGT/AWR_KRW\n3) GTE_KRW TOTAL","2) BR/DPB/SDN/SDC/SDG/SGT/AWR_KRW\n3) GTE_KRW TOTAL","2) BR/DPB/SDN/SDC/SDG/SGT/AWR_KRW\n3) GTE_KRW TOTAL","2) BR/DPB/SDN/SDC/SDG/SGT/AWR_KRW\n3) GTE_KRW TOTAL","2) BR/DPB/SDN/SDC/SDG/SGT/AWR_KRW\n3) GTE_KRW TOTAL","2) BR/DPB/SDN/SDC/SDG/SGT/AWR_KRW\n3) GTE_KRW TOTAL",null,null,{"$f":"SUM(C80:M80)","v":0}]
["DA1","       (중소기업)","2) BR/DPB/SDN/SDC/SDG/SGT/AWR_KRW\n3) GTE_KRW TOTAL","2) BR/DPB/SDN/SDC/SDG/SGT/AWR_KRW\n3) GTE_KRW TOTAL","2) BR/DPB/SDN/SDC/SDG/SGT/AWR_KRW\n3) GTE_KRW TOTAL","2) BR/DPB/SDN/SDC/SDG/SGT/AWR_KRW\n3) GTE_KRW TOTAL","2) BR/DPB/SDN/SDC/SDG/SGT/AWR_KRW\n3) GTE_KRW TOTAL","2) BR/DPB/SDN/SDC/SDG/SGT/AWR_KRW\n3) GTE_KRW TOTAL","2) BR/DPB/SDN/SDC/SDG/SGT/AWR_KRW\n3) GTE_KRW TOTAL","2) BR/DPB/SDN/SDC/SDG/SGT/AWR_KRW\n3) GTE_KRW TOTAL","2) BR/DPB/SDN/SDC/SDG/SGT/AWR_KRW\n3) GTE_KRW TOTAL",null,null,0]
["DA11","           (개인사업자)",null,null,null,null,null,null,null,null,null,null,null,0]
["DB","  외화지급보증(대기업)","2) BR/DPB/SDN/SDC/SDG/SGT/AWR_foreign CCY\n3) GTE_foreign CCY TOTAL","2) BR/DPB/SDN/SDC/SDG/SGT/AWR_foreign CCY\n3) GTE_foreign CCY TOTAL","2) BR/DPB/SDN/SDC/SDG/SGT/AWR_foreign CCY\n3) GTE_foreign CCY TOTAL","2) BR/DPB/SDN/SDC/SDG/SGT/AWR_foreign CCY\n3) GTE_foreign CCY TOTAL","2) BR/DPB/SDN/SDC/SDG/SGT/AWR_foreign CCY\n3) GTE_foreign CCY TOTAL","2) BR/DPB/SDN/SDC/SDG/SGT/AWR_foreign CCY\n3) GTE_foreign CCY TOTAL","2) BR/DPB/SDN/SDC/SDG/SGT/AWR_foreign CCY\n3) GTE_foreign CCY TOTAL","2) BR/DPB/SDN/SDC/SDG/SGT/AWR_foreign CCY\n3) GTE_foreign CCY TOTAL","2) BR/DPB/SDN/SDC/SDG/SGT/AWR_foreign CCY\n3) GTE_foreign CCY TOTAL",null,null,0]
["DB1","       (중소기업)","2) BR/DPB/SDN/SDC/SDG/SGT/AWR_foreign CCY\n3) GTE_foreign CCY TOTAL","2) BR/DPB/SDN/SDC/SDG/SGT/AWR_foreign CCY\n3) GTE_foreign CCY TOTAL","2) BR/DPB/SDN/SDC/SDG/SGT/AWR_foreign CCY\n3) GTE_foreign CCY TOTAL","2) BR/DPB/SDN/SDC/SDG/SGT/AWR_foreign CCY\n3) GTE_foreign CCY TOTAL","2) BR/DPB/SDN/SDC/SDG/SGT/AWR_foreign CCY\n3) GTE_foreign CCY TOTAL","2) BR/DPB/SDN/SDC/SDG/SGT/AWR_foreign CCY\n3) GTE_foreign CCY TOTAL","2) BR/DPB/SDN/SDC/SDG/SGT/AWR_foreign CCY\n3) GTE_foreign CCY TOTAL","2) BR/DPB/SDN/SDC/SDG/SGT/AWR_foreign CCY\n3) GTE_foreign CCY TOTAL","2) BR/DPB/SDN/SDC/SDG/SGT/AWR_foreign CCY\n3) GTE_foreign CCY TOTAL",null,null,0]
["DB11","           (개인사업자)",null,null,null,null,null,null,null,null,null,null,null,0]
[]
[]
[]
[]
[]
[]
[]
["문의처 : 은행서비스국 건전경영팀 "]
[" 변재은 (3786-8069)"]
["[ 작성요령 ]"]
[]
["1. 자산, 부채·자본의 각 계정과목 및 합계는 은행계정(종금계정 포함) 및 신탁계정 대차대조표상 금액과 일치"]
[]
["2. 만기는 개별 항목의 잔존만기를 기준으로 분류"]
[]
["3. \"지급보증대지급금(AA2)\" : 국내분의 원화 및 외화지급보증대지급금 합계액과 일치하고, 국외분의 경우 외화자산의 기타로 분류"]
["     - 기간에 관계없이 \"연체중\"으로 분류"]
[]
["4. \"원화예수금(AB1)\"         : 대차대조표상 원화예수금 "]
[]
["5. \"자기자본(AB5)\"            : 대차대조표상 자본총계 및 부채성충당금계정의 합계"]
["                                        단, 국외분의 자본 및 부채성 충당금은 외화부문의 기타로 분류"]
[]
["6. \"외화대출금(BA1)\"         : 은행간 외화대여금, 외화차관자금대출금, 내국수입유산스 포함"]
[]
["7. \"역외자산(BA6)\"            : 역외(외화대출금 + 외화예치금 + 외화유가증권 + 외화본지점)"]
[]
["8. \"외화차입금(BB2)\"         : 외화수탁금 포함"]
[]
["9. \"역외부채(BB4)\"            : 역외(외화예수금 + 외화차입금 + 발행금융채권 + 외화본지점)"]
[]
["10. \"주택담보대출(AA121)\" : 업무보고서(B2209)의 주택담보대출(A2a) + 주택자금대출(A2b)"]
[]
["11. \"부동산담보대출(AA122)\" : 주택담보대출 제외"]
[]
["12. \"신용대출(AA123)\"       : 법인지급보증, 연대보증, 순수신용 등에 의한 가계자금대출"]
[]
["13. 개별 자산 또는 부채의 만기가 없는 경우에는 \"만기산정 곤란\" 부분에 입력"]
[]
["     (예시) 지준예치금, 만기가 없는 요구불예금, 저축예금, 자유저축예금, 기업자유예금, MMDA 등"]
["              자기자본(부채성 충당금 포함), 신탁계정차, 종금계정차, 자산의 차감항목 등"]
["              잔존만기가 없는 자산 및 부채"]
[]
["14. 리볼빙자산·부채(회전식 정기예금 등)는 계약상 최종만기 기준으로 분류"]
[]
[]
["AA11B = AA12B1 + AA12B2"]
["AA11A = AA11A2 + AA11A3"]

{"sheet":"B2602","index":16,"n_rows":349,"n_cols":22,"rows_kept":349,"cut":false,"hidden":false,"merged":[[5,14,5,16],[5,17,5,19],[5,0,6,0],[5,1,6,1],[5,2,5,4],[5,5,5,7],[5,8,5,10],[5,11,5,13]]}
["유동성커버리지비율(B2602)       ",null,null,null,null,null,null,null,null,null,null,null,null,null,null,null,null,null,null,"[작성주기 : 월]"]
[]
[null,null,"보고서 기준일로부터 30일(1달기준 아님)로 AMT IN KRW값을 산정"]
[]
[null,null,null,null,null,null,null,null,null,null,null,null,null,null,null,null,null,null,null,"(단위 : 백만원)"]
["코드","항목","통합 기준",null,null,"원화 기준",null,null,"외화(원화표시) 기준",null,null,"통합 기준",null,null,"원화 기준",null,null,"외화(원화표시) 기준"]
[null,null,"금액\n말잔(A)","가중치","가중치 적용후 금액\n말잔(A)","금액\n말잔(A)","가중치","가중치 적용후 금액\n말잔(A)","금액\n말잔(A)","가중치","가중치 적용후 금액\n말잔(A)","금액\n월평(B)","가중치","가중치 적용후 금액\n월평(B)","금액\n월평(B)","가중치","가중치 적용후 금액\n월평(B)","금액\n월평(B)","가중치","가중치 적용후 금액\n월평(B)"]
["A","Ⅰ. 고유동성자산(HQLA)",null,null,{"$f":"IFERROR(SUM(E9,E23,E34-E44-E45),)","v":0},null,null,{"$f":"IFERROR(SUM(H9,H23,H34-H44-H45),)","v":0},null,null,{"$f":"IFERROR(SUM(K9,K23,K34-K44-K45),)","v":0},null,null,{"$f":"IFERROR(SUM(N9,N23,N34-N44-N45),)","v":0},null,null,{"$f":"IFERROR(SUM(Q9,Q23,Q34-Q44-Q45),)","v":0},null,null,{"$f":"IFERROR(SUM(T9,T23,T34-T44-T45),)","v":0}]
["A1","   1.  Level 1 자산",{"$f":"SUM(C10:C12,C18)","v":0},null,{"$f":"SUM(E10:E12,E18)","v":0},{"$f":"SUM(F10:F12,F18)","v":0},null,{"$f":"SUM(H10:H12,H18)","v":0},{"$f":"SUM(I10:I12,I18)","v":0},null,{"$f":"SUM(K10:K12,K18)","v":0},{"$f":"SUM(L10:L12,L18)","v":0},null,{"$f":"SUM(N10:N12,N18)","v":0},{"$f":"SUM(O10:O12,O18)","v":0},null,{"$f":"SUM(Q10:Q12,Q18)","v":0},{"$f":"SUM(R10:R12,R18)","v":0},null,{"$f":"SUM(T10:T12,T18)","v":0}]
["A11","      가. 현금(주화 및 지폐)",null,1,{"$f":"IF(AND(ISNUMBER(C10),ISNUMBER(D10)),C10*D10,\"\")","v":""},null,1,{"$f":"IF(AND(ISNUMBER(F10),ISNUMBER(G10)),F10*G10,\"\")","v":""},null,1,{"$f":"IF(AND(ISNUMBER(I10),ISNUMBER(J10)),I10*J10,\"\")","v":""},null,1,{"$f":"IF(AND(ISNUMBER(L10),ISNUMBER(M10)),L10*M10,\"\")","v":""},null,1,{"$f":"IF(AND(ISNUMBER(O10),ISNUMBER(P10)),O10*P10,\"\")","v":""},null,1,{"$f":"IF(AND(ISNUMBER(R10),ISNUMBER(S10)),R10*S10,\"\")","v":""}]
["A12","      나. 중앙은행 지급준비금(위기상황시 인출가능한 금액)",null,1,{"$f":"IF(AND(ISNUMBER(C11),ISNUMBER(D11)),C11*D11,\"\")","v":""},null,1,{"$f":"IF(AND(ISNUMBER(F11),ISNUMBER(G11)),F11*G11,\"\")","v":""},null,1,{"$f":"IF(AND(ISNUMBER(I11),ISNUMBER(J11)),I11*J11,\"\")","v":""},null,1,{"$f":"IF(AND(ISNUMBER(L11),ISNUMBER(M11)),L11*M11,\"\")","v":""},null,1,{"$f":"IF(AND(ISNUMBER(O11),ISNUMBER(P11)),O11*P11,\"\")","v":""},null,1,{"$f":"IF(AND(ISNUMBER(R11),ISNUMBER(S11)),R11*S11,\"\")","v":""}]
["A13","      다. 0% 위험가중치 적용 유가증권",{"$f":"SUM(C13:C17)","v":0},null,{"$f":"SUM(E13:E17)","v":0},{"$f":"SUM(F13:F17)","v":0},null,{"$f":"SUM(H13:H17)","v":0},{"$f":"SUM(I13:I17)","v":0},null,{"$f":"SUM(K13:K17)","v":0},{"$f":"SUM(L13:L17)","v":0},null,{"$f":"SUM(N13:N17)","v":0},{"$f":"SUM(O13:O17)","v":0},null,{"$f":"SUM(Q13:Q17)","v":0},{"$f":"SUM(R13:R17)","v":0},null,{"$f":"SUM(T13:T17)","v":0}]
["A131","       (정부가 발행한 유가증권)",null,1,{"$f":"IF(AND(ISNUMBER(C13),ISNUMBER(D13)),C13*D13,\"\")","v":""},null,1,{"$f":"IF(AND(ISNUMBER(F13),ISNUMBER(G13)),F13*G13,\"\")","v":""},null,1,{"$f":"IF(AND(ISNUMBER(I13),ISNUMBER(J13)),I13*J13,\"\")","v":""},null,1,{"$f":"IF(AND(ISNUMBER(L13),ISNUMBER(M13)),L13*M13,\"\")","v":""},null,1,{"$f":"IF(AND(ISNUMBER(O13),ISNUMBER(P13)),O13*P13,\"\")","v":""},null,1,{"$f":"IF(AND(ISNUMBER(R13),ISNUMBER(S13)),R13*S13,\"\")","v":""}]
["A132","       (정부가 보증한 유가증권)",null,1,{"$f":"IF(AND(ISNUMBER(C14),ISNUMBER(D14)),C14*D14,\"\")","v":""},null,1,{"$f":"IF(AND(ISNUMBER(F14),ISNUMBER(G14)),F14*G14,\"\")","v":""},null,1,{"$f":"IF(AND(ISNUMBER(I14),ISNUMBER(J14)),I14*J14,\"\")","v":""},null,1,{"$f":"IF(AND(ISNUMBER(L14),ISNUMBER(M14)),L14*M14,\"\")","v":""},null,1,{"$f":"IF(AND(ISNUMBER(O14),ISNUMBER(P14)),O14*P14,\"\")","v":""},null,1,{"$f":"IF(AND(ISNUMBER(R14),ISNUMBER(S14)),R14*S14,\"\")","v":""}]
["A133","       (중앙은행이 발행하거나 보증한 유가증권)",null,1,{"$f":"IF(AND(ISNUMBER(C15),ISNUMBER(D15)),C15*D15,\"\")","v":""},null,1,{"$f":"IF(AND(ISNUMBER(F15),ISNUMBER(G15)),F15*G15,\"\")","v":""},null,1,{"$f":"IF(AND(ISNUMBER(I15),ISNUMBER(J15)),I15*J15,\"\")","v":""},null,1,{"$f":"IF(AND(ISNUMBER(L15),ISNUMBER(M15)),L15*M15,\"\")","v":""},null,1,{"$f":"IF(AND(ISNUMBER(O15),ISNUMBER(P15)),O15*P15,\"\")","v":""},null,1,{"$f":"IF(AND(ISNUMBER(R15),ISNUMBER(S15)),R15*S15,\"\")","v":""}]
["A134","       (공공기관이 발행하거나 보증한 유가증권)",null,1,{"$f":"IF(AND(ISNUMBER(C16),ISNUMBER(D16)),C16*D16,\"\")","v":""},null,1,{"$f":"IF(AND(ISNUMBER(F16),ISNUMBER(G16)),F16*G16,\"\")","v":""},null,1,{"$f":"IF(AND(ISNUMBER(I16),ISNUMBER(J16)),I16*J16,\"\")","v":""},null,1,{"$f":"IF(AND(ISNUMBER(L16),ISNUMBER(M16)),L16*M16,\"\")","v":""},null,1,{"$f":"IF(AND(ISNUMBER(O16),ISNUMBER(P16)),O16*P16,\"\")","v":""},null,1,{"$f":"IF(AND(ISNUMBER(R16),ISNUMBER(S16)),R16*S16,\"\")","v":""}]
["A135","       (BIS, IMF, ECB 및 EC 또는 다자개발은행이 발행하거나 보증한 유가증권)",null,1,{"$f":"IF(AND(ISNUMBER(C17),ISNUMBER(D17)),C17*D17,\"\")","v":""},null,1,{"$f":"IF(AND(ISNUMBER(F17),ISNUMBER(G17)),F17*G17,\"\")","v":""},null,1,{"$f":"IF(AND(ISNUMBER(I17),ISNUMBER(J17)),I17*J17,\"\")","v":""},null,1,{"$f":"IF(AND(ISNUMBER(L17),ISNUMBER(M17)),L17*M17,\"\")","v":""},null,1,{"$f":"IF(AND(ISNUMBER(O17),ISNUMBER(P17)),O17*P17,\"\")","v":""},null,1,{"$f":"IF(AND(ISNUMBER(R17),ISNUMBER(S17)),R17*S17,\"\")","v":""}]
["A14","      라. 0%가 아닌 위험가중치를 적용받는 국가 관련",{"$f":"SUM(C19:C20)","v":0},null,{"$f":"SUM(E19:E20)","v":0},{"$f":"SUM(F19:F20)","v":0},null,{"$f":"SUM(H19:H20)","v":0},{"$f":"SUM(I19:I20)","v":0},null,{"$f":"SUM(K19:K20)","v":0},{"$f":"SUM(L19:L20)","v":0},null,{"$f":"SUM(N19:N20)","v":0},{"$f":"SUM(O19:O20)","v":0},null,{"$f":"SUM(Q19:Q20)","v":0},{"$f":"SUM(R19:R20)","v":0},null,{"$f":"SUM(T19:T20)","v":0}]
["A141","       (은행이 지점이나 자회사를 운영하는 진출국 또는 은행 본점 소재국의 정부나 중앙은행이 \n       현지 통화로 발행한 국채 또는 중앙은행 채무증권)",null,1,{"$f":"IF(AND(ISNUMBER(C19),ISNUMBER(D19)),C19*D19,\"\")","v":""},null,1,{"$f":"IF(AND(ISNUMBER(F19),ISNUMBER(G19)),F19*G19,\"\")","v":""},null,1,{"$f":"IF(AND(ISNUMBER(I19),ISNUMBER(J19)),I19*J19,\"\")","v":""},null,1,{"$f":"IF(AND(ISNUMBER(L19),ISNUMBER(M19)),L19*M19,\"\")","v":""},null,1,{"$f":"IF(AND(ISNUMBER(O19),ISNUMBER(P19)),O19*P19,\"\")","v":""},null,1,{"$f":"IF(AND(ISNUMBER(R19),ISNUMBER(S19)),R19*S19,\"\")","v":""}]
["A142","       (정부나 중앙은행이 외화로 발행한 채무증권 중 은행이 지점이나 자회사를 운영하는 해당 진출국 내에서 \n       은행의 영업활동으로 발생할 수 있는 동일 외화 표시 순현금유출액에 상응하는 수준의 보유분)",null,1,{"$f":"IF(AND(ISNUMBER(C20),ISNUMBER(D20)),C20*D20,\"\")","v":""},null,1,{"$f":"IF(AND(ISNUMBER(F20),ISNUMBER(G20)),F20*G20,\"\")","v":""},null,1,{"$f":"IF(AND(ISNUMBER(I20),ISNUMBER(J20)),I20*J20,\"\")","v":""},null,1,{"$f":"IF(AND(ISNUMBER(L20),ISNUMBER(M20)),L20*M20,\"\")","v":""},null,1,{"$f":"IF(AND(ISNUMBER(O20),ISNUMBER(P20)),O20*P20,\"\")","v":""},null,1,{"$f":"IF(AND(ISNUMBER(R20),ISNUMBER(S20)),R20*S20,\"\")","v":""}]
["A15","      Level 1 자산 조정액",{"$f":"IF(AND(ISNUMBER(C104),ISNUMBER(C106),ISNUMBER(C108),ISNUMBER(C110),ISNUMBER(C113),ISNUMBER(C115),ISNUMBER(C117),ISNUMBER(C120),ISNUMBER(C122),ISNUMBER(E224),ISNUMBER(E233),ISNUMBER(C178),ISNUMBER(C180),ISNUMBER(C182),ISNUMBER(C184),ISNUMBER(E249),ISNUMBER(D266),ISNUMBER(E266)),-C104-C106-C108-C110-C113-C115-C117-C120-C122+E224+E233+C178+C180+C182+C184-E249+D266-E266,\"\")","v":""},null,null,{"$f":"IF(AND(ISNUMBER(F104),ISNUMBER(F106),ISNUMBER(F108),ISNUMBER(F110),ISNUMBER(F113),ISNUMBER(F115),ISNUMBER(F117),ISNUMBER(F120),ISNUMBER(F122),ISNUMBER(H224),ISNUMBER(H233),ISNUMBER(F178),ISNUMBER(F180),ISNUMBER(F182),ISNUMBER(F184),ISNUMBER(H249),ISNUMBER(G266),ISNUMBER(H266)),-F104-F106-F108-F110-F113-F115-F117-F120-F122+H224+H233+F178+F180+F182+F184-H249+G266-H266,\"\")","v":""},null,null,{"$f":"IF(AND(ISNUMBER(I104),ISNUMBER(I106),ISNUMBER(I108),ISNUMBER(I110),ISNUMBER(I113),ISNUMBER(I115),ISNUMBER(I117),ISNUMBER(I120),ISNUMBER(I122),ISNUMBER(K224),ISNUMBER(K233),ISNUMBER(I178),ISNUMBER(I180),ISNUMBER(I182),ISNUMBER(I184),ISNUMBER(K249),ISNUMBER(J266),ISNUMBER(K266)),-I104-I106-I108-I110-I113-I115-I117-I120-I122+K224+K233+I178+I180+I182+I184-K249+J266-K266,\"\")","v":""},null,null,{"$f":"IF(AND(ISNUMBER(L104),ISNUMBER(L106),ISNUMBER(L108),ISNUMBER(L110),ISNUMBER(L113),ISNUMBER(L115),ISNUMBER(L117),ISNUMBER(L120),ISNUMBER(L122),ISNUMBER(N224),ISNUMBER(N233),ISNUMBER(L178),ISNUMBER(L180),ISNUMBER(L182),ISNUMBER(L184),ISNUMBER(N249),ISNUMBER(M266),ISNUMBER(N266)),-L104-L106-L108-L110-L113-L115-L117-L120-L122+N224+N233+L178+L180+L182+L184-N249+M266-N266,\"\")","v":""},null,null,{"$f":"IF(AND(ISNUMBER(O104),ISNUMBER(O106),ISNUMBER(O108),ISNUMBER(O110),ISNUMBER(O113),ISNUMBER(O115),ISNUMBER(O117),ISNUMBER(O120),ISNUMBER(O122),ISNUMBER(Q224),ISNUMBER(Q233),ISNUMBER(O178),ISNUMBER(O180),ISNUMBER(O182),ISNUMBER(O184),ISNUMBER(Q249),ISNUMBER(P266),ISNUMBER(Q266)),-O104-O106-O108-O110-O113-O115-O117-O120-O122+Q224+Q233+O178+O180+O182+O184-Q249+P266-Q266,\"\")","v":""},null,null,{"$f":"IF(AND(ISNUMBER(R104),ISNUMBER(R106),ISNUMBER(R108),ISNUMBER(R110),ISNUMBER(R113),ISNUMBER(R115),ISNUMBER(R117),ISNUMBER(R120),ISNUMBER(R122),ISNUMBER(T224),ISNUMBER(T233),ISNUMBER(R178),ISNUMBER(R180),ISNUMBER(R182),ISNUMBER(R184),ISNUMBER(T249),ISNUMBER(S266),ISNUMBER(T266)),-R104-R106-R108-R110-R113-R115-R117-R120-R122+T224+T233+R178+R180+R182+R184-T249+S266-T266,\"\")","v":""}]
["A16","      조정된 Level 1 자산",null,null,{"$f":"IF(AND(ISNUMBER(C9),ISNUMBER(C21)),MAX(C9+C21,0),\"\")","v":""},null,null,{"$f":"IF(AND(ISNUMBER(F9),ISNUMBER(F21)),MAX(F9+F21,0),\"\")","v":""},null,null,{"$f":"IF(AND(ISNUMBER(I9),ISNUMBER(I21)),MAX(I9+I21,0),\"\")","v":""},null,null,{"$f":"IF(AND(ISNUMBER(L9),ISNUMBER(L21)),MAX(L9+L21,0),\"\")","v":""},null,null,{"$f":"IF(AND(ISNUMBER(O9),ISNUMBER(O21)),MAX(O9+O21,0),\"\")","v":""},null,null,{"$f":"IF(AND(ISNUMBER(R9),ISNUMBER(R21)),MAX(R9+R21,0),\"\")","v":""}]
["A2","   2. Level 2A 자산",{"$f":"SUM(C24,C30:C31)","v":0},null,{"$f":"SUM(E24,E30:E31)","v":0},{"$f":"SUM(F24,F30:F31)","v":0},null,{"$f":"SUM(H24,H30:H31)","v":0},{"$f":"SUM(I24,I30:I31)","v":0},null,{"$f":"SUM(K24,K30:K31)","v":0},{"$f":"SUM(L24,L30:L31)","v":0},null,{"$f":"SUM(N24,N30:N31)","v":0},{"$f":"SUM(O24,O30:O31)","v":0},null,{"$f":"SUM(Q24,Q30:Q31)","v":0},{"$f":"SUM(R24,R30:R31)","v":0},null,{"$f":"SUM(T24,T30:T31)","v":0}]
["A21","      가. 20% 위험가중치 적용 유가증권",{"$f":"SUM(C25:C29)","v":0},null,{"$f":"SUM(E25:E29)","v":0},{"$f":"SUM(F25:F29)","v":0},null,{"$f":"SUM(H25:H29)","v":0},{"$f":"SUM(I25:I29)","v":0},null,{"$f":"SUM(K25:K29)","v":0},{"$f":"SUM(L25:L29)","v":0},null,{"$f":"SUM(N25:N29)","v":0},{"$f":"SUM(O25:O29)","v":0},null,{"$f":"SUM(Q25:Q29)","v":0},{"$f":"SUM(R25:R29)","v":0},null,{"$f":"SUM(T25:T29)","v":0}]
["A211","       (정부가 발행한 유가증권)",null,0.85,{"$f":"IF(AND(ISNUMBER(C25),ISNUMBER(D25)),C25*D25,\"\")","v":""},null,0.85,{"$f":"IF(AND(ISNUMBER(F25),ISNUMBER(G25)),F25*G25,\"\")","v":""},null,0.85,{"$f":"IF(AND(ISNUMBER(I25),ISNUMBER(J25)),I25*J25,\"\")","v":""},null,0.85,{"$f":"IF(AND(ISNUMBER(L25),ISNUMBER(M25)),L25*M25,\"\")","v":""},null,0.85,{"$f":"IF(AND(ISNUMBER(O25),ISNUMBER(P25)),O25*P25,\"\")","v":""},null,0.85,{"$f":"IF(AND(ISNUMBER(R25),ISNUMBER(S25)),R25*S25,\"\")","v":""}]
["A212","       (정부가 보증한 유가증권)",null,0.85,"",null,0.85,"",null,0.85,"",null,0.85,"",null,0.85,"",null,0.85,""]
["A213","       (중앙은행이 발행하거나 보증한 유가증권)",null,0.85,"",null,0.85,"",null,0.85,"",null,0.85,"",null,0.85,"",null,0.85,""]
["A214","       (공공기관이 발행하거나 보증한 유가증권)",null,0.85,"",null,0.85,"",null,0.85,"",null,0.85,"",null,0.85,"",null,0.85,""]
["A215","       (다자개발은행이 발행하거나 보증한 유가증권)",null,0.85,"",null,0.85,"",null,0.85,"",null,0.85,"",null,0.85,"",null,0.85,""]
["A22","      나. 신용등급 AA- 이상의 비금융기업 채무증권",null,0.85,"",null,0.85,"",null,0.85,"",null,0.85,"",null,0.85,"",null,0.85,""]
["A23","      다. 해당은행이 발행하지 않은 신용등급 AA- 이상의 커버드본드",null,0.85,"",null,0.85,"",null,0.85,"",null,0.85,"",null,0.85,"",null,0.85,""]
["A24","      Level 2A 자산 조정액",{"$f":"IF(AND(ISNUMBER(E226),ISNUMBER(E235),ISNUMBER(E251),ISNUMBER(D267),ISNUMBER(E267)),E226+E235-E251+D267-E267,\"\")","v":""},null,null,{"$f":"IF(AND(ISNUMBER(H226),ISNUMBER(H235),ISNUMBER(H251),ISNUMBER(G267),ISNUMBER(H267)),H226+H235-H251+G267-H267,\"\")","v":""},null,null,{"$f":"IF(AND(ISNUMBER(K226),ISNUMBER(K235),ISNUMBER(K251),ISNUMBER(J267),ISNUMBER(K267)),K226+K235-K251+J267-K267,\"\")","v":""},null,null,{"$f":"IF(AND(ISNUMBER(N226),ISNUMBER(N235),ISNUMBER(N251),ISNUMBER(M267),ISNUMBER(N267)),N226+N235-N251+M267-N267,\"\")","v":""},null,null,{"$f":"IF(AND(ISNUMBER(Q226),ISNUMBER(Q235),ISNUMBER(Q251),ISNUMBER(P267),ISNUMBER(Q267)),Q226+Q235-Q251+P267-Q267,\"\")","v":""},null,null,{"$f":"IF(AND(ISNUMBER(T226),ISNUMBER(T235),ISNUMBER(T251),ISNUMBER(S267),ISNUMBER(T267)),T226+T235-T251+S267-T267,\"\")","v":""}]
["A25","      조정된 Level 2A 자산",{"$f":"IF(AND(ISNUMBER(C23),ISNUMBER(C32)),C23+C32,\"\")","v":""},0.85,{"$f":"IF(AND(ISNUMBER(C33),ISNUMBER(D33)),C33*D33,\"\")","v":""},{"$f":"IF(AND(ISNUMBER(F23),ISNUMBER(F32)),F23+F32,\"\")","v":""},0.85,{"$f":"IF(AND(ISNUMBER(F33),ISNUMBER(G33)),F33*G33,\"\")","v":""},{"$f":"IF(AND(ISNUMBER(I23),ISNUMBER(I32)),I23+I32,\"\")","v":""},0.85,{"$f":"IF(AND(ISNUMBER(I33),ISNUMBER(J33)),I33*J33,\"\")","v":""},{"$f":"IF(AND(ISNUMBER(L23),ISNUMBER(L32)),L23+L32,\"\")","v":""},0.85,{"$f":"IF(AND(ISNUMBER(L33),ISNUMBER(M33)),L33*M33,\"\")","v":""},{"$f":"IF(AND(ISNUMBER(O23),ISNUMBER(O32)),O23+O32,\"\")","v":""},0.85,{"$f":"IF(AND(ISNUMBER(O33),ISNUMBER(P33)),O33*P33,\"\")","v":""},{"$f":"IF(AND(ISNUMBER(R23),ISNUMBER(R32)),R23+R32,\"\")","v":""},0.85,{"$f":"IF(AND(ISNUMBER(R33),ISNUMBER(S33)),R33*S33,\"\")","v":""}]
["A3","   3. Level 2B 자산",{"$f":"SUM(C35:C38)","v":0},null,{"$f":"SUM(E35:E38)","v":0},{"$f":"SUM(F35:F38)","v":0},null,{"$f":"SUM(H35:H38)","v":0},{"$f":"SUM(I35:I38)","v":0},null,{"$f":"SUM(K35:K38)","v":0},{"$f":"SUM(L35:L38)","v":0},null,{"$f":"SUM(N35:N38)","v":0},{"$f":"SUM(O35:O38)","v":0},null,{"$f":"SUM(Q35:Q38)","v":0},{"$f":"SUM(R35:R38)","v":0},null,{"$f":"SUM(T35:T38)","v":0}]
["A31","      가. 신용등급 AA 이상의 RMBS",null,0.75,{"$f":"IF(AND(ISNUMBER(C35),ISNUMBER(D35)),C35*D35,\"\")","v":""},null,0.75,{"$f":"IF(AND(ISNUMBER(F35),ISNUMBER(G35)),F35*G35,\"\")","v":""},null,0.75,{"$f":"IF(AND(ISNUMBER(I35),ISNUMBER(J35)),I35*J35,\"\")","v":""},null,0.75,{"$f":"IF(AND(ISNUMBER(L35),ISNUMBER(M35)),L35*M35,\"\")","v":""},null,0.75,{"$f":"IF(AND(ISNUMBER(O35),ISNUMBER(P35)),O35*P35,\"\")","v":""},null,0.75,{"$f":"IF(AND(ISNUMBER(R35),ISNUMBER(S35)),R35*S35,\"\")","v":""}]
["A32","      나. 신용등급 BBB-부터 A+의 비금융기업 채무증권",null,0.5,{"$f":"IF(AND(ISNUMBER(C36),ISNUMBER(D36)),C36*D36,\"\")","v":""},null,0.5,{"$f":"IF(AND(ISNUMBER(F36),ISNUMBER(G36)),F36*G36,\"\")","v":""},null,0.5,{"$f":"IF(AND(ISNUMBER(I36),ISNUMBER(J36)),I36*J36,\"\")","v":""},null,0.5,{"$f":"IF(AND(ISNUMBER(L36),ISNUMBER(M36)),L36*M36,\"\")","v":""},null,0.5,{"$f":"IF(AND(ISNUMBER(O36),ISNUMBER(P36)),O36*P36,\"\")","v":""},null,0.5,{"$f":"IF(AND(ISNUMBER(R36),ISNUMBER(S36)),R36*S36,\"\")","v":""}]
["A33","      다. 비금융기업의 보통주",null,0.5,{"$f":"IF(AND(ISNUMBER(C37),ISNUMBER(D37)),C37*D37,\"\")","v":""},null,0.5,{"$f":"IF(AND(ISNUMBER(F37),ISNUMBER(G37)),F37*G37,\"\")","v":""},null,0.5,{"$f":"IF(AND(ISNUMBER(I37),ISNUMBER(J37)),I37*J37,\"\")","v":""},null,0.5,{"$f":"IF(AND(ISNUMBER(L37),ISNUMBER(M37)),L37*M37,\"\")","v":""},null,0.5,{"$f":"IF(AND(ISNUMBER(O37),ISNUMBER(P37)),O37*P37,\"\")","v":""},null,0.5,{"$f":"IF(AND(ISNUMBER(R37),ISNUMBER(S37)),R37*S37,\"\")","v":""}]
["A34","      라. 신용등급 BBB-부터 BBB+인 국가의 정부나 중앙은행 등이 발행한 채무증권(Level 1 및 Level 2A 자산 미포함)",null,0.5,{"$f":"IF(AND(ISNUMBER(C38),ISNUMBER(D38)),C38*D38,\"\")","v":""},null,0.5,{"$f":"IF(AND(ISNUMBER(F38),ISNUMBER(G38)),F38*G38,\"\")","v":""},null,0.5,{"$f":"IF(AND(ISNUMBER(I38),ISNUMBER(J38)),I38*J38,\"\")","v":""},null,0.5,{"$f":"IF(AND(ISNUMBER(L38),ISNUMBER(M38)),L38*M38,\"\")","v":""},null,0.5,{"$f":"IF(AND(ISNUMBER(O38),ISNUMBER(P38)),O38*P38,\"\")","v":""},null,0.5,{"$f":"IF(AND(ISNUMBER(R38),ISNUMBER(S38)),R38*S38,\"\")","v":""}]
["A35","      Level 2B RMBS 자산 조정액",{"$f":"IF(AND(ISNUMBER(E228),ISNUMBER(E237),ISNUMBER(E253),ISNUMBER(D268),ISNUMBER(E268)),E228+E237-E253+D268-E268,\"\")","v":""},null,null,{"$f":"IF(AND(ISNUMBER(H228),ISNUMBER(H237),ISNUMBER(H253),ISNUMBER(G268),ISNUMBER(H268)),H228+H237-H253+G268-H268,\"\")","v":""},null,null,{"$f":"IF(AND(ISNUMBER(K228),ISNUMBER(K237),ISNUMBER(K253),ISNUMBER(J268),ISNUMBER(K268)),K228+K237-K253+J268-K268,\"\")","v":""},null,null,{"$f":"IF(AND(ISNUMBER(N228),ISNUMBER(N237),ISNUMBER(N253),ISNUMBER(M268),ISNUMBER(N268)),N228+N237-N253+M268-N268,\"\")","v":""},null,null,{"$f":"IF(AND(ISNUMBER(Q228),ISNUMBER(Q237),ISNUMBER(Q253),ISNUMBER(P268),ISNUMBER(Q268)),Q228+Q237-Q253+P268-Q268,\"\")","v":""},null,null,{"$f":"IF(AND(ISNUMBER(T228),ISNUMBER(T237),ISNUMBER(T253),ISNUMBER(S268),ISNUMBER(T268)),T228+T237-T253+S268-T268,\"\")","v":""}]
["A36","      조정된 Level 2B RMBS 자산",{"$f":"IF(AND(ISNUMBER(C35),ISNUMBER(C39)),C35+C39,\"\")","v":""},0.75,{"$f":"IF(AND(ISNUMBER(C40),ISNUMBER(D40)),C40*D40,\"\")","v":""},{"$f":"IF(AND(ISNUMBER(F35),ISNUMBER(F39)),F35+F39,\"\")","v":""},0.75,{"$f":"IF(AND(ISNUMBER(F40),ISNUMBER(G40)),F40*G40,\"\")","v":""},{"$f":"IF(AND(ISNUMBER(I35),ISNUMBER(I39)),I35+I39,\"\")","v":""},0.75,{"$f":"IF(AND(ISNUMBER(I40),ISNUMBER(J40)),I40*J40,\"\")","v":""},{"$f":"IF(AND(ISNUMBER(L35),ISNUMBER(L39)),L35+L39,\"\")","v":""},0.75,{"$f":"IF(AND(ISNUMBER(L40),ISNUMBER(M40)),L40*M40,\"\")","v":""},{"$f":"IF(AND(ISNUMBER(O35),ISNUMBER(O39)),O35+O39,\"\")","v":""},0.75,{"$f":"IF(AND(ISNUMBER(O40),ISNUMBER(P40)),O40*P40,\"\")","v":""},{"$f":"IF(AND(ISNUMBER(R35),ISNUMBER(R39)),R35+R39,\"\")","v":""},0.75,{"$f":"IF(AND(ISNUMBER(R40),ISNUMBER(S40)),R40*S40,\"\")","v":""}]
["A37","      Level 2B Non-RMBS 자산 조정액",{"$f":"IF(AND(ISNUMBER(E230),ISNUMBER(E240),ISNUMBER(E242),ISNUMBER(E255),ISNUMBER(D269),ISNUMBER(E269)),E230+E240+E242-E255+D269-E269,\"\")","v":""},null,null,{"$f":"IF(AND(ISNUMBER(H230),ISNUMBER(H240),ISNUMBER(H242),ISNUMBER(H255),ISNUMBER(G269),ISNUMBER(H269)),H230+H240+H242-H255+G269-H269,\"\")","v":""},null,null,{"$f":"IF(AND(ISNUMBER(K230),ISNUMBER(K240),ISNUMBER(K242),ISNUMBER(K255),ISNUMBER(J269),ISNUMBER(K269)),K230+K240+K242-K255+J269-K269,\"\")","v":""},null,null,{"$f":"IF(AND(ISNUMBER(N230),ISNUMBER(N240),ISNUMBER(N242),ISNUMBER(N255),ISNUMBER(M269),ISNUMBER(N269)),N230+N240+N242-N255+M269-N269,\"\")","v":""},null,null,{"$f":"IF(AND(ISNUMBER(Q230),ISNUMBER(Q240),ISNUMBER(Q242),ISNUMBER(Q255),ISNUMBER(P269),ISNUMBER(Q269)),Q230+Q240+Q242-Q255+P269-Q269,\"\")","v":""},null,null,{"$f":"IF(AND(ISNUMBER(T230),ISNUMBER(T240),ISNUMBER(T242),ISNUMBER(T255),ISNUMBER(S269),ISNUMBER(T269)),T230+T240+T242-T255+S269-T269,\"\")","v":""}]
["A38","      조정된 Level 2B Non-RMBS 자산",{"$f":"IF(AND(ISNUMBER(C36),ISNUMBER(C37),ISNUMBER(C41)),C36+C37+C41,\"\")","v":""},0.5,{"$f":"IF(AND(ISNUMBER(C42),ISNUMBER(D42)),C42*D42,\"\")","v":""},{"$f":"IF(AND(ISNUMBER(F36),ISNUMBER(F37),ISNUMBER(F41)),F36+F37+F41,\"\")","v":""},0.5,{"$f":"IF(AND(ISNUMBER(F42),ISNUMBER(G42)),F42*G42,\"\")","v":""},{"$f":"IF(AND(ISNUMBER(I36),ISNUMBER(I37),ISNUMBER(I41)),I36+I37+I41,\"\")","v":""},0.5,{"$f":"IF(AND(ISNUMBER(I42),ISNUMBER(J42)),I42*J42,\"\")","v":""},{"$f":"IF(AND(ISNUMBER(L36),ISNUMBER(L37),ISNUMBER(L41)),L36+L37+L41,\"\")","v":""},0.5,{"$f":"IF(AND(ISNUMBER(L42),ISNUMBER(M42)),L42*M42,\"\")","v":""},{"$f":"IF(AND(ISNUMBER(O36),ISNUMBER(O37),ISNUMBER(O41)),O36+O37+O41,\"\")","v":""},0.5,{"$f":"IF(AND(ISNUMBER(O42),ISNUMBER(P42)),O42*P42,\"\")","v":""},{"$f":"IF(AND(ISNUMBER(R36),ISNUMBER(R37),ISNUMBER(R41)),R36+R37+R41,\"\")","v":""},0.5,{"$f":"IF(AND(ISNUMBER(R42),ISNUMBER(S42)),R42*S42,\"\")","v":""}]
["A39","      조정된 Level 2B RMBS 및 Level 2B Non-RMBS 자산 합계액",{"$f":"IF(AND(ISNUMBER(C40),ISNUMBER(C42)),C40+C42,\"\")","v":""},null,{"$f":"IF(AND(ISNUMBER(E40),ISNUMBER(E42)),E40+E42,\"\")","v":""},{"$f":"IF(AND(ISNUMBER(F40),ISNUMBER(F42)),F40+F42,\"\")","v":""},null,{"$f":"IF(AND(ISNUMBER(H40),ISNUMBER(H42)),H40+H42,\"\")","v":""},{"$f":"IF(AND(ISNUMBER(I40),ISNUMBER(I42)),I40+I42,\"\")","v":""},null,{"$f":"IF(AND(ISNUMBER(K40),ISNUMBER(K42)),K40+K42,\"\")","v":""},{"$f":"IF(AND(ISNUMBER(L40),ISNUMBER(L42)),L40+L42,\"\")","v":""},null,{"$f":"IF(AND(ISNUMBER(N40),ISNUMBER(N42)),N40+N42,\"\")","v":""},{"$f":"IF(AND(ISNUMBER(O40),ISNUMBER(O42)),O40+O42,\"\")","v":""},null,{"$f":"IF(AND(ISNUMBER(Q40),ISNUMBER(Q42)),Q40+Q42,\"\")","v":""},{"$f":"IF(AND(ISNUMBER(R40),ISNUMBER(R42)),R40+R42,\"\")","v":""},null,{"$f":"IF(AND(ISNUMBER(T40),ISNUMBER(T42)),T40+T42,\"\")","v":""}]
["A4","      Level 2B 자산 한도에 따라 조정된 고유동성자산 금액",null,null,{"$f":"IF(AND(ISNUMBER(E43),ISNUMBER(E22),ISNUMBER(E33)),MAX(E43-15/85*(E22+E33),E43-15/60*E22,0),\"\")","v":""},null,null,{"$f":"IF(AND(ISNUMBER(H43),ISNUMBER(H22),ISNUMBER(H33)),MAX(H43-15/85*(H22+H33),H43-15/60*H22,0),\"\")","v":""},null,null,{"$f":"IF(AND(ISNUMBER(K43),ISNUMBER(K22),ISNUMBER(K33)),MAX(K43-15/85*(K22+K33),K43-15/60*K22,0),\"\")","v":""},null,null,{"$f":"IF(AND(ISNUMBER(N43),ISNUMBER(N22),ISNUMBER(N33)),MAX(N43-15/85*(N22+N33),N43-15/60*N22,0),\"\")","v":""},null,null,{"$f":"IF(AND(ISNUMBER(Q43),ISNUMBER(Q22),ISNUMBER(Q33)),MAX(Q43-15/85*(Q22+Q33),Q43-15/60*Q22,0),\"\")","v":""},null,null,{"$f":"IF(AND(ISNUMBER(T43),ISNUMBER(T22),ISNUMBER(T33)),MAX(T43-15/85*(T22+T33),T43-15/60*T22,0),\"\")","v":""}]
["A5","      Level 2 자산 한도에 따라 조정된 고유동성자산 금액",null,null,{"$f":"IF(AND(ISNUMBER(E33),ISNUMBER(E43),ISNUMBER(E44)),MAX((E33+E43-E44)-2/3*E22,0),\"\")","v":""},null,null,{"$f":"IF(AND(ISNUMBER(H33),ISNUMBER(H43),ISNUMBER(H44)),MAX((H33+H43-H44)-2/3*H22,0),\"\")","v":""},null,null,{"$f":"IF(AND(ISNUMBER(K33),ISNUMBER(K43),ISNUMBER(K44)),MAX((K33+K43-K44)-2/3*K22,0),\"\")","v":""},null,null,{"$f":"IF(AND(ISNUMBER(N33),ISNUMBER(N43),ISNUMBER(N44)),MAX((N33+N43-N44)-2/3*N22,0),\"\")","v":""},null,null,{"$f":"IF(AND(ISNUMBER(Q33),ISNUMBER(Q43),ISNUMBER(Q44)),MAX((Q33+Q43-Q44)-2/3*Q22,0),\"\")","v":""},null,null,{"$f":"IF(AND(ISNUMBER(T33),ISNUMBER(T43),ISNUMBER(T44)),MAX((T33+T43-T44)-2/3*T22,0),\"\")","v":""}]
["BC","Ⅱ. 순현금유출액",null,null,{"$f":"E47-E174","v":0},null,null,{"$f":"H47-H174","v":0},null,null,{"$f":"K47-K174","v":0},null,null,{"$f":"N47-N174","v":0},null,null,{"$f":"Q47-Q174","v":0},null,null,{"$f":"T47-T174","v":0}]
["B","   1. 총현금유출액",null,null,{"$f":"SUM(E48,E59,E101,E126,E160)","v":0},null,null,{"$f":"SUM(H48,H59,H101,H126,H160)","v":0},null,null,{"$f":"SUM(K48,K59,K101,K126,K160)","v":0},null,null,{"$f":"SUM(N48,N59,N101,N126,N160)","v":0},null,null,{"$f":"SUM(Q48,Q59,Q101,Q126,Q160)","v":0},null,null,{"$f":"SUM(T48,T59,T101,T126,T160)","v":0}]
["B1","      가. 소매예금 이탈금액",{"$f":"SUM(C49,C57:C58)","v":0},null,{"$f":"SUM(E49,E57:E58)","v":0},{"$f":"SUM(F49,F57:F58)","v":0},null,{"$f":"SUM(H49,H57:H58)","v":0},{"$f":"SUM(I49,I57:I58)","v":0},null,{"$f":"SUM(K49,K57:K58)","v":0},{"$f":"SUM(L49,L57:L58)","v":0},null,{"$f":"SUM(N49,N57:N58)","v":0},{"$f":"SUM(O49,O57:O58)","v":0},null,{"$f":"SUM(Q49,Q57:Q58)","v":0},{"$f":"SUM(R49,R57:R58)","v":0},null,{"$f":"SUM(T49,T57:T58)","v":0}]
["B11","       1) 부보대상 예수금",{"$f":"SUM(C50,C53,C56)","v":0},null,{"$f":"SUM(E50,E53,E56)","v":0},{"$f":"SUM(F50,F53,F56)","v":0},null,{"$f":"SUM(H50,H53,H56)","v":0},{"$f":"SUM(I50,I53,I56)","v":0},null,{"$f":"SUM(K50,K53,K56)","v":0},{"$f":"SUM(L50,L53,L56)","v":0},null,{"$f":"SUM(N50,N53,N56)","v":0},{"$f":"SUM(O50,O53,O56)","v":0},null,{"$f":"SUM(Q50,Q53,Q56)","v":0},{"$f":"SUM(R50,R53,R56)","v":0},null,{"$f":"SUM(T50,T53,T56)","v":0}]
["B111","       거래계좌 금액",{"$f":"SUM(C51:C52)","v":0},null,{"$f":"SUM(E51:E52)","v":0},{"$f":"SUM(F51:F52)","v":0},null,{"$f":"SUM(H51:H52)","v":0},{"$f":"SUM(I51:I52)","v":0},null,{"$f":"SUM(K51:K52)","v":0},{"$f":"SUM(L51:L52)","v":0},null,{"$f":"SUM(N51:N52)","v":0},{"$f":"SUM(O51:O52)","v":0},null,{"$f":"SUM(Q51:Q52)","v":0},{"$f":"SUM(R51:R52)","v":0},null,{"$f":"SUM(T51:T52)","v":0}]
["B1111","     본국 (home jurisdiction) 감독당국 기준",null,0.05,{"$f":"IF(AND(ISNUMBER(C51),ISNUMBER(D51)),C51*D51,\"\")","v":""},null,0.05,{"$f":"IF(AND(ISNUMBER(F51),ISNUMBER(G51)),F51*G51,\"\")","v":""},null,0.05,{"$f":"IF(AND(ISNUMBER(I51),ISNUMBER(J51)),I51*J51,\"\")","v":""},null,0.05,{"$f":"IF(AND(ISNUMBER(L51),ISNUMBER(M51)),L51*M51,\"\")","v":""},null,0.05,{"$f":"IF(AND(ISNUMBER(O51),ISNUMBER(P51)),O51*P51,\"\")","v":""},null,0.05,{"$f":"IF(AND(ISNUMBER(R51),ISNUMBER(S51)),R51*S51,\"\")","v":""}]
["B1112","     진출국 (host jurisdiction) 감독당국 기준",null,0.05,{"$f":"IF(AND(ISNUMBER(C52),ISNUMBER(D52)),C52*D52,\"\")","v":""},null,0.05,{"$f":"IF(AND(ISNUMBER(F52),ISNUMBER(G52)),F52*G52,\"\")","v":""},null,0.05,{"$f":"IF(AND(ISNUMBER(I52),ISNUMBER(J52)),I52*J52,\"\")","v":""},null,0.05,{"$f":"IF(AND(ISNUMBER(L52),ISNUMBER(M52)),L52*M52,\"\")","v":""},null,0.05,{"$f":"IF(AND(ISNUMBER(O52),ISNUMBER(P52)),O52*P52,\"\")","v":""},null,0.05,{"$f":"IF(AND(ISNUMBER(R52),ISNUMBER(S52)),R52*S52,\"\")","v":""}]
["B112","       거래계좌는 아니나 예금주가 해당은행과 긴밀한 관계를 유지하는 고객 계좌의 금액",{"$f":"SUM(C54:C55)","v":0},null,{"$f":"SUM(E54:E55)","v":0},{"$f":"SUM(F54:F55)","v":0},null,{"$f":"SUM(H54:H55)","v":0},{"$f":"SUM(I54:I55)","v":0},null,{"$f":"SUM(K54:K55)","v":0},{"$f":"SUM(L54:L55)","v":0},null,{"$f":"SUM(N54:N55)","v":0},{"$f":"SUM(O54:O55)","v":0},null,{"$f":"SUM(Q54:Q55)","v":0},{"$f":"SUM(R54:R55)","v":0},null,{"$f":"SUM(T54:T55)","v":0}]
["B1121","     본국 (home jurisdiction) 감독당국 기준",null,0.05,{"$f":"IF(AND(ISNUMBER(C54),ISNUMBER(D54)),C54*D54,\"\")","v":""},null,0.05,{"$f":"IF(AND(ISNUMBER(F54),ISNUMBER(G54)),F54*G54,\"\")","v":""},null,0.05,{"$f":"IF(AND(ISNUMBER(I54),ISNUMBER(J54)),I54*J54,\"\")","v":""},null,0.05,{"$f":"IF(AND(ISNUMBER(L54),ISNUMBER(M54)),L54*M54,\"\")","v":""},null,0.05,{"$f":"IF(AND(ISNUMBER(O54),ISNUMBER(P54)),O54*P54,\"\")","v":""},null,0.05,{"$f":"IF(AND(ISNUMBER(R54),ISNUMBER(S54)),R54*S54,\"\")","v":""}]
["B1122","     진출국 (host jurisdiction) 감독당국 기준",null,0.05,{"$f":"IF(AND(ISNUMBER(C55),ISNUMBER(D55)),C55*D55,\"\")","v":""},null,0.05,{"$f":"IF(AND(ISNUMBER(F55),ISNUMBER(G55)),F55*G55,\"\")","v":""},null,0.05,{"$f":"IF(AND(ISNUMBER(I55),ISNUMBER(J55)),I55*J55,\"\")","v":""},null,0.05,{"$f":"IF(AND(ISNUMBER(L55),ISNUMBER(M55)),L55*M55,\"\")","v":""},null,0.05,{"$f":"IF(AND(ISNUMBER(O55),ISNUMBER(P55)),O55*P55,\"\")","v":""},null,0.05,{"$f":"IF(AND(ISNUMBER(R55),ISNUMBER(S55)),R55*S55,\"\")","v":""}]
["B113","       거래계좌가 아니고, 긴밀한 관계를 유지하는 고객 계좌가 아닌 계좌의 금액",null,0.1,{"$f":"IF(AND(ISNUMBER(C56),ISNUMBER(D56)),C56*D56,\"\")","v":""},null,0.1,{"$f":"IF(AND(ISNUMBER(F56),ISNUMBER(G56)),F56*G56,\"\")","v":""},null,0.1,{"$f":"IF(AND(ISNUMBER(I56),ISNUMBER(J56)),I56*J56,\"\")","v":""},null,0.1,{"$f":"IF(AND(ISNUMBER(L56),ISNUMBER(M56)),L56*M56,\"\")","v":""},null,0.1,{"$f":"IF(AND(ISNUMBER(O56),ISNUMBER(P56)),O56*P56,\"\")","v":""},null,0.1,{"$f":"IF(AND(ISNUMBER(R56),ISNUMBER(S56)),R56*S56,\"\")","v":""}]
["B12","       2) 비부보대상 예수금",null,0.1,{"$f":"IF(AND(ISNUMBER(C57),ISNUMBER(D57)),C57*D57,\"\")","v":""},null,0.1,{"$f":"IF(AND(ISNUMBER(F57),ISNUMBER(G57)),F57*G57,\"\")","v":""},null,0.1,{"$f":"IF(AND(ISNUMBER(I57),ISNUMBER(J57)),I57*J57,\"\")","v":""},null,0.1,{"$f":"IF(AND(ISNUMBER(L57),ISNUMBER(M57)),L57*M57,\"\")","v":""},null,0.1,{"$f":"IF(AND(ISNUMBER(O57),ISNUMBER(P57)),O57*P57,\"\")","v":""},null,0.1,{"$f":"IF(AND(ISNUMBER(R57),ISNUMBER(S57)),R57*S57,\"\")","v":""}]
["B13","       3)만기 1개월 초과 확정 기간부 소매예금",null,0,{"$f":"IF(AND(ISNUMBER(C58),ISNUMBER(D58)),C58*D58,\"\")","v":""},null,0,{"$f":"IF(AND(ISNUMBER(F58),ISNUMBER(G58)),F58*G58,\"\")","v":""},null,0,{"$f":"IF(AND(ISNUMBER(I58),ISNUMBER(J58)),I58*J58,\"\")","v":""},null,0,{"$f":"IF(AND(ISNUMBER(L58),ISNUMBER(M58)),L58*M58,\"\")","v":""},null,0,{"$f":"IF(AND(ISNUMBER(O58),ISNUMBER(P58)),O58*P58,\"\")","v":""},null,0,{"$f":"IF(AND(ISNUMBER(R58),ISNUMBER(S58)),R58*S58,\"\")","v":""}]
["B2","      나. 무담보부 도매자금조달 이탈금액",{"$f":"SUM(C60,C71,C84,C95:C96)","v":0},null,{"$f":"SUM(E60,E71,E84,E95:E96)","v":0},{"$f":"SUM(F60,F71,F84,F95:F96)","v":0},null,{"$f":"SUM(H60,H71,H84,H95:H96)","v":0},{"$f":"SUM(I60,I71,I84,I95:I96)","v":0},null,{"$f":"SUM(K60,K71,K84,K95:K96)","v":0},{"$f":"SUM(L60,L71,L84,L95:L96)","v":0},null,{"$f":"SUM(N60,N71,N84,N95:N96)","v":0},{"$f":"SUM(O60,O71,O84,O95:O96)","v":0},null,{"$f":"SUM(Q60,Q71,Q84,Q95:Q96)","v":0},{"$f":"SUM(R60,R71,R84,R95:R96)","v":0},null,{"$f":"SUM(T60,T71,T84,T95:T96)","v":0}]
["B21","       1) 중소기업으로부터의 자금조달",{"$f":"SUM(C61,C69:C70)","v":0}," ",{"$f":"SUM(E61,E69:E70)","v":0},{"$f":"SUM(F61,F69:F70)","v":0}," ",{"$f":"SUM(H61,H69:H70)","v":0},{"$f":"SUM(I61,I69:I70)","v":0}," ",{"$f":"SUM(K61,K69:K70)","v":0},{"$f":"SUM(L61,L69:L70)","v":0}," ",{"$f":"SUM(N61,N69:N70)","v":0},{"$f":"SUM(O61,O69:O70)","v":0}," ",{"$f":"SUM(Q61,Q69:Q70)","v":0},{"$f":"SUM(R61,R69:R70)","v":0}," ",{"$f":"SUM(T61,T69:T70)","v":0}]
["B211","          부보대상 예수금",{"$f":"SUM(C62,C65,C68)","v":0},null,{"$f":"SUM(E62,E65,E68)","v":0},{"$f":"SUM(F62,F65,F68)","v":0},null,{"$f":"SUM(H62,H65,H68)","v":0},{"$f":"SUM(I62,I65,I68)","v":0},null,{"$f":"SUM(K62,K65,K68)","v":0},{"$f":"SUM(L62,L65,L68)","v":0},null,{"$f":"SUM(N62,N65,N68)","v":0},{"$f":"SUM(O62,O65,O68)","v":0},null,{"$f":"SUM(Q62,Q65,Q68)","v":0},{"$f":"SUM(R62,R65,R68)","v":0},null,{"$f":"SUM(T62,T65,T68)","v":0}]
["B2111","         거래계좌 금액",{"$f":"SUM(C63:C64)","v":0},null,{"$f":"SUM(E63:E64)","v":0},{"$f":"SUM(F63:F64)","v":0},null,{"$f":"SUM(H63:H64)","v":0},{"$f":"SUM(I63:I64)","v":0},null,{"$f":"SUM(K63:K64)","v":0},{"$f":"SUM(L63:L64)","v":0},null,{"$f":"SUM(N63:N64)","v":0},{"$f":"SUM(O63:O64)","v":0},null,{"$f":"SUM(Q63:Q64)","v":0},{"$f":"SUM(R63:R64)","v":0},null,{"$f":"SUM(T63:T64)","v":0}]
["B21111","      본국 (home jurisdiction) 감독당국 기준",null,0.05,{"$f":"IF(AND(ISNUMBER(C63),ISNUMBER(D63)),C63*D63,\"\")","v":""},null,0.05,{"$f":"IF(AND(ISNUMBER(F63),ISNUMBER(G63)),F63*G63,\"\")","v":""},null,0.05,{"$f":"IF(AND(ISNUMBER(I63),ISNUMBER(J63)),I63*J63,\"\")","v":""},null,0.05,{"$f":"IF(AND(ISNUMBER(L63),ISNUMBER(M63)),L63*M63,\"\")","v":""},null,0.05,{"$f":"IF(AND(ISNUMBER(O63),ISNUMBER(P63)),O63*P63,\"\")","v":""},null,0.05,{"$f":"IF(AND(ISNUMBER(R63),ISNUMBER(S63)),R63*S63,\"\")","v":""}]
["B21112","      진출국 (host jurisdiction) 감독당국 기준",null,0.05,{"$f":"IF(AND(ISNUMBER(C64),ISNUMBER(D64)),C64*D64,\"\")","v":""},null,0.05,{"$f":"IF(AND(ISNUMBER(F64),ISNUMBER(G64)),F64*G64,\"\")","v":""},null,0.05,{"$f":"IF(AND(ISNUMBER(I64),ISNUMBER(J64)),I64*J64,\"\")","v":""},null,0.05,{"$f":"IF(AND(ISNUMBER(L64),ISNUMBER(M64)),L64*M64,\"\")","v":""},null,0.05,{"$f":"IF(AND(ISNUMBER(O64),ISNUMBER(P64)),O64*P64,\"\")","v":""},null,0.05,{"$f":"IF(AND(ISNUMBER(R64),ISNUMBER(S64)),R64*S64,\"\")","v":""}]
["B2112","          거래계좌는 아니나 예금주가 해당은행과 긴밀한 관계를 유지하는 고객 계좌의 금액",{"$f":"SUM(C66:C67)","v":0},null,{"$f":"SUM(E66:E67)","v":0},{"$f":"SUM(F66:F67)","v":0},null,{"$f":"SUM(H66:H67)","v":0},{"$f":"SUM(I66:I67)","v":0},null,{"$f":"SUM(K66:K67)","v":0},{"$f":"SUM(L66:L67)","v":0},null,{"$f":"SUM(N66:N67)","v":0},{"$f":"SUM(O66:O67)","v":0},null,{"$f":"SUM(Q66:Q67)","v":0},{"$f":"SUM(R66:R67)","v":0},null,{"$f":"SUM(T66:T67)","v":0}]
["B21121","      본국 (home jurisdiction) 감독당국 기준",null,0.05,{"$f":"IF(AND(ISNUMBER(C66),ISNUMBER(D66)),C66*D66,\"\")","v":""},null,0.05,{"$f":"IF(AND(ISNUMBER(F66),ISNUMBER(G66)),F66*G66,\"\")","v":""},null,0.05,{"$f":"IF(AND(ISNUMBER(I66),ISNUMBER(J66)),I66*J66,\"\")","v":""},null,0.05,{"$f":"IF(AND(ISNUMBER(L66),ISNUMBER(M66)),L66*M66,\"\")","v":""},null,0.05,{"$f":"IF(AND(ISNUMBER(O66),ISNUMBER(P66)),O66*P66,\"\")","v":""},null,0.05,{"$f":"IF(AND(ISNUMBER(R66),ISNUMBER(S66)),R66*S66,\"\")","v":""}]
["B21122","      진출국 (host jurisdiction) 감독당국 기준",null,0.05,{"$f":"IF(AND(ISNUMBER(C67),ISNUMBER(D67)),C67*D67,\"\")","v":""},null,0.05,{"$f":"IF(AND(ISNUMBER(F67),ISNUMBER(G67)),F67*G67,\"\")","v":""},null,0.05,{"$f":"IF(AND(ISNUMBER(I67),ISNUMBER(J67)),I67*J67,\"\")","v":""},null,0.05,{"$f":"IF(AND(ISNUMBER(L67),ISNUMBER(M67)),L67*M67,\"\")","v":""},null,0.05,{"$f":"IF(AND(ISNUMBER(O67),ISNUMBER(P67)),O67*P67,\"\")","v":""},null,0.05,{"$f":"IF(AND(ISNUMBER(R67),ISNUMBER(S67)),R67*S67,\"\")","v":""}]
["B2113","          거래계좌가 아니고, 긴밀한 관계를 유지하는 고객 계좌가 아닌 계좌의 금액",null,0.1,{"$f":"IF(AND(ISNUMBER(C68),ISNUMBER(D68)),C68*D68,\"\")","v":""},null,0.1,{"$f":"IF(AND(ISNUMBER(F68),ISNUMBER(G68)),F68*G68,\"\")","v":""},null,0.1,{"$f":"IF(AND(ISNUMBER(I68),ISNUMBER(J68)),I68*J68,\"\")","v":""},null,0.1,{"$f":"IF(AND(ISNUMBER(L68),ISNUMBER(M68)),L68*M68,\"\")","v":""},null,0.1,{"$f":"IF(AND(ISNUMBER(O68),ISNUMBER(P68)),O68*P68,\"\")","v":""},null,0.1,{"$f":"IF(AND(ISNUMBER(R68),ISNUMBER(S68)),R68*S68,\"\")","v":""}]
["B212","          비부보대상 예수금",null,0.1,{"$f":"IF(AND(ISNUMBER(C69),ISNUMBER(D69)),C69*D69,\"\")","v":""},null,0.1,{"$f":"IF(AND(ISNUMBER(F69),ISNUMBER(G69)),F69*G69,\"\")","v":""},null,0.1,{"$f":"IF(AND(ISNUMBER(I69),ISNUMBER(J69)),I69*J69,\"\")","v":""},null,0.1,{"$f":"IF(AND(ISNUMBER(L69),ISNUMBER(M69)),L69*M69,\"\")","v":""},null,0.1,{"$f":"IF(AND(ISNUMBER(O69),ISNUMBER(P69)),O69*P69,\"\")","v":""},null,0.1,{"$f":"IF(AND(ISNUMBER(R69),ISNUMBER(S69)),R69*S69,\"\")","v":""}]
["B213","          만기 1개월 초과 확정 기간부 소매예금",null,0,{"$f":"IF(AND(ISNUMBER(C70),ISNUMBER(D70)),C70*D70,\"\")","v":""},null,0,{"$f":"IF(AND(ISNUMBER(F70),ISNUMBER(G70)),F70*G70,\"\")","v":""},null,0,{"$f":"IF(AND(ISNUMBER(I70),ISNUMBER(J70)),I70*J70,\"\")","v":""},null,0,{"$f":"IF(AND(ISNUMBER(L70),ISNUMBER(M70)),L70*M70,\"\")","v":""},null,0,{"$f":"IF(AND(ISNUMBER(O70),ISNUMBER(P70)),O70*P70,\"\")","v":""},null,0,{"$f":"IF(AND(ISNUMBER(R70),ISNUMBER(S70)),R70*S70,\"\")","v":""}]
["B22","       2) 무담보부 도매자금 조달중 총 영업적 예금",{"$f":"SUM(C72,C75,C78,C81)","v":0},null,{"$f":"SUM(E72,E75,E78,E81)","v":0},{"$f":"SUM(F72,F75,F78,F81)","v":0},null,{"$f":"SUM(H72,H75,H78,H81)","v":0},{"$f":"SUM(I72,I75,I78,I81)","v":0},null,{"$f":"SUM(K72,K75,K78,K81)","v":0},{"$f":"SUM(L72,L75,L78,L81)","v":0},null,{"$f":"SUM(N72,N75,N78,N81)","v":0},{"$f":"SUM(O72,O75,O78,O81)","v":0},null,{"$f":"SUM(Q72,Q75,Q78,Q81)","v":0},{"$f":"SUM(R72,R75,R78,R81)","v":0},null,{"$f":"SUM(T72,T75,T78,T81)","v":0}]
["B221","        비금융기업으로부터 조달",{"$f":"SUM(C73:C74)","v":0},null,{"$f":"SUM(E73:E74)","v":0},{"$f":"SUM(F73:F74)","v":0},null,{"$f":"SUM(H73:H74)","v":0},{"$f":"SUM(I73:I74)","v":0},null,{"$f":"SUM(K73:K74)","v":0},{"$f":"SUM(L73:L74)","v":0},null,{"$f":"SUM(N73:N74)","v":0},{"$f":"SUM(O73:O74)","v":0},null,{"$f":"SUM(Q73:Q74)","v":0},{"$f":"SUM(R73:R74)","v":0},null,{"$f":"SUM(T73:T74)","v":0}]
["B2211","        부보대상",null,0.05,{"$f":"IF(AND(ISNUMBER(C73),ISNUMBER(D73)),C73*D73,\"\")","v":""},null,0.05,{"$f":"IF(AND(ISNUMBER(F73),ISNUMBER(G73)),F73*G73,\"\")","v":""},null,0.05,{"$f":"IF(AND(ISNUMBER(I73),ISNUMBER(J73)),I73*J73,\"\")","v":""},null,0.05,{"$f":"IF(AND(ISNUMBER(L73),ISNUMBER(M73)),L73*M73,\"\")","v":""},null,0.05,{"$f":"IF(AND(ISNUMBER(O73),ISNUMBER(P73)),O73*P73,\"\")","v":""},null,0.05,{"$f":"IF(AND(ISNUMBER(R73),ISNUMBER(S73)),R73*S73,\"\")","v":""}]
["B2212","        비부보대상",null,0.25,{"$f":"IF(AND(ISNUMBER(C74),ISNUMBER(D74)),C74*D74,\"\")","v":""},null,0.25,{"$f":"IF(AND(ISNUMBER(F74),ISNUMBER(G74)),F74*G74,\"\")","v":""},null,0.25,{"$f":"IF(AND(ISNUMBER(I74),ISNUMBER(J74)),I74*J74,\"\")","v":""},null,0.25,{"$f":"IF(AND(ISNUMBER(L74),ISNUMBER(M74)),L74*M74,\"\")","v":""},null,0.25,{"$f":"IF(AND(ISNUMBER(O74),ISNUMBER(P74)),O74*P74,\"\")","v":""},null,0.25,{"$f":"IF(AND(ISNUMBER(R74),ISNUMBER(S74)),R74*S74,\"\")","v":""}]
["B222","       국가, 중앙은행, 공공기관, 다자개발은행으로부터 조달",{"$f":"SUM(C76:C77)","v":0},null,{"$f":"SUM(E76:E77)","v":0},{"$f":"SUM(F76:F77)","v":0},null,{"$f":"SUM(H76:H77)","v":0},{"$f":"SUM(I76:I77)","v":0},null,{"$f":"SUM(K76:K77)","v":0},{"$f":"SUM(L76:L77)","v":0},null,{"$f":"SUM(N76:N77)","v":0},{"$f":"SUM(O76:O77)","v":0},null,{"$f":"SUM(Q76:Q77)","v":0},{"$f":"SUM(R76:R77)","v":0},null,{"$f":"SUM(T76:T77)","v":0}]
["B2221","        부보대상",null,0.05,{"$f":"IF(AND(ISNUMBER(C76),ISNUMBER(D76)),C76*D76,\"\")","v":""},null,0.05,{"$f":"IF(AND(ISNUMBER(F76),ISNUMBER(G76)),F76*G76,\"\")","v":""},null,0.05,{"$f":"IF(AND(ISNUMBER(I76),ISNUMBER(J76)),I76*J76,\"\")","v":""},null,0.05,{"$f":"IF(AND(ISNUMBER(L76),ISNUMBER(M76)),L76*M76,\"\")","v":""},null,0.05,{"$f":"IF(AND(ISNUMBER(O76),ISNUMBER(P76)),O76*P76,\"\")","v":""},null,0.05,{"$f":"IF(AND(ISNUMBER(R76),ISNUMBER(S76)),R76*S76,\"\")","v":""}]
["B2222","        비부보대상",null,0.25,{"$f":"IF(AND(ISNUMBER(C77),ISNUMBER(D77)),C77*D77,\"\")","v":""},null,0.25,{"$f":"IF(AND(ISNUMBER(F77),ISNUMBER(G77)),F77*G77,\"\")","v":""},null,0.25,{"$f":"IF(AND(ISNUMBER(I77),ISNUMBER(J77)),I77*J77,\"\")","v":""},null,0.25,{"$f":"IF(AND(ISNUMBER(L77),ISNUMBER(M77)),L77*M77,\"\")","v":""},null,0.25,{"$f":"IF(AND(ISNUMBER(O77),ISNUMBER(P77)),O77*P77,\"\")","v":""},null,0.25,{"$f":"IF(AND(ISNUMBER(R77),ISNUMBER(S77)),R77*S77,\"\")","v":""}]
["B223","       은행으로부터 조달",{"$f":"SUM(C79:C80)","v":0},null,{"$f":"SUM(E79:E80)","v":0},{"$f":"SUM(F79:F80)","v":0},null,{"$f":"SUM(H79:H80)","v":0},{"$f":"SUM(I79:I80)","v":0},null,{"$f":"SUM(K79:K80)","v":0},{"$f":"SUM(L79:L80)","v":0},null,{"$f":"SUM(N79:N80)","v":0},{"$f":"SUM(O79:O80)","v":0},null,{"$f":"SUM(Q79:Q80)","v":0},{"$f":"SUM(R79:R80)","v":0},null,{"$f":"SUM(T79:T80)","v":0}]
["B2231","        부보대상",null,0.05,{"$f":"IF(AND(ISNUMBER(C79),ISNUMBER(D79)),C79*D79,\"\")","v":""},null,0.05,{"$f":"IF(AND(ISNUMBER(F79),ISNUMBER(G79)),F79*G79,\"\")","v":""},null,0.05,{"$f":"IF(AND(ISNUMBER(I79),ISNUMBER(J79)),I79*J79,\"\")","v":""},null,0.05,{"$f":"IF(AND(ISNUMBER(L79),ISNUMBER(M79)),L79*M79,\"\")","v":""},null,0.05,{"$f":"IF(AND(ISNUMBER(O79),ISNUMBER(P79)),O79*P79,\"\")","v":""},null,0.05,{"$f":"IF(AND(ISNUMBER(R79),ISNUMBER(S79)),R79*S79,\"\")","v":""}]
["B2232","        비부보대상",null,0.25,{"$f":"IF(AND(ISNUMBER(C80),ISNUMBER(D80)),C80*D80,\"\")","v":""},null,0.25,{"$f":"IF(AND(ISNUMBER(F80),ISNUMBER(G80)),F80*G80,\"\")","v":""},null,0.25,{"$f":"IF(AND(ISNUMBER(I80),ISNUMBER(J80)),I80*J80,\"\")","v":""},null,0.25,{"$f":"IF(AND(ISNUMBER(L80),ISNUMBER(M80)),L80*M80,\"\")","v":""},null,0.25,{"$f":"IF(AND(ISNUMBER(O80),ISNUMBER(P80)),O80*P80,\"\")","v":""},null,0.25,{"$f":"IF(AND(ISNUMBER(R80),ISNUMBER(S80)),R80*S80,\"\")","v":""}]
["B224","       기타 금융기관 및 기타 법인으로부터 조달",{"$f":"SUM(C82:C83)","v":0},null,{"$f":"SUM(E82:E83)","v":0},{"$f":"SUM(F82:F83)","v":0},null,{"$f":"SUM(H82:H83)","v":0},{"$f":"SUM(I82:I83)","v":0},null,{"$f":"SUM(K82:K83)","v":0},{"$f":"SUM(L82:L83)","v":0},null,{"$f":"SUM(N82:N83)","v":0},{"$f":"SUM(O82:O83)","v":0},null,{"$f":"SUM(Q82:Q83)","v":0},{"$f":"SUM(R82:R83)","v":0},null,{"$f":"SUM(T82:T83)","v":0}]
["B2241","        부보대상",null,0.05,{"$f":"IF(AND(ISNUMBER(C82),ISNUMBER(D82)),C82*D82,\"\")","v":""},null,0.05,{"$f":"IF(AND(ISNUMBER(F82),ISNUMBER(G82)),F82*G82,\"\")","v":""},null,0.05,{"$f":"IF(AND(ISNUMBER(I82),ISNUMBER(J82)),I82*J82,\"\")","v":""},null,0.05,{"$f":"IF(AND(ISNUMBER(L82),ISNUMBER(M82)),L82*M82,\"\")","v":""},null,0.05,{"$f":"IF(AND(ISNUMBER(O82),ISNUMBER(P82)),O82*P82,\"\")","v":""},null,0.05,{"$f":"IF(AND(ISNUMBER(R82),ISNUMBER(S82)),R82*S82,\"\")","v":""}]
["B2242","        비부보대상",null,0.25,{"$f":"IF(AND(ISNUMBER(C83),ISNUMBER(D83)),C83*D83,\"\")","v":""},null,0.25,{"$f":"IF(AND(ISNUMBER(F83),ISNUMBER(G83)),F83*G83,\"\")","v":""},null,0.25,{"$f":"IF(AND(ISNUMBER(I83),ISNUMBER(J83)),I83*J83,\"\")","v":""},null,0.25,{"$f":"IF(AND(ISNUMBER(L83),ISNUMBER(M83)),L83*M83,\"\")","v":""},null,0.25,{"$f":"IF(AND(ISNUMBER(O83),ISNUMBER(P83)),O83*P83,\"\")","v":""},null,0.25,{"$f":"IF(AND(ISNUMBER(R83),ISNUMBER(S83)),R83*S83,\"\")","v":""}]
["B23","       3) 무담보부 도매자금 조달중 총 비영업적 예금",{"$f":"SUM(C85,C88,C91:C94)","v":0},null,{"$f":"SUM(E85,E88,E91:E94)","v":0},{"$f":"SUM(F85,F88,F91:F94)","v":0},null,{"$f":"SUM(H85,H88,H91:H94)","v":0},{"$f":"SUM(I85,I88,I91:I94)","v":0},null,{"$f":"SUM(K85,K88,K91:K94)","v":0},{"$f":"SUM(L85,L88,L91:L94)","v":0},null,{"$f":"SUM(N85,N88,N91:N94)","v":0},{"$f":"SUM(O85,O88,O91:O94)","v":0},null,{"$f":"SUM(Q85,Q88,Q91:Q94)","v":0},{"$f":"SUM(R85,R88,R91:R94)","v":0},null,{"$f":"SUM(T85,T88,T91:T94)","v":0}]
["B231","        비금융기업으로부터 조달",{"$f":"SUM(C86:C87)","v":0},null,{"$f":"SUM(E86:E87)","v":0},{"$f":"SUM(F86:F87)","v":0},null,{"$f":"SUM(H86:H87)","v":0},{"$f":"SUM(I86:I87)","v":0},null,{"$f":"SUM(K86:K87)","v":0},{"$f":"SUM(L86:L87)","v":0},null,{"$f":"SUM(N86:N87)","v":0},{"$f":"SUM(O86:O87)","v":0},null,{"$f":"SUM(Q86:Q87)","v":0},{"$f":"SUM(R86:R87)","v":0},null,{"$f":"SUM(T86:T87)","v":0}]
["B2311","        전액 부보되는 조달금액",null,0.2,{"$f":"IF(AND(ISNUMBER(C86),ISNUMBER(D86)),C86*D86,\"\")","v":""},null,0.2,{"$f":"IF(AND(ISNUMBER(F86),ISNUMBER(G86)),F86*G86,\"\")","v":""},null,0.2,{"$f":"IF(AND(ISNUMBER(I86),ISNUMBER(J86)),I86*J86,\"\")","v":""},null,0.2,{"$f":"IF(AND(ISNUMBER(L86),ISNUMBER(M86)),L86*M86,\"\")","v":""},null,0.2,{"$f":"IF(AND(ISNUMBER(O86),ISNUMBER(P86)),O86*P86,\"\")","v":""},null,0.2,{"$f":"IF(AND(ISNUMBER(R86),ISNUMBER(S86)),R86*S86,\"\")","v":""}]
["B2312","        전액 부보되지 않는 조달금액",null,0.4,{"$f":"IF(AND(ISNUMBER(C87),ISNUMBER(D87)),C87*D87,\"\")","v":""},null,0.4,{"$f":"IF(AND(ISNUMBER(F87),ISNUMBER(G87)),F87*G87,\"\")","v":""},null,0.4,{"$f":"IF(AND(ISNUMBER(I87),ISNUMBER(J87)),I87*J87,\"\")","v":""},null,0.4,{"$f":"IF(AND(ISNUMBER(L87),ISNUMBER(M87)),L87*M87,\"\")","v":""},null,0.4,{"$f":"IF(AND(ISNUMBER(O87),ISNUMBER(P87)),O87*P87,\"\")","v":""},null,0.4,{"$f":"IF(AND(ISNUMBER(R87),ISNUMBER(S87)),R87*S87,\"\")","v":""}]
["B232","        국가, 중앙은행, 공공기관, 다자개발은행으로부터 조달",{"$f":"SUM(C89:C90)","v":0},null,{"$f":"SUM(E89:E90)","v":0},{"$f":"SUM(F89:F90)","v":0},null,{"$f":"SUM(H89:H90)","v":0},{"$f":"SUM(I89:I90)","v":0},null,{"$f":"SUM(K89:K90)","v":0},{"$f":"SUM(L89:L90)","v":0},null,{"$f":"SUM(N89:N90)","v":0},{"$f":"SUM(O89:O90)","v":0},null,{"$f":"SUM(Q89:Q90)","v":0},{"$f":"SUM(R89:R90)","v":0},null,{"$f":"SUM(T89:T90)","v":0}]
["B2321","        전액 부보되는 조달금액",null,0.2,{"$f":"IF(AND(ISNUMBER(C89),ISNUMBER(D89)),C89*D89,\"\")","v":""},null,0.2,{"$f":"IF(AND(ISNUMBER(F89),ISNUMBER(G89)),F89*G89,\"\")","v":""},null,0.2,{"$f":"IF(AND(ISNUMBER(I89),ISNUMBER(J89)),I89*J89,\"\")","v":""},null,0.2,{"$f":"IF(AND(ISNUMBER(L89),ISNUMBER(M89)),L89*M89,\"\")","v":""},null,0.2,{"$f":"IF(AND(ISNUMBER(O89),ISNUMBER(P89)),O89*P89,\"\")","v":""},null,0.2,{"$f":"IF(AND(ISNUMBER(R89),ISNUMBER(S89)),R89*S89,\"\")","v":""}]
["B2322","        전액 부보되지 않는 조달금액",null,0.4,"",null,0.4,"",null,0.4,"",null,0.4,"",null,0.4,"",null,0.4,""]
["B233","     네트워크형 협력은행으로부터 조달",null,0.25,"",null,0.25,"",null,0.25,"",null,0.25,"",null,0.25,"",null,0.25,""]
["B234","     본지점거래분(순액)",null,0.25,"",null,0.25,"",null,0.25,"",null,0.25,"",null,0.25,"",null,0.25,""]
["B235","        여타 은행으로부터 조달",null,1,"",null,1,"",null,1,"",null,1,"",null,1,"",null,1,""]
["B236","        기타 금융기관 및 기타 법인으로부터 조달",null,1,"",null,1,"",null,1,"",null,1,"",null,1,"",null,1,""]
["B24","       4) 무담보부 기타 채무증권",null,1,"",null,1,"",null,1,"",null,1,"",null,1,"",null,1,""]
["B25","       5) 추가 적립의무 중앙은행 지준예치금",null,1,"",null,1,"",null,1,"",null,1,"",null,1,"",null,1,""]
["B26","          상기 비영업적 예금중 영업적 예금으로 볼 수 있으나 다음과 같은 사유에 따라 제외되는 금액",{"$f":"SUM(C98:C100)","v":0},null,null,{"$f":"SUM(F98:F100)","v":0},null,null,{"$f":"SUM(I98:I100)","v":0},null,null,{"$f":"SUM(L98:L100)","v":0},null,null,{"$f":"SUM(O98:O100)","v":0},null,null,{"$f":"SUM(R98:R100)","v":0}]
["B261","          코레스뱅킹"]
["B262","          프라임 브로커리지"]
["B263","          인출이 가능하고 영업목적을 달성하기 위해 필요한 수준을 초과한 예금잔액"]
["B3","      다. 담보부 자금조달 이탈금액",{"$f":"SUM(C102,C112,C114,C116,C118,C123)","v":0},null,{"$f":"SUM(E102,E112,E114,E116,E118,E123)","v":0},{"$f":"SUM(F102,F112,F114,F116,F118,F123)","v":0},null,{"$f":"SUM(H102,H112,H114,H116,H118,H123)","v":0},{"$f":"SUM(I102,I112,I114,I116,I118,I123)","v":0},null,{"$f":"SUM(K102,K112,K114,K116,K118,K123)","v":0},{"$f":"SUM(L102,L112,L114,L116,L118,L123)","v":0},null,{"$f":"SUM(N102,N112,N114,N116,N118,N123)","v":0},{"$f":"SUM(O102,O112,O114,O116,O118,O123)","v":0},null,{"$f":"SUM(Q102,Q112,Q114,Q116,Q118,Q123)","v":0},{"$f":"SUM(R102,R112,R114,R116,R118,R123)","v":0},null,{"$f":"SUM(T102,T112,T114,T116,T118,T123)","v":0}]
["B31","         1) 거래상대방이 자국 중앙은행인 경우",{"$f":"SUM(C103,C105,C107,C109,C111)","v":0},null,{"$f":"SUM(E103,E105,E107,E109,E111)","v":0},{"$f":"SUM(F103,F105,F107,F109,F111)","v":0},null,{"$f":"SUM(H103,H105,H107,H109,H111)","v":0},{"$f":"SUM(I103,I105,I107,I109,I111)","v":0},null,{"$f":"SUM(K103,K105,K107,K109,K111)","v":0},{"$f":"SUM(L103,L105,L107,L109,L111)","v":0},null,{"$f":"SUM(N103,N105,N107,N109,N111)","v":0},{"$f":"SUM(O103,O105,O107,O109,O111)","v":0},null,{"$f":"SUM(Q103,Q105,Q107,Q109,Q111)","v":0},{"$f":"SUM(R103,R105,R107,R109,R111)","v":0},null,{"$f":"SUM(T103,T105,T107,T109,T111)","v":0}]
["B311","         Level 1 자산을 담보로 제공하여 조달",null,0,{"$f":"IF(AND(ISNUMBER(C103),ISNUMBER(D103)),C103*D103,\"\")","v":""},null,0,{"$f":"IF(AND(ISNUMBER(F103),ISNUMBER(G103)),F103*G103,\"\")","v":""},null,0,{"$f":"IF(AND(ISNUMBER(I103),ISNUMBER(J103)),I103*J103,\"\")","v":""},null,0,{"$f":"IF(AND(ISNUMBER(L103),ISNUMBER(M103)),L103*M103,\"\")","v":""},null,0,{"$f":"IF(AND(ISNUMBER(O103),ISNUMBER(P103)),O103*P103,\"\")","v":""},null,0,{"$f":"IF(AND(ISNUMBER(R103),ISNUMBER(S103)),R103*S103,\"\")","v":""}]
["B3111","         적격 유동성자산 거래 관련 "]
["B312","         Level 2A 자산을 담보로 제공하여 조달",null,0,{"$f":"IF(AND(ISNUMBER(C105),ISNUMBER(D105)),C105*D105,\"\")","v":""},null,0,{"$f":"IF(AND(ISNUMBER(F105),ISNUMBER(G105)),F105*G105,\"\")","v":""},null,0,{"$f":"IF(AND(ISNUMBER(I105),ISNUMBER(J105)),I105*J105,\"\")","v":""},null,0,{"$f":"IF(AND(ISNUMBER(L105),ISNUMBER(M105)),L105*M105,\"\")","v":""},null,0,{"$f":"IF(AND(ISNUMBER(O105),ISNUMBER(P105)),O105*P105,\"\")","v":""},null,0,{"$f":"IF(AND(ISNUMBER(R105),ISNUMBER(S105)),R105*S105,\"\")","v":""}]
["B3121","         적격 유동성자산 거래 관련 "]
["B313","         Level 2B RMBS 자산을 담보로 제공하여 조달",null,0,{"$f":"IF(AND(ISNUMBER(C107),ISNUMBER(D107)),C107*D107,\"\")","v":""},null,0,{"$f":"IF(AND(ISNUMBER(F107),ISNUMBER(G107)),F107*G107,\"\")","v":""},null,0,{"$f":"IF(AND(ISNUMBER(I107),ISNUMBER(J107)),I107*J107,\"\")","v":""},null,0,{"$f":"IF(AND(ISNUMBER(L107),ISNUMBER(M107)),L107*M107,\"\")","v":""},null,0,{"$f":"IF(AND(ISNUMBER(O107),ISNUMBER(P107)),O107*P107,\"\")","v":""},null,0,{"$f":"IF(AND(ISNUMBER(R107),ISNUMBER(S107)),R107*S107,\"\")","v":""}]
["B3131","         적격 유동성자산 거래 관련 "]
["B314","         Level 2B Non-RMBS 자산을 담보로 제공하여 조달",null,0,{"$f":"IF(AND(ISNUMBER(C109),ISNUMBER(D109)),C109*D109,\"\")","v":""},null,0,{"$f":"IF(AND(ISNUMBER(F109),ISNUMBER(G109)),F109*G109,\"\")","v":""},null,0,{"$f":"IF(AND(ISNUMBER(I109),ISNUMBER(J109)),I109*J109,\"\")","v":""},null,0,{"$f":"IF(AND(ISNUMBER(L109),ISNUMBER(M109)),L109*M109,\"\")","v":""},null,0,{"$f":"IF(AND(ISNUMBER(O109),ISNUMBER(P109)),O109*P109,\"\")","v":""},null,0,{"$f":"IF(AND(ISNUMBER(R109),ISNUMBER(S109)),R109*S109,\"\")","v":""}]
["B3141","         적격 유동성자산 거래 관련 "]
["B315","         기타 자산을 담보로 제공하여 조달",null,0,{"$f":"IF(AND(ISNUMBER(C111),ISNUMBER(D111)),C111*D111,\"\")","v":""},null,0,{"$f":"IF(AND(ISNUMBER(F111),ISNUMBER(G111)),F111*G111,\"\")","v":""},null,0,{"$f":"IF(AND(ISNUMBER(I111),ISNUMBER(J111)),I111*J111,\"\")","v":""},null,0,{"$f":"IF(AND(ISNUMBER(L111),ISNUMBER(M111)),L111*M111,\"\")","v":""},null,0,{"$f":"IF(AND(ISNUMBER(O111),ISNUMBER(P111)),O111*P111,\"\")","v":""},null,0,{"$f":"IF(AND(ISNUMBER(R111),ISNUMBER(S111)),R111*S111,\"\")","v":""}]
["B32","         2) 거래상대방이 자국 중앙은행이 아니며, Level 1 자산을 담보로 제공하여 조달",null,0,{"$f":"IF(AND(ISNUMBER(C112),ISNUMBER(D112)),C112*D112,\"\")","v":""},null,0,{"$f":"IF(AND(ISNUMBER(F112),ISNUMBER(G112)),F112*G112,\"\")","v":""},null,0,{"$f":"IF(AND(ISNUMBER(I112),ISNUMBER(J112)),I112*J112,\"\")","v":""},null,0,{"$f":"IF(AND(ISNUMBER(L112),ISNUMBER(M112)),L112*M112,\"\")","v":""},null,0,{"$f":"IF(AND(ISNUMBER(O112),ISNUMBER(P112)),O112*P112,\"\")","v":""},null,0,{"$f":"IF(AND(ISNUMBER(R112),ISNUMBER(S112)),R112*S112,\"\")","v":""}]
["B321","         적격 유동성자산 거래 관련 "]
["B33","         3) 거래상대방이 자국 중앙은행이 아니며, Level 2A 자산을 담보로 제공하여 조달",null,0.15,{"$f":"IF(AND(ISNUMBER(C114),ISNUMBER(D114)),C114*D114,\"\")","v":""},null,0.15,{"$f":"IF(AND(ISNUMBER(F114),ISNUMBER(G114)),F114*G114,\"\")","v":""},null,0.15,{"$f":"IF(AND(ISNUMBER(I114),ISNUMBER(J114)),I114*J114,\"\")","v":""},null,0.15,{"$f":"IF(AND(ISNUMBER(L114),ISNUMBER(M114)),L114*M114,\"\")","v":""},null,0.15,{"$f":"IF(AND(ISNUMBER(O114),ISNUMBER(P114)),O114*P114,\"\")","v":""},null,0.15,{"$f":"IF(AND(ISNUMBER(R114),ISNUMBER(S114)),R114*S114,\"\")","v":""}]
["B331","         적격 유동성자산 거래 관련 "]
["B34","         4) 거래상대방이 자국 중앙은행이 아니며, Level 2B RMBS 자산을 담보로 제공하여 조달",null,0.25,{"$f":"IF(AND(ISNUMBER(C116),ISNUMBER(D116)),C116*D116,\"\")","v":""},null,0.25,{"$f":"IF(AND(ISNUMBER(F116),ISNUMBER(G116)),F116*G116,\"\")","v":""},null,0.25,{"$f":"IF(AND(ISNUMBER(I116),ISNUMBER(J116)),I116*J116,\"\")","v":""},null,0.25,{"$f":"IF(AND(ISNUMBER(L116),ISNUMBER(M116)),L116*M116,\"\")","v":""},null,0.25,{"$f":"IF(AND(ISNUMBER(O116),ISNUMBER(P116)),O116*P116,\"\")","v":""},null,0.25,{"$f":"IF(AND(ISNUMBER(R116),ISNUMBER(S116)),R116*S116,\"\")","v":""}]
["B341","         적격 유동성자산 거래 관련 "]
["B35","         5) 거래상대방이 자국 중앙은행이 아니며, Level 2B Non-RMBS 자산을 담보로 제공하여 조달",{"$f":"SUM(C119,C121)","v":0},null,{"$f":"SUM(E119,E121)","v":0},{"$f":"SUM(F119,F121)","v":0},null,{"$f":"SUM(H119,H121)","v":0},{"$f":"SUM(I119,I121)","v":0},null,{"$f":"SUM(K119,K121)","v":0},{"$f":"SUM(L119,L121)","v":0},null,{"$f":"SUM(N119,N121)","v":0},{"$f":"SUM(O119,O121)","v":0},null,{"$f":"SUM(Q119,Q121)","v":0},{"$f":"SUM(R119,R121)","v":0},null,{"$f":"SUM(T119,T121)","v":0}]
["B351","            거래상대방이 자국 정부, 다자개발은행, 20% 이하의 위험가중치 적용 자국 공공기관인 경우",null,0.25,{"$f":"IF(AND(ISNUMBER(C119),ISNUMBER(D119)),C119*D119,\"\")","v":""},null,0.25,{"$f":"IF(AND(ISNUMBER(F119),ISNUMBER(G119)),F119*G119,\"\")","v":""},null,0.25,{"$f":"IF(AND(ISNUMBER(I119),ISNUMBER(J119)),I119*J119,\"\")","v":""},null,0.25,{"$f":"IF(AND(ISNUMBER(L119),ISNUMBER(M119)),L119*M119,\"\")","v":""},null,0.25,{"$f":"IF(AND(ISNUMBER(O119),ISNUMBER(P119)),O119*P119,\"\")","v":""},null,0.25,{"$f":"IF(AND(ISNUMBER(R119),ISNUMBER(S119)),R119*S119,\"\")","v":""}]
["B3511","           적격 유동성자산 거래 관련 "]
["B352","            거래상대방이 자국 정부, 다자개발은행, 20% 이하의 위험가중치 적용 자국 공공기관이 아닌 경우",null,0.5,{"$f":"IF(AND(ISNUMBER(C121),ISNUMBER(D121)),C121*D121,\"\")","v":""},null,0.5,{"$f":"IF(AND(ISNUMBER(F121),ISNUMBER(G121)),F121*G121,\"\")","v":""},null,0.5,{"$f":"IF(AND(ISNUMBER(I121),ISNUMBER(J121)),I121*J121,\"\")","v":""},null,0.5,{"$f":"IF(AND(ISNUMBER(L121),ISNUMBER(M121)),L121*M121,\"\")","v":""},null,0.5,{"$f":"IF(AND(ISNUMBER(O121),ISNUMBER(P121)),O121*P121,\"\")","v":""},null,0.5,{"$f":"IF(AND(ISNUMBER(R121),ISNUMBER(S121)),R121*S121,\"\")","v":""}]
["B3521","           적격 유동성자산 거래 관련 "]
["B36","         6) 거래상대방이 자국 중앙은행이 아니며, 기타(Non-HQLA) 자산을 담보로 제공하여 조달",{"$f":"SUM(C124:C125)","v":0},null,{"$f":"SUM(E124:E125)","v":0},{"$f":"SUM(F124:F125)","v":0},null,{"$f":"SUM(H124:H125)","v":0},{"$f":"SUM(I124:I125)","v":0},null,{"$f":"SUM(K124:K125)","v":0},{"$f":"SUM(L124:L125)","v":0},null,{"$f":"SUM(N124:N125)","v":0},{"$f":"SUM(O124:O125)","v":0},null,{"$f":"SUM(Q124:Q125)","v":0},{"$f":"SUM(R124:R125)","v":0},null,{"$f":"SUM(T124:T125)","v":0}]
["B361","           거래상대방이 자국 정부, 다자개발은행, 20% 이하의 위험가중치 적용 자국 공공기관인 경우",null,0.25,{"$f":"IF(AND(ISNUMBER(C124),ISNUMBER(D124)),C124*D124,\"\")","v":""},null,0.25,{"$f":"IF(AND(ISNUMBER(F124),ISNUMBER(G124)),F124*G124,\"\")","v":""},null,0.25,{"$f":"IF(AND(ISNUMBER(I124),ISNUMBER(J124)),I124*J124,\"\")","v":""},null,0.25,{"$f":"IF(AND(ISNUMBER(L124),ISNUMBER(M124)),L124*M124,\"\")","v":""},null,0.25,{"$f":"IF(AND(ISNUMBER(O124),ISNUMBER(P124)),O124*P124,\"\")","v":""},null,0.25,{"$f":"IF(AND(ISNUMBER(R124),ISNUMBER(S124)),R124*S124,\"\")","v":""}]
["B362","           거래상대방이 자국 정부, 다자개발은행, 20% 이하의 위험가중치 적용 자국 공공기관이 아닌 경우",null,1,{"$f":"IF(AND(ISNUMBER(C125),ISNUMBER(D125)),C125*D125,\"\")","v":""},null,1,{"$f":"IF(AND(ISNUMBER(F125),ISNUMBER(G125)),F125*G125,\"\")","v":""},null,1,{"$f":"IF(AND(ISNUMBER(I125),ISNUMBER(J125)),I125*J125,\"\")","v":""},null,1,{"$f":"IF(AND(ISNUMBER(L125),ISNUMBER(M125)),L125*M125,\"\")","v":""},null,1,{"$f":"IF(AND(ISNUMBER(O125),ISNUMBER(P125)),O125*P125,\"\")","v":""},null,1,{"$f":"IF(AND(ISNUMBER(R125),ISNUMBER(S125)),R125*S125,\"\")","v":""}]
["B4","      라. 추가 요건으로 인한 현금유출 추가필요액",{"$f":"SUM(C127:C129,C132:C137,C141:C143,C146,C149:C153)","v":0},null,{"$f":"SUM(E127:E129,E132:E137,E141:E143,E146,E149:E153)","v":0},{"$f":"SUM(F127:F129,F132:F137,F141:F143,F146,F149:F153)","v":0},null,{"$f":"SUM(H127:H129,H132:H137,H141:H143,H146,H149:H153)","v":0},{"$f":"SUM(I127:I129,I132:I137,I141:I143,I146,I149:I153)","v":0},null,{"$f":"SUM(K127:K129,K132:K137,K141:K143,K146,K149:K153)","v":0},{"$f":"SUM(L127:L129,L132:L137,L141:L143,L146,L149:L153)","v":0},null,{"$f":"SUM(N127:N129,N132:N137,N141:N143,N146,N149:N153)","v":0},{"$f":"SUM(O127:O129,O132:O137,O141:O143,O146,O149:O153)","v":0},null,{"$f":"SUM(Q127:Q129,Q132:Q137,Q141:Q143,Q146,Q149:Q153)","v":0},{"$f":"SUM(R127:R129,R132:R137,R141:R143,R146,R149:R153)","v":0},null,{"$f":"SUM(T127:T129,T132:T137,T141:T143,T146,T149:T153)","v":0}]
["B401","         1) 파생상품거래 관련 현금유출액",null,1,{"$f":"IF(AND(ISNUMBER(C127),ISNUMBER(D127)),C127*D127,\"\")","v":""},null,1,{"$f":"IF(AND(ISNUMBER(F127),ISNUMBER(G127)),F127*G127,\"\")","v":""},null,1,{"$f":"IF(AND(ISNUMBER(I127),ISNUMBER(J127)),I127*J127,\"\")","v":""},null,1,{"$f":"IF(AND(ISNUMBER(L127),ISNUMBER(M127)),L127*M127,\"\")","v":""},null,1,{"$f":"IF(AND(ISNUMBER(O127),ISNUMBER(P127)),O127*P127,\"\")","v":""},null,1,{"$f":"IF(AND(ISNUMBER(R127),ISNUMBER(S127)),R127*S127,\"\")","v":""}]
["B402","         2) 파생 및 기타 금융거래 계약에 내재된 \"신용등급 하향조정시 트리거 조항\" 관련 추가 유동성 필요",null,1,{"$f":"IF(AND(ISNUMBER(C128),ISNUMBER(D128)),C128*D128,\"\")","v":""},null,1,{"$f":"IF(AND(ISNUMBER(F128),ISNUMBER(G128)),F128*G128,\"\")","v":""},null,1,{"$f":"IF(AND(ISNUMBER(I128),ISNUMBER(J128)),I128*J128,\"\")","v":""},null,1,{"$f":"IF(AND(ISNUMBER(L128),ISNUMBER(M128)),L128*M128,\"\")","v":""},null,1,{"$f":"IF(AND(ISNUMBER(O128),ISNUMBER(P128)),O128*P128,\"\")","v":""},null,1,{"$f":"IF(AND(ISNUMBER(R128),ISNUMBER(S128)),R128*S128,\"\")","v":""}]
["B403","         3) 파생 및 기타 계약을 보증하는 담보자산의 가치변화에 따른 유동성 필요",{"$f":"SUM(C130:C131)","v":0},null,{"$f":"SUM(E130:E131)","v":0},{"$f":"SUM(F130:F131)","v":0},null,{"$f":"SUM(H130:H131)","v":0},{"$f":"SUM(I130:I131)","v":0},null,{"$f":"SUM(K130:K131)","v":0},{"$f":"SUM(L130:L131)","v":0},null,{"$f":"SUM(N130:N131)","v":0},{"$f":"SUM(O130:O131)","v":0},null,{"$f":"SUM(Q130:Q131)","v":0},{"$f":"SUM(R130:R131)","v":0},null,{"$f":"SUM(T130:T131)","v":0}]
["B4031","           현금 및 Level 1 자산 담보",null,0,{"$f":"IF(AND(ISNUMBER(C130),ISNUMBER(D130)),C130*D130,\"\")","v":""},null,0,{"$f":"IF(AND(ISNUMBER(F130),ISNUMBER(G130)),F130*G130,\"\")","v":""},null,0,{"$f":"IF(AND(ISNUMBER(I130),ISNUMBER(J130)),I130*J130,\"\")","v":""},null,0,{"$f":"IF(AND(ISNUMBER(L130),ISNUMBER(M130)),L130*M130,\"\")","v":""},null,0,{"$f":"IF(AND(ISNUMBER(O130),ISNUMBER(P130)),O130*P130,\"\")","v":""},null,0,{"$f":"IF(AND(ISNUMBER(R130),ISNUMBER(S130)),R130*S130,\"\")","v":""}]
["B4032","           기타 자산 담보(즉, 모든 非 Level 1 자산 담보)",null,0.2,"",null,0.2,"",null,0.2,"",null,0.2,"",null,0.2,"",null,0.2,""]
["B404","         4) 필요액 이상의 담보수취로 인해 파생상품 거래상대방의 요청에 따라 언제든지 회수될 수 있는 담보금액",null,1,"",null,1,"",null,1,"",null,1,"",null,1,"",null,1,""]
["B405","         5) 거래상대방이 아직 요청하진 않았으나 계약상 보전해야 할 담보금액",null,1,"",null,1,"",null,1,"",null,1,"",null,1,"",null,1,""]
["B406","         6) 담보로 제공된 고유동성자산을 은행의 동의 없이 계약상 非고유동성자산으로 대체가 가능한 경우 해당 금액",null,1,"",null,1,"",null,1,"",null,1,"",null,1,"",null,1,""]
["B407","         7) 파생 또는 기타 계약의 시장가치 변화와 관련된 추가적 유동성 필요액",null,1,"",null,1,"",null,1,"",null,1,"",null,1,"",null,1,""]
["B408","         8) ABS, 기타 구조화증권을 통한 자금조달원 상실",null,1,"",null,1,"",null,1,"",null,1,"",null,1,"",null,1,""]
["B409","         9) ABCP, conduits, 증권투자기구, 기타 자금조달수단으로부터의 자금조달원 상실",{"$f":"SUM(C138:C140)","v":0},null,{"$f":"SUM(E138:E140)","v":0},{"$f":"SUM(F138:F140)","v":0},null,{"$f":"SUM(H138:H140)","v":0},{"$f":"SUM(I138:I140)","v":0},null,{"$f":"SUM(K138:K140)","v":0},{"$f":"SUM(L138:L140)","v":0},null,{"$f":"SUM(N138:N140)","v":0},{"$f":"SUM(O138:O140)","v":0},null,{"$f":"SUM(Q138:Q140)","v":0},{"$f":"SUM(R138:R140)","v":0},null,{"$f":"SUM(T138:T140)","v":0}]
["B4091","           부채만기 1개월 이내의 경우",null,1,{"$f":"IF(AND(ISNUMBER(C138),ISNUMBER(D138)),C138*D138,\"\")","v":""},null,1,{"$f":"IF(AND(ISNUMBER(F138),ISNUMBER(G138)),F138*G138,\"\")","v":""},null,1,{"$f":"IF(AND(ISNUMBER(I138),ISNUMBER(J138)),I138*J138,\"\")","v":""},null,1,{"$f":"IF(AND(ISNUMBER(L138),ISNUMBER(M138)),L138*M138,\"\")","v":""},null,1,{"$f":"IF(AND(ISNUMBER(O138),ISNUMBER(P138)),O138*P138,\"\")","v":""},null,1,{"$f":"IF(AND(ISNUMBER(R138),ISNUMBER(S138)),R138*S138,\"\")","v":""}]
["B4092","           내재옵션이 존재하는 경우",null,1,{"$f":"IF(AND(ISNUMBER(C139),ISNUMBER(D139)),C139*D139,\"\")","v":""},null,1,{"$f":"IF(AND(ISNUMBER(F139),ISNUMBER(G139)),F139*G139,\"\")","v":""},null,1,{"$f":"IF(AND(ISNUMBER(I139),ISNUMBER(J139)),I139*J139,\"\")","v":""},null,1,{"$f":"IF(AND(ISNUMBER(L139),ISNUMBER(M139)),L139*M139,\"\")","v":""},null,1,{"$f":"IF(AND(ISNUMBER(O139),ISNUMBER(P139)),O139*P139,\"\")","v":""},null,1,{"$f":"IF(AND(ISNUMBER(R139),ISNUMBER(S139)),R139*S139,\"\")","v":""}]
["B4093","           기타 잠재적인 손실",null,1,{"$f":"IF(AND(ISNUMBER(C140),ISNUMBER(D140)),C140*D140,\"\")","v":""},null,1,{"$f":"IF(AND(ISNUMBER(F140),ISNUMBER(G140)),F140*G140,\"\")","v":""},null,1,{"$f":"IF(AND(ISNUMBER(I140),ISNUMBER(J140)),I140*J140,\"\")","v":""},null,1,{"$f":"IF(AND(ISNUMBER(L140),ISNUMBER(M140)),L140*M140,\"\")","v":""},null,1,{"$f":"IF(AND(ISNUMBER(O140),ISNUMBER(P140)),O140*P140,\"\")","v":""},null,1,{"$f":"IF(AND(ISNUMBER(R140),ISNUMBER(S140)),R140*S140,\"\")","v":""}]
["B410","      10) 커버드본드로부터의 자금조달원 상실",null,1,{"$f":"IF(AND(ISNUMBER(C141),ISNUMBER(D141)),C141*D141,\"\")","v":""},null,1,{"$f":"IF(AND(ISNUMBER(F141),ISNUMBER(G141)),F141*G141,\"\")","v":""},null,1,{"$f":"IF(AND(ISNUMBER(I141),ISNUMBER(J141)),I141*J141,\"\")","v":""},null,1,{"$f":"IF(AND(ISNUMBER(L141),ISNUMBER(M141)),L141*M141,\"\")","v":""},null,1,{"$f":"IF(AND(ISNUMBER(O141),ISNUMBER(P141)),O141*P141,\"\")","v":""},null,1,{"$f":"IF(AND(ISNUMBER(R141),ISNUMBER(S141)),R141*S141,\"\")","v":""}]
["B411","      11) 소매 및 중소기업 고객에 제공한 미사용 신용 및 유동성 공여 약정",null,0.05,{"$f":"IF(AND(ISNUMBER(C142),ISNUMBER(D142)),C142*D142,\"\")","v":""},null,0.05,{"$f":"IF(AND(ISNUMBER(F142),ISNUMBER(G142)),F142*G142,\"\")","v":""},null,0.05,{"$f":"IF(AND(ISNUMBER(I142),ISNUMBER(J142)),I142*J142,\"\")","v":""},null,0.05,{"$f":"IF(AND(ISNUMBER(L142),ISNUMBER(M142)),L142*M142,\"\")","v":""},null,0.05,{"$f":"IF(AND(ISNUMBER(O142),ISNUMBER(P142)),O142*P142,\"\")","v":""},null,0.05,{"$f":"IF(AND(ISNUMBER(R142),ISNUMBER(S142)),R142*S142,\"\")","v":""}]
["B412","      12) 아래 고객에 제공한 미사용 신용 공여 약정",{"$f":"SUM(C144:C145)","v":0},null,{"$f":"SUM(E144:E145)","v":0},{"$f":"SUM(F144:F145)","v":0},null,{"$f":"SUM(H144:H145)","v":0},{"$f":"SUM(I144:I145)","v":0},null,{"$f":"SUM(K144:K145)","v":0},{"$f":"SUM(L144:L145)","v":0},null,{"$f":"SUM(N144:N145)","v":0},{"$f":"SUM(O144:O145)","v":0},null,{"$f":"SUM(Q144:Q145)","v":0},{"$f":"SUM(R144:R145)","v":0},null,{"$f":"SUM(T144:T145)","v":0}]
["B4121","           비금융기업",null,0.1,{"$f":"IF(AND(ISNUMBER(C144),ISNUMBER(D144)),C144*D144,\"\")","v":""},"Undrawn 값",0.1,{"$f":"IF(AND(ISNUMBER(F144),ISNUMBER(G144)),F144*G144,\"\")","v":""},"Undrawn 값",0.1,{"$f":"IF(AND(ISNUMBER(I144),ISNUMBER(J144)),I144*J144,\"\")","v":""},null,0.1,{"$f":"IF(AND(ISNUMBER(L144),ISNUMBER(M144)),L144*M144,\"\")","v":""},null,0.1,{"$f":"IF(AND(ISNUMBER(O144),ISNUMBER(P144)),O144*P144,\"\")","v":""},null,0.1,{"$f":"IF(AND(ISNUMBER(R144),ISNUMBER(S144)),R144*S144,\"\")","v":""}]
["B4122","           국가, 중앙은행, 공공기관 및 다자개발은행",null,0.1,{"$f":"IF(AND(ISNUMBER(C145),ISNUMBER(D145)),C145*D145,\"\")","v":""},null,0.1,{"$f":"IF(AND(ISNUMBER(F145),ISNUMBER(G145)),F145*G145,\"\")","v":""},null,0.1,{"$f":"IF(AND(ISNUMBER(I145),ISNUMBER(J145)),I145*J145,\"\")","v":""},null,0.1,{"$f":"IF(AND(ISNUMBER(L145),ISNUMBER(M145)),L145*M145,\"\")","v":""},null,0.1,{"$f":"IF(AND(ISNUMBER(O145),ISNUMBER(P145)),O145*P145,\"\")","v":""},null,0.1,{"$f":"IF(AND(ISNUMBER(R145),ISNUMBER(S145)),R145*S145,\"\")","v":""}]
["B413","      13) 아래 고객에 제공한 미사용 유동성 공여 약정",{"$f":"SUM(C147:C148)","v":0},null,{"$f":"SUM(E147:E148)","v":0},{"$f":"SUM(F147:F148)","v":0},null,{"$f":"SUM(H147:H148)","v":0},{"$f":"SUM(I147:I148)","v":0},null,{"$f":"SUM(K147:K148)","v":0},{"$f":"SUM(L147:L148)","v":0},null,{"$f":"SUM(N147:N148)","v":0},{"$f":"SUM(O147:O148)","v":0},null,{"$f":"SUM(Q147:Q148)","v":0},{"$f":"SUM(R147:R148)","v":0},null,{"$f":"SUM(T147:T148)","v":0}]
["B4131","           비금융기업",null,0.3,{"$f":"IF(AND(ISNUMBER(C147),ISNUMBER(D147)),C147*D147,\"\")","v":""},null,0.3,{"$f":"IF(AND(ISNUMBER(F147),ISNUMBER(G147)),F147*G147,\"\")","v":""},null,0.3,{"$f":"IF(AND(ISNUMBER(I147),ISNUMBER(J147)),I147*J147,\"\")","v":""},null,0.3,{"$f":"IF(AND(ISNUMBER(L147),ISNUMBER(M147)),L147*M147,\"\")","v":""},null,0.3,{"$f":"IF(AND(ISNUMBER(O147),ISNUMBER(P147)),O147*P147,\"\")","v":""},null,0.3,{"$f":"IF(AND(ISNUMBER(R147),ISNUMBER(S147)),R147*S147,\"\")","v":""}]
["B4132","           국가, 중앙은행, 공공기관 및 다자개발은행",null,0.3,"",null,0.3,"",null,0.3,"",null,0.3,"",null,0.3,"",null,0.3,""]
["B414","      14) 은행에 제공한 미사용 신용 및 유동성 공여 약정",null,0.4,"",null,0.4,"",null,0.4,"",null,0.4,"",null,0.4,"",null,0.4,""]
["B415","      15) 기타 금융기관에 제공한 미사용 신용 공여 약정",null,0.4,"",null,0.4,"",null,0.4,"",null,0.4,"",null,0.4,"",null,0.4,""]
["B416","      16) 기타 금융기관에 제공한 미사용 유동성 공여 약정",null,1,"",null,1,"",null,1,"",null,1,"",null,1,"",null,1,""]
["B417","      17) 기타 법인에 제공한 미사용 신용 및 유동성 공여 약정",null,1,"",null,1,"",null,1,"",null,1,"",null,1,"",null,1,""]
["B418","      18) 아래 고객에 대한 기타 계약상 채무(50% 차환 가정을 초과하여 자금이 유출될 계약상 채무 총액)",{"$f":"SUM(C154,C159)","v":0},null,{"$f":"SUM(E154,E159)","v":0},{"$f":"SUM(F154,F159)","v":0},null,{"$f":"SUM(H154,H159)","v":0},{"$f":"SUM(I154,I159)","v":0},null,{"$f":"SUM(K154,K159)","v":0},{"$f":"SUM(L154,L159)","v":0},null,{"$f":"SUM(N154,N159)","v":0},{"$f":"SUM(O154,O159)","v":0},null,{"$f":"SUM(Q154,Q159)","v":0},{"$f":"SUM(R154,R159)","v":0},null,{"$f":"SUM(T154,T159)","v":0}]
["B4181","        금융기관",null,1,{"$f":"IF(AND(ISNUMBER(C154),ISNUMBER(D154)),C154*D154,\"\")","v":""},null,1,{"$f":"IF(AND(ISNUMBER(F154),ISNUMBER(G154)),F154*G154,\"\")","v":""},null,1,{"$f":"IF(AND(ISNUMBER(I154),ISNUMBER(J154)),I154*J154,\"\")","v":""},null,1,{"$f":"IF(AND(ISNUMBER(L154),ISNUMBER(M154)),L154*M154,\"\")","v":""},null,1,{"$f":"IF(AND(ISNUMBER(O154),ISNUMBER(P154)),O154*P154,\"\")","v":""},null,1,{"$f":"IF(AND(ISNUMBER(R154),ISNUMBER(S154)),R154*S154,\"\")","v":""}]
["B4182","        소매 고객"]
["B4183","        중소기업 고객"]
["B4184","        비금융기업 고객"]
["B4185","        기타 고객"]
["B4186","        소매, 중소기업, 비금융기업, 기타 고객 전체",{"$f":"IFERROR(MAX(IF(AND(ISNUMBER(C155),ISNUMBER(C156),ISNUMBER(C157),ISNUMBER(C158)),SUM(C155:C158),\"\")-SUM(IF(AND(ISNUMBER(C195),ISNUMBER(E195)),C195-E195,\"\")+IF(AND(ISNUMBER(C196),ISNUMBER(E196)),C196-E196,\"\")+IF(AND(ISNUMBER(C197),ISNUMBER(E197)),C197-E197,\"\")+IF(AND(ISNUMBER(C198),ISNUMBER(E198),ISNUMBER(C204),ISNUMBER(E204)),((C204-E204)+(C198-E198)),\"\")),0),)","v":0},1,{"$f":"IF(AND(ISNUMBER(C159),ISNUMBER(D159)),C159*D159,\"\")","v":0},{"$f":"IFERROR(MAX(IF(AND(ISNUMBER(F155),ISNUMBER(F156),ISNUMBER(F157),ISNUMBER(F158)),SUM(F155:F158),\"\")-SUM(IF(AND(ISNUMBER(F195),ISNUMBER(H195)),F195-H195,\"\")+IF(AND(ISNUMBER(F196),ISNUMBER(H196)),F196-H196,\"\")+IF(AND(ISNUMBER(F197),ISNUMBER(H197)),F197-H197,\"\")+IF(AND(ISNUMBER(F198),ISNUMBER(H198),ISNUMBER(F204),ISNUMBER(H204)),((F204-H204)+(F198-H198)),\"\")),0),)","v":0},1,{"$f":"IF(AND(ISNUMBER(F159),ISNUMBER(G159)),F159*G159,\"\")","v":0},{"$f":"IFERROR(MAX(IF(AND(ISNUMBER(I155),ISNUMBER(I156),ISNUMBER(I157),ISNUMBER(I158)),SUM(I155:I158),\"\")-SUM(IF(AND(ISNUMBER(I195),ISNUMBER(K195)),I195-K195,\"\")+IF(AND(ISNUMBER(I196),ISNUMBER(K196)),I196-K196,\"\")+IF(AND(ISNUMBER(I197),ISNUMBER(K197)),I197-K197,\"\")+IF(AND(ISNUMBER(I198),ISNUMBER(K198),ISNUMBER(I204),ISNUMBER(K204)),((I204-K204)+(I198-K198)),\"\")),0),)","v":0},1,{"$f":"IF(AND(ISNUMBER(I159),ISNUMBER(J159)),I159*J159,\"\")","v":0},{"$f":"IFERROR(MAX(IF(AND(ISNUMBER(L155),ISNUMBER(L156),ISNUMBER(L157),ISNUMBER(L158)),SUM(L155:L158),\"\")-SUM(IF(AND(ISNUMBER(L195),ISNUMBER(N195)),L195-N195,\"\")+IF(AND(ISNUMBER(L196),ISNUMBER(N196)),L196-N196,\"\")+IF(AND(ISNUMBER(L197),ISNUMBER(N197)),L197-N197,\"\")+IF(AND(ISNUMBER(L198),ISNUMBER(N198),ISNUMBER(L204),ISNUMBER(N204)),((L204-N204)+(L198-N198)),\"\")),0),)","v":0},1,{"$f":"IF(AND(ISNUMBER(L159),ISNUMBER(M159)),L159*M159,\"\")","v":0},{"$f":"IFERROR(MAX(IF(AND(ISNUMBER(O155),ISNUMBER(O156),ISNUMBER(O157),ISNUMBER(O158)),SUM(O155:O158),\"\")-SUM(IF(AND(ISNUMBER(O195),ISNUMBER(Q195)),O195-Q195,\"\")+IF(AND(ISNUMBER(O196),ISNUMBER(Q196)),O196-Q196,\"\")+IF(AND(ISNUMBER(O197),ISNUMBER(Q197)),O197-Q197,\"\")+IF(AND(ISNUMBER(O198),ISNUMBER(Q198),ISNUMBER(O204),ISNUMBER(Q204)),((O204-Q204)+(O198-Q198)),\"\")),0),)","v":0},1,{"$f":"IF(AND(ISNUMBER(O159),ISNUMBER(P159)),O159*P159,\"\")","v":0},{"$f":"IFERROR(MAX(IF(AND(ISNUMBER(R155),ISNUMBER(R156),ISNUMBER(R157),ISNUMBER(R158)),SUM(R155:R158),\"\")-SUM(IF(AND(ISNUMBER(R195),ISNUMBER(T195)),R195-T195,\"\")+IF(AND(ISNUMBER(R196),ISNUMBER(T196)),R196-T196,\"\")+IF(AND(ISNUMBER(R197),ISNUMBER(T197)),R197-T197,\"\")+IF(AND(ISNUMBER(R198),ISNUMBER(T198),ISNUMBER(R204),ISNUMBER(T204)),((R204-T204)+(R198-T198)),\"\")),0),)","v":0},1,{"$f":"IF(AND(ISNUMBER(R159),ISNUMBER(S159)),R159*S159,\"\")","v":0}]
["B5","      마. 기타 우발성 자금제공 채무에서의 총 자금유출",{"$f":"SUM(C161:C165,C170:C173)","v":0},null,{"$f":"SUM(E161:E165,E170:E173)","v":0},{"$f":"SUM(F161:F165,F170:F173)","v":0},null,{"$f":"SUM(H161:H165,H170:H173)","v":0},{"$f":"SUM(I161:I165,I170:I173)","v":0},null,{"$f":"SUM(K161:K165,K170:K173)","v":0},{"$f":"SUM(L161:L165,L170:L173)","v":0},null,{"$f":"SUM(N161:N165,N170:N173)","v":0},{"$f":"SUM(O161:O165,O170:O173)","v":0},null,{"$f":"SUM(Q161:Q165,Q170:Q173)","v":0},{"$f":"SUM(R161:R165,R170:R173)","v":0},null,{"$f":"SUM(T161:T165,T170:T173)","v":0}]
["B51","         1) 연결기준에 포함되지 않는 합작투자(Joint ventures) 또는 소수주주지분(minority investments)에 대해\n            은행이 주요 유동성 공급원인 경우 비계약상 우발성 자금제공 채무",null,1,{"$f":"IF(AND(ISNUMBER(C161),ISNUMBER(D161)),C161*D161,\"\")","v":""},null,1,{"$f":"IF(AND(ISNUMBER(F161),ISNUMBER(G161)),F161*G161,\"\")","v":""},null,1,{"$f":"IF(AND(ISNUMBER(I161),ISNUMBER(J161)),I161*J161,\"\")","v":""},null,1,{"$f":"IF(AND(ISNUMBER(L161),ISNUMBER(M161)),L161*M161,\"\")","v":""},null,1,{"$f":"IF(AND(ISNUMBER(O161),ISNUMBER(P161)),O161*P161,\"\")","v":""},null,1,{"$f":"IF(AND(ISNUMBER(R161),ISNUMBER(S161)),R161*S161,\"\")","v":""}]
["B52","         2) 무조건적으로 취소가능한 구속력 없는 신용 및 유동성 공여 약정",null,0,{"$f":"IF(AND(ISNUMBER(C162),ISNUMBER(D162)),C162*D162,\"\")","v":""},null,0,{"$f":"IF(AND(ISNUMBER(F162),ISNUMBER(G162)),F162*G162,\"\")","v":""},null,0,{"$f":"IF(AND(ISNUMBER(I162),ISNUMBER(J162)),I162*J162,\"\")","v":""},null,0,{"$f":"IF(AND(ISNUMBER(L162),ISNUMBER(M162)),L162*M162,\"\")","v":""},null,0,{"$f":"IF(AND(ISNUMBER(O162),ISNUMBER(P162)),O162*P162,\"\")","v":""},null,0,{"$f":"IF(AND(ISNUMBER(R162),ISNUMBER(S162)),R162*S162,\"\")","v":""}]
["B53","         3) 보증 및 신용장을 포함한 무역금융 관련 채무",null,0.03,{"$f":"IF(AND(ISNUMBER(C163),ISNUMBER(D163)),C163*D163,\"\")","v":""},"2) BR/DPB/DC/DPC/SGT/AWR_KRW중 (DUE-말일)<=30",0.03,{"$f":"IF(AND(ISNUMBER(F163),ISNUMBER(G163)),F163*G163,\"\")","v":""},"2) BR/DPB/DC/DPC/SGT/AWR_FCY중 (DUE-말일)<=30",0.03,{"$f":"IF(AND(ISNUMBER(I163),ISNUMBER(J163)),I163*J163,\"\")","v":""},null,0.03,{"$f":"IF(AND(ISNUMBER(L163),ISNUMBER(M163)),L163*M163,\"\")","v":""},null,0.03,{"$f":"IF(AND(ISNUMBER(O163),ISNUMBER(P163)),O163*P163,\"\")","v":""},null,0.03,{"$f":"IF(AND(ISNUMBER(R163),ISNUMBER(S163)),R163*S163,\"\")","v":""}]
["B54","         4) 무역금융과 관련 없는 보증 및 신용장",null,0.05,{"$f":"IF(AND(ISNUMBER(C164),ISNUMBER(D164)),C164*D164,\"\")","v":""},"2) SDN/SDC/SDG_KRW중 (DUE-말일)<=30\n3)GTE TOTAL_KRW중 (DUE-말일)<=30\n",0.05,{"$f":"IF(AND(ISNUMBER(F164),ISNUMBER(G164)),F164*G164,\"\")","v":""},"2) SDN/SDC/SDG_FCY중 (DUE-말일)<=30\n3) GTE_FCY중 (DUE-말일)<=30",0.05,{"$f":"IF(AND(ISNUMBER(I164),ISNUMBER(J164)),I164*J164,\"\")","v":""},null,0.05,{"$f":"IF(AND(ISNUMBER(L164),ISNUMBER(M164)),L164*M164,\"\")","v":""},null,0.05,{"$f":"IF(AND(ISNUMBER(O164),ISNUMBER(P164)),O164*P164,\"\")","v":""},null,0.05,{"$f":"IF(AND(ISNUMBER(R164),ISNUMBER(S164)),R164*S164,\"\")","v":""}]
["B55","         5) 비계약상 채무",{"$f":"SUM(C166:C169)","v":0},"   ",{"$f":"SUM(E166:E169)","v":0},{"$f":"SUM(F166:F169)","v":0},"   ",{"$f":"SUM(H166:H169)","v":0},{"$f":"SUM(I166:I169)","v":0},"   ",{"$f":"SUM(K166:K169)","v":0},{"$f":"SUM(L166:L169)","v":0},"   ",{"$f":"SUM(N166:N169)","v":0},{"$f":"SUM(O166:O169)","v":0},"   ",{"$f":"SUM(Q166:Q169)","v":0},{"$f":"SUM(R166:R169)","v":0},"   ",{"$f":"SUM(T166:T169)","v":0}]
["B551","          Debt-buy back requests (incl related conduits)",null,0.1,{"$f":"IF(AND(ISNUMBER(C166),ISNUMBER(D166)),C166*D166,\"\")","v":""},null,0.1,{"$f":"IF(AND(ISNUMBER(F166),ISNUMBER(G166)),F166*G166,\"\")","v":""},null,0.1,{"$f":"IF(AND(ISNUMBER(I166),ISNUMBER(J166)),I166*J166,\"\")","v":""},null,0.1,{"$f":"IF(AND(ISNUMBER(L166),ISNUMBER(M166)),L166*M166,\"\")","v":""},null,0.1,{"$f":"IF(AND(ISNUMBER(O166),ISNUMBER(P166)),O166*P166,\"\")","v":""},null,0.1,{"$f":"IF(AND(ISNUMBER(R166),ISNUMBER(S166)),R166*S166,\"\")","v":""}]
["B552","          구조화상품",null,0.1,"",null,0.1,"",null,0.1,"",null,0.1,"",null,0.1,"",null,0.1,""]
["B553","          Managed funds",null,0.1,"",null,0.1,"",null,0.1,"",null,0.1,"",null,0.1,"",null,0.1,""]
["B554","          기타 비계약상 채무",null,0.1,"",null,0.1,"",null,0.1,"",null,0.1,"",null,0.1,"",null,0.1,""]
["B56","         6) 잔존만기 1개월 초과 채무증권의 잔액",null,0.05,"",null,0.05,"",null,0.05,"",null,0.05,"",null,0.05,"",null,0.05,""]
["B57","         7) 고객이 예치한 담보자산을 다른 고객의 매도포지션을 커버하는데 사용한 경우 비계약상 우발성 채무",null,0.5,"",null,0.5,"",null,0.5,"",null,0.5,"",null,0.5,"",null,0.5,""]
["B58","         8) 은행의 매도포지션이 담보부 증권금융거래로 커버된 경우",null,0,"",null,0,"",null,0,"",null,0,"",null,0,"",null,0,""]
["B59","         9) 기타 계약상 현금유출 (무담보부 증권 차입 관련 비용, 커버되지 않은 매도포지션, 배당금 또는 계약상 이자 지급액)",null,1,"",null,1,"",null,1,"",null,1,"",null,1,"",null,1,""]
["C","   2. 현금유입액",null,null,{"$f":"E209","v":0},null,null,{"$f":"H209","v":0},null,null,{"$f":"K209","v":0},null,null,{"$f":"N209","v":0},null,null,{"$f":"Q209","v":0},null,null,{"$f":"T209","v":0}]
["C1","      가. 1개월 이내에 거래가 종료되는 RP 매수 및 증권대차 거래(securities borrowing)를 포함한 담보부 자금대출",{"$f":"SUM(C176,C187)","v":0},null,{"$f":"SUM(E176,E187)","v":0},{"$f":"SUM(F176,F187)","v":0},null,{"$f":"SUM(H176,H187)","v":0},{"$f":"SUM(I176,I187)","v":0},null,{"$f":"SUM(K176,K187)","v":0},{"$f":"SUM(L176,L187)","v":0},null,{"$f":"SUM(N176,N187)","v":0},{"$f":"SUM(O176,O187)","v":0},null,{"$f":"SUM(Q176,Q187)","v":0},{"$f":"SUM(R176,R187)","v":0},null,{"$f":"SUM(T176,T187)","v":0}]
["C11","       1) 제공받은 담보자산을 매도포지션 커버를 위해 재사용하지 않는 경우",{"$f":"SUM(C177,C179,C181,C183,C185:C186)","v":0},null,{"$f":"SUM(E177,E179,E181,E183,E185:E186)","v":0},{"$f":"SUM(F177,F179,F181,F183,F185:F186)","v":0},null,{"$f":"SUM(H177,H179,H181,H183,H185:H186)","v":0},{"$f":"SUM(I177,I179,I181,I183,I185:I186)","v":0},null,{"$f":"SUM(K177,K179,K181,K183,K185:K186)","v":0},{"$f":"SUM(L177,L179,L181,L183,L185:L186)","v":0},null,{"$f":"SUM(N177,N179,N181,N183,N185:N186)","v":0},{"$f":"SUM(O177,O179,O181,O183,O185:O186)","v":0},null,{"$f":"SUM(Q177,Q179,Q181,Q183,Q185:Q186)","v":0},{"$f":"SUM(R177,R179,R181,R183,R185:R186)","v":0},null,{"$f":"SUM(T177,T179,T181,T183,T185:T186)","v":0}]
["C111","         Level 1 자산을 담보로 수취한 거래",null,0,{"$f":"IF(AND(ISNUMBER(C177),ISNUMBER(D177)),C177*D177,\"\")","v":""},null,0,{"$f":"IF(AND(ISNUMBER(F177),ISNUMBER(G177)),F177*G177,\"\")","v":""},null,0,{"$f":"IF(AND(ISNUMBER(I177),ISNUMBER(J177)),I177*J177,\"\")","v":""},null,0,{"$f":"IF(AND(ISNUMBER(L177),ISNUMBER(M177)),L177*M177,\"\")","v":""},null,0,{"$f":"IF(AND(ISNUMBER(O177),ISNUMBER(P177)),O177*P177,\"\")","v":""},null,0,{"$f":"IF(AND(ISNUMBER(R177),ISNUMBER(S177)),R177*S177,\"\")","v":""}]
["C1111","         적격 유동성자산 거래 관련 "]
["C112","         Level 2A 자산을 담보로 수취한 거래",null,0.15,{"$f":"IF(AND(ISNUMBER(C179),ISNUMBER(D179)),C179*D179,\"\")","v":""},null,0.15,{"$f":"IF(AND(ISNUMBER(F179),ISNUMBER(G179)),F179*G179,\"\")","v":""},null,0.15,{"$f":"IF(AND(ISNUMBER(I179),ISNUMBER(J179)),I179*J179,\"\")","v":""},null,0.15,{"$f":"IF(AND(ISNUMBER(L179),ISNUMBER(M179)),L179*M179,\"\")","v":""},null,0.15,{"$f":"IF(AND(ISNUMBER(O179),ISNUMBER(P179)),O179*P179,\"\")","v":""},null,0.15,{"$f":"IF(AND(ISNUMBER(R179),ISNUMBER(S179)),R179*S179,\"\")","v":""}]
["C1121","         적격 유동성자산 거래 관련 "]
["C113","         Level 2B RMBS 자산을 담보로 수취한 거래",null,0.25,{"$f":"IF(AND(ISNUMBER(C181),ISNUMBER(D181)),C181*D181,\"\")","v":""},null,0.25,{"$f":"IF(AND(ISNUMBER(F181),ISNUMBER(G181)),F181*G181,\"\")","v":""},null,0.25,{"$f":"IF(AND(ISNUMBER(I181),ISNUMBER(J181)),I181*J181,\"\")","v":""},null,0.25,{"$f":"IF(AND(ISNUMBER(L181),ISNUMBER(M181)),L181*M181,\"\")","v":""},null,0.25,{"$f":"IF(AND(ISNUMBER(O181),ISNUMBER(P181)),O181*P181,\"\")","v":""},null,0.25,{"$f":"IF(AND(ISNUMBER(R181),ISNUMBER(S181)),R181*S181,\"\")","v":""}]
["C1131","         적격 유동성자산 거래 관련 "]
["C114","         Level 2B Non-RMBS 자산을 담보로 수취한 거래",null,0.5,{"$f":"IF(AND(ISNUMBER(C183),ISNUMBER(D183)),C183*D183,\"\")","v":""},null,0.5,{"$f":"IF(AND(ISNUMBER(F183),ISNUMBER(G183)),F183*G183,\"\")","v":""},null,0.5,{"$f":"IF(AND(ISNUMBER(I183),ISNUMBER(J183)),I183*J183,\"\")","v":""},null,0.5,{"$f":"IF(AND(ISNUMBER(L183),ISNUMBER(M183)),L183*M183,\"\")","v":""},null,0.5,{"$f":"IF(AND(ISNUMBER(O183),ISNUMBER(P183)),O183*P183,\"\")","v":""},null,0.5,{"$f":"IF(AND(ISNUMBER(R183),ISNUMBER(S183)),R183*S183,\"\")","v":""}]
["C1141","         적격 유동성자산 거래 관련 "]
["C115","         Level 1 또는 Level 2가 아닌 자산을 담보로 수취한 마진론(Margin Lending)",null,0.5,{"$f":"IF(AND(ISNUMBER(C185),ISNUMBER(D185)),C185*D185,\"\")","v":""},null,0.5,{"$f":"IF(AND(ISNUMBER(F185),ISNUMBER(G185)),F185*G185,\"\")","v":""},null,0.5,{"$f":"IF(AND(ISNUMBER(I185),ISNUMBER(J185)),I185*J185,\"\")","v":""},null,0.5,{"$f":"IF(AND(ISNUMBER(L185),ISNUMBER(M185)),L185*M185,\"\")","v":""},null,0.5,{"$f":"IF(AND(ISNUMBER(O185),ISNUMBER(P185)),O185*P185,\"\")","v":""},null,0.5,{"$f":"IF(AND(ISNUMBER(R185),ISNUMBER(S185)),R185*S185,\"\")","v":""}]
["C116","         기타 자산을 담보로 수취한 거래",null,1,{"$f":"IF(AND(ISNUMBER(C186),ISNUMBER(D186)),C186*D186,\"\")","v":""},null,1,{"$f":"IF(AND(ISNUMBER(F186),ISNUMBER(G186)),F186*G186,\"\")","v":""},null,1,{"$f":"IF(AND(ISNUMBER(I186),ISNUMBER(J186)),I186*J186,\"\")","v":""},null,1,{"$f":"IF(AND(ISNUMBER(L186),ISNUMBER(M186)),L186*M186,\"\")","v":""},null,1,{"$f":"IF(AND(ISNUMBER(O186),ISNUMBER(P186)),O186*P186,\"\")","v":""},null,1,{"$f":"IF(AND(ISNUMBER(R186),ISNUMBER(S186)),R186*S186,\"\")","v":""}]
["C12","       2) 제공받은 담보자산을 매도포지션 커버를 위해 재사용하는 경우",{"$f":"SUM(C188:C193)","v":0},null,{"$f":"SUM(E188:E193)","v":0},{"$f":"SUM(F188:F193)","v":0},null,{"$f":"SUM(H188:H193)","v":0},{"$f":"SUM(I188:I193)","v":0},null,{"$f":"SUM(K188:K193)","v":0},{"$f":"SUM(L188:L193)","v":0},null,{"$f":"SUM(N188:N193)","v":0},{"$f":"SUM(O188:O193)","v":0},null,{"$f":"SUM(Q188:Q193)","v":0},{"$f":"SUM(R188:R193)","v":0},null,{"$f":"SUM(T188:T193)","v":0}]
["C121","         Level 1 자산을 담보로 수취한 거래",null,0,{"$f":"IF(AND(ISNUMBER(C188),ISNUMBER(D188)),C188*D188,\"\")","v":""},null,0,{"$f":"IF(AND(ISNUMBER(F188),ISNUMBER(G188)),F188*G188,\"\")","v":""},null,0,{"$f":"IF(AND(ISNUMBER(I188),ISNUMBER(J188)),I188*J188,\"\")","v":""},null,0,{"$f":"IF(AND(ISNUMBER(L188),ISNUMBER(M188)),L188*M188,\"\")","v":""},null,0,{"$f":"IF(AND(ISNUMBER(O188),ISNUMBER(P188)),O188*P188,\"\")","v":""},null,0,{"$f":"IF(AND(ISNUMBER(R188),ISNUMBER(S188)),R188*S188,\"\")","v":""}]
["C122","         Level 2A 자산을 담보로 수취한 거래",null,0,"",null,0,"",null,0,"",null,0,"",null,0,"",null,0,""]
["C123","         Level 2B RMBS 자산을 담보로 수취한 거래",null,0,"",null,0,"",null,0,"",null,0,"",null,0,"",null,0,""]
["C124","         Level 2B Non-RMBS 자산을 담보로 수취한 거래",null,0,"",null,0,"",null,0,"",null,0,"",null,0,"",null,0,""]
["C125","         Level 1 또는 Level 2가 아닌 자산을 담보로 수취한 마진론(Margin Lending)",null,0,"",null,0,"",null,0,"",null,0,"",null,0,"",null,0,""]
["C126","         기타 자산을 담보로 수취한 거래",null,0,"",null,0,"",null,0,"",null,0,"",null,0,"",null,0,""]
["C2","      나. 기타 거래상대방별 현금유입(잔존만기 1개월 이내의 정상여신으로부터의 계약상 현금유입)",{"$f":"SUM(C195:C199,C204)","v":{"$error":"#VALUE!"}},null,{"$f":"SUM(E195:E199,E204)","v":0},{"$f":"SUM(F195:F199,F204)","v":0},null,{"$f":"SUM(H195:H199,H204)","v":2676.5},{"$f":"SUM(I195:I199,I204)","v":0},null,{"$f":"SUM(K195:K199,K204)","v":0},{"$f":"SUM(L195:L199,L204)","v":0},null,{"$f":"SUM(N195:N199,N204)","v":0},{"$f":"SUM(O195:O199,O204)","v":0},null,{"$f":"SUM(Q195:Q199,Q204)","v":0},{"$f":"SUM(R195:R199,R204)","v":0},null,{"$f":"SUM(T195:T199,T204)","v":0}]
["C21","        1) 소매 고객",null,0.5,{"$f":"IF(AND(ISNUMBER(C195),ISNUMBER(D195)),C195*D195,\"\")","v":""},null,0.5,{"$f":"IF(AND(ISNUMBER(F195),ISNUMBER(G195)),F195*G195,\"\")","v":""},null,0.5,{"$f":"IF(AND(ISNUMBER(I195),ISNUMBER(J195)),I195*J195,\"\")","v":""},null,0.5,{"$f":"IF(AND(ISNUMBER(L195),ISNUMBER(M195)),L195*M195,\"\")","v":""},null,0.5,{"$f":"IF(AND(ISNUMBER(O195),ISNUMBER(P195)),O195*P195,\"\")","v":""},null,0.5,{"$f":"IF(AND(ISNUMBER(R195),ISNUMBER(S195)),R195*S195,\"\")","v":""}]
["C22","        2) 중소기업 고객",null,0.5,{"$f":"IF(AND(ISNUMBER(C196),ISNUMBER(D196)),C196*D196,\"\")","v":""},null,0.5,{"$f":"IF(AND(ISNUMBER(F196),ISNUMBER(G196)),F196*G196,\"\")","v":""},null,0.5,{"$f":"IF(AND(ISNUMBER(I196),ISNUMBER(J196)),I196*J196,\"\")","v":""},null,0.5,{"$f":"IF(AND(ISNUMBER(L196),ISNUMBER(M196)),L196*M196,\"\")","v":""},null,0.5,{"$f":"IF(AND(ISNUMBER(O196),ISNUMBER(P196)),O196*P196,\"\")","v":""},null,0.5,{"$f":"IF(AND(ISNUMBER(R196),ISNUMBER(S196)),R196*S196,\"\")","v":""}]
["C23","        3) 비금융기업",{"$f":"F197+I197","v":{"$error":"#VALUE!"}},0.5,{"$f":"IF(AND(ISNUMBER(C197),ISNUMBER(D197)),C197*D197,\"\")","v":""},"1)OAV_KRW중 (DUE-말일)<=30\n2) CIL/PNP/LAI/BDU/YBZ_KRW중 (DUE-말일)<=30\n4) EXP 매입외환/팩토링/XBZ/LAE KRW중 (DUE-말일)<=30",0.5,2676.5,"1)OAV_FCY중 (DUE-말일)<=30\n2) CIL/PNP/LAI/BDU/YBZ_FCY중 (DUE-말일)<=30\n4) EXP 매입외환/팩토링/XBZ/LAE FCY중 (DUE-말일)<=30",0.5,{"$f":"IF(AND(ISNUMBER(I197),ISNUMBER(J197)),I197*J197,\"\")","v":""},null,0.5,{"$f":"IF(AND(ISNUMBER(L197),ISNUMBER(M197)),L197*M197,\"\")","v":""},null,0.5,{"$f":"IF(AND(ISNUMBER(O197),ISNUMBER(P197)),O197*P197,\"\")","v":""},null,0.5,{"$f":"IF(AND(ISNUMBER(R197),ISNUMBER(S197)),R197*S197,\"\")","v":""},"EXP 매입외환","ABD/BAC/BAP/BPC/BPP/FOT/NRD/OAE/OBC/REN"]
["C24","        4) 중앙은행",null,1,{"$f":"IF(AND(ISNUMBER(C198),ISNUMBER(D198)),C198*D198,\"\")","v":""},null,1,{"$f":"IF(AND(ISNUMBER(F198),ISNUMBER(G198)),F198*G198,\"\")","v":""},null,1,{"$f":"IF(AND(ISNUMBER(I198),ISNUMBER(J198)),I198*J198,\"\")","v":""},null,1,{"$f":"IF(AND(ISNUMBER(L198),ISNUMBER(M198)),L198*M198,\"\")","v":""},null,1,{"$f":"IF(AND(ISNUMBER(O198),ISNUMBER(P198)),O198*P198,\"\")","v":""},null,1,{"$f":"IF(AND(ISNUMBER(R198),ISNUMBER(S198)),R198*S198,\"\")","v":""}]
["C25","        5) 금융회사",{"$f":"SUM(C200:C203)","v":0},null,{"$f":"SUM(E200:E203)","v":0},null,null,{"$f":"SUM(H200:H203)","v":0},"4) RBU/SBN/SXX (DUE-말일)<=30",null,{"$f":"SUM(K200:K203)","v":0},{"$f":"SUM(L200:L203)","v":0},null,{"$f":"SUM(N200:N203)","v":0},{"$f":"SUM(O200:O203)","v":0},null,{"$f":"SUM(Q200:Q203)","v":0},{"$f":"SUM(R200:R203)","v":0},null,{"$f":"SUM(T200:T203)","v":0}]
["C251","         영업적 예금",null,0,{"$f":"IF(AND(ISNUMBER(C200),ISNUMBER(D200)),C200*D200,\"\")","v":""},null,0,{"$f":"IF(AND(ISNUMBER(F200),ISNUMBER(G200)),F200*G200,\"\")","v":""},null,0,{"$f":"IF(AND(ISNUMBER(I200),ISNUMBER(J200)),I200*J200,\"\")","v":""},null,0,{"$f":"IF(AND(ISNUMBER(L200),ISNUMBER(M200)),L200*M200,\"\")","v":""},null,0,{"$f":"IF(AND(ISNUMBER(O200),ISNUMBER(P200)),O200*P200,\"\")","v":""},null,0,{"$f":"IF(AND(ISNUMBER(R200),ISNUMBER(S200)),R200*S200,\"\")","v":""}]
["C252","         네트워크형 협력은행이 중앙기관에 예치한 예금",null,0,{"$f":"IF(AND(ISNUMBER(C201),ISNUMBER(D201)),C201*D201,\"\")","v":""},null,0,{"$f":"IF(AND(ISNUMBER(F201),ISNUMBER(G201)),F201*G201,\"\")","v":""},null,0,{"$f":"IF(AND(ISNUMBER(I201),ISNUMBER(J201)),I201*J201,\"\")","v":""},null,0,{"$f":"IF(AND(ISNUMBER(L201),ISNUMBER(M201)),L201*M201,\"\")","v":""},null,0,{"$f":"IF(AND(ISNUMBER(O201),ISNUMBER(P201)),O201*P201,\"\")","v":""},null,0,{"$f":"IF(AND(ISNUMBER(R201),ISNUMBER(S201)),R201*S201,\"\")","v":""}]
["C253","      본지점거래분(순액)",null,1,{"$f":"IF(AND(ISNUMBER(C202),ISNUMBER(D202)),C202*D202,\"\")","v":""},null,1,{"$f":"IF(AND(ISNUMBER(F202),ISNUMBER(G202)),F202*G202,\"\")","v":""},null,1,{"$f":"IF(AND(ISNUMBER(I202),ISNUMBER(J202)),I202*J202,\"\")","v":""},null,1,{"$f":"IF(AND(ISNUMBER(L202),ISNUMBER(M202)),L202*M202,\"\")","v":""},null,1,{"$f":"IF(AND(ISNUMBER(O202),ISNUMBER(P202)),O202*P202,\"\")","v":""},null,1,{"$f":"IF(AND(ISNUMBER(R202),ISNUMBER(S202)),R202*S202,\"\")","v":""}]
["C254","         1개월 이내에 만기가 도래하는 기타 대출 또는 예치금",null,1,{"$f":"IF(AND(ISNUMBER(C203),ISNUMBER(D203)),C203*D203,\"\")","v":""},null,1,{"$f":"IF(AND(ISNUMBER(F203),ISNUMBER(G203)),F203*G203,\"\")","v":""},"4) RBU/SBN/SXX (DUE-말일)<=30",1,{"$f":"IF(AND(ISNUMBER(I203),ISNUMBER(J203)),I203*J203,\"\")","v":""},null,1,{"$f":"IF(AND(ISNUMBER(L203),ISNUMBER(M203)),L203*M203,\"\")","v":""},null,1,{"$f":"IF(AND(ISNUMBER(O203),ISNUMBER(P203)),O203*P203,\"\")","v":""},null,1,{"$f":"IF(AND(ISNUMBER(R203),ISNUMBER(S203)),R203*S203,\"\")","v":""}]
["C26","        6) 기타 법인"]
["C3","      다. 기타 현금 유입",{"$f":"SUM(C206:C208)","v":0},null,{"$f":"SUM(E206:E208)","v":0},{"$f":"SUM(F206:F208)","v":0},null,{"$f":"SUM(H206:H208)","v":0},{"$f":"SUM(I206:I208)","v":0},null,{"$f":"SUM(K206:K208)","v":0},{"$f":"SUM(L206:L208)","v":0},null,{"$f":"SUM(N206:N208)","v":0},{"$f":"SUM(O206:O208)","v":0},null,{"$f":"SUM(Q206:Q208)","v":0},{"$f":"SUM(R206:R208)","v":0},null,{"$f":"SUM(T206:T208)","v":0}]
["C31","        1) 파생상품거래 관련 현금유입액",null,1,{"$f":"IF(AND(ISNUMBER(C206),ISNUMBER(D206)),C206*D206,\"\")","v":""},null,1,{"$f":"IF(AND(ISNUMBER(F206),ISNUMBER(G206)),F206*G206,\"\")","v":""},null,1,{"$f":"IF(AND(ISNUMBER(I206),ISNUMBER(J206)),I206*J206,\"\")","v":""},null,1,{"$f":"IF(AND(ISNUMBER(L206),ISNUMBER(M206)),L206*M206,\"\")","v":""},null,1,{"$f":"IF(AND(ISNUMBER(O206),ISNUMBER(P206)),O206*P206,\"\")","v":""},null,1,{"$f":"IF(AND(ISNUMBER(R206),ISNUMBER(S206)),R206*S206,\"\")","v":""}]
["C32","        2) 1개월 이내에 만기가 도래하는 기타 증권으로부터의 현금 유입",null,1,{"$f":"IF(AND(ISNUMBER(C207),ISNUMBER(D207)),C207*D207,\"\")","v":""},null,1,{"$f":"IF(AND(ISNUMBER(F207),ISNUMBER(G207)),F207*G207,\"\")","v":""},null,1,{"$f":"IF(AND(ISNUMBER(I207),ISNUMBER(J207)),I207*J207,\"\")","v":""},null,1,{"$f":"IF(AND(ISNUMBER(L207),ISNUMBER(M207)),L207*M207,\"\")","v":""},null,1,{"$f":"IF(AND(ISNUMBER(O207),ISNUMBER(P207)),O207*P207,\"\")","v":""},null,1,{"$f":"IF(AND(ISNUMBER(R207),ISNUMBER(S207)),R207*S207,\"\")","v":""}]
["C33","        3) 기타 계약상 현금 유입",null,1,{"$f":"IF(AND(ISNUMBER(C208),ISNUMBER(D208)),C208*D208,\"\")","v":""},null,1,{"$f":"IF(AND(ISNUMBER(F208),ISNUMBER(G208)),F208*G208,\"\")","v":""},null,1,{"$f":"IF(AND(ISNUMBER(I208),ISNUMBER(J208)),I208*J208,\"\")","v":""},null,1,{"$f":"IF(AND(ISNUMBER(L208),ISNUMBER(M208)),L208*M208,\"\")","v":""},null,1,{"$f":"IF(AND(ISNUMBER(O208),ISNUMBER(P208)),O208*P208,\"\")","v":""},null,1,{"$f":"IF(AND(ISNUMBER(R208),ISNUMBER(S208)),R208*S208,\"\")","v":""}]
["C4","    라. 한도 적용 이후 총 현금유입액",null,null,null,null,null,null,null,null,null,null,null,{"$f":"MIN(N210,N211)","v":0},null,null,{"$f":"MIN(Q210,Q211)","v":0},null,null,{"$f":"MIN(T210,T211)","v":0}]
["C41","        1) 한도 적용 이전 총 현금유입액",{"$f":"SUM(C175,C194,C205)","v":{"$error":"#VALUE!"}},null,{"$f":"SUM(E175,E194,E205)","v":0},{"$f":"SUM(F175,F194,F205)","v":0},null,{"$f":"SUM(H175,H194,H205)","v":2676.5},{"$f":"SUM(I175,I194,I205)","v":0},null,{"$f":"SUM(K175,K194,K205)","v":0},{"$f":"SUM(L175,L194,L205)","v":0},null,{"$f":"SUM(N175,N194,N205)","v":0},{"$f":"SUM(O175,O194,O205)","v":0},null,{"$f":"SUM(Q175,Q194,Q205)","v":0},{"$f":"SUM(R175,R194,R205)","v":0},null,{"$f":"SUM(T175,T194,T205)","v":0}]
["C42","        2) 현금유입액 한도",{"$f":"E47","v":0},0.75,{"$f":"IF(AND(ISNUMBER(C211),ISNUMBER(D211)),C211*D211,\"\")","v":0},{"$f":"H47","v":0},0.75,{"$f":"IF(AND(ISNUMBER(F211),ISNUMBER(G211)),F211*G211,\"\")","v":0},{"$f":"K47","v":0},0.75,{"$f":"IF(AND(ISNUMBER(I211),ISNUMBER(J211)),I211*J211,\"\")","v":0},{"$f":"N47","v":0},0.75,{"$f":"IF(AND(ISNUMBER(L211),ISNUMBER(M211)),L211*M211,\"\")","v":0},{"$f":"Q47","v":0},0.75,{"$f":"IF(AND(ISNUMBER(O211),ISNUMBER(P211)),O211*P211,\"\")","v":0},{"$f":"T47","v":0},0.75,{"$f":"IF(AND(ISNUMBER(R211),ISNUMBER(S211)),R211*S211,\"\")","v":0}]
["D","Ⅲ. 유동성커버리지비율(LCR)"]
["D1","    1. 총 고유동성자산 금액",null,null,{"$f":"E8","v":0},null,null,{"$f":"H8","v":0},null,null,{"$f":"K8","v":0},null,null,{"$f":"N8","v":0},null,null,{"$f":"Q8","v":0},null,null,{"$f":"T8","v":0}]
["D2","    2. 순현금유출액",null,null,{"$f":"E46","v":0},null,null,{"$f":"H46","v":0},null,null,{"$f":"K46","v":0},null,null,{"$f":"N46","v":0},null,null,{"$f":"Q46","v":0},null,null,{"$f":"T46","v":0}]
["D3","    3. 유동성커버리지비율(LCR)",null,null,{"$f":"IF(AND(ISNUMBER(E213),ISNUMBER(E214)),IF(E214>0,E213/E214,\"\"),\"\")","v":""},null,null,{"$f":"IF(AND(ISNUMBER(H213),ISNUMBER(H214)),IF(H214>0,H213/H214,\"\"),\"\")","v":""},null,null,{"$f":"IF(AND(ISNUMBER(K213),ISNUMBER(K214)),IF(K214>0,K213/K214,\"\"),\"\")","v":""},null,null,{"$f":"IF(AND(ISNUMBER(N213),ISNUMBER(N214)),IF(N214>0,N213/N214,\"\"),\"\")","v":""},null,null,{"$f":"IF(AND(ISNUMBER(Q213),ISNUMBER(Q214)),IF(Q214>0,Q213/Q214,\"\"),\"\")","v":""},null,null,{"$f":"IF(AND(ISNUMBER(T213),ISNUMBER(T214)),IF(T214>0,T213/T214,\"\"),\"\")","v":""}]
["E","Ⅳ. 추가정보"]
["E1","    1. 고유동성자산 제외 금액","Level 1 자산","Level 2A 자산","Level 2B 자산","Level 1 자산","Level 2A 자산","Level 2B 자산","Level 1 자산","Level 2A 자산","Level 2B 자산","Level 1 자산","Level 2A 자산","Level 2B 자산","Level 1 자산","Level 2A 자산","Level 2B 자산","Level 1 자산","Level 2A 자산","Level 2B 자산"]
["E11","         가. LCR 산정시 개별 법인 차원에서는 포함되나, 그룹차원에서는 배제되는 고유동성자산 금액"]
["E12","         나. 고유동성자산의 운영요건에 따라 배제되는 금액"]
["E2","    2. 담보부 자금조달 및 담보부 자금대여 관련 담보자산의 시장가치"]
["E21","       가. 담보부 자금조달 관련 제공한 담보의 시장가치(Ⅱ.1.다. 관련)",null,null,"제공한 담보의 시장가치",null,null,"제공한 담보의 시장가치",null,null,"제공한 담보의 시장가치",null,null,"제공한 담보의 시장가치",null,null,"제공한 담보의 시장가치",null,null,"제공한 담보의 시장가치"]
["E211","           1) 거래상대방이 자국 중앙은행인 경우"]
["E2111","             Level 1 자산을 담보로 제공하여 조달"]
["E21111","           적격 유동성자산 거래 관련 "]
["E2112","             Level 2A 자산을 담보로 제공하여 조달"]
["E21121","           적격 유동성자산 거래 관련 "]
["E2113","             Level 2B RMBS 자산을 담보로 제공하여 조달"]
["E21131","           적격 유동성자산 거래 관련 "]
["E2114","             Level 2B Non-RMBS 자산을 담보로 제공하여 조달"]
["E21141","           적격 유동성자산 거래 관련 "]
["E2115","            기타 자산을 담보로 제공하여 조달"]
["E212","           2) 거래상대방이 자국 중앙은행이 아니며, Level 1 자산을 담보로 제공하여 조달"]
["E2121","           적격 유동성자산 거래 관련 "]
["E213","           3) 거래상대방이 자국 중앙은행이 아니며, Level 2A 자산을 담보로 제공하여 조달"]
["E2131","           적격 유동성자산 거래 관련 "]
["E214","           4) 거래상대방이 자국 중앙은행이 아니며, Level 2B RMBS 자산을 담보로 제공하여 조달"]
["E2141","           적격 유동성자산 거래 관련 "]
["E215","           5) 거래상대방이 자국 중앙은행이 아니며, Level 2B Non-RMBS 자산을 담보로 제공하여 조달"]
["E2151","              거래상대방이 자국 정부, 다자개발은행, 20% 이하의 위험가중치 적용 자국 공공기관인 경우"]
["E21511","             적격 유동성자산 거래 관련 "]
["E2152","              거래상대방이 자국 정부, 다자개발은행, 20% 이하의 위험가중치 적용 자국 공공기관이 아닌 경우"]
["E21521","             적격 유동성자산 거래 관련 "]
["E216","           6) 거래상대방이 자국 중앙은행이 아니며, 기타(Non-HQLA) 자산을 담보로 제공하여 조달"]
["E2161","             거래상대방이 자국 정부, 다자개발은행, 20% 이하의 위험가중치 적용 자국 공공기관인 경우"]
["E2162","             거래상대방이 자국 정부, 다자개발은행, 20% 이하의 위험가중치 적용 자국 공공기관이 아닌 경우"]
["E22","       나. 담보부 자금대출 관련 수령한 담보의 시장가치(Ⅱ.2.가. 관련)",null,null,"수령한 담보의 시장가치",null,null,"수령한 담보의 시장가치",null,null,"수령한 담보의 시장가치",null,null,"수령한 담보의 시장가치",null,null,"수령한 담보의 시장가치",null,null,"수령한 담보의 시장가치"]
["E221","        1) 제공받은 담보자산을 매도포지션 커버를 위해 재사용하지 않는 경우"]
["E2211","           Level 1 자산을 담보로 수취한 거래"]
["E22111","           적격 유동성자산 거래 관련 "]
["E2212","           Level 2A 자산을 담보로 수취한 거래"]
["E22121","           적격 유동성자산 거래 관련 "]
["E2213","           Level 2B RMBS 자산을 담보로 수취한 거래"]
["E22131","           적격 유동성자산 거래 관련 "]
["E2214","           Level 2B Non-RMBS 자산을 담보로 수취한 거래"]
["E22141","           적격 유동성자산 거래 관련 "]
["E2215","           Level 1 또는 Level 2가 아닌 자산을 담보로 수취한 마진론(Margin Lending)"]
["E2216","           기타 자산을 담보로 수취한 거래"]
["E222","         2) 제공받은 담보자산을 매도포지션 커버를 위해 재사용하는 경우"]
["E2221","           Level 1 자산을 담보로 수취한 거래"]
["E2222","           Level 2A 자산을 담보로 수취한 거래"]
["E2223","           Level 2B RMBS 자산을 담보로 수취한 거래"]
["E2224","           Level 2B Non-RMBS 자산을 담보로 수취한 거래"]
["E2225","           Level 1 또는 Level 2가 아닌 자산을 담보로 수취한 마진론(Margin Lending)"]
["E2226","           기타 자산을 담보로 수취한 거래"]
["E3","    3. 담보스왑",null,"추가","차감",null,"추가","차감",null,"추가","차감",null,"추가","차감",null,"추가","차감",null,"추가","차감"]
["E31","       가. 담보스왑에 따른 Level 1 자산 금액 조정",null,"",{"$f":"IF(AND(ISNUMBER(#REF!),ISNUMBER(#REF!),ISNUMBER(#REF!),ISNUMBER(#REF!),ISNUMBER(#REF!)),#REF!+#REF!+#REF!+#REF!+#REF!,\"\")","v":""},null,"",{"$f":"IF(AND(ISNUMBER(#REF!),ISNUMBER(#REF!),ISNUMBER(#REF!),ISNUMBER(#REF!),ISNUMBER(#REF!)),#REF!+#REF!+#REF!+#REF!+#REF!,\"\")","v":""},null,"",{"$f":"IF(AND(ISNUMBER(#REF!),ISNUMBER(#REF!),ISNUMBER(#REF!),ISNUMBER(#REF!),ISNUMBER(#REF!)),#REF!+#REF!+#REF!+#REF!+#REF!,\"\")","v":""},null,"",{"$f":"IF(AND(ISNUMBER(#REF!),ISNUMBER(#REF!),ISNUMBER(#REF!),ISNUMBER(#REF!),ISNUMBER(#REF!)),#REF!+#REF!+#REF!+#REF!+#REF!,\"\")","v":""},null,"",{"$f":"IF(AND(ISNUMBER(#REF!),ISNUMBER(#REF!),ISNUMBER(#REF!),ISNUMBER(#REF!),ISNUMBER(#REF!)),#REF!+#REF!+#REF!+#REF!+#REF!,\"\")","v":""},null,"",{"$f":"IF(AND(ISNUMBER(#REF!),ISNUMBER(#REF!),ISNUMBER(#REF!),ISNUMBER(#REF!),ISNUMBER(#REF!)),#REF!+#REF!+#REF!+#REF!+#REF!,\"\")","v":""}]
["E32","       나. 담보스왑에 따른 Level 2A 자산 금액 조정",{"$f":"IF(AND(ISNUMBER(#REF!),ISNUMBER(#REF!),ISNUMBER(#REF!),ISNUMBER(#REF!),ISNUMBER(#REF!)),#REF!+#REF!+#REF!+#REF!+#REF!,\"\")","v":""},"",{"$f":"IF(AND(ISNUMBER(#REF!),ISNUMBER(#REF!),ISNUMBER(#REF!),ISNUMBER(#REF!),ISNUMBER(#REF!)),#REF!+#REF!+#REF!+#REF!+#REF!,\"\")","v":""},{"$f":"IF(AND(ISNUMBER(#REF!),ISNUMBER(#REF!),ISNUMBER(#REF!),ISNUMBER(#REF!),ISNUMBER(#REF!)),#REF!+#REF!+#REF!+#REF!+#REF!,\"\")","v":""},"",{"$f":"IF(AND(ISNUMBER(#REF!),ISNUMBER(#REF!),ISNUMBER(#REF!),ISNUMBER(#REF!),ISNUMBER(#REF!)),#REF!+#REF!+#REF!+#REF!+#REF!,\"\")","v":""},{"$f":"IF(AND(ISNUMBER(#REF!),ISNUMBER(#REF!),ISNUMBER(#REF!),ISNUMBER(#REF!),ISNUMBER(#REF!)),#REF!+#REF!+#REF!+#REF!+#REF!,\"\")","v":""},"",{"$f":"IF(AND(ISNUMBER(#REF!),ISNUMBER(#REF!),ISNUMBER(#REF!),ISNUMBER(#REF!),ISNUMBER(#REF!)),#REF!+#REF!+#REF!+#REF!+#REF!,\"\")","v":""},{"$f":"IF(AND(ISNUMBER(#REF!),ISNUMBER(#REF!),ISNUMBER(#REF!),ISNUMBER(#REF!),ISNUMBER(#REF!)),#REF!+#REF!+#REF!+#REF!+#REF!,\"\")","v":""},"",{"$f":"IF(AND(ISNUMBER(#REF!),ISNUMBER(#REF!),ISNUMBER(#REF!),ISNUMBER(#REF!),ISNUMBER(#REF!)),#REF!+#REF!+#REF!+#REF!+#REF!,\"\")","v":""},{"$f":"IF(AND(ISNUMBER(#REF!),ISNUMBER(#REF!),ISNUMBER(#REF!),ISNUMBER(#REF!),ISNUMBER(#REF!)),#REF!+#REF!+#REF!+#REF!+#REF!,\"\")","v":""},"",{"$f":"IF(AND(ISNUMBER(#REF!),ISNUMBER(#REF!),ISNUMBER(#REF!),ISNUMBER(#REF!),ISNUMBER(#REF!)),#REF!+#REF!+#REF!+#REF!+#REF!,\"\")","v":""},{"$f":"IF(AND(ISNUMBER(#REF!),ISNUMBER(#REF!),ISNUMBER(#REF!),ISNUMBER(#REF!),ISNUMBER(#REF!)),#REF!+#REF!+#REF!+#REF!+#REF!,\"\")","v":""},"",{"$f":"IF(AND(ISNUMBER(#REF!),ISNUMBER(#REF!),ISNUMBER(#REF!),ISNUMBER(#REF!),ISNUMBER(#REF!)),#REF!+#REF!+#REF!+#REF!+#REF!,\"\")","v":""}]
["E33","       다. 담보스왑에 따른 Level 2B RMBS 자산 금액 조정",{"$f":"IF(AND(ISNUMBER(#REF!),ISNUMBER(#REF!),ISNUMBER(#REF!),ISNUMBER(#REF!),ISNUMBER(#REF!)),#REF!+#REF!+#REF!+#REF!+#REF!,\"\")","v":""},"",{"$f":"IF(AND(ISNUMBER(#REF!),ISNUMBER(#REF!),ISNUMBER(#REF!),ISNUMBER(#REF!),ISNUMBER(#REF!)),#REF!+#REF!+#REF!+#REF!+#REF!,\"\")","v":""},{"$f":"IF(AND(ISNUMBER(#REF!),ISNUMBER(#REF!),ISNUMBER(#REF!),ISNUMBER(#REF!),ISNUMBER(#REF!)),#REF!+#REF!+#REF!+#REF!+#REF!,\"\")","v":""},"",{"$f":"IF(AND(ISNUMBER(#REF!),ISNUMBER(#REF!),ISNUMBER(#REF!),ISNUMBER(#REF!),ISNUMBER(#REF!)),#REF!+#REF!+#REF!+#REF!+#REF!,\"\")","v":""},{"$f":"IF(AND(ISNUMBER(#REF!),ISNUMBER(#REF!),ISNUMBER(#REF!),ISNUMBER(#REF!),ISNUMBER(#REF!)),#REF!+#REF!+#REF!+#REF!+#REF!,\"\")","v":""},"",{"$f":"IF(AND(ISNUMBER(#REF!),ISNUMBER(#REF!),ISNUMBER(#REF!),ISNUMBER(#REF!),ISNUMBER(#REF!)),#REF!+#REF!+#REF!+#REF!+#REF!,\"\")","v":""},{"$f":"IF(AND(ISNUMBER(#REF!),ISNUMBER(#REF!),ISNUMBER(#REF!),ISNUMBER(#REF!),ISNUMBER(#REF!)),#REF!+#REF!+#REF!+#REF!+#REF!,\"\")","v":""},"",{"$f":"IF(AND(ISNUMBER(#REF!),ISNUMBER(#REF!),ISNUMBER(#REF!),ISNUMBER(#REF!),ISNUMBER(#REF!)),#REF!+#REF!+#REF!+#REF!+#REF!,\"\")","v":""},{"$f":"IF(AND(ISNUMBER(#REF!),ISNUMBER(#REF!),ISNUMBER(#REF!),ISNUMBER(#REF!),ISNUMBER(#REF!)),#REF!+#REF!+#REF!+#REF!+#REF!,\"\")","v":""},"",{"$f":"IF(AND(ISNUMBER(#REF!),ISNUMBER(#REF!),ISNUMBER(#REF!),ISNUMBER(#REF!),ISNUMBER(#REF!)),#REF!+#REF!+#REF!+#REF!+#REF!,\"\")","v":""},{"$f":"IF(AND(ISNUMBER(#REF!),ISNUMBER(#REF!),ISNUMBER(#REF!),ISNUMBER(#REF!),ISNUMBER(#REF!)),#REF!+#REF!+#REF!+#REF!+#REF!,\"\")","v":""},"",{"$f":"IF(AND(ISNUMBER(#REF!),ISNUMBER(#REF!),ISNUMBER(#REF!),ISNUMBER(#REF!),ISNUMBER(#REF!)),#REF!+#REF!+#REF!+#REF!+#REF!,\"\")","v":""}]
["E34","       라. 담보스왑에 따른 Level 2B Non-RMBS 자산 금액 조정",{"$f":"IF(AND(ISNUMBER(#REF!),ISNUMBER(#REF!),ISNUMBER(#REF!),ISNUMBER(#REF!),ISNUMBER(#REF!)),#REF!+#REF!+#REF!+#REF!+#REF!,\"\")","v":""},"",{"$f":"IF(AND(ISNUMBER(#REF!),ISNUMBER(#REF!),ISNUMBER(#REF!),ISNUMBER(#REF!),ISNUMBER(#REF!)),#REF!+#REF!+#REF!+#REF!+#REF!,\"\")","v":""},{"$f":"IF(AND(ISNUMBER(#REF!),ISNUMBER(#REF!),ISNUMBER(#REF!),ISNUMBER(#REF!),ISNUMBER(#REF!)),#REF!+#REF!+#REF!+#REF!+#REF!,\"\")","v":""},"",{"$f":"IF(AND(ISNUMBER(#REF!),ISNUMBER(#REF!),ISNUMBER(#REF!),ISNUMBER(#REF!),ISNUMBER(#REF!)),#REF!+#REF!+#REF!+#REF!+#REF!,\"\")","v":""},{"$f":"IF(AND(ISNUMBER(#REF!),ISNUMBER(#REF!),ISNUMBER(#REF!),ISNUMBER(#REF!),ISNUMBER(#REF!)),#REF!+#REF!+#REF!+#REF!+#REF!,\"\")","v":""},"",{"$f":"IF(AND(ISNUMBER(#REF!),ISNUMBER(#REF!),ISNUMBER(#REF!),ISNUMBER(#REF!),ISNUMBER(#REF!)),#REF!+#REF!+#REF!+#REF!+#REF!,\"\")","v":""},{"$f":"IF(AND(ISNUMBER(#REF!),ISNUMBER(#REF!),ISNUMBER(#REF!),ISNUMBER(#REF!),ISNUMBER(#REF!)),#REF!+#REF!+#REF!+#REF!+#REF!,\"\")","v":""},"",{"$f":"IF(AND(ISNUMBER(#REF!),ISNUMBER(#REF!),ISNUMBER(#REF!),ISNUMBER(#REF!),ISNUMBER(#REF!)),#REF!+#REF!+#REF!+#REF!+#REF!,\"\")","v":""},{"$f":"IF(AND(ISNUMBER(#REF!),ISNUMBER(#REF!),ISNUMBER(#REF!),ISNUMBER(#REF!),ISNUMBER(#REF!)),#REF!+#REF!+#REF!+#REF!+#REF!,\"\")","v":""},"",{"$f":"IF(AND(ISNUMBER(#REF!),ISNUMBER(#REF!),ISNUMBER(#REF!),ISNUMBER(#REF!),ISNUMBER(#REF!)),#REF!+#REF!+#REF!+#REF!+#REF!,\"\")","v":""},{"$f":"IF(AND(ISNUMBER(#REF!),ISNUMBER(#REF!),ISNUMBER(#REF!),ISNUMBER(#REF!),ISNUMBER(#REF!)),#REF!+#REF!+#REF!+#REF!+#REF!,\"\")","v":""},"",{"$f":"IF(AND(ISNUMBER(#REF!),ISNUMBER(#REF!),ISNUMBER(#REF!),ISNUMBER(#REF!),ISNUMBER(#REF!)),#REF!+#REF!+#REF!+#REF!+#REF!,\"\")","v":""}]
[]
["문의처 :  (건전경영팀)은행감독국"]
[]
[]
["[작성요령]"]
[]
["1. 은행업감독업무시행세칙 <별표 3-6>을 참고하여 작성"]
[]
["2. 산정기준 : 유동성커버리지비율은 연결기준(모은행과 자회사간 및 은행계정과 신탁∙종금계정간 내부거래는 상계처리)으로 산출하되, 연결실체 중 해외법인, SPC, 펀드는 내부거래를 제거하지 않고 단순합산한 연결기준 적용 가능(직전분기 연결대차대조표 기준 연결총자산의 95% 한도내 단순합산 적용 가능)"]
["    (단, 중요한 그룹내부 자금거래(현금, 대출채권, 예치금, 차입금, 예수금)는 상계처리)"]
[]
["3. 통합기준은 원외화를 통합한 단일통화(원화) 기준으로 작성, 원화기준과 외화(원화표시) 기준의 합은 통합 기준과 일치"]
[]
["4. 월평(B)은 해당월중 일별 총고유동성자산 누적액을 해당월중일수로 나눈 고유동성자산(분자)을 말잔 기준 순현금유출액(분모)으로 나누어 산출(직전분기 연결대차대조표 기준 연결총자산의 95% 한도내 단순합산 적용 가능)"]
[]
["5. 연결기준 고유동성자산 금액 계산시 자회사 및 신탁계정 보유 고유동성자산 중 개별 자회사 등의 순현금유출 해당액만큼 고유동성자산으로 분류하며, 이를 초과하는 부분은 모은행으로의 이전에 제한이 있는 것으로 간주하여 연결기준 고유동성자산에서 제외"]
["   (단, 자회사 중 펀드, SPC가 보유한 고유동성자산은 전액 연결기준 고유동성자산에 포함)"]
[]
["6. 한국은행 예치금 중 지준예치금 및 외화타점예치금, 자금조정예금(일일예금에 한함)은 지급준비금으로 전액 고유동성자산에 포함"]
["   한국은행에 제공한 담보자산 중 일중당좌대출 담보자산만 고유동성자산으로 분류(총액한도대출, 결제리스트, RP 관련 담보는 고유동성자산에서 제외)"]
["   거래소를 대상으로 한 대여유가증권은 3영업일 이내 회수하여 사용가능한 경우 고유동성자산에 포함    "]
[]
["7. 유가증권 중 구조화채권, 후순위채권 등 매매시장이 활성화되지 않은 채권은 고유동성자산에서 제외"]
["  - 유가증권이 고유동성자산으로 인정되기 위해서는 스트레스 상황에서 유동성 원천으로서 신뢰할 만한 기록을 입증해야 함"]
["    (스트레스 상황은 2007년~2009년을 포함하며, KOSPI200 편입 보통주는 개별 주식별로 스트레스 기간 중 1개월간 최대 가격 하락 또는 할인율 상승이 40% 이하인 경우에만 포함)"]
[]
["8. 고객분류 기준"]
["  - 소매 : 개인고객(개인사업자 제외)"]
["  - 중소기업 :  바젤 II 기준(세칙 <별표3> 제2장 및 제3장)에 따른 중소기업 중 자금조달 총액이 15억원 미만(여신이 없는 경우 자금조달 총액이 15억원 미만)인 중소기업"]
["  - 공공기관 : 바젤Ⅱ 자본규제의 공공기관의 정의(세칙 <별표 3> 32.및 33.)를 준용(산업은행, 기업은행, 수출입은행은 금융기관인 공공기관에 해당)"]
["  - 비금융기업 : 중소기업 이외 기업 및 임의단체"]
["  - 금융기관 : 바젤 III 자본기준(세칙 <별표3> 3.하)과 일치"]
["  - 은행 : 은행법상 은행 및 이에 준하는 해외법인"]
["  - 기타 : 위 분류에 속하지 않는 모든 고객"]
[]
["9. 소매(중소기업 포함) 예금 : 전체 예금을 대상으로 하되, 만기 이전에 인출이 불가능한 금융상품(사전통지예금, 통장식CD, 은행채, ELD 등) 및 법적으로 인출이 불가능한 예금(담보제공∙질권설정, 지급정지∙가압류 등)은 확정기간부 소매에금으로 분류하여 이탈률 적용대상에서 제외"]
["    도매 예금 : 만기 이전에 예금주가 해지할 수 있는 옵션이 부여된 구조화예금의 경우 옵션기일을 예금만기로 간주하고, 회전식(계단식) 예금의 경우 회전(계단)주기를 기준으로 1개월 이내 이탈률 적용대상 여부를 판단"]
[]
["10. 긴밀한 관계를 유지하는 예금주의 정의"]
["   - 다음 각호 중 2개 이상을 충족하는 경우 긴밀한 관계가 있는 예금주로 정의"]
["    ∙ 결제계좌(아래에 요건 정의)를 보유"]
["    ∙ 대출 보유(개별 및 한도대출 포함)"]
["    ∙ 유실적 신용카드(체크카드 포함) 보유(과거 3개월간 결제실적 1회 이상)"]
["    ∙ 신탁상품 및 해당 은행에서 위탁판매하는 펀드, 보험상품 등 보유"]
["    ∙ 자동이체 3건 이상 등록(예시 : CMS 출금, 지로, 신용카드∙예적금 관련 이체 등)"]
[]
["   - 다음의 조건중 하나라도 충족하는 경우 결제계좌(transactional acoount)로 정의"]
["    ∙  급여수령 또는 지급계좌(전월중 급여관련 거래내역이 발생한 경우에 한함)"]
["    ∙  집금계좌(은행이 소매고객과의 계약에 의하여 미리 지정된 당/타행계좌에서 고객이 요청한 조건의 자금을 당행의 지정된 모계자로 집금하는 서비스를 체결한 계좌)"]
[]
["11. 영업적 예금의 초과잔액 산출방법"]
["   - 고객분류(비영업적 예금의 40% 및 100% 적용대상)별 영업적 예금의 평잔을 기준으로 핵심예금 산출"]
["   - 다만, 계좌별 평잔 산출이 불가능한 경우에는 전체 영업적예금의 평잔(MMDA 제외)을 고객분류별 잔액 비율로 안분 계산 가능"]
[]
["12. 은행이 창구를 통해 소매고객(중소기업 포함)에게 판매중인 CD 및 은행채 등은 소매예수금과 동일하게 처리"]
["     퇴직연금의 경우 실질적 계좌주인 퇴직연금 가입자(DC형 : 소매, DB형 : 해당 사업장의 고객분류)의 이탈률 적용(다만, 고객분류가 어려운 경우 금융기관 이탈률 적용)"]
[]
["13. 파생거래 현금유출입"]
["   - 파생거래는 통화파생거래 및 모든 파생거래(통화, 이자율, 주식, 신용파생, 기타 파생거래)의 현금흐름을 반영"]
["      (차액결제 등 실질 현금흐름을 기준으로 반영하되, CLS 거래 등 다자산 상계는 미반영)"]
["   - 미수미결제 및 미지급미결제현물환도 파생거래에 포함"]
["   - 옵션의 경우 옵션매수자 입장에서 내가격(in the money)이 되는 경우 행사되는 것으로 가정"]
["      in the money 판단기준은 행사가격(strike rate)과 보고일 현재의 종가를 비교하여 옵션행사가 예상되는 경우에만 현금유출입에 반영"]
["      다만, 거래가 정형화되지 않은 구조화옵션의 경우 은행 자체의 평가방법을 이용하여 기대 현금유출입액 산정 가능  "]
[]
["14. 지급보증 약정은 기타 우발성 자금제공 채무로 분류하고, 상품의 성격에 따라 무역 관련 또는 무역 무관 보증 및 신용장으로 구분"]
["     ABCP 매입약정 및 이와 동일한 성격의 약정은 유동성 약정으로 뷴류하고, 기타 약정은 신용약정으로 분류"]
[]
["15. 정상여신은 자산건전성 분류 결과 \"정상\"에 해당하는 여신만 대상"]
["      신용카드 채권의 현금유입은 실제 현금이 유입되는 기한(카드대금 결제일)을 기준으로 계산(할부의 경우 할부스케쥴에 따라 현금유입을 구분) "]
["      고객당 5천만원의 예금보장한도를 만기가 가장 긴 구간부터 우선 배정하여 처리하며, 영업적 예금에 예금보장한도를 우선 배정"]
[]
["16. 기타자산과 기타부채의 현금유출입 처리"]
["    - 현금흐름과 무관한 계정의 경우 현금유출 대상에서 제외(예 : 대손충당금, 유형자산 등)"]
["    - 여타 기타자산∙부채는 만기에 따라 1개월 이내에 현금유출입이 발생하는 계정의 경우 기타 계약상 현금흐름에 포함"]
["       * 예 : 미수수익, 미지급비용, 타행간현송채권, 미회수내국환채권, 미지급내국환채무, 팩토링채권미지급금, 선불카드/직불카드채무, 수입보증금, 미지급송금, 타행간현송채무, "]
["         수입제세, 유가증권청약증거금, 대행업무수입금, 대리점, 복권, 복권당첨금, 타회계사업자금차입 등     "]
[]
["17. 본지점거래분(순액)은 외은지점에 한해서 적용"]
["    - 본지점거래분(순액)은 본지점거래로 인한 현금유입 및 현금유출을 상계 후 순액 기준으로 적용하되, 관계회사 및 역외 거래분 제외"]

{"sheet":"B2609","index":17,"n_rows":99,"n_cols":24,"rows_kept":99,"cut":false,"hidden":false,"merged":[[3,11,5,11],[3,0,5,0],[3,1,5,1],[3,2,5,2],[3,3,5,3],[3,4,5,4],[3,5,5,5],[3,6,5,6],[3,7,5,7],[3,8,5,8],[3,9,5,9],[3,10,5,10],[3,18,5,18],[3,19,5,19],[3,12,5,12],[3,13,5,13],[3,14,5,14],[3,15,5,15],[3,16,5,16],[3,17,5,17]]}
["계약상 만기불일치(수출입 제외)(B2609)      ",null,null,null,null,null,null,null,null,null,null,null,null,null,null,null,null,null,null,"[작성주기 : 월]"]
[]
[null,null,"(due-말일)<=1","1<(due-말일)<=7","7<(due-말일)<=14","14<(due-말일)<=30","30<(due-말일)<=60","60<(due-말일)<=90","90<(due-말일)<=180","180<(due-말일)<=270","270<(due-말일)<=365","1Y<(due-말일)<=2Y","2Y<(due-말일)<=3Y","3Y<(due-말일)<=5Y","5Y<(due-말일)<=7Y","7Y<(due-말일)<=10Y","10Y<(due-말일)"]
["코드","코  드  명","1일이하","1일초과\n7일이하","7일초과\n14일이하","14일초과\n1개월이하","1개월초과\n2개월이하","2개월초과\n3개월이하","3개월초과\n6개월이하","6개월초과\n9개월이하","9개월초과\n1년이하","1년초과\n2년이하","2년초과\n3년이하","3년초과\n5년이하","5년초과\n7년이하","7년초과\n10년이하","10년초과\n","만기경과","만기\n산정\n곤란","합  계\n"]
[]
[null,null,null,null,null,null,null,null,null,null,null,null,null,null,null,null,null,null,null,null,"참조 1\n(B2101 or\nB2109)","참조 2\n(B2602)",null,"ck"]
["A","자산으로 인한 현금유입(A1+A2+A3+A4+A5)",{"$f":"C8+C9+C11+C31+C39","v":0},{"$f":"D8+D9+D11+D31+D39","v":0},0,0,0,0,0,0,0,0,0,0,0,0,0,0,0,{"$f":"SUM(C7:S7)","v":0}]
["A1","    현금",null,null,null,null,null,null,null,null,null,null,null,null,null,null,null,null,null,0,"A"]
["A2","    예치금",null,null,null,null,null,null,null,null,null,null,null,null,null,null,null,null,null,0]
["A21","       (한국은행지준예치금)",null,null,null,null,null,null,null,null,null,null,null,null,null,null,null,null,null,0]
["A3","    유가증권",0,0,0,0,0,0,0,0,0,0,0,0,0,0,0,0,0,0]
["A31","       Level 1 자산",0,0,0,0,0,0,0,0,0,0,0,0,0,0,0,0,0,0]
["A311","         정부, 한국은행, 공공기관",null,null,null,null,null,null,null,null,null,null,null,null,null,null,null,null,null,0]
["A312","         기타",null,null,null,null,null,null,null,null,null,null,null,null,null,null,null,null,null,0]
["A32","       Level 2A 자산",0,0,0,0,0,0,0,0,0,0,0,0,0,0,0,0,0,0]
["A321","         정부, 한국은행, 공공기관",null,null,null,null,null,null,null,null,null,null,null,null,null,null,null,null,null,0]
["A322","         회사채",null,null,null,null,null,null,null,null,null,null,null,null,null,null,null,null,null,0]
["A323","         커버드본드",null,null,null,null,null,null,null,null,null,null,null,null,null,null,null,null,null,0]
["A324","         기타",null,null,null,null,null,null,null,null,null,null,null,null,null,null,null,null,null,0]
["A33","       Level 2B 자산",0,0,0,0,0,0,0,0,0,0,0,0,0,0,0,0,0,0]
["A331","         RMBS",null,null,null,null,null,null,null,null,null,null,null,null,null,null,null,null,null,0]
["A332","         회사채",null,null,null,null,null,null,null,null,null,null,null,null,null,null,null,null,null,0]
["A333","         주식",null,null,null,null,null,null,null,null,null,null,null,null,null,null,null,null,null,0]
["A334","         기타",null,null,null,null,null,null,null,null,null,null,null,null,null,null,null,null,null,0]
["A34","       기타 유가증권",0,0,0,0,0,0,0,0,0,0,0,0,0,0,0,0,0,0]
["A341","         회사채",null,null,null,null,null,null,null,null,null,null,null,null,null,null,null,null,null,0]
["A342","         금융채",null,null,null,null,null,null,null,null,null,null,null,null,null,null,null,null,null,0]
["A343","         주식",null,null,null,null,null,null,null,null,null,null,null,null,null,null,null,null,null,0]
["A344","         기타",null,null,null,null,null,null,null,null,null,null,null,null,null,null,null,null,null,0]
["A3441","           (처분제한이 있는 유가증권)",null,null,null,null,null,null,null,null,null,null,null,null,null,null,null,null,null,0]
["A4","    대출채권",{"$f":"SUM(C32:C38)","v":0},{"$f":"SUM(D32:D38)","v":0},{"$f":"SUM(E32:E38)","v":0},{"$f":"SUM(F32:F38)","v":0},0,0,0,0,0,0,0,0,0,0,0,0,0,19180,null,null,{"$f":"+([4]CB!J31+[4]CB!J66)/1000000","v":16486.289393999999},{"$f":"+T31-W31","v":2693.7106060000006}]
["A41","       개인",null,null,null,null,null,null,null,null,null,null,null,null,null,null,null,null,null,0]
["A42","       중소기업 _size of turnover 1","1) OAV/OAM\n 2) CIL/PNP/LAI/BDU/YBZ\n4) 매입외환/팩토링/EXP 대출","1) OAV/OAM\n 2) CIL/PNP/LAI/BDU/YBZ\n4) 매입외환/팩토링/EXP 대출","1) OAV/OAM\n 2) CIL/PNP/LAI/BDU/YBZ\n4) 매입외환/팩토링/EXP 대출","1) OAV/OAM\n 2) CIL/PNP/LAI/BDU/YBZ\n4) 매입외환/팩토링/EXP 대출","1) OAV/OAM\n 2) CIL/PNP/LAI/BDU/YBZ\n4) 매입외환/팩토링/EXP 대출","1) OAV/OAM\n 2) CIL/PNP/LAI/BDU/YBZ\n4) 매입외환/팩토링/EXP 대출","1) OAV/OAM\n 2) CIL/PNP/LAI/BDU/YBZ\n4) 매입외환/팩토링/EXP 대출","1) OAV/OAM\n 2) CIL/PNP/LAI/BDU/YBZ\n4) 매입외환/팩토링/EXP 대출","1) OAV/OAM\n 2) CIL/PNP/LAI/BDU/YBZ\n4) 매입외환/팩토링/EXP 대출","1) OAV/OAM\n 2) CIL/PNP/LAI/BDU/YBZ\n4) 매입외환/팩토링/EXP 대출","1) OAV/OAM\n 2) CIL/PNP/LAI/BDU/YBZ\n4) 매입외환/팩토링/EXP 대출","1) OAV/OAM\n 2) CIL/PNP/LAI/BDU/YBZ\n4) 매입외환/팩토링/EXP 대출","1) OAV/OAM\n 2) CIL/PNP/LAI/BDU/YBZ\n4) 매입외환/팩토링/EXP 대출","1) OAV/OAM\n 2) CIL/PNP/LAI/BDU/YBZ\n4) 매입외환/팩토링/EXP 대출","1) OAV/OAM\n 2) CIL/PNP/LAI/BDU/YBZ\n4) 매입외환/팩토링/EXP 대출",null,null,0]
["A43","       비금융기업size of turnover 2","1) OAV/OAM\n 2) CIL/PNP/LAI/BDU/YBZ\n4) 매입외환/팩토링/EXP 대출","1) OAV/OAM\n 2) CIL/PNP/LAI/BDU/YBZ\n4) 매입외환/팩토링/EXP 대출","1) OAV/OAM\n 2) CIL/PNP/LAI/BDU/YBZ\n4) 매입외환/팩토링/EXP 대출","1) OAV/OAM\n 2) CIL/PNP/LAI/BDU/YBZ\n4) 매입외환/팩토링/EXP 대출","1) OAV/OAM\n 2) CIL/PNP/LAI/BDU/YBZ\n4) 매입외환/팩토링/EXP 대출","1) OAV/OAM\n 2) CIL/PNP/LAI/BDU/YBZ\n4) 매입외환/팩토링/EXP 대출","1) OAV/OAM\n 2) CIL/PNP/LAI/BDU/YBZ\n4) 매입외환/팩토링/EXP 대출","1) OAV/OAM\n 2) CIL/PNP/LAI/BDU/YBZ\n4) 매입외환/팩토링/EXP 대출","1) OAV/OAM\n 2) CIL/PNP/LAI/BDU/YBZ\n4) 매입외환/팩토링/EXP 대출","1) OAV/OAM\n 2) CIL/PNP/LAI/BDU/YBZ\n4) 매입외환/팩토링/EXP 대출","1) OAV/OAM\n 2) CIL/PNP/LAI/BDU/YBZ\n4) 매입외환/팩토링/EXP 대출","1) OAV/OAM\n 2) CIL/PNP/LAI/BDU/YBZ\n4) 매입외환/팩토링/EXP 대출","1) OAV/OAM\n 2) CIL/PNP/LAI/BDU/YBZ\n4) 매입외환/팩토링/EXP 대출","1) OAV/OAM\n 2) CIL/PNP/LAI/BDU/YBZ\n4) 매입외환/팩토링/EXP 대출","1) OAV/OAM\n 2) CIL/PNP/LAI/BDU/YBZ\n4) 매입외환/팩토링/EXP 대출",0,0,19180]
["A44","  정부 및 공공기관_CB classification GMC/BK3~6 ","1) OAV/OAM\n 2) CIL/PNP/LAI/BDU/YBZ\n4) 매입외환/팩토링/EXP 대출/RBU/SBN/SXX","1) OAV/OAM\n 2) CIL/PNP/LAI/BDU/YBZ\n4) 매입외환/팩토링/EXP 대출/RBU/SBN/SXX","1) OAV/OAM\n 2) CIL/PNP/LAI/BDU/YBZ\n4) 매입외환/팩토링/EXP 대출/RBU/SBN/SXX","1) OAV/OAM\n 2) CIL/PNP/LAI/BDU/YBZ\n4) 매입외환/팩토링/EXP 대출/RBU/SBN/SXX","1) OAV/OAM\n 2) CIL/PNP/LAI/BDU/YBZ\n4) 매입외환/팩토링/EXP 대출/RBU/SBN/SXX","1) OAV/OAM\n 2) CIL/PNP/LAI/BDU/YBZ\n4) 매입외환/팩토링/EXP 대출/RBU/SBN/SXX","1) OAV/OAM\n 2) CIL/PNP/LAI/BDU/YBZ\n4) 매입외환/팩토링/EXP 대출/RBU/SBN/SXX","1) OAV/OAM\n 2) CIL/PNP/LAI/BDU/YBZ\n4) 매입외환/팩토링/EXP 대출/RBU/SBN/SXX","1) OAV/OAM\n 2) CIL/PNP/LAI/BDU/YBZ\n4) 매입외환/팩토링/EXP 대출/RBU/SBN/SXX","1) OAV/OAM\n 2) CIL/PNP/LAI/BDU/YBZ\n4) 매입외환/팩토링/EXP 대출/RBU/SBN/SXX","1) OAV/OAM\n 2) CIL/PNP/LAI/BDU/YBZ\n4) 매입외환/팩토링/EXP 대출/RBU/SBN/SXX","1) OAV/OAM\n 2) CIL/PNP/LAI/BDU/YBZ\n4) 매입외환/팩토링/EXP 대출/RBU/SBN/SXX","1) OAV/OAM\n 2) CIL/PNP/LAI/BDU/YBZ\n4) 매입외환/팩토링/EXP 대출/RBU/SBN/SXX","1) OAV/OAM\n 2) CIL/PNP/LAI/BDU/YBZ\n4) 매입외환/팩토링/EXP 대출/RBU/SBN/SXX","1) OAV/OAM\n 2) CIL/PNP/LAI/BDU/YBZ\n4) 매입외환/팩토링/EXP 대출/RBU/SBN/SXX",null,null,0]
["A45","       은행_CB classification BNK ","4) RBU/SBN/SXX","4) RBU/SBN/SXX","4) RBU/SBN/SXX","4) RBU/SBN/SXX","4) RBU/SBN/SXX","4) RBU/SBN/SXX","4) RBU/SBN/SXX","4) RBU/SBN/SXX","4) RBU/SBN/SXX","4) RBU/SBN/SXX","4) RBU/SBN/SXX","4) RBU/SBN/SXX","4) RBU/SBN/SXX","4) RBU/SBN/SXX","4) RBU/SBN/SXX",null,null,0]
["A46","       비은행금융기관",null,null,null,null,null,null,null,null,null,null,null,null,null,null,null,null,null,0]
["A47","       기타 고객",null,null,null,null,null,null,null,null,null,null,null,null,null,null,null,null,null,0]
["A5","    기타 자산",null,null,null,null,null,null,null,null,null,null,null,null,null,null,null,null,null,0]
["B","부채 및 자본으로 인한 현금유출(B1+B2+B3+B4+B5+B6)",0,0,0,0,0,0,0,0,0,0,0,0,0,0,0,0,0,0]
["B1","    예수금",0,0,0,0,0,0,0,0,0,0,0,0,0,0,0,0,0,0]
["B11","       개인",null,null,null,null,null,null,null,null,null,null,null,null,null,null,null,null,null,0]
["B12","       중소기업",null,null,null,null,null,null,null,null,null,null,null,null,null,null,null,null,null,0]
["B13","       비금융기업",null,null,null,null,null,null,null,null,null,null,null,null,null,null,null,null,null,0]
["B14","       정부 및 공공기관",null,null,null,null,null,null,null,null,null,null,null,null,null,null,null,null,null,0]
["B15","       은행",null,null,null,null,null,null,null,null,null,null,null,null,null,null,null,null,null,0]
["B16","       비은행금융기관",null,null,null,null,null,null,null,null,null,null,null,null,null,null,null,null,null,0]
["B17","       기타 고객",null,null,null,null,null,null,null,null,null,null,null,null,null,null,null,null,null,0]
["B2","    양도성예금증서",null,null,null,null,null,null,null,null,null,null,null,null,null,null,null,null,null,0]
["B3","    차입금",0,0,0,0,0,0,0,0,0,0,0,0,0,0,0,0,0,0]
["B31","       정부, 한국은행, 공공기관",null,null,null,null,null,null,null,null,null,null,null,null,null,null,null,null,null,0]
["B32","       은행",null,null,null,null,null,null,null,null,null,null,null,null,null,null,null,null,null,0]
["B33","       비은행금융기관",null,null,null,null,null,null,null,null,null,null,null,null,null,null,null,null,null,0]
["B34","       기타",null,null,null,null,null,null,null,null,null,null,null,null,null,null,null,null,null,0]
["B4","    발행금융채권",null,null,null,null,null,null,null,null,null,null,null,null,null,null,null,null,null,0]
["B5","    기타 부채",null,null,null,null,null,null,null,null,null,null,null,null,null,null,null,null,null,0]
["B6","    자기자본",null,null,null,null,null,null,null,null,null,null,null,null,null,null,null,null,null,0]
["C","난외계정으로 인한  현금유출입(C1-C2+C3+C4+C5)",0,0,0,0,0,0,0,0,0,0,0,0,0,0,0,0,0,0]
["C1","    파생상품거래(이자율, 통화, 주식, 신용, 기타) 현금유출",null,null,null,null,null,null,null,null,null,null,null,null,null,null,null,null,null,0]
["C2","    파생상품거래(이자율, 통화, 주식, 신용, 기타) 현금유입",null,null,null,null,null,null,null,null,null,null,null,null,null,null,null,null,null,0]
["C3","    우발성 자금제공채무",0,0,0,0,0,0,0,0,0,0,0,0,0,0,0,0,0,0]
["C31","       무역금융 관련 채무(보증 및 신용장 포함)","2) DC/DPC/SGT/AWR/BR/DPB","2) DC/DPC/SGT/AWR/BR/DPB","2) DC/DPC/SGT/AWR/BR/DPB","2) DC/DPC/SGT/AWR/BR/DPB","2) DC/DPC/SGT/AWR/BR/DPB","2) DC/DPC/SGT/AWR/BR/DPB","2) DC/DPC/SGT/AWR/BR/DPB","2) DC/DPC/SGT/AWR/BR/DPB","2) DC/DPC/SGT/AWR/BR/DPB","2) DC/DPC/SGT/AWR/BR/DPB","2) DC/DPC/SGT/AWR/BR/DPB","2) DC/DPC/SGT/AWR/BR/DPB","2) DC/DPC/SGT/AWR/BR/DPB","2) DC/DPC/SGT/AWR/BR/DPB","2) DC/DPC/SGT/AWR/BR/DPB",null,null,0]
["C32","       무역금융 무관 채무(보증 및 신용장 포함)","2) SDN/SDC/SDG\n 3) GTE total","2) SDN/SDC/SDG\n 3) GTE total","2) SDN/SDC/SDG\n 3) GTE total","2) SDN/SDC/SDG\n 3) GTE total","2) SDN/SDC/SDG\n 3) GTE total","2) SDN/SDC/SDG\n 3) GTE total","2) SDN/SDC/SDG\n 3) GTE total","2) SDN/SDC/SDG\n 3) GTE total","2) SDN/SDC/SDG\n 3) GTE total","2) SDN/SDC/SDG\n 3) GTE total","2) SDN/SDC/SDG\n 3) GTE total","2) SDN/SDC/SDG\n 3) GTE total","2) SDN/SDC/SDG\n 3) GTE total","2) SDN/SDC/SDG\n 3) GTE total","2) SDN/SDC/SDG\n 3) GTE total",null,null,0]
["C33","       기타 우발성 자금제공채무",null,null,null,null,null,null,null,null,null,null,null,null,null,null,null,null,null,0]
["C4","    신용 및 유동성 약정",null,null,null,null,null,null,null,null,null,null,null,null,null,null,null,null,null,0]
["C5","    기타 난외계정",null,null,null,null,null,null,null,null,null,null,null,null,null,null,null,null,null,0]
["D","계약상 만기불일치(D1-D2)",0,1842.2915459999999,835.60068899999999,3196.0945240000001,5509.9672909999999,3565.4905840000001,1536.84476,0,0,0,0,0,0,0,0,0,0,16486]
["D1","    현금유입 계(A+C2)",0,1842.2915459999999,835.60068899999999,3196.0945240000001,5509.9672909999999,3565.4905840000001,1536.84476,0,0,0,0,0,0,0,0,0,0,16486]
["D2","    현금유출 계(B+C1+C3+C4+C5)",0,0,0,0,0,0,0,0,0,0,0,0,0,0,0,0,0,0]
[]
["문의처 :  (건전경영팀)은행감독국"]
[]
["[ 작성요령 ]"]
[]
["1. 은행업감독업무시행세칙 <별표 3-6>을 참고하여 작성"]
[]
["2. 각 항목 구분은 업무보고서 대차대조표(은행계정, 총괄분)(B2101)을 준용하되, 연결기준으로 작성"]
[]
["3. 거래상대방 구분은 유동성커버리지비율의 고객분류 기준을 준용"]
[]
["4. 만기는 개별 항목의 계약상 잔존만기를 기준으로 분류"]
[]
["5. 개별 자산 또는 부채의 만기가 없는 경우에는 \"만기산정 곤란\" 부분에 입력"]
[]
["     (예시) 지준예치금, 만기가 없는 요구불예금, 저축예금, 자유저축예금, 기업자유예금, MMDA 등"]
["              자기자본(부채성 충당금 포함), 신탁계정차, 종금계정차, 자산의 차감항목 등"]
["              잔존만기가 없는 자산 및 부채"]
[]
["6. 리볼빙자산·부채(회전식 정기예금 등)는 계약상 최종만기 기준으로 분류"]
[]
[]
["[별도작성요령]  'T열_합계'를 각 업무보고서와 연결"]
[]
["1. 참조 1 : B2101 보고서 'D열_말잔(A)'과 연결(예시 : 현금과 예치금(B2101) A, 고유동성자산(B2602) A)"]
[]
["2. 참조 2 : B2602 보고서 'C열_통합기준_금액 말잔(A)'과 연결"]
[]
[]
["※ 업무보고서 사이에 연결하면서 금액이 정확하게 일치하지 않을 수 있으며, 동 업무보고서의 여러 항목이 타 업무보고서의 단일 항목과 연결될 수 있음"]

{"sheet":"B2611","index":18,"n_rows":43,"n_cols":18,"rows_kept":43,"cut":false,"hidden":false,"merged":[[3,10,4,11],[3,12,4,13],[3,14,4,17],[3,0,5,0],[3,1,5,1],[3,2,4,3],[3,4,4,5],[3,6,4,7],[3,8,4,9],[2,2,2,3],[2,4,2,5],[2,6,2,7],[2,8,2,9],[2,10,2,11]]}
[]
["자금조달 편중도(중요 통화별 자산∙부채 기준)(수출입 제외)(B2611)       ",null,null,null,null,null,null,null,null,null,null,null,null,null,null,null,null,"[작성주기 : 월]"]
[null,null,"(due-말일)<=30",null,"30<(due-말일)<=90",null,"90<(due-말일)<=180",null,"180<(due-말일)<=365",null,"365<(due-말일)",null,null,null,null,null,null,"(단위 : 백만원, %)"]
["코드","중요 통화별 자산∙부채","1개월이하",null,"1개월초과\n3개월이하",null,"3개월초과\n6개월이하",null,"6개월초과\n1년이하",null,"1년초과",null,"만기산정 곤란",null,"합계"]
[]
[null,null,"자산","부채","자산","부채","자산","부채","자산","부채","자산","부채","자산","부채","자산","비중","부채","비중"]
["A"," KRW","1) OAV_KRW\n2) LAI_KRW\n4) RFI/RFE/RFP/XBZ/LAE_KRW",null,"1) OAV_KRW\n2) LAI_KRW\n4) RFI/RFE/RFP/XBZ/LAE_KRW",null,"1) OAV_KRW\n2) LAI_KRW\n4) RFI/RFE/RFP/XBZ/LAE_KRW",null,"1) OAV_KRW\n2) LAI_KRW\n4) RFI/RFE/RFP/XBZ/LAE_KRW",null,"1) OAV_KRW\n2) LAI_KRW\n4) RFI/RFE/RFP/XBZ/LAE_KRW",null,"1) OAV_KRW\n2) LAI_KRW\n4) RFI/RFE/RFP/XBZ/LAE_KRW",null,{"$f":"C7+E7+G7+I7+K7+M7","v":{"$error":"#VALUE!"}},{"$f":"IF(ISERROR(O7/$O$14*100), 0, O7/$O$14*100)","v":0},{"$f":"D7+F7+H7+J7+L7+N7","v":0},{"$f":"IF(ISERROR(Q7/Q14*100), 0, Q7/Q14*100)","v":0}]
["B"," USD","1) OAV/OAM_USD\n2) CIL/LAI/PNP/BDU/YBZ_USD\n4)ABD/BAC/BAP/BPC/BPP/FOT/NRD/OAE/OBC/REN/RFE/RFI/RFP/XBZ/LAE/RBU/SBN/SXX_USD",null,"1) OAV/OAM_USD\n2) CIL/LAI/PNP/BDU/YBZ_USD\n4)ABD/BAC/BAP/BPC/BPP/FOT/NRD/OAE/OBC/REN/RFE/RFI/RFP/XBZ/LAE/RBU/SBN/SXX_USD",null,"1) OAV/OAM_USD\n2) CIL/LAI/PNP/BDU/YBZ_USD\n4)ABD/BAC/BAP/BPC/BPP/FOT/NRD/OAE/OBC/REN/RFE/RFI/RFP/XBZ/LAE/RBU/SBN/SXX_USD",null,"1) OAV/OAM_USD\n2) CIL/LAI/PNP/BDU/YBZ_USD\n4)ABD/BAC/BAP/BPC/BPP/FOT/NRD/OAE/OBC/REN/RFE/RFI/RFP/XBZ/LAE/RBU/SBN/SXX_USD",null,"1) OAV/OAM_USD\n2) CIL/LAI/PNP/BDU/YBZ_USD\n4)ABD/BAC/BAP/BPC/BPP/FOT/NRD/OAE/OBC/REN/RFE/RFI/RFP/XBZ/LAE/RBU/SBN/SXX_USD",null,"1) OAV/OAM_USD\n2) CIL/LAI/PNP/BDU/YBZ_USD\n4)ABD/BAC/BAP/BPC/BPP/FOT/NRD/OAE/OBC/REN/RFE/RFI/RFP/XBZ/LAE/RBU/SBN/SXX_USD",null,{"$f":"C8+E8+G8+I8+K8+M8","v":{"$error":"#VALUE!"}},{"$f":"IF(ISERROR(O8/$O$14*100), 0, O8/$O$14*100)","v":0},{"$f":"D8+F8+H8+J8+L8+N8","v":0},{"$f":"IF(ISERROR(Q8/Q14*100), 0, Q8/Q14*100)","v":0}]
["C"," 기타 중요 통화(C=C1+C2+C3+C4)",{"$f":"SUM(C10:C13)","v":0},{"$f":"SUM(D10:D13)","v":0},0,0,0,0,0,0,0,0,0,0,{"$error":"#VALUE!"},0,0,0]
["C1","   (EUR)","1) OAV/OAM_EUR\n2) CIL/LAI/PNP/BDU/YBZ_EUR\n4)ABD/BAC/BAP/BPC/BPP/FOT/NRD/OAE/OBC/REN/RFE/RFI/RFP/XBZ/LAE/RBU/SBN/SXX_EUR",null,"1) OAV/OAM_EUR\n2) CIL/LAI/PNP/BDU/YBZ_EUR\n4)ABD/BAC/BAP/BPC/BPP/FOT/NRD/OAE/OBC/REN/RFE/RFI/RFP/XBZ/LAE/RBU/SBN/SXX_EUR",null,"1) OAV/OAM_EUR\n2) CIL/LAI/PNP/BDU/YBZ_EUR\n4)ABD/BAC/BAP/BPC/BPP/FOT/NRD/OAE/OBC/REN/RFE/RFI/RFP/XBZ/LAE/RBU/SBN/SXX_EUR",null,"1) OAV/OAM_EUR\n2) CIL/LAI/PNP/BDU/YBZ_EUR\n4)ABD/BAC/BAP/BPC/BPP/FOT/NRD/OAE/OBC/REN/RFE/RFI/RFP/XBZ/LAE/RBU/SBN/SXX_EUR",null,"1) OAV/OAM_EUR\n2) CIL/LAI/PNP/BDU/YBZ_EUR\n4)ABD/BAC/BAP/BPC/BPP/FOT/NRD/OAE/OBC/REN/RFE/RFI/RFP/XBZ/LAE/RBU/SBN/SXX_EUR",null,"1) OAV/OAM_EUR\n2) CIL/LAI/PNP/BDU/YBZ_EUR\n4)ABD/BAC/BAP/BPC/BPP/FOT/NRD/OAE/OBC/REN/RFE/RFI/RFP/XBZ/LAE/RBU/SBN/SXX_EUR",null,{"$f":"C10+E10+G10+I10+K10+M10","v":{"$error":"#VALUE!"}},{"$f":"IF(ISERROR(O10/$O$14*100), 0, O10/$O$14*100)","v":0},{"$f":"D10+F10+H10+J10+L10+N10","v":0},{"$f":"IF(ISERROR(Q10/Q17*100), 0, Q10/Q17*100)","v":0}]
["C2","   (JPY)","1) OAV/OAM_JPY\n2) CIL/LAI/PNP/BDU/YBZ_JPY\n4)ABD/BAC/BAP/BPC/BPP/FOT/NRD/OAE/OBC/REN/RFE/RFI/RFP/XBZ/LAE/RBU/SBN/SXX_JPY",null,"1) OAV/OAM_JPY\n2) CIL/LAI/PNP/BDU/YBZ_JPY\n4)ABD/BAC/BAP/BPC/BPP/FOT/NRD/OAE/OBC/REN/RFE/RFI/RFP/XBZ/LAE/RBU/SBN/SXX_JPY",null,"1) OAV/OAM_JPY\n2) CIL/LAI/PNP/BDU/YBZ_JPY\n4)ABD/BAC/BAP/BPC/BPP/FOT/NRD/OAE/OBC/REN/RFE/RFI/RFP/XBZ/LAE/RBU/SBN/SXX_JPY",null,"1) OAV/OAM_JPY\n2) CIL/LAI/PNP/BDU/YBZ_JPY\n4)ABD/BAC/BAP/BPC/BPP/FOT/NRD/OAE/OBC/REN/RFE/RFI/RFP/XBZ/LAE/RBU/SBN/SXX_JPY",null,"1) OAV/OAM_JPY\n2) CIL/LAI/PNP/BDU/YBZ_JPY\n4)ABD/BAC/BAP/BPC/BPP/FOT/NRD/OAE/OBC/REN/RFE/RFI/RFP/XBZ/LAE/RBU/SBN/SXX_JPY",null,"1) OAV/OAM_JPY\n2) CIL/LAI/PNP/BDU/YBZ_JPY\n4)ABD/BAC/BAP/BPC/BPP/FOT/NRD/OAE/OBC/REN/RFE/RFI/RFP/XBZ/LAE/RBU/SBN/SXX_JPY",null,{"$error":"#VALUE!"},0,0,0]
["C3","   (CNY)","1) OAV/OAM_CNY\n2) CIL/LAI/PNP/BDU/YBZ_CNY\n4)ABD/BAC/BAP/BPC/BPP/FOT/NRD/OAE/OBC/REN/RFE/RFI/RFP/XBZ/LAE/RBU/SBN/SXX_CNY",null,"1) OAV/OAM_CNY\n2) CIL/LAI/PNP/BDU/YBZ_CNY\n4)ABD/BAC/BAP/BPC/BPP/FOT/NRD/OAE/OBC/REN/RFE/RFI/RFP/XBZ/LAE/RBU/SBN/SXX_CNY",null,"1) OAV/OAM_CNY\n2) CIL/LAI/PNP/BDU/YBZ_CNY\n4)ABD/BAC/BAP/BPC/BPP/FOT/NRD/OAE/OBC/REN/RFE/RFI/RFP/XBZ/LAE/RBU/SBN/SXX_CNY",null,"1) OAV/OAM_CNY\n2) CIL/LAI/PNP/BDU/YBZ_CNY\n4)ABD/BAC/BAP/BPC/BPP/FOT/NRD/OAE/OBC/REN/RFE/RFI/RFP/XBZ/LAE/RBU/SBN/SXX_CNY",null,"1) OAV/OAM_CNY\n2) CIL/LAI/PNP/BDU/YBZ_CNY\n4)ABD/BAC/BAP/BPC/BPP/FOT/NRD/OAE/OBC/REN/RFE/RFI/RFP/XBZ/LAE/RBU/SBN/SXX_CNY",null,"1) OAV/OAM_CNY\n2) CIL/LAI/PNP/BDU/YBZ_CNY\n4)ABD/BAC/BAP/BPC/BPP/FOT/NRD/OAE/OBC/REN/RFE/RFI/RFP/XBZ/LAE/RBU/SBN/SXX_CNY",null,{"$error":"#VALUE!"},0,0,0]
["C4","   (기타)",null,null,null,null,null,null,null,null,null,null,null,null,0,0,0,0]
["D","합계(A+B+C)",{"$f":"SUM(C7:C9)","v":0},{"$f":"SUM(D7:D9)","v":0},0,0,0,0,0,0,0,0,0,0,{"$error":"#VALUE!"},0,0,0]
[]
[]
[]
["문의처 :  (건전경영팀)은행감독국"]
[]
[]
["[ 작성요령 ]"]
[]
["1. 은행업감독업무시행세칙 <별표 3-6>을 참고하여 작성"]
[]
["2. 중요 통화는 관련 부채의 합이 은행 총부채의 5% 이상인 단일 통화 표시 부채를 의미"]
[]
["3. 해당 중요 통화는 보고 기준일 현재의 환율로 환산"]
[]
["4. 개별 자산 또는 부채의 만기가 없는 경우에는 \"만기산정 곤란\" 부분에 입력"]
[]
["5. 중요통화별 자산∙부채는 대차대조표상의 현금∙예치금∙유가증권∙대출채권(자산) 및 예수부채∙차입부채(부채)를 대상으로 작성"]
[null,null,null,null,"부채:","예수금+ 콜머니+차입금 + 신탁계정차+환매조건부채권+CD "]
["6. 연결기준으로 작성",null,null,null,"자산:","현금+예치금+주식+유가증권",null,null,null," "]
[null,null,null,null,null,"대출채권은 부서에서"]
[]
["[별도작성요령]   'O열_자산 또는 Q열_부채'을 각 업무보고서와 연결"]
[]
["1. 참조 1 : B2101 보고서 'D열_말잔(A)'과 연결"]
[]
["2. 참조 2 : B2602 보고서 'C열_통합기준_금액 말잔(A)'과 연결"]
[]
[]
["※ 업무보고서 사이에 연결하면서 금액이 정확하게 일치하지 않을 수 있으며, 동 업무보고서의 여러 항목이 타 업무보고서의 단일 항목과 연결될 수 있음"]